Workbook

Sheet Krycí list
G2: KRYCÍ LIST
B5: Názov stavby | E5: Rekonštrukcia obvodového plášťa plavárne v Trebišove | O5: JKSO
B6: Kód stavby | E6: 09330-0
B7: Názov objektu | E7: 001 - SO 01 - Hlavny objekt | O7: EČO
B8: Kód objektu | E8: 01
B9: Názov časti | O9: Miesto | P9: Trebišov
B10: Kód časti
B11: Názov podčasti
B12: Kód podčasti
O25: IČO | P25: DIČ
B26: Objednávateľ | E26: Mesto Trebišov
B27: Projektant
B28: Zhotoviteľ
E30: Rozpočet číslo | G30: Spracoval | O30: Dňa
E33: Merné a účelové jednotky
A34: Počet | E34: Náklady / 1 m.j. | G34: Počet | J34: Náklady / 1 m.j. | L34: Počet | P34: Náklady / 1 m.j.
D35: 0 | E35: =IF(D35=0,0,R47/D35) -> 0 | I35: 0 | J35: =IF(I35=0,0,R47/I35) -> 0 | O35: 0 | R35: =IF(O35=0,0,R47/O35) -> 0
E36: Rozpočtové náklady v | J36: EUR
A37: A | C37: Základné rozp. náklady | G37: B | I37: Doplnkové náklady | L37: C | N37: Vedľajšie rozpočtové náklady
A38: 1 | B38: HSV | D38: Dodávky | E38: =SUMIF(Rozpocet!O5:O65535,8,Rozpocet!I5:I65535) -> 0 | G38: 8 | H38: Práca nadčas | J38: 0 | L38: 13 | M38: Zariadenie staveniska | P38: =M48 -> 20 | Q38: % | R38: 0
A39: 2 | D39: Montáž | E39: =SUMIF(Rozpocet!O10:O65536,4,Rozpocet!I10:I65536) -> 0 | G39: 9 | H39: Bez pevnej podl. | J39: 0 | L39: 14 | M39: Mimostav. doprava | P39: =M48 -> 20 | Q39: % | R39: 0
A40: 3 | B40: PSV | D40: Dodávky | E40: =SUMIF(Rozpocet!O11:O65536,32,Rozpocet!I11:I65536) -> 0 | G40: 10 | H40: Kultúrna pamiatka | J40: 0 | L40: 15 | M40: Územné vplyvy | P40: =M48 -> 20 | Q40: % | R40: 0
A41: 4 | D41: Montáž | E41: =SUMIF(Rozpocet!O12:O65536,16,Rozpocet!I12:I65536)+SUMIF(Rozpocet!O12:O65536,128,Rozpocet!I12:I65536) -> 0 | G41: 11 | J41: 0 | L41: 16 | M41: Prevádzkové vplyvy | P41: =M48 -> 20 | Q41: % | R41: 0
A42: 5 | B42: "M" | D42: Dodávky | E42: =SUMIF(Rozpocet!O13:O65536,256,Rozpocet!I13:I65536) -> 0 | L42: 17 | M42: Ostatné | P42: =M48 -> 20 | Q42: % | R42: 0
A43: 6 | D43: Montáž | E43: =SUMIF(Rozpocet!O14:O65536,64,Rozpocet!I14:I65536) -> 0 | L43: 18 | M43: VRN z rozpočtu | R43: =SUMIF(Rozpocet!O14:O65536,1024,Rozpocet!I14:I65536) -> 0
A44: 7 | B44: ZRN (r. 1-6) | E44: =SUM(E38:E43) -> 0 | G44: 12 | H44: DN (r. 8-11) | J44: =SUM(J38:J41) -> 0 | L44: 19 | M44: VRN (r. 13-18) | R44: =SUM(R38:R43) -> 0
A45: 20 | B45: HZS | E45: =SUMIF(Rozpocet!O14:O65536,512,Rozpocet!I14:I65536) -> 0 | G45: 21 | H45: Kompl. činnosť | J45: 0 | K45: =M48 -> 20 | L45: 22 | M45: Ostatné náklady | R45: =SUMIF(Rozpocet!O14:O65536,"<4",Rozpocet!I14:I65536)+SUMIF(Rozpocet!O14:O65536,">1024",Rozpocet!I14:I65536) -> 0
A46: Projektant | L46: D | N46: Celkové náklady
L47: 23 | M47: Súčet 7, 12, 19-22 | R47: =ROUND(E44+J44+R44+E45+J45+R45,2) -> 0
A48: Dátum a podpis | G48: Pečiatka | L48: 24 | M48: 20 | N48: % | O48: =R47-O49 -> 0 | P48: DPH | R48: =ROUND(O48*M48/100,2) -> 0
A49: Objednávateľ | L49: 25 | M49: 20 | N49: % | O49: =ROUND(SUMIF(Rozpocet!N14:N65536,M49,Rozpocet!I14:I65536)+SUMIF(P38:P42,M49,R38:R42)+IF(K45=M49,J45,0),2) -> 0 | P49: DPH | R49: =ROUND(O49*M49/100,2) -> 0
L50: 26 | M50: Cena s DPH (r. 23-25) | R50: =R47+R48+R49 -> 0
A51: Dátum a popis | G51: Pečiatka | L51: E | N51: Prípočty a odpočty
A52: Zhotoviteľ | L52: 27 | M52: Dodávky objednávateľa | R52: 0
L53: 28 | M53: Kĺzavá doložka | R53: 0
A54: Dátum a podpis | G54: Pečiatka | L54: 29 | M54: Zvýhodnenie + - | R54: 0

Sheet Rekapitulácia
A1: REKAPITULÁCIA
A2: Stavba: | B2: ='Krycí list'!E5 -> Rekonštrukcia obvodového plášťa plavárne v Trebišove
A3: Objekt: | B3: ='Krycí list'!E7 -> 001 - SO 01 - Hlavny objekt
A4: Časť: | B4: ='Krycí list'!E9
A5: JKSO: | B5: ='Krycí list'!P5
A7: Objednávateľ: | B7: ='Krycí list'!E26 -> Mesto Trebišov
A8: Zhotoviteľ: | B8: ='Krycí list'!E28
A9: Dátum:
A11: Kód | B11: Popis | C11: Cena celkom | D11: Hmotnosť celkom | E11: Suť celkom
A12: 1 | B12: 2 | C12: 3 | D12: 4 | E12: 5
A14: =Rozpocet!D14 -> HSV | B14: =Rozpocet!E14 -> Práce a dodávky HSV | C14: =Rozpocet!I14 -> 0 | D14: =Rozpocet!K14 -> 0 | E14: =Rozpocet!M14 -> 0
A15: =Rozpocet!D15 -> 2 | B15: =Rozpocet!E15 -> Zakladanie | C15: =Rozpocet!I15 -> 0 | D15: =Rozpocet!K15 -> 0 | E15: =Rozpocet!M15 -> 0
A16: =Rozpocet!D19 -> 6 | B16: =Rozpocet!E19 -> Úpravy povrchov, podlahy, osadenie | C16: =Rozpocet!I19 -> 0 | D16: =Rozpocet!K19 -> 0 | E16: =Rozpocet!M19 -> 0
A17: =Rozpocet!D33 -> 9 | B17: =Rozpocet!E33 -> Ostatné konštrukcie a práce-búranie | C17: =Rozpocet!I33 -> 0 | D17: =Rozpocet!K33 -> 0 | E17: =Rozpocet!M33 -> 0
A18: =Rozpocet!D47 -> 99 | B18: =Rozpocet!E47 -> Presun hmôt HSV | C18: =Rozpocet!I47 -> 0 | D18: =Rozpocet!K47 -> 0 | E18: =Rozpocet!M47 -> 0
A19: =Rozpocet!D49 -> PSV | B19: =Rozpocet!E49 -> Práce a dodávky PSV | C19: =Rozpocet!I49 -> 0 | D19: =Rozpocet!K49 -> 0 | E19: =Rozpocet!M49 -> 0
A20: =Rozpocet!D50 -> 764 | B20: =Rozpocet!E50 -> Konštrukcie klampiarske | C20: =Rozpocet!I50 -> 0 | D20: =Rozpocet!K50 -> 0 | E20: =Rozpocet!M50 -> 0
A21: =Rozpocet!D53 -> 767 | B21: =Rozpocet!E53 -> Konštrukcie doplnkové kovové | C21: =Rozpocet!I53 -> 0 | D21: =Rozpocet!K53 -> 0 | E21: =Rozpocet!M53 -> 0
A22: =Rozpocet!D57 -> M | B22: =Rozpocet!E57 -> Práce a dodávky M | C22: =Rozpocet!I57 -> 0 | D22: =Rozpocet!K57 -> 0 | E22: =Rozpocet!M57 -> 0
A23: =Rozpocet!D58 -> 33-M | B23: =Rozpocet!E58 -> Montáže dopr.zariad.sklad.zar.a váh | C23: =Rozpocet!I58 -> 0 | D23: =Rozpocet!K58 -> 0 | E23: =Rozpocet!M58 -> 0
A24: =Rozpocet!D61 -> OST | B24: =Rozpocet!E61 -> Ostatné | C24: =Rozpocet!I61 -> 0 | D24: =Rozpocet!K61 -> 0 | E24: =Rozpocet!M61 -> 0
B25: Celkom | C25: =Rozpocet!I63 -> 0 | D25: =Rozpocet!K63 -> 0 | E25: =Rozpocet!M63 -> 0

Sheet Rozpocet
A1: VÝKAZ VÝMER
A2: Stavba: | C2: ='Krycí list'!E5 -> Rekonštrukcia obvodového plášťa plavárne v Trebišove
A3: Objekt: | C3: ='Krycí list'!E7 -> 001 - SO 01 - Hlavny objekt
A4: Časť: | C4: ='Krycí list'!E9
A5: JKSO: | C5: ='Krycí list'!P5
A7: Objednávateľ: | C7: ='Krycí list'!E26 -> Mesto Trebišov
A8: Zhotoviteľ: | C8: ='Krycí list'!E28
A9: Dátum:
A11: P.Č. | B11: TV | C11: KCN | D11: Kód položky | E11: Popis | F11: MJ | G11: Množstvo celkom | H11: Cena jednotková | I11: Cena celkom | J11: Hmotnosť | K11: Hmotnosť celkom | L11: Hmotnosť sute | M11: Hmotnosť sute celkom | N11: Sadzba DPH | O11: Typ položky | P11: Úroveň
A12: 1 | B12: 2 | C12: 3 | D12: 4 | E12: 5 | F12: 6 | G12: 7 | H12: 8 | I12: 9 | N12: 10 | O12: 11 | P12: 12
B14: D | D14: HSV | E14: Práce a dodávky HSV | P14: 0
B15: D | D15: 2 | E15: Zakladanie | P15: 1
A16: 1 | B16: K | C16: 002 | D16: 216341112 | E16: Striekaný betón tr.C 16/20 plôch stien z cementu troskoport. priem. hr. nad 50 do 100mm | F16: m2 | G16: 18.5 | O16: 4 | P16: 2
A17: 2 | B17: K | C17: 002 | D17: 285947111 | E17: Tŕň z betonár. ocele pri priem. ocele 16-20 mm, dľžky 0,4-3,0m | F17: ks | G17: 74 | O17: 4 | P17: 2
A18: 3 | B18: K | C18: 002 | D18: 289361122 | E18: Výstuž torkret. plášťa steny murované L 5, 00 mm | F18: m2 | G18: 18.5 | O18: 4 | P18: 2
B19: D | D19: 6 | E19: Úpravy povrchov, podlahy, osadenie | P19: 1
A20: 4 | B20: K | C20: 011 | D20: 620991121 | E20: Zakrývanie škár panelov výplní vonkajších otvorov zhotovené z lešenia akýmkoľvek spôsobom | F20: m2 | G20: 243.475 | O20: 4 | P20: 2
A21: 5 | B21: K | C21: 011 | D21: 622255016 | E21: Montaž stien prevetrávanej fasady z fasadných dosiek s oceľ. konštrukciou , uchytenie s tep. izoláciou hr. 160mm s nakašírovanou foliou | F21: m2 | G21: 450 | O21: 4 | P21: 2
A22: 6 | B22: M | C22: MAT | D22: 5915600101 | E22: Doska fasadna CETRIS 12,0 mm | F22: m2 | G22: 472 | O22: 8 | P22: 2
A23: 7 | B23: K | C23: 011 | D23: 622255016 | E23: Montaž stien prevetrávanej fasady z fasadných dosiek s oceľ. konštrukciou , uchytenie s tep. izoláciou hr. 160mm s nakašírovanou foliou | F23: m2 | G23: 253.9 | O23: 4 | P23: 2
A24: 8 | B24: M | C24: MAT | D24: 5916124500 | E24: Drevený obklad na zvislo profily THERMOWOOD Borovica Rambus tienidlovy profil 26x28 mm s priznanými medzerami | F24: m2 | G24: 266.595 | O24: 8 | P24: 2
A25: 9 | B25: K | C25: 011 | D25: 622464222 | E25: Vonkajšia omietka stien BAUMIT tenkovrstvová silikátová základ a škrabaná 2 mm | F25: m2 | G25: 120 | O25: 4 | P25: 2
A26: 10 | B26: K | C26: 011 | D26: 625253010 | E26: Kontaktný zateplovací systém doskami EPS 70 hr.50 mm, lepiace kotvy vratane soklových a rohových líšt | F26: m2 | G26: 65 | O26: 4 | P26: 2
A27: 11 | B27: K | C27: 011 | D27: 625250114 | E27: Kontaktný zatepľovací systém Mineral skrutkovacie kotvy , bez povrchovej úpravy, hr. izolantu 160 mm vratane lišt | F27: m2 | G27: 50 | O27: 4 | P27: 2
A28: 12 | B28: K | C28: 011 | D28: 625250115 | E28: Kontaktný zatepľovací systém Mineral skrutkovacie kotvy , bez povrchovej úpravy, hr. izolantu 140 mm vratane lišt | F28: m2 | G28: 50 | O28: 4 | P28: 2
A29: 13 | B29: K | C29: 011 | D29: 625250121 | E29: Kontaktný zatepľovací systém ostenia Mineral bez povrchovej úpravy, hr. izolantu 30 mm | F29: m2 | G29: 35 | O29: 4 | P29: 2
A30: 14 | B30: K | C30: 011 | D30: 625250152 | E30: Kontaktny zatepľovaci system XPS STYRODUR 2800 C - BASF, lepený celoplošne s prikotvením hr. izolantu 40 mm | F30: m2 | G30: 2 | O30: 4 | P30: 2
A31: 15 | B31: K | C31: 011 | D31: 625250156 | E31: Kontaktnz zateplovaci system XPS STYRODUR 2800 C - BASF, lepený rámovo s prikotvením, hr. izolantu 100 mm | F31: m2 | G31: 73 | O31: 4 | P31: 2
A32: 16 | B32: K | C32: 011 | D32: 622464311 | E32: Vonkajšia omietka stien BAUMIT ušľachtilá mozaiková so základným náterom Granopor, hr.zrna 2 mm | F32: m2 | G32: 73 | O32: 4 | P32: 2
B33: D | D33: 9 | E33: Ostatné konštrukcie a práce-búranie | P33: 1
A34: 17 | B34: K | C34: 003 | D34: 941941042 | E34: Montáž lešenia ľahkého pracovného radového s podlahami šírky nad 1, 00 do 1,20 m a výšky 10-30 m | F34: m2 | G34: 820 | O34: 4 | P34: 2
A35: 18 | B35: K | C35: 003 | D35: 941941292 | E35: Príplatok za prvý a každý ďalší i začatý mesiac použitia lešenia šírky nad 1,00 do 1,20 m, výšky nad 10 do 30 m | F35: m2 | G35: 2460 | O35: 4 | P35: 2
A36: 19 | B36: K | C36: 003 | D36: 941941842 | E36: Demontáž lešenia ľahkého pracovného radového a s podlahami, šírky nad 1,00 do 1,20 m výšky 10-30 m | F36: m2 | G36: 820 | O36: 4 | P36: 2
A37: 20 | B37: K | C37: 003 | D37: 944944103 | E37: Ochranná sieť na boku lešenia zo siete Baumit | F37: m2 | G37: 820 | O37: 4 | P37: 2
A38: 21 | B38: K | C38: 003 | D38: 944944803 | E38: Demontáž ochrannej siete na boku lešenia zo siete Baumit | F38: m2 | G38: 820 | O38: 4 | P38: 2
A39: 22 | B39: K | C39: 013 | D39: 978036171 | E39: Otlčenie šľachtených a pod., omietok vonkajších brizolitových, v rozsahu do 100 %, -0,04500t | F39: m2 | G39: 102 | O39: 4 | P39: 2
A40: 23 | B40: K | C40: 013 | D40: 978059631 | E40: Odsekanie a odobratie stien z obkladačiek vonkajších nad 2 m2, -0,08900t | F40: m2 | G40: 43.5 | O40: 4 | P40: 2
A41: 24 | B41: K | C41: 013 | D41: 979081111 | E41: Odvoz sutiny a vybúraných hmôt na skládku do 1 km | F41: t | G41: 42 | O41: 4 | P41: 2
A42: 25 | B42: K | C42: 013 | D42: 979081121 | E42: Odvoz sutiny a vybúraných hmôt na skládku za každý ďalší 1 km | F42: t | G42: 850 | O42: 4 | P42: 2
A43: 26 | B43: K | C43: 013 | D43: 979082111 | E43: Vnútrostavenisková doprava sutiny a vybúraných hmôt do 10 m | F43: t | G43: 42 | O43: 4 | P43: 2
A44: 27 | B44: K | C44: 013 | D44: 979082121 | E44: Vnútrostavenisková doprava sutiny a vybúraných hmôt za každých ďalších 5 m | F44: t | G44: 42 | O44: 4 | P44: 2
A45: 28 | B45: K | C45: 321 | D45: 979086112 | E45: Nakladanie alebo prekladanie na dopravný prostriedok pri vodorovnej doprave sutiny a vybúraných hmôt | F45: t | G45: 42 | O45: 4 | P45: 2
A46: 29 | B46: K | C46: 013 | D46: 979089012 | E46: Poplatok za skladovanie - betón, tehly, dlaždice (17 01 ), ostatné | F46: t | G46: 42 | O46: 4 | P46: 2
B47: D | D47: 99 | E47: Presun hmôt HSV | P47: 1
A48: 30 | B48: K | C48: 014 | D48: 999281111 | E48: Presun hmôt pre opravy a údržbu objektov vrátane vonkajších plášťov výšky do 25 m | F48: t | G48: 60 | O48: 4 | P48: 2
B49: D | D49: PSV | E49: Práce a dodávky PSV | P49: 0
B50: D | D50: 764 | E50: Konštrukcie klampiarske | P50: 1
A51: 31 | B51: K | C51: 764 | D51: 764711116 | E51: Oplechovanie parapetov Lindab rš 400 mm | F51: m | G51: 102.9 | O51: 16 | P51: 2
A52: 32 | B52: K | C52: 764 | D52: 998764203 | E52: Presun hmôt pre konštrukcie klampiarske v objektoch výšky nad 12 do 24 m | F52: % | G52: 16.118 | O52: 16 | P52: 2
B53: D | D53: 767 | E53: Konštrukcie doplnkové kovové | P53: 1
A54: 33 | B54: K | C54: 767 | D54: 767134831 | E54: Demontáž oplechovania stien plechmi lamelami, -0,00300t | F54: m2 | G54: 856.942 | O54: 16 | P54: 2
A55: 34 | B55: K | C55: 767 | D55: 767135831 | E55: Demontáž roštu pre oplechovanie z lamiel, -0,01000t | F55: m2 | G55: 856.942 | O55: 16 | P55: 2
A56: 35 | B56: K | C56: 767 | D56: 998767203 | E56: Presun hmôt pre kovové stavebné doplnkové konštrukcie v objektoch výšky nad 12 do 24 m | F56: % | G56: 1100 | O56: 16 | P56: 2
B57: D | D57: M | E57: Práce a dodávky M | P57: 0
B58: D | D58: 33-M | E58: Montáže dopr.zariad.sklad.zar.a váh | P58: 1
A59: 36 | B59: K | C59: 933 | D59: 330010144 | E59: Elektrický pojazdný žeriav | F59: ks | G59: 1 | O59: 64 | P59: 2
A60: 37 | B60: K | C60: PK | D60: PPV | E60: Podiel pridružených výkonov | F60: % | G60: 109 | O60: 64 | P60: 2
B61: D | D61: OST | E61: Ostatné | P61: 0
A62: 38 | B62: K | C62: HZS | D62: HZS000111 | E62: Stavebno montážne práce menej náročne (Tr 1) v rozsahu viac ako 8 hodín | F62: hod | G62: 190 | O62: 512 | P62: 1
E63: Celkom
