Workbook

Sheet Rekapitulácia
A2: Rekapitulácia rozpočtu | F2: Sadzby DPH
F3: A | G3: B
A4: Stavba Oprava strechy Mestského úradu Trebišov | F4: 0.2 | G4: 0
A6: Názov objektu | B6: ZRN | C6: VRN | D6: HZS | E6: Kompl.čin. | F6: Ost. náklady | G6: Cena
A7: Oprava strechy | B7: ='SO 12044'!H58-Rekapitulácia!D7 -> 0 | C7: ='Kryci_list 12044'!J26 -> 0 | D7: 0 | E7: ='Kryci_list 12044'!J17 -> 0 | F7: 0 | G7: =B7+C7+D7+E7+F7 -> 0 | K7: ='SO 12044'!J58 -> 0 | Q7: 30.126
A8: Celkom bez DPH | B8: =SUM(B7:B7) -> 0 | C8: =SUM(C7:C7) -> 0 | D8: =SUM(D7:D7) -> 0 | E8: =SUM(E7:E7) -> 0 | F8: =SUM(F7:F7) -> 0 | G8: =SUM(G7:G7)-SUM(Z7:Z7) -> 0
A9: DPH 20% z | B9: =G8-SUM(Rekapitulácia!K7:'Rekapitulácia'!K7)*1 -> 0 | G9: =ROUND(((ROUND(B9,2)*20)/100),2)*1 -> 0
A10: DPH 0% z | B10: =(G8-B9) -> 0 | G10: =ROUND(((ROUND(B10,2)*0)/100),2) -> 0
A11: Celkom | G11: =SUM(G8:G10) -> 0

Sheet Krycí list stavby
F1: Krycí list stavby | W1: 30.126
B2: Stavba: Oprava strechy Mestského úradu Trebišov | G2: Miesto: Trebišov | H2: Trebišov
G3: Ks:
B5: Zákazka: | F5: Spracoval: | I5: Dňa
B6: Odberateľ: | G6: IČO:
G7: DIČ:
B8: Dodávateľ: ... | G8: IČO:
G9: DIČ:
B10: Projektant: | G10: IČO:
G11: DIČ:
B15: A | C15: ZRN | D15: Montáž | E15: Materiál | F15: ZRN spolu | G15: B | H15: Ďalšie náklady
B16: 1 | C16: HSV | D16: ='Kryci_list 12044'!D16 -> 0 | E16: ='Kryci_list 12044'!E16 -> 0 | F16: ='Kryci_list 12044'!F16 -> 0 | G16: 6 | H16: Ostatné náklady | J16: =Rekapitulácia!F8 -> 0
B17: 2 | C17: PSV | D17: ='Kryci_list 12044'!D17 -> 0 | E17: ='Kryci_list 12044'!E17 -> 0 | F17: ='Kryci_list 12044'!F17 -> 0 | G17: 7 | H17: Kompletačná činnosť | J17: =Rekapitulácia!E8 -> 0
B18: 3 | C18: MONT | D18: ='Kryci_list 12044'!D18 -> 0 | E18: ='Kryci_list 12044'!E18 -> 0 | F18: ='Kryci_list 12044'!F18 -> 0 | G18: 8 | H18: HZS | J18: =Rekapitulácia!D8 -> 0
B19: 4 | G19: 9
B20: 5 | C20: Spolu | F20: =SUM(F16:F19) -> 0 | G20: 10 | H20: Spolu | J20: =SUM(J16:J19) -> 0
B21: C | C21: VRN | G21: D | H21: VRN
B22: 11 | C22: Zariadenie staveniska | F22: ='Kryci_list 12044'!F22 -> 0 | G22: 16 | H22: Mimoriadne sťaž.podmienky | J22: ='Kryci_list 12044'!J22 -> 0
B23: 12 | C23: Územie so sťaž. podmienk. | F23: ='Kryci_list 12044'!F23 -> 0 | G23: 17 | H23: Horské oblasti | J23: ='Kryci_list 12044'!J23 -> 0
B24: 13 | C24: Prevádzkové vplyvy | F24: ='Kryci_list 12044'!F24 -> 0 | G24: 18 | H24: Mimostavenisková doprava | J24: ='Kryci_list 12044'!J24 -> 0
B25: 14 | G25: 19
B26: 15 | G26: 20 | H26: Spolu | J26: =SUM(J22:J25)+SUM(F22:F25) -> 0
C27: Projektant,rozpočtár | G27: E | H27: Celkové náklady
G28: 21 | H28: Súčet riadkov 5,10,15,20 | J28: =F20+J20+F26+J26 -> 0
G29: 22 | H29: DPH 20% z | I29: =Rekapitulácia!B9 -> 0 | J29: =ROUND(((ROUND(I29,2)*20)/100),2)*1 -> 0
G30: 23 | H30: DPH 0% z | I30: =Rekapitulácia!B10 -> 0 | J30: =ROUND(((ROUND(I30,2)*0)/100),2) -> 0
G31: 24 | H31: Spolu | J31: =SUM(J28:J30) -> 0
G32: F
D33: Odberateľ | H33: Dodávateľ

Sheet Kryci_list 12044
F1: Krycí list rozpočtu | W1: 30.126
B2: Stavba: Oprava strechy Mestského úradu Trebišov | G2: Miesto: | H2: Trebišov
B3: Objekt: Oprava strechy
I4: Ks:
B5: Zákazka: | F5: Spracoval: | I5: Dňa
B6: Odberateľ: | G6: IČO:
G7: DIČ:
B8: Dodávateľ: ... | G8: IČO:
G9: DIČ:
B10: Projektant: | G10: IČO:
G11: DIČ:
B15: A | C15: ZRN | D15: Montáž | E15: Materiál | F15: ZRN spolu | G15: B | H15: Ďalšie náklady
B16: 1 | C16: HSV | D16: ='Rekap 12044'!B12 -> 0 | E16: ='Rekap 12044'!C12 -> 0 | F16: ='Rekap 12044'!D12 -> 0 | G16: 6 | H16: Ostatné náklady | J16: 0
B17: 2 | C17: PSV | D17: ='Rekap 12044'!B20 -> 0 | E17: ='Rekap 12044'!C20 -> 0 | F17: ='Rekap 12044'!D20 -> 0 | G17: 7 | H17: Kompletačná činnosť | J17: ='SO 12044'!Y58 -> 0
B18: 3 | C18: MONT | D18: ='Rekap 12044'!B24 -> 0 | E18: ='Rekap 12044'!C24 -> 0 | F18: ='Rekap 12044'!D24 -> 0 | G18: 8 | H18: HZS | J18: 0
B19: 4 | G19: 9
B20: 5 | C20: Spolu | F20: =SUM(F16:F19) -> 0 | G20: 10 | H20: Spolu | J20: =SUM(J16:J19) -> 0
B21: C | C21: VRN | G21: D | H21: VRN
B22: 11 | C22: Zariadenie staveniska | E22: 0% z [H+P+M] | F22: =((F16*U22*0)+(F17*V22*0)+(F18*W22*0))/100 -> 0 | G22: 16 | H22: Mimoriadne sťaž.podmienky | I22: 0% z [H+P+M] | J22: =((F16*X22*0)+(F17*Y22*0)+(F18*Z22*0))/100 -> 0 | U22: 1 | V22: 1 | W22: 1 | X22: 1 | Y22: 1 | Z22: 1
B23: 12 | C23: Územie so sťaž. podmienk. | E23: 0% z [H+P] | F23: =((F16*U23*0)+(F17*V23*0)+(F18*W23*0))/100 -> 0 | G23: 17 | H23: Horské oblasti | I23: 0% z [H+P+M] | J23: =((F16*X23*0)+(F17*Y23*0)+(F18*Z23*0))/100 -> 0 | U23: 1 | V23: 1 | W23: 0 | X23: 1 | Y23: 1 | Z23: 1
B24: 13 | C24: Prevádzkové vplyvy | E24: 0% z [H+P+M] | F24: =((F16*U24*0)+(F17*V24*0)+(F18*W24*0))/100 -> 0 | G24: 18 | H24: Mimostavenisková doprava | I24: 0% z [H+P] | J24: =((F16*X24*0)+(F17*Y24*0)+(F18*Z24*0))/100 -> 0 | U24: 1 | V24: 1 | W24: 1 | X24: 1 | Y24: 1 | Z24: 0
B25: 14 | G25: 19
B26: 15 | G26: 20 | H26: Spolu | J26: =SUM(J22:J25)+SUM(F22:F25) -> 0
C27: Projektant,rozpočtár | G27: E | H27: Celkové náklady
G28: 21 | H28: Súčet riadkov 5,10,15,20 | J28: =F20+J20+F26+J26 -> 0
G29: 22 | H29: DPH 20% z | I29: =J28-SUM('SO 12044'!J9:'SO 12044'!J57) -> 0 | J29: =ROUND(((ROUND(I29,2)*20)*1/100),2) -> 0
G30: 23 | H30: DPH 0% z | I30: =SUM('SO 12044'!J9:'SO 12044'!J57) -> 0 | J30: =ROUND(((ROUND(I30,2)*0)/100),2) -> 0
G31: 24 | H31: Spolu | J31: =SUM(J28:J30) -> 0
G32: F
D33: Odberateľ | G33: 26 | H33: Dodávateľ

Sheet Rekap 12044
A1: Odberateľ: | D1: Spracoval: | W1: 30.126
A2: Projektant: | D2: Ks:
A3: Dodávateľ: ... | D3: Dátum:
A4: Stavba: Oprava strechy Mestského úradu Trebišov
A5: Objekt: Oprava strechy
A8: Prehľad rozpočtových nákladov
A9: Oddiel | B9: Montáž | C9: Materiál | D9: Spolu | E9: Hmotnosť (T) | F9: Suť (T)
A10: Práce HSV
A11: OSTATNÉ PRÁCE | B11: ='SO 12044'!K12 -> 0 | C11: ='SO 12044'!L12 -> 0 | D11: ='SO 12044'!H12 -> 0 | E11: ='SO 12044'!O12 -> 0.01 | F11: ='SO 12044'!R12 -> 0
A12: Práce HSV | B12: ='SO 12044'!K14 -> 0 | C12: ='SO 12044'!L14 -> 0 | D12: ='SO 12044'!H14 -> 0 | E12: ='SO 12044'!O14 -> 0.01 | F12: ='SO 12044'!R14 -> 0
A14: Práce PSV
A15: POVLAKOVÉ KRYTINY | B15: ='SO 12044'!K26 -> 0 | C15: ='SO 12044'!L26 -> 0 | D15: ='SO 12044'!H26 -> 0 | E15: ='SO 12044'!O26 -> 2.04 | F15: ='SO 12044'!R26 -> 0
A16: IZOLÁCIE TEPELNÉ BEŽNÝCH STAVEB. KONŠTRUKCIÍ | B16: ='SO 12044'!K30 -> 0 | C16: ='SO 12044'!L30 -> 0 | D16: ='SO 12044'!H30 -> 0 | E16: ='SO 12044'!O30 -> 0 | F16: ='SO 12044'!R30 -> 0
A17: ZTI-VNÚTORNA KANALIZÁCIA | B17: ='SO 12044'!K36 -> 0 | C17: ='SO 12044'!L36 -> 0 | D17: ='SO 12044'!H36 -> 0 | E17: ='SO 12044'!O36 -> 0.01 | F17: ='SO 12044'!R36 -> 0.06
A18: KONŠTRUKCIE KLAMPIARSKE | B18: ='SO 12044'!K43 -> 0 | C18: ='SO 12044'!L43 -> 0 | D18: ='SO 12044'!H43 -> 0 | E18: ='SO 12044'!O43 -> 0.01 | F18: ='SO 12044'!R43 -> 0
A19: KONŠTRUKCIE STOLÁRSKE | B19: ='SO 12044'!K48 -> 0 | C19: ='SO 12044'!L48 -> 0 | D19: ='SO 12044'!H48 -> 0 | E19: ='SO 12044'!O48 -> 0 | F19: ='SO 12044'!R48 -> 1.24
A20: Práce PSV | B20: ='SO 12044'!K50 -> 0 | C20: ='SO 12044'!L50 -> 0 | D20: ='SO 12044'!H50 -> 0 | E20: ='SO 12044'!O50 -> 2.06 | F20: ='SO 12044'!R50 -> 1.3
A22: Montážne práce
A23: M-21 ELEKTROMONTÁŽE | B23: ='SO 12044'!K55 -> 0 | C23: ='SO 12044'!L55 -> 0 | D23: ='SO 12044'!H55 -> 0 | E23: ='SO 12044'!O55 -> 0 | F23: ='SO 12044'!R55 -> 0
A24: Montážne práce | B24: ='SO 12044'!K57 -> 0 | C24: ='SO 12044'!L57 -> 0 | D24: ='SO 12044'!H57 -> 0 | E24: ='SO 12044'!O57 -> 0 | F24: ='SO 12044'!R57 -> 0
A26: Celkom | B26: ='SO 12044'!K58 -> 0 | C26: ='SO 12044'!L58 -> 0 | D26: ='SO 12044'!H58 -> 0 | E26: ='SO 12044'!O58 -> 2.07 | F26: ='SO 12044'!R58 -> 1.3

Sheet SO 12044
B1: Odberateľ: | D1: Spracoval: | V1: 30.126
B2: Projektant: | D2: Ks:
B3: Dodávateľ: ... | D3: Dátum:
B4: Stavba: Oprava strechy Mestského úradu Trebišov
B5: Objekt: Oprava strechy
B7: Prehľad rozpočtových nákladov
A8: Por.č. | B8: Kód položky | C8: Názov | D8: Mj | E8: Množstvo | F8: Montáž | G8: Materiál | H8: Cena celkom | O8: Hmotnosť | R8: Suť
C9: Práce HSV
C10: OSTATNÉ PRÁCE
B11: 953791121 | C11: Osadenie vetracej hlavice (s dodaním) | D11: kus | E11: 6 | G11: 0 | H11: =ROUND(E11*(F11+G11),2) -> 0 | I11: =ROUND(E11*(M11),2) -> 0 | J11: =ROUND(E11*(N11),2) -> 0 | L11: =ROUND(E11*(F11+G11),2) -> 0 | M11: 0 | O11: =ROUND(E11*(Q11),3) -> 0.013 | Q11: 0.0021783 | R11: =ROUND(E11*(W11),3) -> 0 | W11: 0 | Y11: 0
C12: OSTATNÉ PRÁCE | F12: =ROUND((SUM(K10:K11))/1,2) -> 0 | G12: =ROUND((SUM(L10:L11))/1,2) -> 0 | H12: =ROUND((SUM(H10:H11))/1,2) -> 0 | K12: =ROUND((SUM(K10:K11))/1,2) -> 0 | L12: =ROUND((SUM(L10:L11))/1,2) -> 0 | O12: =ROUND((SUM(O10:O11))/1,2) -> 0.01 | R12: =ROUND((SUM(R10:R11))/1,2) -> 0
C14: Práce HSV | F14: =ROUND((SUM(K9:K13))/2,2) -> 0 | G14: =ROUND((SUM(L9:L13))/2,2) -> 0 | H14: =ROUND((SUM(H9:H13))/2,2) -> 0 | K14: =ROUND((SUM(K9:K13))/2,2) -> 0 | L14: =ROUND((SUM(L9:L13))/2,2) -> 0 | O14: =ROUND((SUM(O9:O13))/2,2) -> 0.01 | R14: =ROUND((SUM(R9:R13))/2,2) -> 0
C16: Práce PSV
C17: POVLAKOVÉ KRYTINY
B18: 712331101 | C18: Zhotovenie povlak. krytiny striech plochých do 10° pásmi na sucho AIP, NAIP alebo tkaniny | D18: m2 | E18: 364 | G18: 0 | H18: =ROUND(E18*(F18+G18),2) -> 0 | I18: =ROUND(E18*(M18),2) -> 0 | J18: =ROUND(E18*(N18),2) -> 0 | L18: =ROUND(E18*(F18+G18),2) -> 0 | M18: 0 | O18: =ROUND(E18*(Q18),3) -> 0 | Q18: 0 | R18: =ROUND(E18*(W18),3) -> 0 | W18: 0 | Y18: 0
B19: 6936654900 | C19: Separačná, filtračná a spevňovacia geotextília Geofilex 300 | D19: m2 | E19: 364 | G19: 0 | H19: =ROUND(E19*(F19+G19),2) -> 0 | I19: =ROUND(E19*(M19),2) -> 0 | J19: =ROUND(E19*(N19),2) -> 0 | L19: =ROUND(E19*(F19+G19),2) -> 0 | M19: 0 | O19: =ROUND(E19*(Q19),3) -> 0.109 | Q19: 0.0003 | R19: =ROUND(E19*(W19),3) -> 0 | W19: 0 | Y19: 0
B20: 712370030 | C20: Zhotovenie povlakovej krytiny striech plochých do 10° PVC-P fóliou pripevnenie kotviacimi terčami s lepením spojov | D20: m2 | E20: 427.9 | G20: 0 | H20: =ROUND(E20*(F20+G20),2) -> 0 | I20: =ROUND(E20*(M20),2) -> 0 | J20: =ROUND(E20*(N20),2) -> 0 | L20: =ROUND(E20*(F20+G20),2) -> 0 | M20: 0 | O20: =ROUND(E20*(Q20),3) -> 0.043 | Q20: 0.0001 | R20: =ROUND(E20*(W20),3) -> 0 | W20: 0 | Y20: 0
B21: 2832990650 | C21: Kotviaca technika skrutka | D21: kus | E21: 1780 | G21: 0 | H21: =ROUND(E21*(F21+G21),2) -> 0 | I21: =ROUND(E21*(M21),2) -> 0 | J21: =ROUND(E21*(N21),2) -> 0 | L21: =ROUND(E21*(F21+G21),2) -> 0 | M21: 0 | O21: =ROUND(E21*(Q21),3) -> 0.267 | Q21: 0.00015 | R21: =ROUND(E21*(W21),3) -> 0 | W21: 0 | Y21: 0
B22: 2833000150 | C22: FATRAFOL 810 hydroizolačná fólia hr.1,50 mm, š.1,3m šedá | D22: m2 | E22: 427.9 | G22: 0 | H22: =ROUND(E22*(F22+G22),2) -> 0 | I22: =ROUND(E22*(M22),2) -> 0 | J22: =ROUND(E22*(N22),2) -> 0 | L22: =ROUND(E22*(F22+G22),2) -> 0 | M22: 0 | O22: =ROUND(E22*(Q22),3) -> 0.941 | Q22: 0.0022 | R22: =ROUND(E22*(W22),3) -> 0 | W22: 0 | Y22: 0
B23: 28348011011 | C23: Viplanyl-lišta z poplast.plechu vnutorny+vonkajší kut | D23: m | E23: 130.2 | G23: 0 | H23: =ROUND(E23*(F23+G23),2) -> 0 | I23: =ROUND(E23*(M23),2) -> 0 | J23: =ROUND(E23*(N23),2) -> 0 | L23: =ROUND(E23*(F23+G23),2) -> 0 | M23: 0 | O23: =ROUND(E23*(Q23),3) -> 0 | Q23: 0 | R23: =ROUND(E23*(W23),3) -> 0 | W23: 0 | Y23: 0
B24: 713142230 | C24: Montáž tepelnej izolácie striech plochých do 10 stupnov polystyrenom jednovrstvová | D24: m2 | E24: 197.6 | G24: 0 | H24: =ROUND(E24*(F24+G24),2) -> 0 | I24: =ROUND(E24*(M24),2) -> 0 | J24: =ROUND(E24*(N24),2) -> 0 | L24: =ROUND(E24*(F24+G24),2) -> 0 | M24: 0 | O24: =ROUND(E24*(Q24),3) -> 0 | Q24: 0 | R24: =ROUND(E24*(W24),3) -> 0 | W24: 0 | Y24: 0
B25: 2837653444 | C25: ISOVER EPS Roof 150S penový polystyrén hrúbka 100 mm | D25: m2 | E25: 197.6 | G25: 0 | H25: =ROUND(E25*(F25+G25),2) -> 0 | I25: =ROUND(E25*(M25),2) -> 0 | J25: =ROUND(E25*(N25),2) -> 0 | L25: =ROUND(E25*(F25+G25),2) -> 0 | M25: 0 | O25: =ROUND(E25*(Q25),3) -> 0.678 | Q25: 0.00343 | R25: =ROUND(E25*(W25),3) -> 0 | W25: 0 | Y25: 0
C26: POVLAKOVÉ KRYTINY | F26: =ROUND((SUM(K17:K25))/1,2) -> 0 | G26: =ROUND((SUM(L17:L25))/1,2) -> 0 | H26: =ROUND((SUM(H17:H25))/1,2) -> 0 | K26: =ROUND((SUM(K17:K25))/1,2) -> 0 | L26: =ROUND((SUM(L17:L25))/1,2) -> 0 | O26: =ROUND((SUM(O17:O25))/1,2) -> 2.04 | R26: =ROUND((SUM(R17:R25))/1,2) -> 0
C28: IZOLÁCIE TEPELNÉ BEŽNÝCH STAVEB. KONŠTRUKCIÍ
B29: 998713104 | C29: Presun hmôt pre izolácie tepelné v objektoch výšky nad 24 m do 36 m | D29: t | E29: 4.6 | G29: 0 | H29: =ROUND(E29*(F29+G29),2) -> 0 | I29: =ROUND(E29*(M29),2) -> 0 | J29: =ROUND(E29*(N29),2) -> 0 | L29: =ROUND(E29*(F29+G29),2) -> 0 | M29: 0 | O29: =ROUND(E29*(Q29),3) -> 0 | Q29: 0 | R29: =ROUND(E29*(W29),3) -> 0 | W29: 0 | Y29: 0
C30: IZOLÁCIE TEPELNÉ BEŽNÝCH STAVEB. KONŠTRUKCIÍ | F30: =ROUND((SUM(K28:K29))/1,2) -> 0 | G30: =ROUND((SUM(L28:L29))/1,2) -> 0 | H30: =ROUND((SUM(H28:H29))/1,2) -> 0 | K30: =ROUND((SUM(K28:K29))/1,2) -> 0 | L30: =ROUND((SUM(L28:L29))/1,2) -> 0 | O30: =ROUND((SUM(O28:O29))/1,2) -> 0 | R30: =ROUND((SUM(R28:R29))/1,2) -> 0
C32: ZTI-VNÚTORNA KANALIZÁCIA
B33: 721210823 | C33: Demontáž strešného vtoku -0,02011t | D33: kus | E33: 3 | G33: 0 | H33: =ROUND(E33*(F33+G33),2) -> 0 | I33: =ROUND(E33*(M33),2) -> 0 | J33: =ROUND(E33*(N33),2) -> 0 | L33: =ROUND(E33*(F33+G33),2) -> 0 | M33: 0 | O33: =ROUND(E33*(Q33),3) -> 0 | Q33: 0 | R33: =ROUND(E33*(W33),3) -> 0.06 | W33: 0.02011 | Y33: 0
B34: 721233214 | C34: Strešný vtok plastový korugovaný pre ploché strechy so zvislým odtokom DN 150 mm | D34: kus | E34: 3 | G34: 0 | H34: =ROUND(E34*(F34+G34),2) -> 0 | I34: =ROUND(E34*(M34),2) -> 0 | J34: =ROUND(E34*(N34),2) -> 0 | L34: =ROUND(E34*(F34+G34),2) -> 0 | M34: 0 | O34: =ROUND(E34*(Q34),3) -> 0.014 | Q34: 0.0046935 | R34: =ROUND(E34*(W34),3) -> 0 | W34: 0 | Y34: 0
B35: 998721104 | C35: Presun hmôt pre vnútornú kanalizáciu v objektoch výšky nad 24 do 36 m | D35: t | E35: 0.009387 | G35: 0 | H35: =ROUND(E35*(F35+G35),2) -> 0 | I35: =ROUND(E35*(M35),2) -> 0 | J35: =ROUND(E35*(N35),2) -> 0 | L35: =ROUND(E35*(F35+G35),2) -> 0 | M35: 0 | O35: =ROUND(E35*(Q35),3) -> 0 | Q35: 0 | R35: =ROUND(E35*(W35),3) -> 0 | W35: 0 | Y35: 0
C36: ZTI-VNÚTORNA KANALIZÁCIA | F36: =ROUND((SUM(K32:K35))/1,2) -> 0 | G36: =ROUND((SUM(L32:L35))/1,2) -> 0 | H36: =ROUND((SUM(H32:H35))/1,2) -> 0 | K36: =ROUND((SUM(K32:K35))/1,2) -> 0 | L36: =ROUND((SUM(L32:L35))/1,2) -> 0 | O36: =ROUND((SUM(O32:O35))/1,2) -> 0.01 | R36: =ROUND((SUM(R32:R35))/1,2) -> 0.06
C38: KONŠTRUKCIE KLAMPIARSKE
B39: 764711119 | C39: Krycia lišta z poplastovaného plechu vr.kotvenia | D39: m | E39: 80.2 | G39: 0 | H39: =ROUND(E39*(F39+G39),2) -> 0 | I39: =ROUND(E39*(M39),2) -> 0 | J39: =ROUND(E39*(N39),2) -> 0 | L39: =ROUND(E39*(F39+G39),2) -> 0 | M39: 0 | O39: =ROUND(E39*(Q39),3) -> 0 | Q39: 0 | R39: =ROUND(E39*(W39),3) -> 0 | W39: 0 | Y39: 0
B40: 7647311131 | C40: Oplechovanie murov,atik,nadmuroviek z poplast.plechu rš.600mm | D40: m | E40: 51.7 | G40: 0 | H40: =ROUND(E40*(F40+G40),2) -> 0 | I40: =ROUND(E40*(M40),2) -> 0 | J40: =ROUND(E40*(N40),2) -> 0 | L40: =ROUND(E40*(F40+G40),2) -> 0 | M40: 0 | O40: =ROUND(E40*(Q40),3) -> 0 | Q40: 0 | R40: =ROUND(E40*(W40),3) -> 0 | W40: 0 | Y40: 0
B41: 998764104 | C41: Presun hmôt pre konštrukcie klampiarske v objektoch výšky nad 24 do 36 m | D41: t | E41: 0.74 | G41: 0 | H41: =ROUND(E41*(F41+G41),2) -> 0 | I41: =ROUND(E41*(M41),2) -> 0 | J41: =ROUND(E41*(N41),2) -> 0 | L41: =ROUND(E41*(F41+G41),2) -> 0 | M41: 0 | O41: =ROUND(E41*(Q41),3) -> 0 | Q41: 0 | R41: =ROUND(E41*(W41),3) -> 0 | W41: 0 | Y41: 0
B42: 764172055 | C42: Odvetravací kominček | D42: kus | E42: 6 | G42: 0 | H42: =ROUND(E42*(F42+G42),2) -> 0 | I42: =ROUND(E42*(M42),2) -> 0 | J42: =ROUND(E42*(N42),2) -> 0 | L42: =ROUND(E42*(F42+G42),2) -> 0 | M42: 0 | O42: =ROUND(E42*(Q42),3) -> 0.013 | Q42: 0.002222 | R42: =ROUND(E42*(W42),3) -> 0 | W42: 0 | Y42: 0
C43: KONŠTRUKCIE KLAMPIARSKE | F43: =ROUND((SUM(K38:K42))/1,2) -> 0 | G43: =ROUND((SUM(L38:L42))/1,2) -> 0 | H43: =ROUND((SUM(H38:H42))/1,2) -> 0 | K43: =ROUND((SUM(K38:K42))/1,2) -> 0 | L43: =ROUND((SUM(L38:L42))/1,2) -> 0 | O43: =ROUND((SUM(O38:O42))/1,2) -> 0.01 | R43: =ROUND((SUM(R38:R42))/1,2) -> 0
C45: KONŠTRUKCIE STOLÁRSKE
B46: 766421811 | C46: Demontáž oplechovania murov,atik | D46: m2 | E46: 51.7 | G46: 0 | H46: =ROUND(E46*(F46+G46),2) -> 0 | I46: =ROUND(E46*(M46),2) -> 0 | J46: =ROUND(E46*(N46),2) -> 0 | L46: =ROUND(E46*(F46+G46),2) -> 0 | M46: 0 | O46: =ROUND(E46*(Q46),3) -> 0 | Q46: 0 | R46: =ROUND(E46*(W46),3) -> 1.241 | W46: 0.024 | Y46: 0
B47: 6114122302 | C47: Svetlíky v zasadačke mestského zastupitelstva | D47: kpl | E47: 1 | G47: 0 | H47: =ROUND(E47*(F47+G47),2) -> 0 | I47: =ROUND(E47*(M47),2) -> 0 | J47: =ROUND(E47*(N47),2) -> 0 | L47: =ROUND(E47*(F47+G47),2) -> 0 | M47: 0 | O47: =ROUND(E47*(Q47),3) -> 0 | Q47: 0 | R47: =ROUND(E47*(W47),3) -> 0 | W47: 0 | Y47: 0
C48: KONŠTRUKCIE STOLÁRSKE | F48: =ROUND((SUM(K45:K47))/1,2) -> 0 | G48: =ROUND((SUM(L45:L47))/1,2) -> 0 | H48: =ROUND((SUM(H45:H47))/1,2) -> 0 | K48: =ROUND((SUM(K45:K47))/1,2) -> 0 | L48: =ROUND((SUM(L45:L47))/1,2) -> 0 | O48: =ROUND((SUM(O45:O47))/1,2) -> 0 | R48: =ROUND((SUM(R45:R47))/1,2) -> 1.24
C50: Práce PSV | F50: =ROUND((SUM(K16:K49))/2,2) -> 0 | G50: =ROUND((SUM(L16:L49))/2,2) -> 0 | H50: =ROUND((SUM(H16:H49))/2,2) -> 0 | K50: =ROUND((SUM(K16:K49))/2,2) -> 0 | L50: =ROUND((SUM(L16:L49))/2,2) -> 0 | O50: =ROUND((SUM(O16:O49))/2,2) -> 2.06 | R50: =ROUND((SUM(R16:R49))/2,2) -> 1.3
C52: Montážne práce
C53: M-21 ELEKTROMONTÁŽE
B54: 210220107P | C54: Demontáž+ zpetná montáž blezkozvodu vrátane jeho uprav | D54: kpl | E54: 1 | G54: 0 | H54: =ROUND(E54*(F54+G54),2) -> 0 | I54: =ROUND(E54*(M54),2) -> 0 | J54: =ROUND(E54*(N54),2) -> 0 | L54: =ROUND(E54*(F54+G54),2) -> 0 | M54: 0 | O54: =ROUND(E54*(Q54),3) -> 0 | Q54: 0 | R54: =ROUND(E54*(W54),3) -> 0 | W54: 0 | Y54: 0
C55: M-21 ELEKTROMONTÁŽE | F55: =ROUND((SUM(K53:K54))/1,2) -> 0 | G55: =ROUND((SUM(L53:L54))/1,2) -> 0 | H55: =ROUND((SUM(H53:H54))/1,2) -> 0 | K55: =ROUND((SUM(K53:K54))/1,2) -> 0 | L55: =ROUND((SUM(L53:L54))/1,2) -> 0 | O55: =ROUND((SUM(O53:O54))/1,2) -> 0 | R55: =ROUND((SUM(R53:R54))/1,2) -> 0
C57: Montážne práce | F57: =ROUND((SUM(K52:K56))/2,2) -> 0 | G57: =ROUND((SUM(L52:L56))/2,2) -> 0 | H57: =ROUND((SUM(H52:H56))/2,2) -> 0 | K57: =ROUND((SUM(K52:K56))/2,2) -> 0 | L57: =ROUND((SUM(L52:L56))/2,2) -> 0 | O57: =ROUND((SUM(O52:O56))/2,2) -> 0 | R57: =ROUND((SUM(R52:R56))/2,2) -> 0
B58: Oprava strechy | E58: Celkom | F58: =ROUND((SUM(K9:K57))/3,2) -> 0 | G58: =ROUND((SUM(L9:L57))/3,2) -> 0 | H58: =ROUND((SUM(H9:H57))/3,2) -> 0 | J58: =ROUND((SUM(J9:J57)),2) -> 0 | K58: =ROUND((SUM(K9:K57))/3,2) -> 0 | L58: =ROUND((SUM(L9:L57))/3,2) -> 0 | O58: =ROUND((SUM(O9:O57))/3,2) -> 2.07 | R58: =ROUND((SUM(R9:R57))/3,2) -> 1.3 | Y58: =(SUM(Y9:Y57)) -> 0
B62: Sumarizácia
B63: Cena celkom bez DPH v €
B64: DPH
B65: Cena celkom s DPH v €
B68: V rozpočte sú pri niektorých stavebných materiáloch uvedené značky stavebných materiálov.
B69: Verejný obstarávateľ pripúšťa možnosť predloženia ekvivalentu stavebného materiálu rovnakej alebo vyššej kvality.
B70: V prípade využitia ekvivalentu, verejný obstarávateľ požaduje, aby uchádzač uvádzal už priamo značku stavebného materiálu do rozpočtu.
B71: Verejný obstarávateľ v tomto prípade požaduje od uchádzača aj predloženie dokladu (napr. produktový list, technický list a pod.) ekvivalentu
B72: stavebného materiálu za účelom overenia splnenia kvalitatívnych parametrov stavebných materiálov.
B76: Podpis:
