Workbook

Sheet Rekapitulácia stavby
A1: 2012 | D1: Hárok obsahuje: | K1: 1) Súhrnný list stavby | W1: 2) Rekapitulácia objektov | BA1: 2.0 | BB1: ZAMOK | BT1: False | BU1: False
C2: optimalizované pre tlač zostáv vo formáte A4 - na výšku | AR2: >> skryté stĺpce << | BS2: 0,001 | BT2: 20
BS3: 0,001 | BT3: 20
C4: SÚHRNNÝ LIST STAVBY | AS4: v --- nižšie sa nachádzajú doplnkové a pomocné údaje k zostavám --- v | BE4: Návod na vyplnenie | BS4: 0,001
D5: Kód: | K5: 09580 | BE5: Meniť je možné iba bunky so žltým podfarbením!_x000D_ _x000D_ 1) na prvom liste Rekapitulácie stavby vyplňte v zostave_x000D_ _x000D_ a) Súhrnný list_x000D_ - údaje o Zhotoviteľovi_x000D_ (prenesú sa do ostatných zostáv aj v iných listoch)_x000D_ _x000D_ b) Rekapitulácia objektov_x000D_ - potrebné Ostatné náklady_x000D_ _x000D_ 2) na vybraných listoch vyplňte v zostave_x000D_ _x000D_ a) Krycí list_x000D_ - údaje o Zhotoviteľovi, pokiaľ sa líšia od údajov o Zhotoviteľovi na Súhrnnom liste_x000D_ (údaje se prenesú do ostatných zostav v danom liste)_x000D_ _x000D_ b) Rekapitulácia rozpočtu_x000D_ - potrebné Ostatné náklady_x000D_ _x000D_ c) Celkové náklady za stavbu_x000D_ - ceny na položkách_x000D_ - množstvo, pokiaľ má žlté podfarbenie_x000D_ - a v prípade potreby poznámku (tá je v skrytom stĺpci) | BS5: 0,001
D6: Stavba: | K6: Športova hala Trebišov- oprava strechy nad fitnes centrom | BS6: 0,001
D7: JKSO: | AK7: KS: | BS7: 0,001
D8: Miesto: | K8: Trebišov | AK8: Dátum: | BS8: 0,001
BS9: 0,001
D10: Objednávateľ: | AK10: IČO: | BS10: 0,001
E11: Mesto Trebišov | AK11: IČO DPH: | BS11: 0,001
BS12: 0,001
D13: Zhotoviteľ: | AK13: IČO: | AN13: Vyplň údaj | BS13: 0,001
E14: Vyplň údaj | AK14: IČO DPH: | AN14: Vyplň údaj | BS14: 0,001
BS15: False
D16: Projektant: | AK16: IČO: | BS16: False
AK17: IČO DPH: | BS17: True
BS18: 0,01
D19: Spracovateľ: | AK19: IČO: | BS19: 0,01
AK20: IČO DPH:
D22: Poznámka:
D26: Náklady z rozpočtov | AK26: =ROUND(AG87,2) -> 0
D27: Ostatné náklady zo súhrnného listu | AK27: =ROUND(AG90,2) -> 0
D29: Cena bez DPH | AK29: =ROUND(AK26+AK27,2) -> 0
D31: DPH | F31: základná | L31: 0.2 | T31: z | W31: =ROUND(AZ87+SUM(CD91:CD95),2) -> 0 | AK31: =ROUND(AV87+SUM(BY91:BY95),2) -> 0
F32: znížená | L32: 0.2 | T32: z | W32: =ROUND(BA87+SUM(CE91:CE95),2) -> 0 | AK32: =ROUND(AW87+SUM(BZ91:BZ95),2) -> 0
F33: zákl. prenesená | L33: 0.2 | T33: z | W33: =ROUND(BB87+SUM(CF91:CF95),2) -> 0 | AK33: 0
F34: zníž. prenesená | L34: 0.2 | T34: z | W34: =ROUND(BC87+SUM(CG91:CG95),2) -> 0 | AK34: 0
F35: nulová | L35: 0 | T35: z | W35: =ROUND(BD87+SUM(CH91:CH95),2) -> 0 | AK35: 0
D37: Cena s DPH | T37: v | X37: EUR | AK37: =SUM(AK29:AK35) -> 0
D49: Projektant | AC49: Spracovateľ
D58: Dátum a podpis: | R58: Pečiatka | AC58: Dátum a podpis: | AM58: Pečiatka
D60: Objednávateľ | AC60: Zhotoviteľ
D69: Dátum a podpis: | R69: Pečiatka | AC69: Dátum a podpis: | AM69: Pečiatka
C76: REKAPITULÁCIA OBJEKTOV STAVBY
C77: Kód: | L77: =K5 -> 09580
C78: Stavba: | L78: =K6 -> Športova hala Trebišov- oprava strechy nad fitnes centrom
C80: Miesto: | L80: =IF(K8="","",K8) -> Trebišov | AI80: Dátum: | AM80: =IF(AN8= "","",AN8)
C82: Objednávateľ: | L82: =IF(E11= "","",E11) -> Mesto Trebišov | AI82: Projektant: | AM82: =IF(E17="","",E17) | AS82: Informatívne údaje z listov zákaziek
C83: Zhotoviteľ: | L83: =IF(E14= "Vyplň údaj","",E14) | AI83: Spracovateľ: | AM83: =IF(E20="","",E20)
...

Sheet 09580 - Športova hala Tre...
D1: Hárok obsahuje: | F1: 1) Krycí list rozpočtu | H1: 2) Rekapitulácia rozpočtu | L1: 3) Rozpočet | O1: Späť na hárok: | S1: Rekapitulácia stavby
C2: optimalizované pre tlač zostáv vo formáte A4 - na výšku | S2: >> skryté stĺpce << | AT2: {d4bf3b94-cfd9-4928-88d3-cd41649ba9e0}
AT3: 0
C4: KRYCÍ LIST ROZPOČTU | T4: v --- nižšie sa nachádzajú doplnkové a pomocné údaje k zostavám --- v | AT4: False
D6: Stavba: | F6: Športova hala Trebišov- oprava strechy nad fitnes centrom
D7: JKSO: | M7: KS:
D8: Miesto: | F8: Trebišov | M8: Dátum:
D10: Objednávateľ: | M10: IČO:
E11: Mesto Trebišov | M11: IČO DPH:
D13: Zhotoviteľ: | M13: IČO:
E14: =IF('Rekapitulácia stavby'!E14="","",'Rekapitulácia stavby'!E14) -> Vyplň údaj | M14: IČO DPH:
D16: Projektant: | M16: IČO: | O16: =IF('Rekapitulácia stavby'!AN16="","",'Rekapitulácia stavby'!AN16)
E17: =IF('Rekapitulácia stavby'!E17="","",'Rekapitulácia stavby'!E17) | M17: IČO DPH: | O17: =IF('Rekapitulácia stavby'!AN17="","",'Rekapitulácia stavby'!AN17)
D19: Spracovateľ: | M19: IČO: | O19: =IF('Rekapitulácia stavby'!AN19="","",'Rekapitulácia stavby'!AN19)
E20: =IF('Rekapitulácia stavby'!E20="","",'Rekapitulácia stavby'!E20) | M20: IČO DPH: | O20: =IF('Rekapitulácia stavby'!AN20="","",'Rekapitulácia stavby'!AN20)
D22: Poznámka:
D26: Náklady z rozpočtu | M26: =N87 -> 0
D27: Ostatné náklady | M27: =N96 -> 0
D29: Cena bez DPH | M29: =ROUND(M26+M27,2) -> 0
D31: DPH | E31: základná | F31: 0.2 | G31: z | H31: =ROUND((((SUM(BE96:BE103)+SUM(BE120:BE149))+SUM(BE151:BE155))),2) -> 0 | M31: =ROUND(((ROUND((SUM(BE96:BE103)+SUM(BE120:BE149)), 2)*F31)+SUM(BE151:BE155)*F31),2) -> 0
E32: znížená | F32: 0.2 | G32: z | H32: =ROUND((((SUM(BF96:BF103)+SUM(BF120:BF149))+SUM(BF151:BF155))),2) -> 0 | M32: =ROUND(((ROUND((SUM(BF96:BF103)+SUM(BF120:BF149)), 2)*F32)+SUM(BF151:BF155)*F32),2) -> 0
E33: zákl. prenesená | F33: 0.2 | G33: z | H33: =ROUND((((SUM(BG96:BG103)+SUM(BG120:BG149))+SUM(BG151:BG155))),2) -> 0 | M33: 0
E34: zníž. prenesená | F34: 0.2 | G34: z | H34: =ROUND((((SUM(BH96:BH103)+SUM(BH120:BH149))+SUM(BH151:BH155))),2) -> 0 | M34: 0
E35: nulová | F35: 0 | G35: z | H35: =ROUND((((SUM(BI96:BI103)+SUM(BI120:BI149))+SUM(BI151:BI155))),2) -> 0 | M35: 0
D37: Cena s DPH | G37: v | H37: EUR | L37: =SUM(M29:M35) -> 0
D50: Projektant | J50: Spracovateľ
D59: Dátum a podpis: | G59: Pečiatka | J59: Dátum a podpis: | N59: Pečiatka
D61: Objednávateľ | J61: Zhotoviteľ
D70: Dátum a podpis: | G70: Pečiatka | J70: Dátum a podpis: | N70: Pečiatka
C76: REKAPITULÁCIA ROZPOČTU
C78: Stavba: | F78: =F6 -> Športova hala Trebišov- oprava strechy nad fitnes centrom
C80: Miesto: | F80: =F8 -> Trebišov | K80: Dátum: | M80: =IF(O8="","",O8)
C82: Objednávateľ: | F82: =E11 -> Mesto Trebišov | K82: Projektant: | M82: =E17
C83: Zhotoviteľ: | F83: =IF(E14="","",E14) -> Vyplň údaj | K83: Spracovateľ: | M83: =E20
C85: Kód - Popis | N85: Cena celkom [EUR]
C87: 1) Náklady z rozpočtu | N87: =N120 -> 0 | AU87: -1
D88: PSV - Práce a dodávky PSV | N88: =N121 -> 0
D89: 712 - Izolácie striech | N89: =N122 -> 0
D90: 713 - Izolácie tepelné | N90: =N136 -> 0
D91: 764 - Konštrukcie klampiarske | N91: =N141 -> 0
...
