Workbook

Sheet Rekapitulácia stavby
A1: 2012 | D1: Hárok obsahuje: | K1: 1) Súhrnný list stavby | W1: 2) Rekapitulácia objektov | BA1: 2.0 | BB1: ZAMOK | BT1: False | BU1: False
C2: optimalizované pre tlač zostáv vo formáte A4 - na výšku | AR2: >> skryté stĺpce << | BS2: 0,001 | BT2: 20
BS3: 0,001 | BT3: 20
C4: SÚHRNNÝ LIST STAVBY | AS4: v --- nižšie sa nachádzajú doplnkové a pomocné údaje k zostavám --- v | BE4: Návod na vyplnenie | BS4: 0,001
D5: Kód: | K5: 09580 | BE5: Meniť je možné iba bunky so žltým podfarbením!_x000D_ _x000D_ 1) na prvom liste Rekapitulácie stavby vyplňte v zostave_x000D_ _x000D_ a) Súhrnný list_x000D_ - údaje o Zhotoviteľovi_x000D_ (prenesú sa do ostatných zostáv aj v iných listoch)_x000D_ _x000D_ b) Rekapitulácia objektov_x000D_ - potrebné Ostatné náklady_x000D_ _x000D_ 2) na vybraných listoch vyplňte v zostave_x000D_ _x000D_ a) Krycí list_x000D_ - údaje o Zhotoviteľovi, pokiaľ sa líšia od údajov o Zhotoviteľovi na Súhrnnom liste_x000D_ (údaje se prenesú do ostatných zostav v danom liste)_x000D_ _x000D_ b) Rekapitulácia rozpočtu_x000D_ - potrebné Ostatné náklady_x000D_ _x000D_ c) Celkové náklady za stavbu_x000D_ - ceny na položkách_x000D_ - množstvo, pokiaľ má žlté podfarbenie_x000D_ - a v prípade potreby poznámku (tá je v skrytom stĺpci) | BS5: 0,001
D6: Stavba: | K6: Športova hala Trebišov- oprava strechy nad fitnes centrom | BS6: 0,001
D7: JKSO: | AK7: KS: | BS7: 0,001
D8: Miesto: | K8: Trebišov | AK8: Dátum: | BS8: 0,001
BS9: 0,001
D10: Objednávateľ: | AK10: IČO: | BS10: 0,001
E11: Mesto Trebišov | AK11: IČO DPH: | BS11: 0,001
BS12: 0,001
D13: Zhotoviteľ: | AK13: IČO: | AN13: Vyplň údaj | BS13: 0,001
E14: Vyplň údaj | AK14: IČO DPH: | AN14: Vyplň údaj | BS14: 0,001
BS15: False
D16: Projektant: | AK16: IČO: | BS16: False
AK17: IČO DPH: | BS17: True
BS18: 0,01
D19: Spracovateľ: | AK19: IČO: | BS19: 0,01
AK20: IČO DPH:
D22: Poznámka:
D26: Náklady z rozpočtov | AK26: =ROUND(AG87,2) -> 0
D27: Ostatné náklady zo súhrnného listu | AK27: =ROUND(AG90,2) -> 0
D29: Cena bez DPH | AK29: =ROUND(AK26+AK27,2) -> 0
D31: DPH | F31: základná | L31: 0.2 | T31: z | W31: =ROUND(AZ87+SUM(CD91:CD95),2) -> 0 | AK31: =ROUND(AV87+SUM(BY91:BY95),2) -> 0
F32: znížená | L32: 0.2 | T32: z | W32: =ROUND(BA87+SUM(CE91:CE95),2) -> 0 | AK32: =ROUND(AW87+SUM(BZ91:BZ95),2) -> 0
F33: zákl. prenesená | L33: 0.2 | T33: z | W33: =ROUND(BB87+SUM(CF91:CF95),2) -> 0 | AK33: 0
F34: zníž. prenesená | L34: 0.2 | T34: z | W34: =ROUND(BC87+SUM(CG91:CG95),2) -> 0 | AK34: 0
F35: nulová | L35: 0 | T35: z | W35: =ROUND(BD87+SUM(CH91:CH95),2) -> 0 | AK35: 0
D37: Cena s DPH | T37: v | X37: EUR | AK37: =SUM(AK29:AK35) -> 0
D49: Projektant | AC49: Spracovateľ
D58: Dátum a podpis: | R58: Pečiatka | AC58: Dátum a podpis: | AM58: Pečiatka
D60: Objednávateľ | AC60: Zhotoviteľ
D69: Dátum a podpis: | R69: Pečiatka | AC69: Dátum a podpis: | AM69: Pečiatka
C76: REKAPITULÁCIA OBJEKTOV STAVBY
C77: Kód: | L77: =K5 -> 09580
C78: Stavba: | L78: =K6 -> Športova hala Trebišov- oprava strechy nad fitnes centrom
C80: Miesto: | L80: =IF(K8="","",K8) -> Trebišov | AI80: Dátum: | AM80: =IF(AN8= "","",AN8)
C82: Objednávateľ: | L82: =IF(E11= "","",E11) -> Mesto Trebišov | AI82: Projektant: | AM82: =IF(E17="","",E17) | AS82: Informatívne údaje z listov zákaziek
C83: Zhotoviteľ: | L83: =IF(E14= "Vyplň údaj","",E14) | AI83: Spracovateľ: | AM83: =IF(E20="","",E20)
C85: Kód | I85: Objekt | AG85: Cena bez DPH [EUR] | AN85: Cena s DPH [EUR] | AS85: z toho Ostat._x000D_ náklady [EUR] | AT85: DPH [EUR] | AU85: Normohodiny [h] | AV85: DPH základná [EUR] | AW85: DPH znížená [EUR] | AX85: DPH základná prenesená_x000D_ [EUR] | AY85: DPH znížená prenesená_x000D_ [EUR] | AZ85: Základňa_x000D_ DPH základná | BA85: Základňa_x000D_ DPH znížená | BB85: Základňa_x000D_ DPH zákl. prenesená | BC85: Základňa_x000D_ DPH zníž. prenesená | BD85: Základňa_x000D_ DPH nulová
C87: 1) Náklady z rozpočtov | AG87: =ROUND(AG88,2) -> 0 | AN87: =SUM(AG87,AT87) -> 0 | AS87: =ROUND(AS88,2) -> 0 | AT87: =ROUND(SUM(AV87:AW87),2) -> 0 | AU87: =ROUND(AU88,5) -> 0 | AV87: =ROUND(AZ87*L31,2) -> 0 | AW87: =ROUND(BA87*L32,2) -> 0 | AX87: =ROUND(BB87*L31,2) -> 0 | AY87: =ROUND(BC87*L32,2) -> 0 | AZ87: =ROUND(AZ88,2) -> 0 | BA87: =ROUND(BA88,2) -> 0 | BB87: =ROUND(BB88,2) -> 0 | BC87: =ROUND(BC88,2) -> 0 | BD87: =ROUND(BD88,2) -> 0 | BS87: D | BT87: 0 | BV87: IMPORT | BW87: {d4bf3b94-cfd9-4928-88d3-cd41649ba9e0} | BX87: {00000000-0000-0000-0000-000000000000}
A88: / | D88: 09580 | J88: Športova hala Trebišov- oprava strechy nad fitnes centrom | AG88: ='09580 - Športova hala Tre...'!M29 -> 0 | AN88: =SUM(AG88,AT88) -> 0 | AS88: ='09580 - Športova hala Tre...'!M27 -> 0 | AT88: =ROUND(SUM(AV88:AW88),2) -> 0 | AU88: ='09580 - Športova hala Tre...'!W120 -> 0 | AV88: ='09580 - Športova hala Tre...'!M31 -> 0 | AW88: ='09580 - Športova hala Tre...'!M32 -> 0 | AX88: ='09580 - Športova hala Tre...'!M33 -> 0 | AY88: ='09580 - Športova hala Tre...'!M34 -> 0 | AZ88: ='09580 - Športova hala Tre...'!H31 -> 0 | BA88: ='09580 - Športova hala Tre...'!H32 -> 0 | BB88: ='09580 - Športova hala Tre...'!H33 -> 0 | BC88: ='09580 - Športova hala Tre...'!H34 -> 0 | BD88: ='09580 - Športova hala Tre...'!H35 -> 0 | BT88: 1 | BU88: ###NOINSERT### | BV88: IMPORT | BW88: {d4bf3b94-cfd9-4928-88d3-cd41649ba9e0} | BX88: {00000000-0000-0000-0000-000000000000}
C90: 2) Ostatné náklady zo súhrnného listu | AG90: =ROUND(SUM(AG91:AG94),2) -> 0 | AN90: =ROUND(SUM(AN91:AN94),2) -> 0 | AS90: Percent. zadanie_x000D_ [% nákladov rozpočtu] | AT90: Zaradenie nákladov | AU90: DPH | AV90: DPH [EUR]
D91: Ostatné náklady | AG91: =ROUND(AG87*AS91,2) -> 0 | AN91: =ROUND(AG91+AV91,2) -> 0 | AS91: 0 | AT91: stavebná časť | AU91: základná | AV91: =ROUND(IF(AU91="základná",AG91*L31,IF(AU91="znížená",AG91*L32,0)),2) -> 0 | BV91: OSTATNENAKLADY | BY91: =IF(AU91="základná",AV91,0) -> 0 | BZ91: =IF(AU91="znížená",AV91,0) -> 0 | CA91: 0 | CB91: 0 | CC91: 0 | CD91: =IF(AU91="základná",AG91,0) -> 0 | CE91: =IF(AU91="znížená",AG91,0) -> 0 | CF91: =IF(AU91="zákl. prenesená",AG91,0) -> 0 | CG91: =IF(AU91="zníž. prenesená",AG91,0) -> 0 | CH91: =IF(AU91="nulová",AG91,0) -> 0 | CI91: =IF(AU91="základná",1,IF(AU91="znížená",2,IF(AU91="zákl. prenesená",4,IF(AU91="zníž. prenesená",5,3)))) -> 1 | CJ91: =IF(AT91="stavebná časť",1,IF(8891="investičná časť",2,3)) -> 1 | CK91: =IF(D91="Vyplň vlastné","","x") -> x
D92: Vyplň vlastné | AG92: =AG87*AS92 -> 0 | AN92: =AG92+AV92 -> 0 | AS92: 0 | AT92: stavebná časť | AU92: základná | AV92: =ROUND(IF(AU92="nulová",0,IF(OR(AU92="základná",AU92="zákl. prenesená"),AG92*L31,AG92*L32)),2) -> 0 | BV92: OSTATNENAKLADYVLASTNE | BY92: =IF(AU92="základná",AV92,0) -> 0 | BZ92: =IF(AU92="znížená",AV92,0) -> 0 | CA92: =IF(AU92="zákl. prenesená",AV92,0) -> 0 | CB92: =IF(AU92="zníž. prenesená",AV92,0) -> 0 | CC92: =IF(AU92="nulová",AV92,0) -> 0 | CD92: =IF(AU92="základná",AG92,0) -> 0 | CE92: =IF(AU92="znížená",AG92,0) -> 0 | CF92: =IF(AU92="zákl. prenesená",AG92,0) -> 0 | CG92: =IF(AU92="zníž. prenesená",AG92,0) -> 0 | CH92: =IF(AU92="nulová",AG92,0) -> 0 | CI92: =IF(AU92="základná",1,IF(AU92="znížená",2,IF(AU92="zákl. prenesená",4,IF(AU92="zníž. prenesená",5,3)))) -> 1 | CJ92: =IF(AT92="stavebná časť",1,IF(8892="investičná časť",2,3)) -> 1 | CK92: =IF(D92="Vyplň vlastné","","x")
D93: Vyplň vlastné | AG93: =AG87*AS93 -> 0 | AN93: =AG93+AV93 -> 0 | AS93: 0 | AT93: stavebná časť | AU93: základná | AV93: =ROUND(IF(AU93="nulová",0,IF(OR(AU93="základná",AU93="zákl. prenesená"),AG93*L31,AG93*L32)),2) -> 0 | BV93: OSTATNENAKLADYVLASTNE | BY93: =IF(AU93="základná",AV93,0) -> 0 | BZ93: =IF(AU93="znížená",AV93,0) -> 0 | CA93: =IF(AU93="zákl. prenesená",AV93,0) -> 0 | CB93: =IF(AU93="zníž. prenesená",AV93,0) -> 0 | CC93: =IF(AU93="nulová",AV93,0) -> 0 | CD93: =IF(AU93="základná",AG93,0) -> 0 | CE93: =IF(AU93="znížená",AG93,0) -> 0 | CF93: =IF(AU93="zákl. prenesená",AG93,0) -> 0 | CG93: =IF(AU93="zníž. prenesená",AG93,0) -> 0 | CH93: =IF(AU93="nulová",AG93,0) -> 0 | CI93: =IF(AU93="základná",1,IF(AU93="znížená",2,IF(AU93="zákl. prenesená",4,IF(AU93="zníž. prenesená",5,3)))) -> 1 | CJ93: =IF(AT93="stavebná časť",1,IF(8893="investičná časť",2,3)) -> 1 | CK93: =IF(D93="Vyplň vlastné","","x")
D94: Vyplň vlastné | AG94: =AG87*AS94 -> 0 | AN94: =AG94+AV94 -> 0 | AS94: 0 | AT94: stavebná časť | AU94: základná | AV94: =ROUND(IF(AU94="nulová",0,IF(OR(AU94="základná",AU94="zákl. prenesená"),AG94*L31,AG94*L32)),2) -> 0 | BV94: OSTATNENAKLADYVLASTNE | BY94: =IF(AU94="základná",AV94,0) -> 0 | BZ94: =IF(AU94="znížená",AV94,0) -> 0 | CA94: =IF(AU94="zákl. prenesená",AV94,0) -> 0 | CB94: =IF(AU94="zníž. prenesená",AV94,0) -> 0 | CC94: =IF(AU94="nulová",AV94,0) -> 0 | CD94: =IF(AU94="základná",AG94,0) -> 0 | CE94: =IF(AU94="znížená",AG94,0) -> 0 | CF94: =IF(AU94="zákl. prenesená",AG94,0) -> 0 | CG94: =IF(AU94="zníž. prenesená",AG94,0) -> 0 | CH94: =IF(AU94="nulová",AG94,0) -> 0 | CI94: =IF(AU94="základná",1,IF(AU94="znížená",2,IF(AU94="zákl. prenesená",4,IF(AU94="zníž. prenesená",5,3)))) -> 1 | CJ94: =IF(AT94="stavebná časť",1,IF(8894="investičná časť",2,3)) -> 1 | CK94: =IF(D94="Vyplň vlastné","","x")
C96: Celkové náklady za stavbu 1) + 2) | AG96: =ROUND(AG87+AG90,2) -> 0 | AN96: =AN87+AN90 -> 0

Sheet 09580 - Športova hala Tre...
D1: Hárok obsahuje: | F1: 1) Krycí list rozpočtu | H1: 2) Rekapitulácia rozpočtu | L1: 3) Rozpočet | O1: Späť na hárok: | S1: Rekapitulácia stavby
C2: optimalizované pre tlač zostáv vo formáte A4 - na výšku | S2: >> skryté stĺpce << | AT2: {d4bf3b94-cfd9-4928-88d3-cd41649ba9e0}
AT3: 0
C4: KRYCÍ LIST ROZPOČTU | T4: v --- nižšie sa nachádzajú doplnkové a pomocné údaje k zostavám --- v | AT4: False
D6: Stavba: | F6: Športova hala Trebišov- oprava strechy nad fitnes centrom
D7: JKSO: | M7: KS:
D8: Miesto: | F8: Trebišov | M8: Dátum:
D10: Objednávateľ: | M10: IČO:
E11: Mesto Trebišov | M11: IČO DPH:
D13: Zhotoviteľ: | M13: IČO:
E14: =IF('Rekapitulácia stavby'!E14="","",'Rekapitulácia stavby'!E14) -> Vyplň údaj | M14: IČO DPH:
D16: Projektant: | M16: IČO: | O16: =IF('Rekapitulácia stavby'!AN16="","",'Rekapitulácia stavby'!AN16)
E17: =IF('Rekapitulácia stavby'!E17="","",'Rekapitulácia stavby'!E17) | M17: IČO DPH: | O17: =IF('Rekapitulácia stavby'!AN17="","",'Rekapitulácia stavby'!AN17)
D19: Spracovateľ: | M19: IČO: | O19: =IF('Rekapitulácia stavby'!AN19="","",'Rekapitulácia stavby'!AN19)
E20: =IF('Rekapitulácia stavby'!E20="","",'Rekapitulácia stavby'!E20) | M20: IČO DPH: | O20: =IF('Rekapitulácia stavby'!AN20="","",'Rekapitulácia stavby'!AN20)
D22: Poznámka:
D26: Náklady z rozpočtu | M26: =N87 -> 0
D27: Ostatné náklady | M27: =N96 -> 0
D29: Cena bez DPH | M29: =ROUND(M26+M27,2) -> 0
D31: DPH | E31: základná | F31: 0.2 | G31: z | H31: =ROUND((((SUM(BE96:BE103)+SUM(BE120:BE149))+SUM(BE151:BE155))),2) -> 0 | M31: =ROUND(((ROUND((SUM(BE96:BE103)+SUM(BE120:BE149)), 2)*F31)+SUM(BE151:BE155)*F31),2) -> 0
E32: znížená | F32: 0.2 | G32: z | H32: =ROUND((((SUM(BF96:BF103)+SUM(BF120:BF149))+SUM(BF151:BF155))),2) -> 0 | M32: =ROUND(((ROUND((SUM(BF96:BF103)+SUM(BF120:BF149)), 2)*F32)+SUM(BF151:BF155)*F32),2) -> 0
E33: zákl. prenesená | F33: 0.2 | G33: z | H33: =ROUND((((SUM(BG96:BG103)+SUM(BG120:BG149))+SUM(BG151:BG155))),2) -> 0 | M33: 0
E34: zníž. prenesená | F34: 0.2 | G34: z | H34: =ROUND((((SUM(BH96:BH103)+SUM(BH120:BH149))+SUM(BH151:BH155))),2) -> 0 | M34: 0
E35: nulová | F35: 0 | G35: z | H35: =ROUND((((SUM(BI96:BI103)+SUM(BI120:BI149))+SUM(BI151:BI155))),2) -> 0 | M35: 0
D37: Cena s DPH | G37: v | H37: EUR | L37: =SUM(M29:M35) -> 0
D50: Projektant | J50: Spracovateľ
D59: Dátum a podpis: | G59: Pečiatka | J59: Dátum a podpis: | N59: Pečiatka
D61: Objednávateľ | J61: Zhotoviteľ
D70: Dátum a podpis: | G70: Pečiatka | J70: Dátum a podpis: | N70: Pečiatka
C76: REKAPITULÁCIA ROZPOČTU
C78: Stavba: | F78: =F6 -> Športova hala Trebišov- oprava strechy nad fitnes centrom
C80: Miesto: | F80: =F8 -> Trebišov | K80: Dátum: | M80: =IF(O8="","",O8)
C82: Objednávateľ: | F82: =E11 -> Mesto Trebišov | K82: Projektant: | M82: =E17
C83: Zhotoviteľ: | F83: =IF(E14="","",E14) -> Vyplň údaj | K83: Spracovateľ: | M83: =E20
C85: Kód - Popis | N85: Cena celkom [EUR]
C87: 1) Náklady z rozpočtu | N87: =N120 -> 0 | AU87: -1
D88: PSV - Práce a dodávky PSV | N88: =N121 -> 0
D89: 712 - Izolácie striech | N89: =N122 -> 0
D90: 713 - Izolácie tepelné | N90: =N136 -> 0
D91: 764 - Konštrukcie klampiarske | N91: =N141 -> 0
D92: M - Práce a dodávky M | N92: =N145 -> 0
D93: 21-M - Elektromontáže | N93: =N146 -> 0
D94: VP - Práce naviac | N94: =N150 -> 0
C96: 2) Ostatné náklady | N96: =ROUND(N97+N98+N99+N100+N101+N102,2) -> 0 | U96: DPH
D97: Zariad. staveniska | N97: =ROUND(N87*T97,2) -> 0 | U97: znížená | AY97: VRN | BE97: =IF(U97="základná",N97,0) -> 0 | BF97: =IF(U97="znížená",N97,0) -> 0 | BG97: =IF(U97="zákl. prenesená",N97,0) -> 0 | BH97: =IF(U97="zníž. prenesená",N97,0) -> 0 | BI97: =IF(U97="nulová",N97,0) -> 0 | BJ97: 2
D98: Mimostav. doprava | N98: =ROUND(N87*T98,2) -> 0 | U98: znížená | AY98: VRN | BE98: =IF(U98="základná",N98,0) -> 0 | BF98: =IF(U98="znížená",N98,0) -> 0 | BG98: =IF(U98="zákl. prenesená",N98,0) -> 0 | BH98: =IF(U98="zníž. prenesená",N98,0) -> 0 | BI98: =IF(U98="nulová",N98,0) -> 0 | BJ98: 2
D99: Územné vplyvy | N99: =ROUND(N87*T99,2) -> 0 | U99: znížená | AY99: VRN | BE99: =IF(U99="základná",N99,0) -> 0 | BF99: =IF(U99="znížená",N99,0) -> 0 | BG99: =IF(U99="zákl. prenesená",N99,0) -> 0 | BH99: =IF(U99="zníž. prenesená",N99,0) -> 0 | BI99: =IF(U99="nulová",N99,0) -> 0 | BJ99: 2
D100: Prevádzkové vplyvy | N100: =ROUND(N87*T100,2) -> 0 | U100: znížená | AY100: VRN | BE100: =IF(U100="základná",N100,0) -> 0 | BF100: =IF(U100="znížená",N100,0) -> 0 | BG100: =IF(U100="zákl. prenesená",N100,0) -> 0 | BH100: =IF(U100="zníž. prenesená",N100,0) -> 0 | BI100: =IF(U100="nulová",N100,0) -> 0 | BJ100: 2
D101: Ostatné | N101: =ROUND(N87*T101,2) -> 0 | U101: znížená | AY101: VRN | BE101: =IF(U101="základná",N101,0) -> 0 | BF101: =IF(U101="znížená",N101,0) -> 0 | BG101: =IF(U101="zákl. prenesená",N101,0) -> 0 | BH101: =IF(U101="zníž. prenesená",N101,0) -> 0 | BI101: =IF(U101="nulová",N101,0) -> 0 | BJ101: 2
D102: Kompletačná činnosť | N102: =ROUND(N87*T102,2) -> 0 | U102: znížená | AY102: KOMPLETACNA | BE102: =IF(U102="základná",N102,0) -> 0 | BF102: =IF(U102="znížená",N102,0) -> 0 | BG102: =IF(U102="zákl. prenesená",N102,0) -> 0 | BH102: =IF(U102="zníž. prenesená",N102,0) -> 0 | BI102: =IF(U102="nulová",N102,0) -> 0 | BJ102: 2
C104: Celkové náklady za stavbu 1) + 2) | L104: =ROUND(SUM(N87+N96),2) -> 0
C110: ROZPOČET
C112: Stavba: | F112: =F6 -> Športova hala Trebišov- oprava strechy nad fitnes centrom
C114: Miesto: | F114: =F8 -> Trebišov | K114: Dátum: | M114: =IF(O8="","",O8)
C116: Objednávateľ: | F116: =E11 -> Mesto Trebišov | K116: Projektant: | M116: =E17
C117: Zhotoviteľ: | F117: =IF(E14="","",E14) -> Vyplň údaj | K117: Spracovateľ: | M117: =E20
C119: PČ | D119: Typ | E119: Kód | F119: Popis | J119: MJ | K119: Množstvo | L119: J.cena [EUR] | N119: Cena celkom [EUR] | T119: Poznámka | U119: DPH | V119: J. Nh [h] | W119: Nh celkom [h] | X119: J. hmotnosť_x000D_ [t] | Y119: Hmotnosť_x000D_ celkom [t] | Z119: J. suť [t] | AA119: Suť Celkom [t]
C120: Náklady z rozpočtu | N120: =BK120 -> 0 | W120: =W121+W145+W150 -> 0 | Y120: =Y121+Y145+Y150 -> 3.1117743 | AA120: =AA121+AA145+AA150 -> 1.180276 | AT120: D | AU120: -1 | BK120: =BK121+BK145+BK150 -> 0
D121: PSV - Práce a dodávky PSV | N121: =BK121 -> 0 | W121: =W122+W136+W141 -> 0 | Y121: =Y122+Y136+Y141 -> 3.1032243 | AA121: =AA122+AA136+AA141 -> 1.180276 | AR121: 2 | AT121: D | AU121: 0 | AY121: ROZPOCET | BK121: =BK122+BK136+BK141 -> 0
D122: 712 - Izolácie striech | N122: =BK122 -> 0 | W122: =SUM(W123:W135) -> 0 | Y122: =SUM(Y123:Y135) -> 1.7083387 | AA122: =SUM(AA123:AA135) -> 0.751876 | AR122: 2 | AT122: D | AU122: 1 | AY122: ROZPOCET | BK122: =SUM(BK123:BK135) -> 0
C123: 1 | D123: K | E123: 712290010 | F123: Zhotovenie parozábrany pre strechy ploché do 10° | J123: m2 | K123: 425.308 | L123: 0 | N123: =ROUND(L123*K123,3) -> 0 | U123: znížená | W123: =V123*K123 -> 0 | X123: 0 | Y123: =X123*K123 -> 0 | Z123: 0 | AA123: =Z123*K123 -> 0 | AR123: 16 | AT123: K | AU123: 2 | AY123: ROZPOCET | BE123: =IF(U123="základná",N123,0) -> 0 | BF123: =IF(U123="znížená",N123,0) -> 0 | BG123: =IF(U123="zákl. prenesená",N123,0) -> 0 | BH123: =IF(U123="zníž. prenesená",N123,0) -> 0 | BI123: =IF(U123="nulová",N123,0) -> 0 | BJ123: 2 | BK123: =ROUND(L123*K123,3) -> 0 | BL123: 16 | BM123: 102672408
C124: 2 | D124: M | E124: 2832990195 | F124: Netkaná textília zo 100% PP TIPPTEX B300F- 300g/m2 filtračná ochranná separačná š.2m, balenie: 100m2 čiernej farby | J124: m2 | K124: 489.104 | L124: 0 | N124: =ROUND(L124*K124,3) -> 0 | U124: znížená | W124: =V124*K124 -> 0 | X124: 0.0003 | Y124: =X124*K124 -> 0.1467312 | Z124: 0 | AA124: =Z124*K124 -> 0 | AR124: 32 | AT124: M | AU124: 2 | AY124: ROZPOCET | BE124: =IF(U124="základná",N124,0) -> 0 | BF124: =IF(U124="znížená",N124,0) -> 0 | BG124: =IF(U124="zákl. prenesená",N124,0) -> 0 | BH124: =IF(U124="zníž. prenesená",N124,0) -> 0 | BI124: =IF(U124="nulová",N124,0) -> 0 | BJ124: 2 | BK124: =ROUND(L124*K124,3) -> 0 | BL124: 16 | BM124: 1454777748
C125: 3 | D125: K | E125: 712300841 | F125: Očistenie povlakovej krytiny na strechách plochých do 10° machu, -0,00200t | J125: m2 | K125: 375.938 | L125: 0 | N125: =ROUND(L125*K125,3) -> 0 | U125: znížená | W125: =V125*K125 -> 0 | X125: 0 | Y125: =X125*K125 -> 0 | Z125: 0.002 | AA125: =Z125*K125 -> 0.751876 | AR125: 16 | AT125: K | AU125: 2 | AY125: ROZPOCET | BE125: =IF(U125="základná",N125,0) -> 0 | BF125: =IF(U125="znížená",N125,0) -> 0 | BG125: =IF(U125="zákl. prenesená",N125,0) -> 0 | BH125: =IF(U125="zníž. prenesená",N125,0) -> 0 | BI125: =IF(U125="nulová",N125,0) -> 0 | BJ125: 2 | BK125: =ROUND(L125*K125,3) -> 0 | BL125: 16 | BM125: -1373454365
C126: 4 | D126: K | E126: 712370030 | F126: Zhotovenie povlakovej krytiny striech plochých do 10° PVC-P fóliou prikotvením s lepením spoju | J126: m2 | K126: 425.308 | L126: 0 | N126: =ROUND(L126*K126,3) -> 0 | U126: znížená | W126: =V126*K126 -> 0 | X126: 8e-05 | Y126: =X126*K126 -> 0.03402464 | Z126: 0 | AA126: =Z126*K126 -> 0 | AR126: 16 | AT126: K | AU126: 2 | AY126: ROZPOCET | BE126: =IF(U126="základná",N126,0) -> 0 | BF126: =IF(U126="znížená",N126,0) -> 0 | BG126: =IF(U126="zákl. prenesená",N126,0) -> 0 | BH126: =IF(U126="zníž. prenesená",N126,0) -> 0 | BI126: =IF(U126="nulová",N126,0) -> 0 | BJ126: 2 | BK126: =ROUND(L126*K126,3) -> 0 | BL126: 16 | BM126: -1624894690
C127: 5 | D127: M | E127: 2832990650 | F127: Kotviaca technika - vrut SK-RB Power | J127: ks | K127: 2126.54 | L127: 0 | N127: =ROUND(L127*K127,3) -> 0 | U127: znížená | W127: =V127*K127 -> 0 | X127: 0.00015 | Y127: =X127*K127 -> 0.318981 | Z127: 0 | AA127: =Z127*K127 -> 0 | AR127: 32 | AT127: M | AU127: 2 | AY127: ROZPOCET | BE127: =IF(U127="základná",N127,0) -> 0 | BF127: =IF(U127="znížená",N127,0) -> 0 | BG127: =IF(U127="zákl. prenesená",N127,0) -> 0 | BH127: =IF(U127="zníž. prenesená",N127,0) -> 0 | BI127: =IF(U127="nulová",N127,0) -> 0 | BJ127: 2 | BK127: =ROUND(L127*K127,3) -> 0 | BL127: 16 | BM127: -544606374
C128: 6 | D128: M | E128: 2455162042 | F128: PVC fólie Zaťažený PVC systém SIKAplan SGmA 1.8 mm, rozm. 2.00 x 15.0 m (Trocal SGmA 1.8 mm) béžová | J128: m2 | K128: 467.839 | L128: 0 | N128: =ROUND(L128*K128,3) -> 0 | U128: znížená | W128: =V128*K128 -> 0 | X128: 0.00227 | Y128: =X128*K128 -> 1.0619945 | Z128: 0 | AA128: =Z128*K128 -> 0 | AR128: 128 | AT128: M | AU128: 2 | AY128: ROZPOCET | BE128: =IF(U128="základná",N128,0) -> 0 | BF128: =IF(U128="znížená",N128,0) -> 0 | BG128: =IF(U128="zákl. prenesená",N128,0) -> 0 | BH128: =IF(U128="zníž. prenesená",N128,0) -> 0 | BI128: =IF(U128="nulová",N128,0) -> 0 | BJ128: 2 | BK128: =ROUND(L128*K128,3) -> 0 | BL128: 128 | BM128: -921463308
C129: 7 | D129: K | E129: 712391175 | F129: Pripevnenie povlakovej krytiny na plochých strechách do 10° kotviacimi pásikmi, uholníkmi | J129: m | K129: 161.175 | L129: 0 | N129: =ROUND(L129*K129,3) -> 0 | U129: znížená | W129: =V129*K129 -> 0 | X129: 2e-05 | Y129: =X129*K129 -> 0.0032235 | Z129: 0 | AA129: =Z129*K129 -> 0 | AR129: 16 | AT129: K | AU129: 2 | AY129: ROZPOCET | BE129: =IF(U129="základná",N129,0) -> 0 | BF129: =IF(U129="znížená",N129,0) -> 0 | BG129: =IF(U129="zákl. prenesená",N129,0) -> 0 | BH129: =IF(U129="zníž. prenesená",N129,0) -> 0 | BI129: =IF(U129="nulová",N129,0) -> 0 | BJ129: 2 | BK129: =ROUND(L129*K129,3) -> 0 | BL129: 16 | BM129: -563598466
C130: 8 | D130: M | E130: 2455162162 | F130: Kotviace profily 6/15 (bal. 2,250mm) SIKA | J130: m | K130: 169.234 | L130: 0 | N130: =ROUND(L130*K130,3) -> 0 | U130: znížená | W130: =V130*K130 -> 0 | X130: 0.0007 | Y130: =X130*K130 -> 0.1184638 | Z130: 0 | AA130: =Z130*K130 -> 0 | AR130: 32 | AT130: M | AU130: 2 | AY130: ROZPOCET | BE130: =IF(U130="základná",N130,0) -> 0 | BF130: =IF(U130="znížená",N130,0) -> 0 | BG130: =IF(U130="zákl. prenesená",N130,0) -> 0 | BH130: =IF(U130="zníž. prenesená",N130,0) -> 0 | BI130: =IF(U130="nulová",N130,0) -> 0 | BJ130: 2 | BK130: =ROUND(L130*K130,3) -> 0 | BL130: 16 | BM130: 1541651495
C131: 9 | D131: K | E131: 712960010 | F131: Osadenie hotovej strešnej vpuste na streche | J131: ks | K131: 2 | L131: 0 | N131: =ROUND(L131*K131,3) -> 0 | U131: znížená | W131: =V131*K131 -> 0 | X131: 7e-05 | Y131: =X131*K131 -> 0.00014 | Z131: 0 | AA131: =Z131*K131 -> 0 | AR131: 16 | AT131: K | AU131: 2 | AY131: ROZPOCET | BE131: =IF(U131="základná",N131,0) -> 0 | BF131: =IF(U131="znížená",N131,0) -> 0 | BG131: =IF(U131="zákl. prenesená",N131,0) -> 0 | BH131: =IF(U131="zníž. prenesená",N131,0) -> 0 | BI131: =IF(U131="nulová",N131,0) -> 0 | BJ131: 2 | BK131: =ROUND(L131*K131,3) -> 0 | BL131: 16 | BM131: -1056234668
C132: 10 | D132: M | E132: 2866301007 | F132: TOPVET prvky na opracovanie zvislých prestupov cez strešný plašť | J132: ks | K132: 2 | L132: 0 | N132: =ROUND(L132*K132,3) -> 0 | U132: znížená | W132: =V132*K132 -> 0 | X132: 0.00134 | Y132: =X132*K132 -> 0.00268 | Z132: 0 | AA132: =Z132*K132 -> 0 | AR132: 32 | AT132: M | AU132: 2 | AY132: ROZPOCET | BE132: =IF(U132="základná",N132,0) -> 0 | BF132: =IF(U132="znížená",N132,0) -> 0 | BG132: =IF(U132="zákl. prenesená",N132,0) -> 0 | BH132: =IF(U132="zníž. prenesená",N132,0) -> 0 | BI132: =IF(U132="nulová",N132,0) -> 0 | BJ132: 2 | BK132: =ROUND(L132*K132,3) -> 0 | BL132: 16 | BM132: -1904356783
C133: 11 | D133: K | E133: 712973540 | F133: Osadenie odvetrávacích komínkov na povlakovú krytinu z TPO fólie | J133: ks | K133: 10 | L133: 0 | N133: =ROUND(L133*K133,3) -> 0 | U133: znížená | W133: =V133*K133 -> 0 | X133: 0.00181 | Y133: =X133*K133 -> 0.0181 | Z133: 0 | AA133: =Z133*K133 -> 0 | AR133: 16 | AT133: K | AU133: 2 | AY133: ROZPOCET | BE133: =IF(U133="základná",N133,0) -> 0 | BF133: =IF(U133="znížená",N133,0) -> 0 | BG133: =IF(U133="zákl. prenesená",N133,0) -> 0 | BH133: =IF(U133="zníž. prenesená",N133,0) -> 0 | BI133: =IF(U133="nulová",N133,0) -> 0 | BJ133: 2 | BK133: =ROUND(L133*K133,3) -> 0 | BL133: 16 | BM133: 340185865
C134: 12 | D134: M | E134: 6317141010 | F134: Komínček odvetrávací LINDAB pre Topline HV 15x15 150x150 cm | J134: ks | K134: 10 | L134: 0 | N134: =ROUND(L134*K134,3) -> 0 | U134: znížená | W134: =V134*K134 -> 0 | X134: 0.0004 | Y134: =X134*K134 -> 0.004 | Z134: 0 | AA134: =Z134*K134 -> 0 | AR134: 32 | AT134: M | AU134: 2 | AY134: ROZPOCET | BE134: =IF(U134="základná",N134,0) -> 0 | BF134: =IF(U134="znížená",N134,0) -> 0 | BG134: =IF(U134="zákl. prenesená",N134,0) -> 0 | BH134: =IF(U134="zníž. prenesená",N134,0) -> 0 | BI134: =IF(U134="nulová",N134,0) -> 0 | BJ134: 2 | BK134: =ROUND(L134*K134,3) -> 0 | BL134: 16 | BM134: -2022999308
C135: 13 | D135: K | E135: 998712201 | F135: Presun hmôt pre izoláciu povlakovej krytiny v objektoch výšky do 6 m | J135: % | K135: 0 | L135: 0 | N135: =ROUND(L135*K135,3) -> 0 | U135: znížená | W135: =V135*K135 -> 0 | X135: 0 | Y135: =X135*K135 -> 0 | Z135: 0 | AA135: =Z135*K135 -> 0 | AR135: 16 | AT135: K | AU135: 2 | AY135: ROZPOCET | BE135: =IF(U135="základná",N135,0) -> 0 | BF135: =IF(U135="znížená",N135,0) -> 0 | BG135: =IF(U135="zákl. prenesená",N135,0) -> 0 | BH135: =IF(U135="zníž. prenesená",N135,0) -> 0 | BI135: =IF(U135="nulová",N135,0) -> 0 | BJ135: 2 | BK135: =ROUND(L135*K135,3) -> 0 | BL135: 16 | BM135: 514822724
D136: 713 - Izolácie tepelné | N136: =BK136 -> 0 | W136: =SUM(W137:W140) -> 0 | Y136: =SUM(Y137:Y140) -> 1.0533481 | AA136: =SUM(AA137:AA140) -> 0 | AR136: 2 | AT136: D | AU136: 1 | AY136: ROZPOCET | BK136: =SUM(BK137:BK140) -> 0
C137: 14 | D137: K | E137: 713112111 | F137: Montáž tepelnej izolácie stropov polystyrénom, vrchom kladenou voľne | J137: m2 | K137: 363.908 | L137: 0 | N137: =ROUND(L137*K137,3) -> 0 | U137: znížená | W137: =V137*K137 -> 0 | X137: 0 | Y137: =X137*K137 -> 0 | Z137: 0 | AA137: =Z137*K137 -> 0 | AR137: 16 | AT137: K | AU137: 2 | AY137: ROZPOCET | BE137: =IF(U137="základná",N137,0) -> 0 | BF137: =IF(U137="znížená",N137,0) -> 0 | BG137: =IF(U137="zákl. prenesená",N137,0) -> 0 | BH137: =IF(U137="zníž. prenesená",N137,0) -> 0 | BI137: =IF(U137="nulová",N137,0) -> 0 | BJ137: 2 | BK137: =ROUND(L137*K137,3) -> 0 | BL137: 16 | BM137: -1226272805
C138: 15 | D138: M | E138: 2837653442 | F138: EPS 150S penový polystyrén hrúbka 100 mm | J138: m2 | K138: 371.186 | L138: 0 | N138: =ROUND(L138*K138,3) -> 0 | U138: znížená | W138: =V138*K138 -> 0 | X138: 0.00245 | Y138: =X138*K138 -> 0.9094057 | Z138: 0 | AA138: =Z138*K138 -> 0 | AR138: 32 | AT138: M | AU138: 2 | AY138: ROZPOCET | BE138: =IF(U138="základná",N138,0) -> 0 | BF138: =IF(U138="znížená",N138,0) -> 0 | BG138: =IF(U138="zákl. prenesená",N138,0) -> 0 | BH138: =IF(U138="zníž. prenesená",N138,0) -> 0 | BI138: =IF(U138="nulová",N138,0) -> 0 | BJ138: 2 | BK138: =ROUND(L138*K138,3) -> 0 | BL138: 16 | BM138: -1291008144
C139: 16 | D139: K | E139: 713112111 | F139: Montáž tepelnej izolácie stropov polystyrénom, vrchom kladenou voľne | J139: m2 | K139: 72 | L139: 0 | N139: =ROUND(L139*K139,3) -> 0 | U139: znížená | W139: =V139*K139 -> 0 | X139: 0 | Y139: =X139*K139 -> 0 | Z139: 0 | AA139: =Z139*K139 -> 0 | AR139: 16 | AT139: K | AU139: 2 | AY139: ROZPOCET | BE139: =IF(U139="základná",N139,0) -> 0 | BF139: =IF(U139="znížená",N139,0) -> 0 | BG139: =IF(U139="zákl. prenesená",N139,0) -> 0 | BH139: =IF(U139="zníž. prenesená",N139,0) -> 0 | BI139: =IF(U139="nulová",N139,0) -> 0 | BJ139: 2 | BK139: =ROUND(L139*K139,3) -> 0 | BL139: 16 | BM139: -792885099
C140: 17 | D140: M | E140: 2837653441 | F140: EPS 150S penový polystyrén hrúbka 80 mm | J140: m2 | K140: 73.44 | L140: 0 | N140: =ROUND(L140*K140,3) -> 0 | U140: znížená | W140: =V140*K140 -> 0 | X140: 0.00196 | Y140: =X140*K140 -> 0.1439424 | Z140: 0 | AA140: =Z140*K140 -> 0 | AR140: 32 | AT140: M | AU140: 2 | AY140: ROZPOCET | BE140: =IF(U140="základná",N140,0) -> 0 | BF140: =IF(U140="znížená",N140,0) -> 0 | BG140: =IF(U140="zákl. prenesená",N140,0) -> 0 | BH140: =IF(U140="zníž. prenesená",N140,0) -> 0 | BI140: =IF(U140="nulová",N140,0) -> 0 | BJ140: 2 | BK140: =ROUND(L140*K140,3) -> 0 | BL140: 16 | BM140: 1733351219
D141: 764 - Konštrukcie klampiarske | N141: =BK141 -> 0 | W141: =SUM(W142:W144) -> 0 | Y141: =SUM(Y142:Y144) -> 0.3415375 | AA141: =SUM(AA142:AA144) -> 0.4284 | AR141: 2 | AT141: D | AU141: 1 | AY141: ROZPOCET | BK141: =SUM(BK142:BK144) -> 0
C142: 18 | D142: K | E142: 764331230 | F142: Lemovanie z pozinkovaného PZ plechu, múrov na strechách s krytinou r.š. 330 mm | J142: m | K142: 76.75 | L142: 0 | N142: =ROUND(L142*K142,3) -> 0 | U142: znížená | W142: =V142*K142 -> 0 | X142: 0.00023 | Y142: =X142*K142 -> 0.0176525 | Z142: 0 | AA142: =Z142*K142 -> 0 | AR142: 16 | AT142: K | AU142: 2 | AY142: ROZPOCET | BE142: =IF(U142="základná",N142,0) -> 0 | BF142: =IF(U142="znížená",N142,0) -> 0 | BG142: =IF(U142="zákl. prenesená",N142,0) -> 0 | BH142: =IF(U142="zníž. prenesená",N142,0) -> 0 | BI142: =IF(U142="nulová",N142,0) -> 0 | BJ142: 2 | BK142: =ROUND(L142*K142,3) -> 0 | BL142: 16 | BM142: 1182305342
C143: 19 | D143: K | E143: 764333450 | F143: Lemovanie z pozinkovaného farbeného PZf plechu, múrov na plochých strechách r.š. 600 mm | J143: m | K143: 76.75 | L143: 0 | N143: =ROUND(L143*K143,3) -> 0 | U143: znížená | W143: =V143*K143 -> 0 | X143: 0.00422 | Y143: =X143*K143 -> 0.323885 | Z143: 0 | AA143: =Z143*K143 -> 0 | AR143: 16 | AT143: K | AU143: 2 | AY143: ROZPOCET | BE143: =IF(U143="základná",N143,0) -> 0 | BF143: =IF(U143="znížená",N143,0) -> 0 | BG143: =IF(U143="zákl. prenesená",N143,0) -> 0 | BH143: =IF(U143="zníž. prenesená",N143,0) -> 0 | BI143: =IF(U143="nulová",N143,0) -> 0 | BJ143: 2 | BK143: =ROUND(L143*K143,3) -> 0 | BL143: 16 | BM143: 1587989934
C144: 20 | D144: K | E144: 764334880 | F144: Demontáž lemovania múrov na plochých strechách vrátane krycieho plechu nadmúroviek rš 900 mm, -0,00560t | J144: m | K144: 76.5 | L144: 0 | N144: =ROUND(L144*K144,3) -> 0 | U144: znížená | W144: =V144*K144 -> 0 | X144: 0 | Y144: =X144*K144 -> 0 | Z144: 0.0056 | AA144: =Z144*K144 -> 0.4284 | AR144: 16 | AT144: K | AU144: 2 | AY144: ROZPOCET | BE144: =IF(U144="základná",N144,0) -> 0 | BF144: =IF(U144="znížená",N144,0) -> 0 | BG144: =IF(U144="zákl. prenesená",N144,0) -> 0 | BH144: =IF(U144="zníž. prenesená",N144,0) -> 0 | BI144: =IF(U144="nulová",N144,0) -> 0 | BJ144: 2 | BK144: =ROUND(L144*K144,3) -> 0 | BL144: 16 | BM144: 1941343406
D145: M - Práce a dodávky M | N145: =BK145 -> 0 | W145: =W146 -> 0 | Y145: =Y146 -> 0.00855 | AA145: =AA146 -> 0 | AR145: 3 | AT145: D | AU145: 0 | AY145: ROZPOCET | BK145: =BK146 -> 0
D146: 21-M - Elektromontáže | N146: =BK146 -> 0 | W146: =SUM(W147:W149) -> 0 | Y146: =SUM(Y147:Y149) -> 0.00855 | AA146: =SUM(AA147:AA149) -> 0 | AR146: 3 | AT146: D | AU146: 1 | AY146: ROZPOCET | BK146: =SUM(BK147:BK149) -> 0
C147: 21 | D147: K | E147: 210220001 | F147: Uzemňovacie vedenie na povrchu FeZn | J147: m | K147: 79.2 | L147: 0 | N147: =ROUND(L147*K147,3) -> 0 | U147: znížená | W147: =V147*K147 -> 0 | X147: 0 | Y147: =X147*K147 -> 0 | Z147: 0 | AA147: =Z147*K147 -> 0 | AR147: 64 | AT147: K | AU147: 2 | AY147: ROZPOCET | BE147: =IF(U147="základná",N147,0) -> 0 | BF147: =IF(U147="znížená",N147,0) -> 0 | BG147: =IF(U147="zákl. prenesená",N147,0) -> 0 | BH147: =IF(U147="zníž. prenesená",N147,0) -> 0 | BI147: =IF(U147="nulová",N147,0) -> 0 | BJ147: 2 | BK147: =ROUND(L147*K147,3) -> 0 | BL147: 64 | BM147: 1130688750
C148: 22 | D148: K | E148: 210220101 | F148: Podpery vedenia FeZn na plochú strechu PV21 | J148: ks | K148: 85.5 | L148: 0 | N148: =ROUND(L148*K148,3) -> 0 | U148: znížená | W148: =V148*K148 -> 0 | X148: 0 | Y148: =X148*K148 -> 0 | Z148: 0 | AA148: =Z148*K148 -> 0 | AR148: 64 | AT148: K | AU148: 2 | AY148: ROZPOCET | BE148: =IF(U148="základná",N148,0) -> 0 | BF148: =IF(U148="znížená",N148,0) -> 0 | BG148: =IF(U148="zákl. prenesená",N148,0) -> 0 | BH148: =IF(U148="zníž. prenesená",N148,0) -> 0 | BI148: =IF(U148="nulová",N148,0) -> 0 | BJ148: 2 | BK148: =ROUND(L148*K148,3) -> 0 | BL148: 64 | BM148: -1617311708
C149: 23 | D149: M | E149: 3544217900 | F149: Podložka k podpere vedenia plastová označenie podložka k PV 21 | J149: ks | K149: 85.5 | L149: 0 | N149: =ROUND(L149*K149,3) -> 0 | U149: znížená | W149: =V149*K149 -> 0 | X149: 0.0001 | Y149: =X149*K149 -> 0.00855 | Z149: 0 | AA149: =Z149*K149 -> 0 | AR149: 128 | AT149: M | AU149: 2 | AY149: ROZPOCET | BE149: =IF(U149="základná",N149,0) -> 0 | BF149: =IF(U149="znížená",N149,0) -> 0 | BG149: =IF(U149="zákl. prenesená",N149,0) -> 0 | BH149: =IF(U149="zníž. prenesená",N149,0) -> 0 | BI149: =IF(U149="nulová",N149,0) -> 0 | BJ149: 2 | BK149: =ROUND(L149*K149,3) -> 0 | BL149: 128 | BM149: 270121806
D150: VP - Práce naviac | N150: =BK150 -> 0 | AT150: D | AU150: 0 | AY150: PN | BK150: =SUM(BK151:BK155) -> 0
D151: K | N151: =BK151 -> 0 | U151: znížená | AT151: PN | AU151: 1 | AY151: PN | BE151: =IF(U151="základná",N151,0) -> 0 | BF151: =IF(U151="znížená",N151,0) -> 0 | BG151: =IF(U151="zákl. prenesená",N151,0) -> 0 | BH151: =IF(U151="zníž. prenesená",N151,0) -> 0 | BI151: =IF(U151="nulová",N151,0) -> 0 | BJ151: 2 | BK151: =L151*K151 -> 0
F152: V rozpočte sú pri niektorých stavebných materiáloch uvedené značky stavebných materiálov. Verejný obstarávateľ pripúšťa možnosť predloženia ekvivalentu stavebného materiálu rovnakej alebo vyššej kvality. V prípade využitia ekvivalentu, verejný obstarávateľ požaduje, aby uchádzač uvádzal už priamo značku stavebného materiálu do rozpočtu. Verejný obstarávateľ v tomto prípade požaduje od uchádzača aj predloženie dokladu (napr. produktový list, technický list a pod.) ekvivalentu stavebného materiálu za účelom overenia splnenia kvalitatívnych parametrov stavebných materiálov. | N152: =BK152 -> 0 | U152: znížená | AT152: PN | AU152: 1 | AY152: PN | BE152: =IF(U152="základná",N152,0) -> 0 | BF152: =IF(U152="znížená",N152,0) -> 0 | BG152: =IF(U152="zákl. prenesená",N152,0) -> 0 | BH152: =IF(U152="zníž. prenesená",N152,0) -> 0 | BI152: =IF(U152="nulová",N152,0) -> 0 | BJ152: 2 | BK152: =L152*K152 -> 0
N153: =BK153 -> 0 | U153: znížená | AT153: PN | AU153: 1 | AY153: PN | BE153: =IF(U153="základná",N153,0) -> 0 | BF153: =IF(U153="znížená",N153,0) -> 0 | BG153: =IF(U153="zákl. prenesená",N153,0) -> 0 | BH153: =IF(U153="zníž. prenesená",N153,0) -> 0 | BI153: =IF(U153="nulová",N153,0) -> 0 | BJ153: 2 | BK153: =L153*K153 -> 0
N154: =BK154 -> 0 | U154: znížená | AT154: PN | AU154: 1 | AY154: PN | BE154: =IF(U154="základná",N154,0) -> 0 | BF154: =IF(U154="znížená",N154,0) -> 0 | BG154: =IF(U154="zákl. prenesená",N154,0) -> 0 | BH154: =IF(U154="zníž. prenesená",N154,0) -> 0 | BI154: =IF(U154="nulová",N154,0) -> 0 | BJ154: 2 | BK154: =L154*K154 -> 0
N155: =BK155 -> 0 | U155: znížená | AT155: PN | AU155: 1 | AY155: PN | BE155: =IF(U155="základná",N155,0) -> 0 | BF155: =IF(U155="znížená",N155,0) -> 0 | BG155: =IF(U155="zákl. prenesená",N155,0) -> 0 | BH155: =IF(U155="zníž. prenesená",N155,0) -> 0 | BI155: =IF(U155="nulová",N155,0) -> 0 | BJ155: 2 | BK155: =L155*K155 -> 0
