Workbook

Sheet Rekapitulácia stavby
A1: 2012 | D1: Hárok obsahuje: | K1: 1) Súhrnný list stavby | W1: 2) Rekapitulácia objektov | BA1: 2.0 | BB1: ZAMOK | BT1: False | BU1: False
C2: optimalizované pre tlač zostáv vo formáte A4 - na výšku | AR2: >> skryté stĺpce << | BS2: 0,001 | BT2: 20
BS3: 0,001 | BT3: 20
C4: SÚHRNNÝ LIST STAVBY | AS4: v --- nižšie sa nachádzajú doplnkové a pomocné údaje k zostavám --- v | BE4: Návod na vyplnenie | BS4: 0,001
D5: Kód: | K5: 09900 | BE5: Meniť je možné iba bunky so žltým podfarbením!_x000D_ _x000D_ 1) na prvom liste Rekapitulácie stavby vyplňte v zostave_x000D_ _x000D_ a) Súhrnný list_x000D_ - údaje o Zhotoviteľovi_x000D_ (prenesú sa do ostatných zostáv aj v iných listoch)_x000D_ _x000D_ b) Rekapitulácia objektov_x000D_ - potrebné Ostatné náklady_x000D_ _x000D_ 2) na vybraných listoch vyplňte v zostave_x000D_ _x000D_ a) Krycí list_x000D_ - údaje o Zhotoviteľovi, pokiaľ sa líšia od údajov o Zhotoviteľovi na Súhrnnom liste_x000D_ (údaje se prenesú do ostatných zostav v danom liste)_x000D_ _x000D_ b) Rekapitulácia rozpočtu_x000D_ - potrebné Ostatné náklady_x000D_ _x000D_ c) Celkové náklady za stavbu_x000D_ - ceny na položkách_x000D_ - množstvo, pokiaľ má žlté podfarbenie_x000D_ - a v prípade potreby poznámku (tá je v skrytom stĺpci) | BS5: 0,001
D6: Stavba: | K6: Rekonštrukcia chodníkov v Historickom Mestskom parku | BS6: 0,001
D7: JKSO: | AK7: KS: | BS7: 0,001
D8: Miesto: | K8: Trebišov | AK8: Dátum: | AN8: Vyplň údaj | BS8: 0,001
BS9: 0,001
D10: Objednávateľ: | AK10: IČO: | BS10: 0,001
E11: Mesto Trebišov | AK11: IČO DPH: | BS11: 0,001
BS12: 0,001
D13: Zhotoviteľ: | AK13: IČO: | AN13: Vyplň údaj | BS13: 0,001
E14: Vyplň údaj | AK14: IČO DPH: | AN14: Vyplň údaj | BS14: 0,001
BS15: False
D16: Projektant: | AK16: IČO: | BS16: False
AK17: IČO DPH: | BS17: True
BS18: 0,01
D19: Spracovateľ: | AK19: IČO: | BS19: 0,01
AK20: IČO DPH:
D22: Poznámka:
D26: Náklady z rozpočtov | AK26: =ROUND(AG87,2) -> 0
D27: Ostatné náklady zo súhrnného listu | AK27: =ROUND(AG98,2) -> 0
D29: Cena bez DPH | AK29: =ROUND(AK26+AK27,2) -> 0
D31: DPH | F31: základná | L31: 0.2 | T31: z | W31: =ROUND(AZ87+SUM(CD99:CD103),2) -> 0 | AK31: =ROUND(AV87+SUM(BY99:BY103),2) -> 0
F32: znížená | L32: 0.2 | T32: z | W32: =ROUND(BA87+SUM(CE99:CE103),2) -> 0 | AK32: =ROUND(AW87+SUM(BZ99:BZ103),2) -> 0
F33: zákl. prenesená | L33: 0.2 | T33: z | W33: =ROUND(BB87+SUM(CF99:CF103),2) -> 0 | AK33: 0
F34: zníž. prenesená | L34: 0.2 | T34: z | W34: =ROUND(BC87+SUM(CG99:CG103),2) -> 0 | AK34: 0
F35: nulová | L35: 0 | T35: z | W35: =ROUND(BD87+SUM(CH99:CH103),2) -> 0 | AK35: 0
D37: Cena s DPH | T37: v | X37: EUR | AK37: =SUM(AK29:AK35) -> 0
D49: Projektant | AC49: Spracovateľ
D58: Dátum a podpis: | R58: Pečiatka | AC58: Dátum a podpis: | AM58: Pečiatka
D60: Objednávateľ | AC60: Zhotoviteľ
D69: Dátum a podpis: | R69: Pečiatka | AC69: Dátum a podpis: | AM69: Pečiatka
C76: REKAPITULÁCIA OBJEKTOV STAVBY
C77: Kód: | L77: =K5 -> 09900
C78: Stavba: | L78: =K6 -> Rekonštrukcia chodníkov v Historickom Mestskom parku
C80: Miesto: | L80: =IF(K8="","",K8) -> Trebišov | AI80: Dátum: | AM80: =IF(AN8= "","",AN8) -> Vyplň údaj
C82: Objednávateľ: | L82: =IF(E11= "","",E11) -> Mesto Trebišov | AI82: Projektant: | AM82: =IF(E17="","",E17) | AS82: Informatívne údaje z listov zákaziek
C83: Zhotoviteľ: | L83: =IF(E14= "Vyplň údaj","",E14) | AI83: Spracovateľ: | AM83: =IF(E20="","",E20)
C85: Kód | I85: Objekt | AG85: Cena bez DPH [EUR] | AN85: Cena s DPH [EUR] | AS85: z toho Ostat._x000D_ náklady [EUR] | AT85: DPH [EUR] | AU85: Normohodiny [h] | AV85: DPH základná [EUR] | AW85: DPH znížená [EUR] | AX85: DPH základná prenesená_x000D_ [EUR] | AY85: DPH znížená prenesená_x000D_ [EUR] | AZ85: Základňa_x000D_ DPH základná | BA85: Základňa_x000D_ DPH znížená | BB85: Základňa_x000D_ DPH zákl. prenesená | BC85: Základňa_x000D_ DPH zníž. prenesená | BD85: Základňa_x000D_ DPH nulová
C87: 1) Náklady z rozpočtov | AG87: =ROUND(SUM(AG88:AG96),2) -> 0 | AN87: =SUM(AG87,AT87) -> 0 | AS87: =ROUND(SUM(AS88:AS96),2) -> 0 | AT87: =ROUND(SUM(AV87:AW87),2) -> 0 | AU87: =ROUND(SUM(AU88:AU96),5) -> 0 | AV87: =ROUND(AZ87*L31,2) -> 0 | AW87: =ROUND(BA87*L32,2) -> 0 | AX87: =ROUND(BB87*L31,2) -> 0 | AY87: =ROUND(BC87*L32,2) -> 0 | AZ87: =ROUND(SUM(AZ88:AZ96),2) -> 0 | BA87: =ROUND(SUM(BA88:BA96),2) -> 0 | BB87: =ROUND(SUM(BB88:BB96),2) -> 0 | BC87: =ROUND(SUM(BC88:BC96),2) -> 0 | BD87: =ROUND(SUM(BD88:BD96),2) -> 0 | BS87: D | BT87: 0 | BU87: ###NOIMPORT### | BV87: IMPORT | BW87: {3e39aeb6-2ff3-42de-a3dc-84fe9e4d6255} | BX87: {00000000-0000-0000-0000-000000000000}
A88: / | D88: 01 | J88: Chodník trasa A | AG88: ='01 - Chodník trasa A '!M30 -> 0 | AN88: =SUM(AG88,AT88) -> 0 | AS88: ='01 - Chodník trasa A '!M28 -> 0 | AT88: =ROUND(SUM(AV88:AW88),2) -> 0 | AU88: ='01 - Chodník trasa A '!W121 -> 0 | AV88: ='01 - Chodník trasa A '!M32 -> 0 | AW88: ='01 - Chodník trasa A '!M33 -> 0 | AX88: ='01 - Chodník trasa A '!M34 -> 0 | AY88: ='01 - Chodník trasa A '!M35 -> 0 | AZ88: ='01 - Chodník trasa A '!H32 -> 0 | BA88: ='01 - Chodník trasa A '!H33 -> 0 | BB88: ='01 - Chodník trasa A '!H34 -> 0 | BC88: ='01 - Chodník trasa A '!H35 -> 0 | BD88: ='01 - Chodník trasa A '!H36 -> 0 | BT88: 1 | BV88: IMPORT | BW88: {2e61ec7b-9e30-4550-85ce-9f2c9faad4da} | BX88: {3e39aeb6-2ff3-42de-a3dc-84fe9e4d6255}
A89: / | D89: 02 | J89: Chodník trasa B | AG89: ='02 - Chodník trasa B'!M30 -> 0 | AN89: =SUM(AG89,AT89) -> 0 | AS89: ='02 - Chodník trasa B'!M28 -> 0 | AT89: =ROUND(SUM(AV89:AW89),2) -> 0 | AU89: ='02 - Chodník trasa B'!W121 -> 0 | AV89: ='02 - Chodník trasa B'!M32 -> 0 | AW89: ='02 - Chodník trasa B'!M33 -> 0 | AX89: ='02 - Chodník trasa B'!M34 -> 0 | AY89: ='02 - Chodník trasa B'!M35 -> 0 | AZ89: ='02 - Chodník trasa B'!H32 -> 0 | BA89: ='02 - Chodník trasa B'!H33 -> 0 | BB89: ='02 - Chodník trasa B'!H34 -> 0 | BC89: ='02 - Chodník trasa B'!H35 -> 0 | BD89: ='02 - Chodník trasa B'!H36 -> 0 | BT89: 1 | BV89: IMPORT | BW89: {3cb66069-3ccd-4897-abb0-011fb12822a6} | BX89: {3e39aeb6-2ff3-42de-a3dc-84fe9e4d6255}
A90: / | D90: 03 | J90: Chodník trasa C | AG90: ='03 - Chodník trasa C'!M30 -> 0 | AN90: =SUM(AG90,AT90) -> 0 | AS90: ='03 - Chodník trasa C'!M28 -> 0 | AT90: =ROUND(SUM(AV90:AW90),2) -> 0 | AU90: ='03 - Chodník trasa C'!W121 -> 0 | AV90: ='03 - Chodník trasa C'!M32 -> 0 | AW90: ='03 - Chodník trasa C'!M33 -> 0 | AX90: ='03 - Chodník trasa C'!M34 -> 0 | AY90: ='03 - Chodník trasa C'!M35 -> 0 | AZ90: ='03 - Chodník trasa C'!H32 -> 0 | BA90: ='03 - Chodník trasa C'!H33 -> 0 | BB90: ='03 - Chodník trasa C'!H34 -> 0 | BC90: ='03 - Chodník trasa C'!H35 -> 0 | BD90: ='03 - Chodník trasa C'!H36 -> 0 | BT90: 1 | BV90: IMPORT | BW90: {7a6d692f-972e-4297-9a86-7959183a683a} | BX90: {3e39aeb6-2ff3-42de-a3dc-84fe9e4d6255}
A91: / | D91: 04 | J91: Chodník trasa D1 | AG91: ='04 - Chodník trasa D1'!M30 -> 0 | AN91: =SUM(AG91,AT91) -> 0 | AS91: ='04 - Chodník trasa D1'!M28 -> 0 | AT91: =ROUND(SUM(AV91:AW91),2) -> 0 | AU91: ='04 - Chodník trasa D1'!W121 -> 0 | AV91: ='04 - Chodník trasa D1'!M32 -> 0 | AW91: ='04 - Chodník trasa D1'!M33 -> 0 | AX91: ='04 - Chodník trasa D1'!M34 -> 0 | AY91: ='04 - Chodník trasa D1'!M35 -> 0 | AZ91: ='04 - Chodník trasa D1'!H32 -> 0 | BA91: ='04 - Chodník trasa D1'!H33 -> 0 | BB91: ='04 - Chodník trasa D1'!H34 -> 0 | BC91: ='04 - Chodník trasa D1'!H35 -> 0 | BD91: ='04 - Chodník trasa D1'!H36 -> 0 | BT91: 1 | BV91: IMPORT | BW91: {a8c99a42-dc73-4c13-8154-1f3487ab904f} | BX91: {3e39aeb6-2ff3-42de-a3dc-84fe9e4d6255}
A92: / | D92: 05 | J92: Chodník trasa D2 | AG92: ='05 - Chodník trasa D2'!M30 -> 0 | AN92: =SUM(AG92,AT92) -> 0 | AS92: ='05 - Chodník trasa D2'!M28 -> 0 | AT92: =ROUND(SUM(AV92:AW92),2) -> 0 | AU92: ='05 - Chodník trasa D2'!W121 -> 0 | AV92: ='05 - Chodník trasa D2'!M32 -> 0 | AW92: ='05 - Chodník trasa D2'!M33 -> 0 | AX92: ='05 - Chodník trasa D2'!M34 -> 0 | AY92: ='05 - Chodník trasa D2'!M35 -> 0 | AZ92: ='05 - Chodník trasa D2'!H32 -> 0 | BA92: ='05 - Chodník trasa D2'!H33 -> 0 | BB92: ='05 - Chodník trasa D2'!H34 -> 0 | BC92: ='05 - Chodník trasa D2'!H35 -> 0 | BD92: ='05 - Chodník trasa D2'!H36 -> 0 | BT92: 1 | BV92: IMPORT | BW92: {9a9db5ff-f730-4de4-83aa-3f262b683d54} | BX92: {3e39aeb6-2ff3-42de-a3dc-84fe9e4d6255}
A93: / | D93: 06 | J93: Chodník trasa E | AG93: ='06 - Chodník trasa E'!M30 -> 0 | AN93: =SUM(AG93,AT93) -> 0 | AS93: ='06 - Chodník trasa E'!M28 -> 0 | AT93: =ROUND(SUM(AV93:AW93),2) -> 0 | AU93: ='06 - Chodník trasa E'!W119 -> 0 | AV93: ='06 - Chodník trasa E'!M32 -> 0 | AW93: ='06 - Chodník trasa E'!M33 -> 0 | AX93: ='06 - Chodník trasa E'!M34 -> 0 | AY93: ='06 - Chodník trasa E'!M35 -> 0 | AZ93: ='06 - Chodník trasa E'!H32 -> 0 | BA93: ='06 - Chodník trasa E'!H33 -> 0 | BB93: ='06 - Chodník trasa E'!H34 -> 0 | BC93: ='06 - Chodník trasa E'!H35 -> 0 | BD93: ='06 - Chodník trasa E'!H36 -> 0 | BT93: 1 | BV93: IMPORT | BW93: {54ba967d-4b1a-4bfa-abf5-49b1c542edff} | BX93: {3e39aeb6-2ff3-42de-a3dc-84fe9e4d6255}
A94: / | D94: 07 | J94: Chodník trasa F | AG94: ='07 - Chodník trasa F'!M30 -> 0 | AN94: =SUM(AG94,AT94) -> 0 | AS94: ='07 - Chodník trasa F'!M28 -> 0 | AT94: =ROUND(SUM(AV94:AW94),2) -> 0 | AU94: ='07 - Chodník trasa F'!W119 -> 0 | AV94: ='07 - Chodník trasa F'!M32 -> 0 | AW94: ='07 - Chodník trasa F'!M33 -> 0 | AX94: ='07 - Chodník trasa F'!M34 -> 0 | AY94: ='07 - Chodník trasa F'!M35 -> 0 | AZ94: ='07 - Chodník trasa F'!H32 -> 0 | BA94: ='07 - Chodník trasa F'!H33 -> 0 | BB94: ='07 - Chodník trasa F'!H34 -> 0 | BC94: ='07 - Chodník trasa F'!H35 -> 0 | BD94: ='07 - Chodník trasa F'!H36 -> 0 | BT94: 1 | BV94: IMPORT | BW94: {21ce8e04-d12e-4202-ae77-1da90c2ff51d} | BX94: {3e39aeb6-2ff3-42de-a3dc-84fe9e4d6255}
A95: / | D95: 08 | J95: Chodník trasa G | AG95: ='08 - Chodník trasa G'!M30 -> 0 | AN95: =SUM(AG95,AT95) -> 0 | AS95: ='08 - Chodník trasa G'!M28 -> 0 | AT95: =ROUND(SUM(AV95:AW95),2) -> 0 | AU95: ='08 - Chodník trasa G'!W121 -> 0 | AV95: ='08 - Chodník trasa G'!M32 -> 0 | AW95: ='08 - Chodník trasa G'!M33 -> 0 | AX95: ='08 - Chodník trasa G'!M34 -> 0 | AY95: ='08 - Chodník trasa G'!M35 -> 0 | AZ95: ='08 - Chodník trasa G'!H32 -> 0 | BA95: ='08 - Chodník trasa G'!H33 -> 0 | BB95: ='08 - Chodník trasa G'!H34 -> 0 | BC95: ='08 - Chodník trasa G'!H35 -> 0 | BD95: ='08 - Chodník trasa G'!H36 -> 0 | BT95: 1 | BV95: IMPORT | BW95: {3667b544-9929-4b81-86ef-ad819d6e837a} | BX95: {3e39aeb6-2ff3-42de-a3dc-84fe9e4d6255}
A96: / | D96: 09 | J96: Chodník trasa H | AG96: ='09 - Chodník trasa H'!M30 -> 0 | AN96: =SUM(AG96,AT96) -> 0 | AS96: ='09 - Chodník trasa H'!M28 -> 0 | AT96: =ROUND(SUM(AV96:AW96),2) -> 0 | AU96: ='09 - Chodník trasa H'!W121 -> 0 | AV96: ='09 - Chodník trasa H'!M32 -> 0 | AW96: ='09 - Chodník trasa H'!M33 -> 0 | AX96: ='09 - Chodník trasa H'!M34 -> 0 | AY96: ='09 - Chodník trasa H'!M35 -> 0 | AZ96: ='09 - Chodník trasa H'!H32 -> 0 | BA96: ='09 - Chodník trasa H'!H33 -> 0 | BB96: ='09 - Chodník trasa H'!H34 -> 0 | BC96: ='09 - Chodník trasa H'!H35 -> 0 | BD96: ='09 - Chodník trasa H'!H36 -> 0 | BT96: 1 | BV96: IMPORT | BW96: {03a55661-7cf8-4621-a39b-233409219910} | BX96: {3e39aeb6-2ff3-42de-a3dc-84fe9e4d6255}
C98: 2) Ostatné náklady zo súhrnného listu | AG98: =ROUND(SUM(AG99:AG102),2) -> 0 | AN98: =ROUND(SUM(AN99:AN102),2) -> 0 | AS98: Percent. zadanie_x000D_ [% nákladov rozpočtu] | AT98: Zaradenie nákladov | AU98: DPH | AV98: DPH [EUR]
D99: Ostatné náklady | AG99: =ROUND(AG87*AS99,2) -> 0 | AN99: =ROUND(AG99+AV99,2) -> 0 | AS99: 0 | AT99: stavebná časť | AU99: základná | AV99: =ROUND(IF(AU99="základná",AG99*L31,IF(AU99="znížená",AG99*L32,0)),2) -> 0 | BV99: OSTATNENAKLADY | BY99: =IF(AU99="základná",AV99,0) -> 0 | BZ99: =IF(AU99="znížená",AV99,0) -> 0 | CA99: 0 | CB99: 0 | CC99: 0 | CD99: =IF(AU99="základná",AG99,0) -> 0 | CE99: =IF(AU99="znížená",AG99,0) -> 0 | CF99: =IF(AU99="zákl. prenesená",AG99,0) -> 0 | CG99: =IF(AU99="zníž. prenesená",AG99,0) -> 0 | CH99: =IF(AU99="nulová",AG99,0) -> 0 | CI99: =IF(AU99="základná",1,IF(AU99="znížená",2,IF(AU99="zákl. prenesená",4,IF(AU99="zníž. prenesená",5,3)))) -> 1 | CJ99: =IF(AT99="stavebná časť",1,IF(8899="investičná časť",2,3)) -> 1 | CK99: =IF(D99="Vyplň vlastné","","x") -> x
D100: Vyplň vlastné | AG100: =AG87*AS100 -> 0 | AN100: =AG100+AV100 -> 0 | AS100: 0 | AT100: stavebná časť | AU100: základná | AV100: =ROUND(IF(AU100="nulová",0,IF(OR(AU100="základná",AU100="zákl. prenesená"),AG100*L31,AG100*L32)),2) -> 0 | BV100: OSTATNENAKLADYVLASTNE | BY100: =IF(AU100="základná",AV100,0) -> 0 | BZ100: =IF(AU100="znížená",AV100,0) -> 0 | CA100: =IF(AU100="zákl. prenesená",AV100,0) -> 0 | CB100: =IF(AU100="zníž. prenesená",AV100,0) -> 0 | CC100: =IF(AU100="nulová",AV100,0) -> 0 | CD100: =IF(AU100="základná",AG100,0) -> 0 | CE100: =IF(AU100="znížená",AG100,0) -> 0 | CF100: =IF(AU100="zákl. prenesená",AG100,0) -> 0 | CG100: =IF(AU100="zníž. prenesená",AG100,0) -> 0 | CH100: =IF(AU100="nulová",AG100,0) -> 0 | CI100: =IF(AU100="základná",1,IF(AU100="znížená",2,IF(AU100="zákl. prenesená",4,IF(AU100="zníž. prenesená",5,3)))) -> 1 | CJ100: =IF(AT100="stavebná časť",1,IF(88100="investičná časť",2,3)) -> 1 | CK100: =IF(D100="Vyplň vlastné","","x")
D101: Vyplň vlastné | AG101: =AG87*AS101 -> 0 | AN101: =AG101+AV101 -> 0 | AS101: 0 | AT101: stavebná časť | AU101: základná | AV101: =ROUND(IF(AU101="nulová",0,IF(OR(AU101="základná",AU101="zákl. prenesená"),AG101*L31,AG101*L32)),2) -> 0 | BV101: OSTATNENAKLADYVLASTNE | BY101: =IF(AU101="základná",AV101,0) -> 0 | BZ101: =IF(AU101="znížená",AV101,0) -> 0 | CA101: =IF(AU101="zákl. prenesená",AV101,0) -> 0 | CB101: =IF(AU101="zníž. prenesená",AV101,0) -> 0 | CC101: =IF(AU101="nulová",AV101,0) -> 0 | CD101: =IF(AU101="základná",AG101,0) -> 0 | CE101: =IF(AU101="znížená",AG101,0) -> 0 | CF101: =IF(AU101="zákl. prenesená",AG101,0) -> 0 | CG101: =IF(AU101="zníž. prenesená",AG101,0) -> 0 | CH101: =IF(AU101="nulová",AG101,0) -> 0 | CI101: =IF(AU101="základná",1,IF(AU101="znížená",2,IF(AU101="zákl. prenesená",4,IF(AU101="zníž. prenesená",5,3)))) -> 1 | CJ101: =IF(AT101="stavebná časť",1,IF(88101="investičná časť",2,3)) -> 1 | CK101: =IF(D101="Vyplň vlastné","","x")
D102: Vyplň vlastné | AG102: =AG87*AS102 -> 0 | AN102: =AG102+AV102 -> 0 | AS102: 0 | AT102: stavebná časť | AU102: základná | AV102: =ROUND(IF(AU102="nulová",0,IF(OR(AU102="základná",AU102="zákl. prenesená"),AG102*L31,AG102*L32)),2) -> 0 | BV102: OSTATNENAKLADYVLASTNE | BY102: =IF(AU102="základná",AV102,0) -> 0 | BZ102: =IF(AU102="znížená",AV102,0) -> 0 | CA102: =IF(AU102="zákl. prenesená",AV102,0) -> 0 | CB102: =IF(AU102="zníž. prenesená",AV102,0) -> 0 | CC102: =IF(AU102="nulová",AV102,0) -> 0 | CD102: =IF(AU102="základná",AG102,0) -> 0 | CE102: =IF(AU102="znížená",AG102,0) -> 0 | CF102: =IF(AU102="zákl. prenesená",AG102,0) -> 0 | CG102: =IF(AU102="zníž. prenesená",AG102,0) -> 0 | CH102: =IF(AU102="nulová",AG102,0) -> 0 | CI102: =IF(AU102="základná",1,IF(AU102="znížená",2,IF(AU102="zákl. prenesená",4,IF(AU102="zníž. prenesená",5,3)))) -> 1 | CJ102: =IF(AT102="stavebná časť",1,IF(88102="investičná časť",2,3)) -> 1 | CK102: =IF(D102="Vyplň vlastné","","x")
C104: Celkové náklady za stavbu 1) + 2) | AG104: =ROUND(AG87+AG98,2) -> 0 | AN104: =AN87+AN98 -> 0

Sheet 01 - Chodník trasa A 
D1: Hárok obsahuje: | F1: 1) Krycí list rozpočtu | H1: 2) Rekapitulácia rozpočtu | L1: 3) Rozpočet | O1: Späť na hárok: | S1: Rekapitulácia stavby
C2: optimalizované pre tlač zostáv vo formáte A4 - na výšku | S2: >> skryté stĺpce << | AT2: {2e61ec7b-9e30-4550-85ce-9f2c9faad4da}
AT3: 0
C4: KRYCÍ LIST ROZPOČTU | T4: v --- nižšie sa nachádzajú doplnkové a pomocné údaje k zostavám --- v | AT4: False
D6: Stavba: | F6: ='Rekapitulácia stavby'!K6 -> Rekonštrukcia chodníkov v Historickom Mestskom parku
D7: Objekt: | F7: 01 - Chodník trasa A
D8: JKSO: | M8: KS:
D9: Miesto: | F9: Trebišov | M9: Dátum: | O9: ='Rekapitulácia stavby'!AN8 -> Vyplň údaj
D11: Objednávateľ: | M11: IČO:
E12: Mesto Trebišov | M12: IČO DPH:
D14: Zhotoviteľ: | M14: IČO: | O14: =IF('Rekapitulácia stavby'!AN13="","",'Rekapitulácia stavby'!AN13) -> Vyplň údaj
E15: =IF('Rekapitulácia stavby'!E14="","",'Rekapitulácia stavby'!E14) -> Vyplň údaj | M15: IČO DPH: | O15: =IF('Rekapitulácia stavby'!AN14="","",'Rekapitulácia stavby'!AN14) -> Vyplň údaj
D17: Projektant: | M17: IČO: | O17: =IF('Rekapitulácia stavby'!AN16="","",'Rekapitulácia stavby'!AN16)
E18: =IF('Rekapitulácia stavby'!E17="","",'Rekapitulácia stavby'!E17) | M18: IČO DPH: | O18: =IF('Rekapitulácia stavby'!AN17="","",'Rekapitulácia stavby'!AN17)
D20: Spracovateľ: | M20: IČO: | O20: =IF('Rekapitulácia stavby'!AN19="","",'Rekapitulácia stavby'!AN19)
E21: =IF('Rekapitulácia stavby'!E20="","",'Rekapitulácia stavby'!E20) | M21: IČO DPH: | O21: =IF('Rekapitulácia stavby'!AN20="","",'Rekapitulácia stavby'!AN20)
D23: Poznámka:
D27: Náklady z rozpočtu | M27: =N88 -> 0
D28: Ostatné náklady | M28: =N96 -> 0
D30: Cena bez DPH | M30: =ROUND(M27+M28,2) -> 0
D32: DPH | E32: základná | F32: 0.2 | G32: z | H32: =ROUND((((SUM(BE96:BE103)+SUM(BE121:BE132))+SUM(BE134:BE138))),2) -> 0 | M32: =ROUND(((ROUND((SUM(BE96:BE103)+SUM(BE121:BE132)), 2)*F32)+SUM(BE134:BE138)*F32),2) -> 0
E33: znížená | F33: 0.2 | G33: z | H33: =ROUND((((SUM(BF96:BF103)+SUM(BF121:BF132))+SUM(BF134:BF138))),2) -> 0 | M33: =ROUND(((ROUND((SUM(BF96:BF103)+SUM(BF121:BF132)), 2)*F33)+SUM(BF134:BF138)*F33),2) -> 0
E34: zákl. prenesená | F34: 0.2 | G34: z | H34: =ROUND((((SUM(BG96:BG103)+SUM(BG121:BG132))+SUM(BG134:BG138))),2) -> 0 | M34: 0
E35: zníž. prenesená | F35: 0.2 | G35: z | H35: =ROUND((((SUM(BH96:BH103)+SUM(BH121:BH132))+SUM(BH134:BH138))),2) -> 0 | M35: 0
E36: nulová | F36: 0 | G36: z | H36: =ROUND((((SUM(BI96:BI103)+SUM(BI121:BI132))+SUM(BI134:BI138))),2) -> 0 | M36: 0
D38: Cena s DPH | G38: v | H38: EUR | L38: =SUM(M30:M36) -> 0
D50: Projektant | J50: Spracovateľ
D59: Dátum a podpis: | G59: Pečiatka | J59: Dátum a podpis: | N59: Pečiatka
D61: Objednávateľ | J61: Zhotoviteľ
D70: Dátum a podpis: | G70: Pečiatka | J70: Dátum a podpis: | N70: Pečiatka
C76: REKAPITULÁCIA ROZPOČTU
C78: Stavba: | F78: =F6 -> Rekonštrukcia chodníkov v Historickom Mestskom parku
C79: Objekt: | F79: =F7 -> 01 - Chodník trasa A
C81: Miesto: | F81: =F9 -> Trebišov | K81: Dátum: | M81: =IF(O9="","",O9) -> Vyplň údaj
C83: Objednávateľ: | F83: =E12 -> Mesto Trebišov | K83: Projektant: | M83: =E18
C84: Zhotoviteľ: | F84: =IF(E15="","",E15) -> Vyplň údaj | K84: Spracovateľ: | M84: =E21
C86: Kód - Popis | N86: Cena celkom [EUR]
C88: 1) Náklady z rozpočtu | N88: =N121 -> 0 | AU88: -1
D89: HSV - Práce a dodávky HSV | N89: =N122 -> 0
D90: 1 - Zemné práce | N90: =N123 -> 0
D91: 5 - Komunikácie | N91: =N125 -> 0
D92: 9 - Ostatné konštrukcie a práce-búranie | N92: =N129 -> 0
D93: 99 - Presun hmôt HSV | N93: =N131 -> 0
D94: VP - Práce naviac | N94: =N133 -> 0
C96: 2) Ostatné náklady | N96: =ROUND(N97+N98+N99+N100+N101+N102,2) -> 0 | U96: DPH
D97: Zariad. staveniska | N97: =ROUND(N88*T97,2) -> 0 | U97: znížená | AY97: VRN | BE97: =IF(U97="základná",N97,0) -> 0 | BF97: =IF(U97="znížená",N97,0) -> 0 | BG97: =IF(U97="zákl. prenesená",N97,0) -> 0 | BH97: =IF(U97="zníž. prenesená",N97,0) -> 0 | BI97: =IF(U97="nulová",N97,0) -> 0 | BJ97: 2
D98: Mimostav. doprava | N98: =ROUND(N88*T98,2) -> 0 | U98: znížená | AY98: VRN | BE98: =IF(U98="základná",N98,0) -> 0 | BF98: =IF(U98="znížená",N98,0) -> 0 | BG98: =IF(U98="zákl. prenesená",N98,0) -> 0 | BH98: =IF(U98="zníž. prenesená",N98,0) -> 0 | BI98: =IF(U98="nulová",N98,0) -> 0 | BJ98: 2
D99: Územné vplyvy | N99: =ROUND(N88*T99,2) -> 0 | U99: znížená | AY99: VRN | BE99: =IF(U99="základná",N99,0) -> 0 | BF99: =IF(U99="znížená",N99,0) -> 0 | BG99: =IF(U99="zákl. prenesená",N99,0) -> 0 | BH99: =IF(U99="zníž. prenesená",N99,0) -> 0 | BI99: =IF(U99="nulová",N99,0) -> 0 | BJ99: 2
D100: Prevádzkové vplyvy | N100: =ROUND(N88*T100,2) -> 0 | U100: znížená | AY100: VRN | BE100: =IF(U100="základná",N100,0) -> 0 | BF100: =IF(U100="znížená",N100,0) -> 0 | BG100: =IF(U100="zákl. prenesená",N100,0) -> 0 | BH100: =IF(U100="zníž. prenesená",N100,0) -> 0 | BI100: =IF(U100="nulová",N100,0) -> 0 | BJ100: 2
D101: Ostatné | N101: =ROUND(N88*T101,2) -> 0 | U101: znížená | AY101: VRN | BE101: =IF(U101="základná",N101,0) -> 0 | BF101: =IF(U101="znížená",N101,0) -> 0 | BG101: =IF(U101="zákl. prenesená",N101,0) -> 0 | BH101: =IF(U101="zníž. prenesená",N101,0) -> 0 | BI101: =IF(U101="nulová",N101,0) -> 0 | BJ101: 2
D102: Kompletačná činnosť | N102: =ROUND(N88*T102,2) -> 0 | U102: znížená | AY102: KOMPLETACNA | BE102: =IF(U102="základná",N102,0) -> 0 | BF102: =IF(U102="znížená",N102,0) -> 0 | BG102: =IF(U102="zákl. prenesená",N102,0) -> 0 | BH102: =IF(U102="zníž. prenesená",N102,0) -> 0 | BI102: =IF(U102="nulová",N102,0) -> 0 | BJ102: 2
C104: Celkové náklady za stavbu 1) + 2) | L104: =ROUND(SUM(N88+N96),2) -> 0
C110: ROZPOČET
C112: Stavba: | F112: =F6 -> Rekonštrukcia chodníkov v Historickom Mestskom parku
C113: Objekt: | F113: =F7 -> 01 - Chodník trasa A
C115: Miesto: | F115: =F9 -> Trebišov | K115: Dátum: | M115: =IF(O9="","",O9) -> Vyplň údaj
C117: Objednávateľ: | F117: =E12 -> Mesto Trebišov | K117: Projektant: | M117: =E18
C118: Zhotoviteľ: | F118: =IF(E15="","",E15) -> Vyplň údaj | K118: Spracovateľ: | M118: =E21
C120: PČ | D120: Typ | E120: Kód | F120: Popis | J120: MJ | K120: Množstvo | L120: J.cena [EUR] | N120: Cena celkom [EUR] | T120: Poznámka | U120: DPH | V120: J. Nh [h] | W120: Nh celkom [h] | X120: J. hmotnosť_x000D_ [t] | Y120: Hmotnosť_x000D_ celkom [t] | Z120: J. suť [t] | AA120: Suť Celkom [t]
C121: Náklady z rozpočtu | N121: =BK121 -> 0 | W121: =W122+W133 -> 0 | Y121: =Y122+Y133 -> 185.042 | AA121: =AA122+AA133 -> 36.322 | AT121: D | AU121: -1 | BK121: =BK122+BK133 -> 0
D122: HSV - Práce a dodávky HSV | N122: =BK122 -> 0 | W122: =W123+W125+W129+W131 -> 0 | Y122: =Y123+Y125+Y129+Y131 -> 185.042 | AA122: =AA123+AA125+AA129+AA131 -> 36.322 | AR122: 1 | AT122: D | AU122: 0 | AY122: ROZPOCET | BK122: =BK123+BK125+BK129+BK131 -> 0
D123: 1 - Zemné práce | N123: =BK123 -> 0 | W123: =W124 -> 0 | Y123: =Y124 -> 1.64736 | AA123: =AA124 -> 36.322 | AR123: 1 | AT123: D | AU123: 1 | AY123: ROZPOCET | BK123: =BK124 -> 0
C124: 1 | D124: K | E124: 113152130 | F124: Frézovanie asf. podkladu alebo krytu bez prek., plochy do 500 m2, pruh š. do 0,5 m, hr. 50 mm 0,127 t | J124: m2 | K124: 286 | L124: 0 | N124: =ROUND(L124*K124,3) -> 0 | U124: znížená | W124: =V124*K124 -> 0 | X124: 0.00576 | Y124: =X124*K124 -> 1.64736 | Z124: 0.127 | AA124: =Z124*K124 -> 36.322 | AR124: 4 | AT124: K | AU124: 2 | AY124: ROZPOCET | BE124: =IF(U124="základná",N124,0) -> 0 | BF124: =IF(U124="znížená",N124,0) -> 0 | BG124: =IF(U124="zákl. prenesená",N124,0) -> 0 | BH124: =IF(U124="zníž. prenesená",N124,0) -> 0 | BI124: =IF(U124="nulová",N124,0) -> 0 | BJ124: 2 | BK124: =ROUND(L124*K124,3) -> 0 | BL124: 4 | BM124: -342860955
D125: 5 - Komunikácie | N125: =BK125 -> 0 | W125: =SUM(W126:W128) -> 0 | Y125: =SUM(Y126:Y128) -> 183.39464 | AA125: =SUM(AA126:AA128) -> 0 | AR125: 1 | AT125: D | AU125: 1 | AY125: ROZPOCET | BK125: =SUM(BK126:BK128) -> 0
C126: 9 | D126: K | E126: 572774111 | F126: Vyrovnanie povrchu doterajších krytov asfaltovou zmesou pre asfaltový koberec veľmi tenký BBTM hr. od 15 do 20 mm | J126: m2 | K126: 320 | L126: 0 | N126: =ROUND(L126*K126,3) -> 0 | U126: znížená | W126: =V126*K126 -> 0 | X126: 0.04895 | Y126: =X126*K126 -> 15.664 | Z126: 0 | AA126: =Z126*K126 -> 0 | AR126: 4 | AT126: K | AU126: 2 | AY126: ROZPOCET | BE126: =IF(U126="základná",N126,0) -> 0 | BF126: =IF(U126="znížená",N126,0) -> 0 | BG126: =IF(U126="zákl. prenesená",N126,0) -> 0 | BH126: =IF(U126="zníž. prenesená",N126,0) -> 0 | BI126: =IF(U126="nulová",N126,0) -> 0 | BJ126: 2 | BK126: =ROUND(L126*K126,3) -> 0 | BL126: 4 | BM126: -1833545775
C127: 3 | D127: K | E127: 573211111 | F127: Postrek asfaltový spojovací bez posypu kamenivom z asfaltu cestného v množstve od 0,50 do 0,70 kg/m2 | J127: m2 | K127: 1606 | L127: 0 | N127: =ROUND(L127*K127,3) -> 0 | U127: znížená | W127: =V127*K127 -> 0 | X127: 0.00071 | Y127: =X127*K127 -> 1.14026 | Z127: 0 | AA127: =Z127*K127 -> 0 | AR127: 4 | AT127: K | AU127: 2 | AY127: ROZPOCET | BE127: =IF(U127="základná",N127,0) -> 0 | BF127: =IF(U127="znížená",N127,0) -> 0 | BG127: =IF(U127="zákl. prenesená",N127,0) -> 0 | BH127: =IF(U127="zníž. prenesená",N127,0) -> 0 | BI127: =IF(U127="nulová",N127,0) -> 0 | BJ127: 2 | BK127: =ROUND(L127*K127,3) -> 0 | BL127: 4 | BM127: 280567902
C128: 4 | D128: K | E128: 577134111 | F128: Asfaltový betón vrstva obrusná AC 8 O v pruhu š. do 3 m z nemodifik. asfaltu tr. II, po zhutnení hr. 40 mm | J128: m2 | K128: 1606 | L128: 0 | N128: =ROUND(L128*K128,3) -> 0 | U128: znížená | W128: =V128*K128 -> 0 | X128: 0.10373 | Y128: =X128*K128 -> 166.59038 | Z128: 0 | AA128: =Z128*K128 -> 0 | AR128: 4 | AT128: K | AU128: 2 | AY128: ROZPOCET | BE128: =IF(U128="základná",N128,0) -> 0 | BF128: =IF(U128="znížená",N128,0) -> 0 | BG128: =IF(U128="zákl. prenesená",N128,0) -> 0 | BH128: =IF(U128="zníž. prenesená",N128,0) -> 0 | BI128: =IF(U128="nulová",N128,0) -> 0 | BJ128: 2 | BK128: =ROUND(L128*K128,3) -> 0 | BL128: 4 | BM128: -1211831499
D129: 9 - Ostatné konštrukcie a práce-búranie | N129: =BK129 -> 0 | W129: =W130 -> 0 | Y129: =Y130 -> 0 | AA129: =AA130 -> 0 | AR129: 1 | AT129: D | AU129: 1 | AY129: ROZPOCET | BK129: =BK130 -> 0
C130: 5 | D130: K | E130: 979084216 | F130: Vodorovná doprava vybúraných hmôt po suchu bez naloženia, ale so zložením na vzdialenosť do 5 km vratane likvidacie | J130: t | K130: 36.322 | L130: 0 | N130: =ROUND(L130*K130,3) -> 0 | U130: znížená | W130: =V130*K130 -> 0 | X130: 0 | Y130: =X130*K130 -> 0 | Z130: 0 | AA130: =Z130*K130 -> 0 | AR130: 4 | AT130: K | AU130: 2 | AY130: ROZPOCET | BE130: =IF(U130="základná",N130,0) -> 0 | BF130: =IF(U130="znížená",N130,0) -> 0 | BG130: =IF(U130="zákl. prenesená",N130,0) -> 0 | BH130: =IF(U130="zníž. prenesená",N130,0) -> 0 | BI130: =IF(U130="nulová",N130,0) -> 0 | BJ130: 2 | BK130: =ROUND(L130*K130,3) -> 0 | BL130: 4 | BM130: 689538671
D131: 99 - Presun hmôt HSV | N131: =BK131 -> 0 | W131: =W132 -> 0 | Y131: =Y132 -> 0 | AA131: =AA132 -> 0 | AR131: 1 | AT131: D | AU131: 1 | AY131: ROZPOCET | BK131: =BK132 -> 0
C132: 8 | D132: K | E132: 998225111 | F132: Presun hmôt pre pozemnú komunikáciu a letisko s krytom asfaltovým akejkoľvek dĺžky objektu | J132: t | K132: 185.042 | L132: 0 | N132: =ROUND(L132*K132,3) -> 0 | U132: znížená | W132: =V132*K132 -> 0 | X132: 0 | Y132: =X132*K132 -> 0 | Z132: 0 | AA132: =Z132*K132 -> 0 | AR132: 4 | AT132: K | AU132: 2 | AY132: ROZPOCET | BE132: =IF(U132="základná",N132,0) -> 0 | BF132: =IF(U132="znížená",N132,0) -> 0 | BG132: =IF(U132="zákl. prenesená",N132,0) -> 0 | BH132: =IF(U132="zníž. prenesená",N132,0) -> 0 | BI132: =IF(U132="nulová",N132,0) -> 0 | BJ132: 2 | BK132: =ROUND(L132*K132,3) -> 0 | BL132: 4 | BM132: 1857325329
D133: VP - Práce naviac | N133: =BK133 -> 0 | AT133: D | AU133: 0 | AY133: PN | BK133: =SUM(BK134:BK138) -> 0
D134: K | N134: =BK134 -> 0 | U134: znížená | AT134: PN | AU134: 1 | AY134: PN | BE134: =IF(U134="základná",N134,0) -> 0 | BF134: =IF(U134="znížená",N134,0) -> 0 | BG134: =IF(U134="zákl. prenesená",N134,0) -> 0 | BH134: =IF(U134="zníž. prenesená",N134,0) -> 0 | BI134: =IF(U134="nulová",N134,0) -> 0 | BJ134: 2 | BK134: =L134*K134 -> 0
D135: K | N135: =BK135 -> 0 | U135: znížená | AT135: PN | AU135: 1 | AY135: PN | BE135: =IF(U135="základná",N135,0) -> 0 | BF135: =IF(U135="znížená",N135,0) -> 0 | BG135: =IF(U135="zákl. prenesená",N135,0) -> 0 | BH135: =IF(U135="zníž. prenesená",N135,0) -> 0 | BI135: =IF(U135="nulová",N135,0) -> 0 | BJ135: 2 | BK135: =L135*K135 -> 0
D136: K | N136: =BK136 -> 0 | U136: znížená | AT136: PN | AU136: 1 | AY136: PN | BE136: =IF(U136="základná",N136,0) -> 0 | BF136: =IF(U136="znížená",N136,0) -> 0 | BG136: =IF(U136="zákl. prenesená",N136,0) -> 0 | BH136: =IF(U136="zníž. prenesená",N136,0) -> 0 | BI136: =IF(U136="nulová",N136,0) -> 0 | BJ136: 2 | BK136: =L136*K136 -> 0
D137: K | N137: =BK137 -> 0 | U137: znížená | AT137: PN | AU137: 1 | AY137: PN | BE137: =IF(U137="základná",N137,0) -> 0 | BF137: =IF(U137="znížená",N137,0) -> 0 | BG137: =IF(U137="zákl. prenesená",N137,0) -> 0 | BH137: =IF(U137="zníž. prenesená",N137,0) -> 0 | BI137: =IF(U137="nulová",N137,0) -> 0 | BJ137: 2 | BK137: =L137*K137 -> 0
D138: K | N138: =BK138 -> 0 | U138: znížená | AT138: PN | AU138: 1 | AY138: PN | BE138: =IF(U138="základná",N138,0) -> 0 | BF138: =IF(U138="znížená",N138,0) -> 0 | BG138: =IF(U138="zákl. prenesená",N138,0) -> 0 | BH138: =IF(U138="zníž. prenesená",N138,0) -> 0 | BI138: =IF(U138="nulová",N138,0) -> 0 | BJ138: 2 | BK138: =L138*K138 -> 0

Sheet 02 - Chodník trasa B
D1: Hárok obsahuje: | F1: 1) Krycí list rozpočtu | H1: 2) Rekapitulácia rozpočtu | L1: 3) Rozpočet | O1: Späť na hárok: | S1: Rekapitulácia stavby
C2: optimalizované pre tlač zostáv vo formáte A4 - na výšku | S2: >> skryté stĺpce << | AT2: {3cb66069-3ccd-4897-abb0-011fb12822a6}
AT3: 0
C4: KRYCÍ LIST ROZPOČTU | T4: v --- nižšie sa nachádzajú doplnkové a pomocné údaje k zostavám --- v | AT4: False
D6: Stavba: | F6: ='Rekapitulácia stavby'!K6 -> Rekonštrukcia chodníkov v Historickom Mestskom parku
D7: Objekt: | F7: 02 - Chodník trasa B
D8: JKSO: | M8: KS:
D9: Miesto: | F9: Trebišov | M9: Dátum: | O9: ='Rekapitulácia stavby'!AN8 -> Vyplň údaj
D11: Objednávateľ: | M11: IČO:
E12: Mesto Trebišov | M12: IČO DPH:
D14: Zhotoviteľ: | M14: IČO: | O14: =IF('Rekapitulácia stavby'!AN13="","",'Rekapitulácia stavby'!AN13) -> Vyplň údaj
E15: =IF('Rekapitulácia stavby'!E14="","",'Rekapitulácia stavby'!E14) -> Vyplň údaj | M15: IČO DPH: | O15: =IF('Rekapitulácia stavby'!AN14="","",'Rekapitulácia stavby'!AN14) -> Vyplň údaj
D17: Projektant: | M17: IČO: | O17: =IF('Rekapitulácia stavby'!AN16="","",'Rekapitulácia stavby'!AN16)
E18: =IF('Rekapitulácia stavby'!E17="","",'Rekapitulácia stavby'!E17) | M18: IČO DPH: | O18: =IF('Rekapitulácia stavby'!AN17="","",'Rekapitulácia stavby'!AN17)
D20: Spracovateľ: | M20: IČO: | O20: =IF('Rekapitulácia stavby'!AN19="","",'Rekapitulácia stavby'!AN19)
E21: =IF('Rekapitulácia stavby'!E20="","",'Rekapitulácia stavby'!E20) | M21: IČO DPH: | O21: =IF('Rekapitulácia stavby'!AN20="","",'Rekapitulácia stavby'!AN20)
D23: Poznámka:
D27: Náklady z rozpočtu | M27: =N88 -> 0
D28: Ostatné náklady | M28: =N96 -> 0
D30: Cena bez DPH | M30: =ROUND(M27+M28,2) -> 0
D32: DPH | E32: základná | F32: 0.2 | G32: z | H32: =ROUND((((SUM(BE96:BE103)+SUM(BE121:BE139))+SUM(BE141:BE145))),2) -> 0 | M32: =ROUND(((ROUND((SUM(BE96:BE103)+SUM(BE121:BE139)), 2)*F32)+SUM(BE141:BE145)*F32),2) -> 0
E33: znížená | F33: 0.2 | G33: z | H33: =ROUND((((SUM(BF96:BF103)+SUM(BF121:BF139))+SUM(BF141:BF145))),2) -> 0 | M33: =ROUND(((ROUND((SUM(BF96:BF103)+SUM(BF121:BF139)), 2)*F33)+SUM(BF141:BF145)*F33),2) -> 0
E34: zákl. prenesená | F34: 0.2 | G34: z | H34: =ROUND((((SUM(BG96:BG103)+SUM(BG121:BG139))+SUM(BG141:BG145))),2) -> 0 | M34: 0
E35: zníž. prenesená | F35: 0.2 | G35: z | H35: =ROUND((((SUM(BH96:BH103)+SUM(BH121:BH139))+SUM(BH141:BH145))),2) -> 0 | M35: 0
E36: nulová | F36: 0 | G36: z | H36: =ROUND((((SUM(BI96:BI103)+SUM(BI121:BI139))+SUM(BI141:BI145))),2) -> 0 | M36: 0
D38: Cena s DPH | G38: v | H38: EUR | L38: =SUM(M30:M36) -> 0
D50: Projektant | J50: Spracovateľ
D59: Dátum a podpis: | G59: Pečiatka | J59: Dátum a podpis: | N59: Pečiatka
D61: Objednávateľ | J61: Zhotoviteľ
D70: Dátum a podpis: | G70: Pečiatka | J70: Dátum a podpis: | N70: Pečiatka
C76: REKAPITULÁCIA ROZPOČTU
C78: Stavba: | F78: =F6 -> Rekonštrukcia chodníkov v Historickom Mestskom parku
C79: Objekt: | F79: =F7 -> 02 - Chodník trasa B
C81: Miesto: | F81: =F9 -> Trebišov | K81: Dátum: | M81: =IF(O9="","",O9) -> Vyplň údaj
C83: Objednávateľ: | F83: =E12 -> Mesto Trebišov | K83: Projektant: | M83: =E18
C84: Zhotoviteľ: | F84: =IF(E15="","",E15) -> Vyplň údaj | K84: Spracovateľ: | M84: =E21
C86: Kód - Popis | N86: Cena celkom [EUR]
C88: 1) Náklady z rozpočtu | N88: =N121 -> 0 | AU88: -1
D89: HSV - Práce a dodávky HSV | N89: =N122 -> 0
D90: 1 - Zemné práce | N90: =N123 -> 0
D91: 5 - Komunikácie | N91: =N129 -> 0
D92: 9 - Ostatné konštrukcie a práce-búranie | N92: =N133 -> 0
D93: 99 - Presun hmôt HSV | N93: =N138 -> 0
D94: VP - Práce naviac | N94: =N140 -> 0
C96: 2) Ostatné náklady | N96: =ROUND(N97+N98+N99+N100+N101+N102,2) -> 0 | U96: DPH
D97: Zariad. staveniska | N97: =ROUND(N88*T97,2) -> 0 | U97: znížená | AY97: VRN | BE97: =IF(U97="základná",N97,0) -> 0 | BF97: =IF(U97="znížená",N97,0) -> 0 | BG97: =IF(U97="zákl. prenesená",N97,0) -> 0 | BH97: =IF(U97="zníž. prenesená",N97,0) -> 0 | BI97: =IF(U97="nulová",N97,0) -> 0 | BJ97: 2
D98: Mimostav. doprava | N98: =ROUND(N88*T98,2) -> 0 | U98: znížená | AY98: VRN | BE98: =IF(U98="základná",N98,0) -> 0 | BF98: =IF(U98="znížená",N98,0) -> 0 | BG98: =IF(U98="zákl. prenesená",N98,0) -> 0 | BH98: =IF(U98="zníž. prenesená",N98,0) -> 0 | BI98: =IF(U98="nulová",N98,0) -> 0 | BJ98: 2
D99: Územné vplyvy | N99: =ROUND(N88*T99,2) -> 0 | U99: znížená | AY99: VRN | BE99: =IF(U99="základná",N99,0) -> 0 | BF99: =IF(U99="znížená",N99,0) -> 0 | BG99: =IF(U99="zákl. prenesená",N99,0) -> 0 | BH99: =IF(U99="zníž. prenesená",N99,0) -> 0 | BI99: =IF(U99="nulová",N99,0) -> 0 | BJ99: 2
D100: Prevádzkové vplyvy | N100: =ROUND(N88*T100,2) -> 0 | U100: znížená | AY100: VRN | BE100: =IF(U100="základná",N100,0) -> 0 | BF100: =IF(U100="znížená",N100,0) -> 0 | BG100: =IF(U100="zákl. prenesená",N100,0) -> 0 | BH100: =IF(U100="zníž. prenesená",N100,0) -> 0 | BI100: =IF(U100="nulová",N100,0) -> 0 | BJ100: 2
D101: Ostatné | N101: =ROUND(N88*T101,2) -> 0 | U101: znížená | AY101: VRN | BE101: =IF(U101="základná",N101,0) -> 0 | BF101: =IF(U101="znížená",N101,0) -> 0 | BG101: =IF(U101="zákl. prenesená",N101,0) -> 0 | BH101: =IF(U101="zníž. prenesená",N101,0) -> 0 | BI101: =IF(U101="nulová",N101,0) -> 0 | BJ101: 2
D102: Kompletačná činnosť | N102: =ROUND(N88*T102,2) -> 0 | U102: znížená | AY102: KOMPLETACNA | BE102: =IF(U102="základná",N102,0) -> 0 | BF102: =IF(U102="znížená",N102,0) -> 0 | BG102: =IF(U102="zákl. prenesená",N102,0) -> 0 | BH102: =IF(U102="zníž. prenesená",N102,0) -> 0 | BI102: =IF(U102="nulová",N102,0) -> 0 | BJ102: 2
C104: Celkové náklady za stavbu 1) + 2) | L104: =ROUND(SUM(N88+N96),2) -> 0
C110: ROZPOČET
C112: Stavba: | F112: =F6 -> Rekonštrukcia chodníkov v Historickom Mestskom parku
C113: Objekt: | F113: =F7 -> 02 - Chodník trasa B
C115: Miesto: | F115: =F9 -> Trebišov | K115: Dátum: | M115: =IF(O9="","",O9) -> Vyplň údaj
C117: Objednávateľ: | F117: =E12 -> Mesto Trebišov | K117: Projektant: | M117: =E18
C118: Zhotoviteľ: | F118: =IF(E15="","",E15) -> Vyplň údaj | K118: Spracovateľ: | M118: =E21
C120: PČ | D120: Typ | E120: Kód | F120: Popis | J120: MJ | K120: Množstvo | L120: J.cena [EUR] | N120: Cena celkom [EUR] | T120: Poznámka | U120: DPH | V120: J. Nh [h] | W120: Nh celkom [h] | X120: J. hmotnosť_x000D_ [t] | Y120: Hmotnosť_x000D_ celkom [t] | Z120: J. suť [t] | AA120: Suť Celkom [t]
C121: Náklady z rozpočtu | N121: =BK121 -> 0 | W121: =W122+W140 -> 0 | Y121: =Y122+Y140 -> 356.417 | AA121: =AA122+AA140 -> 197.055 | AT121: D | AU121: -1 | BK121: =BK122+BK140 -> 0
D122: HSV - Práce a dodávky HSV | N122: =BK122 -> 0 | W122: =W123+W129+W133+W138 -> 0 | Y122: =Y123+Y129+Y133+Y138 -> 356.417 | AA122: =AA123+AA129+AA133+AA138 -> 197.055 | AR122: 1 | AT122: D | AU122: 0 | AY122: ROZPOCET | BK122: =BK123+BK129+BK133+BK138 -> 0
D123: 1 - Zemné práce | N123: =BK123 -> 0 | W123: =SUM(W124:W128) -> 0 | Y123: =SUM(Y124:Y128) -> 5.8464 | AA123: =SUM(AA124:AA128) -> 197.055 | AR123: 1 | AT123: D | AU123: 1 | AY123: ROZPOCET | BK123: =SUM(BK124:BK128) -> 0
C124: 1 | D124: K | E124: 113152130 | F124: Frézovanie asf. podkladu alebo krytu bez prek., plochy do 500 m2, pruh š. do 0,5 m, hr. 50 mm 0,127 t | J124: m2 | K124: 1015 | L124: 0 | N124: =ROUND(L124*K124,3) -> 0 | U124: znížená | W124: =V124*K124 -> 0 | X124: 0.00576 | Y124: =X124*K124 -> 5.8464 | Z124: 0.127 | AA124: =Z124*K124 -> 128.905 | AR124: 4 | AT124: K | AU124: 2 | AY124: ROZPOCET | BE124: =IF(U124="základná",N124,0) -> 0 | BF124: =IF(U124="znížená",N124,0) -> 0 | BG124: =IF(U124="zákl. prenesená",N124,0) -> 0 | BH124: =IF(U124="zníž. prenesená",N124,0) -> 0 | BI124: =IF(U124="nulová",N124,0) -> 0 | BJ124: 2 | BK124: =ROUND(L124*K124,3) -> 0 | BL124: 4 | BM124: -342860955
C125: 2 | D125: K | E125: 113202111 | F125: Vytrhanie obrúb kamenných, s vybúraním lôžka, z krajníkov alebo obrubníkov stojatých, -0,14500t | J125: m | K125: 470 | L125: 0 | N125: =ROUND(L125*K125,3) -> 0 | U125: znížená | W125: =V125*K125 -> 0 | X125: 0 | Y125: =X125*K125 -> 0 | Z125: 0.145 | AA125: =Z125*K125 -> 68.15 | AR125: 4 | AT125: K | AU125: 2 | AY125: ROZPOCET | BE125: =IF(U125="základná",N125,0) -> 0 | BF125: =IF(U125="znížená",N125,0) -> 0 | BG125: =IF(U125="zákl. prenesená",N125,0) -> 0 | BH125: =IF(U125="zníž. prenesená",N125,0) -> 0 | BI125: =IF(U125="nulová",N125,0) -> 0 | BJ125: 2 | BK125: =ROUND(L125*K125,3) -> 0 | BL125: 4 | BM125: -959136401
C126: 3 | D126: K | E126: 132201101 | F126: Výkop ryhy do šírky 600 mm v horn.3 do 100 m3 | J126: m3 | K126: 56 | L126: 0 | N126: =ROUND(L126*K126,3) -> 0 | U126: znížená | W126: =V126*K126 -> 0 | X126: 0 | Y126: =X126*K126 -> 0 | Z126: 0 | AA126: =Z126*K126 -> 0 | AR126: 4 | AT126: K | AU126: 2 | AY126: ROZPOCET | BE126: =IF(U126="základná",N126,0) -> 0 | BF126: =IF(U126="znížená",N126,0) -> 0 | BG126: =IF(U126="zákl. prenesená",N126,0) -> 0 | BH126: =IF(U126="zníž. prenesená",N126,0) -> 0 | BI126: =IF(U126="nulová",N126,0) -> 0 | BJ126: 2 | BK126: =ROUND(L126*K126,3) -> 0 | BL126: 4 | BM126: 1274523792
C127: 4 | D127: K | E127: 132201109 | F127: Príplatok k cene za lepivosť pri hĺbení rýh šírky do 600 mm zapažených i nezapažených s urovnaním dna v hornine 3 | J127: m3 | K127: 56 | L127: 0 | N127: =ROUND(L127*K127,3) -> 0 | U127: znížená | W127: =V127*K127 -> 0 | X127: 0 | Y127: =X127*K127 -> 0 | Z127: 0 | AA127: =Z127*K127 -> 0 | AR127: 4 | AT127: K | AU127: 2 | AY127: ROZPOCET | BE127: =IF(U127="základná",N127,0) -> 0 | BF127: =IF(U127="znížená",N127,0) -> 0 | BG127: =IF(U127="zákl. prenesená",N127,0) -> 0 | BH127: =IF(U127="zníž. prenesená",N127,0) -> 0 | BI127: =IF(U127="nulová",N127,0) -> 0 | BJ127: 2 | BK127: =ROUND(L127*K127,3) -> 0 | BL127: 4 | BM127: -1968706479
C128: 5 | D128: K | E128: 162501102 | F128: Vodorovné premiestnenie výkopku po spevnenej ceste z horniny tr.1-4, do 100 m3 na vzdialenosť do 3000 m vratane likvidácie | J128: m3 | K128: 56 | L128: 0 | N128: =ROUND(L128*K128,3) -> 0 | U128: znížená | W128: =V128*K128 -> 0 | X128: 0 | Y128: =X128*K128 -> 0 | Z128: 0 | AA128: =Z128*K128 -> 0 | AR128: 4 | AT128: K | AU128: 2 | AY128: ROZPOCET | BE128: =IF(U128="základná",N128,0) -> 0 | BF128: =IF(U128="znížená",N128,0) -> 0 | BG128: =IF(U128="zákl. prenesená",N128,0) -> 0 | BH128: =IF(U128="zníž. prenesená",N128,0) -> 0 | BI128: =IF(U128="nulová",N128,0) -> 0 | BJ128: 2 | BK128: =ROUND(L128*K128,3) -> 0 | BL128: 4 | BM128: 806034155
D129: 5 - Komunikácie | N129: =BK129 -> 0 | W129: =SUM(W130:W132) -> 0 | Y129: =SUM(Y130:Y132) -> 155.69085 | AA129: =SUM(AA130:AA132) -> 0 | AR129: 1 | AT129: D | AU129: 1 | AY129: ROZPOCET | BK129: =SUM(BK130:BK132) -> 0
C130: 16 | D130: K | E130: 572774111 | F130: Vyrovnanie povrchu doterajších krytov asfaltovou zmesou pre asfaltový koberec veľmi tenký BBTM hr. od 15 do 20 mm | J130: m2 | K130: 1015 | L130: 0 | N130: =ROUND(L130*K130,3) -> 0 | U130: znížená | W130: =V130*K130 -> 0 | X130: 0.04895 | Y130: =X130*K130 -> 49.68425 | Z130: 0 | AA130: =Z130*K130 -> 0 | AR130: 4 | AT130: K | AU130: 2 | AY130: ROZPOCET | BE130: =IF(U130="základná",N130,0) -> 0 | BF130: =IF(U130="znížená",N130,0) -> 0 | BG130: =IF(U130="zákl. prenesená",N130,0) -> 0 | BH130: =IF(U130="zníž. prenesená",N130,0) -> 0 | BI130: =IF(U130="nulová",N130,0) -> 0 | BJ130: 2 | BK130: =ROUND(L130*K130,3) -> 0 | BL130: 4 | BM130: -1837999352
C131: 7 | D131: K | E131: 573211111 | F131: Postrek asfaltový spojovací bez posypu kamenivom z asfaltu cestného v množstve od 0,50 do 0,70 kg/m2 | J131: m2 | K131: 1015 | L131: 0 | N131: =ROUND(L131*K131,3) -> 0 | U131: znížená | W131: =V131*K131 -> 0 | X131: 0.00071 | Y131: =X131*K131 -> 0.72065 | Z131: 0 | AA131: =Z131*K131 -> 0 | AR131: 4 | AT131: K | AU131: 2 | AY131: ROZPOCET | BE131: =IF(U131="základná",N131,0) -> 0 | BF131: =IF(U131="znížená",N131,0) -> 0 | BG131: =IF(U131="zákl. prenesená",N131,0) -> 0 | BH131: =IF(U131="zníž. prenesená",N131,0) -> 0 | BI131: =IF(U131="nulová",N131,0) -> 0 | BJ131: 2 | BK131: =ROUND(L131*K131,3) -> 0 | BL131: 4 | BM131: 280567902
C132: 8 | D132: K | E132: 577134111 | F132: Asfaltový betón vrstva obrusná AC 8 O v pruhu š. do 3 m z nemodifik. asfaltu tr. II, po zhutnení hr. 40 mm | J132: m2 | K132: 1015 | L132: 0 | N132: =ROUND(L132*K132,3) -> 0 | U132: znížená | W132: =V132*K132 -> 0 | X132: 0.10373 | Y132: =X132*K132 -> 105.28595 | Z132: 0 | AA132: =Z132*K132 -> 0 | AR132: 4 | AT132: K | AU132: 2 | AY132: ROZPOCET | BE132: =IF(U132="základná",N132,0) -> 0 | BF132: =IF(U132="znížená",N132,0) -> 0 | BG132: =IF(U132="zákl. prenesená",N132,0) -> 0 | BH132: =IF(U132="zníž. prenesená",N132,0) -> 0 | BI132: =IF(U132="nulová",N132,0) -> 0 | BJ132: 2 | BK132: =ROUND(L132*K132,3) -> 0 | BL132: 4 | BM132: -1211831499
D133: 9 - Ostatné konštrukcie a práce-búranie | N133: =BK133 -> 0 | W133: =SUM(W134:W137) -> 0 | Y133: =SUM(Y134:Y137) -> 194.87975 | AA133: =SUM(AA134:AA137) -> 0 | AR133: 1 | AT133: D | AU133: 1 | AY133: ROZPOCET | BK133: =SUM(BK134:BK137) -> 0
C134: 9 | D134: K | E134: 917762111 | F134: Osadenie chodník. obrubníka betónového ležatého do lôžka z betónu prosteho tr. C 12/15 s bočnou oporou | J134: m | K134: 475 | L134: 0 | N134: =ROUND(L134*K134,3) -> 0 | U134: znížená | W134: =V134*K134 -> 0 | X134: 0.16453 | Y134: =X134*K134 -> 78.15175 | Z134: 0 | AA134: =Z134*K134 -> 0 | AR134: 4 | AT134: K | AU134: 2 | AY134: ROZPOCET | BE134: =IF(U134="základná",N134,0) -> 0 | BF134: =IF(U134="znížená",N134,0) -> 0 | BG134: =IF(U134="zákl. prenesená",N134,0) -> 0 | BH134: =IF(U134="zníž. prenesená",N134,0) -> 0 | BI134: =IF(U134="nulová",N134,0) -> 0 | BJ134: 2 | BK134: =ROUND(L134*K134,3) -> 0 | BL134: 4 | BM134: 1666414020
C135: 10 | D135: M | E135: 592170003500 | F135: Obrubník rovný, lxšxv 1000x100x200 mm, sivá | J135: ks | K135: 479.75 | L135: 0 | N135: =ROUND(L135*K135,3) -> 0 | U135: znížená | W135: =V135*K135 -> 0 | X135: 0.048 | Y135: =X135*K135 -> 23.028 | Z135: 0 | AA135: =Z135*K135 -> 0 | AR135: 8 | AT135: M | AU135: 2 | AY135: ROZPOCET | BE135: =IF(U135="základná",N135,0) -> 0 | BF135: =IF(U135="znížená",N135,0) -> 0 | BG135: =IF(U135="zákl. prenesená",N135,0) -> 0 | BH135: =IF(U135="zníž. prenesená",N135,0) -> 0 | BI135: =IF(U135="nulová",N135,0) -> 0 | BJ135: 2 | BK135: =ROUND(L135*K135,3) -> 0 | BL135: 4 | BM135: 1044637422
C136: 11 | D136: K | E136: 918101112 | F136: Lôžko pod obrubníky, krajníky alebo obruby z dlažob. kociek z betónu prostého tr. C 16/20 | J136: m3 | K136: 42.3 | L136: 0 | N136: =ROUND(L136*K136,3) -> 0 | U136: znížená | W136: =V136*K136 -> 0 | X136: 2.21513 | Y136: =X136*K136 -> 93.699999 | Z136: 0 | AA136: =Z136*K136 -> 0 | AR136: 4 | AT136: K | AU136: 2 | AY136: ROZPOCET | BE136: =IF(U136="základná",N136,0) -> 0 | BF136: =IF(U136="znížená",N136,0) -> 0 | BG136: =IF(U136="zákl. prenesená",N136,0) -> 0 | BH136: =IF(U136="zníž. prenesená",N136,0) -> 0 | BI136: =IF(U136="nulová",N136,0) -> 0 | BJ136: 2 | BK136: =ROUND(L136*K136,3) -> 0 | BL136: 4 | BM136: -1397503083
C137: 12 | D137: K | E137: 979084216 | F137: Vodorovná doprava vybúraných hmôt po suchu bez naloženia, ale so zložením na vzdialenosť do 5 km vratane likvidácie | J137: t | K137: 197.055 | L137: 0 | N137: =ROUND(L137*K137,3) -> 0 | U137: znížená | W137: =V137*K137 -> 0 | X137: 0 | Y137: =X137*K137 -> 0 | Z137: 0 | AA137: =Z137*K137 -> 0 | AR137: 4 | AT137: K | AU137: 2 | AY137: ROZPOCET | BE137: =IF(U137="základná",N137,0) -> 0 | BF137: =IF(U137="znížená",N137,0) -> 0 | BG137: =IF(U137="zákl. prenesená",N137,0) -> 0 | BH137: =IF(U137="zníž. prenesená",N137,0) -> 0 | BI137: =IF(U137="nulová",N137,0) -> 0 | BJ137: 2 | BK137: =ROUND(L137*K137,3) -> 0 | BL137: 4 | BM137: 689538671
D138: 99 - Presun hmôt HSV | N138: =BK138 -> 0 | W138: =W139 -> 0 | Y138: =Y139 -> 0 | AA138: =AA139 -> 0 | AR138: 1 | AT138: D | AU138: 1 | AY138: ROZPOCET | BK138: =BK139 -> 0
C139: 15 | D139: K | E139: 998225111 | F139: Presun hmôt pre pozemnú komunikáciu a letisko s krytom asfaltovým akejkoľvek dĺžky objektu | J139: t | K139: 356.417 | L139: 0 | N139: =ROUND(L139*K139,3) -> 0 | U139: znížená | W139: =V139*K139 -> 0 | X139: 0 | Y139: =X139*K139 -> 0 | Z139: 0 | AA139: =Z139*K139 -> 0 | AR139: 4 | AT139: K | AU139: 2 | AY139: ROZPOCET | BE139: =IF(U139="základná",N139,0) -> 0 | BF139: =IF(U139="znížená",N139,0) -> 0 | BG139: =IF(U139="zákl. prenesená",N139,0) -> 0 | BH139: =IF(U139="zníž. prenesená",N139,0) -> 0 | BI139: =IF(U139="nulová",N139,0) -> 0 | BJ139: 2 | BK139: =ROUND(L139*K139,3) -> 0 | BL139: 4 | BM139: 1857325329
D140: VP - Práce naviac | N140: =BK140 -> 0 | AT140: D | AU140: 0 | AY140: PN | BK140: =SUM(BK141:BK145) -> 0
D141: K | N141: =BK141 -> 0 | U141: znížená | AT141: PN | AU141: 1 | AY141: PN | BE141: =IF(U141="základná",N141,0) -> 0 | BF141: =IF(U141="znížená",N141,0) -> 0 | BG141: =IF(U141="zákl. prenesená",N141,0) -> 0 | BH141: =IF(U141="zníž. prenesená",N141,0) -> 0 | BI141: =IF(U141="nulová",N141,0) -> 0 | BJ141: 2 | BK141: =L141*K141 -> 0
D142: K | N142: =BK142 -> 0 | U142: znížená | AT142: PN | AU142: 1 | AY142: PN | BE142: =IF(U142="základná",N142,0) -> 0 | BF142: =IF(U142="znížená",N142,0) -> 0 | BG142: =IF(U142="zákl. prenesená",N142,0) -> 0 | BH142: =IF(U142="zníž. prenesená",N142,0) -> 0 | BI142: =IF(U142="nulová",N142,0) -> 0 | BJ142: 2 | BK142: =L142*K142 -> 0
D143: K | N143: =BK143 -> 0 | U143: znížená | AT143: PN | AU143: 1 | AY143: PN | BE143: =IF(U143="základná",N143,0) -> 0 | BF143: =IF(U143="znížená",N143,0) -> 0 | BG143: =IF(U143="zákl. prenesená",N143,0) -> 0 | BH143: =IF(U143="zníž. prenesená",N143,0) -> 0 | BI143: =IF(U143="nulová",N143,0) -> 0 | BJ143: 2 | BK143: =L143*K143 -> 0
D144: K | N144: =BK144 -> 0 | U144: znížená | AT144: PN | AU144: 1 | AY144: PN | BE144: =IF(U144="základná",N144,0) -> 0 | BF144: =IF(U144="znížená",N144,0) -> 0 | BG144: =IF(U144="zákl. prenesená",N144,0) -> 0 | BH144: =IF(U144="zníž. prenesená",N144,0) -> 0 | BI144: =IF(U144="nulová",N144,0) -> 0 | BJ144: 2 | BK144: =L144*K144 -> 0
D145: K | N145: =BK145 -> 0 | U145: znížená | AT145: PN | AU145: 1 | AY145: PN | BE145: =IF(U145="základná",N145,0) -> 0 | BF145: =IF(U145="znížená",N145,0) -> 0 | BG145: =IF(U145="zákl. prenesená",N145,0) -> 0 | BH145: =IF(U145="zníž. prenesená",N145,0) -> 0 | BI145: =IF(U145="nulová",N145,0) -> 0 | BJ145: 2 | BK145: =L145*K145 -> 0

Sheet 03 - Chodník trasa C
D1: Hárok obsahuje: | F1: 1) Krycí list rozpočtu | H1: 2) Rekapitulácia rozpočtu | L1: 3) Rozpočet | O1: Späť na hárok: | S1: Rekapitulácia stavby
C2: optimalizované pre tlač zostáv vo formáte A4 - na výšku | S2: >> skryté stĺpce << | AT2: {7a6d692f-972e-4297-9a86-7959183a683a}
AT3: 0
C4: KRYCÍ LIST ROZPOČTU | T4: v --- nižšie sa nachádzajú doplnkové a pomocné údaje k zostavám --- v | AT4: False
D6: Stavba: | F6: ='Rekapitulácia stavby'!K6 -> Rekonštrukcia chodníkov v Historickom Mestskom parku
D7: Objekt: | F7: 03 - Chodník trasa C
D8: JKSO: | M8: KS:
D9: Miesto: | F9: Trebišov | M9: Dátum: | O9: ='Rekapitulácia stavby'!AN8 -> Vyplň údaj
D11: Objednávateľ: | M11: IČO:
E12: Mesto Trebišov | M12: IČO DPH:
D14: Zhotoviteľ: | M14: IČO: | O14: =IF('Rekapitulácia stavby'!AN13="","",'Rekapitulácia stavby'!AN13) -> Vyplň údaj
E15: =IF('Rekapitulácia stavby'!E14="","",'Rekapitulácia stavby'!E14) -> Vyplň údaj | M15: IČO DPH: | O15: =IF('Rekapitulácia stavby'!AN14="","",'Rekapitulácia stavby'!AN14) -> Vyplň údaj
D17: Projektant: | M17: IČO: | O17: =IF('Rekapitulácia stavby'!AN16="","",'Rekapitulácia stavby'!AN16)
E18: =IF('Rekapitulácia stavby'!E17="","",'Rekapitulácia stavby'!E17) | M18: IČO DPH: | O18: =IF('Rekapitulácia stavby'!AN17="","",'Rekapitulácia stavby'!AN17)
D20: Spracovateľ: | M20: IČO: | O20: =IF('Rekapitulácia stavby'!AN19="","",'Rekapitulácia stavby'!AN19)
E21: =IF('Rekapitulácia stavby'!E20="","",'Rekapitulácia stavby'!E20) | M21: IČO DPH: | O21: =IF('Rekapitulácia stavby'!AN20="","",'Rekapitulácia stavby'!AN20)
D23: Poznámka:
D27: Náklady z rozpočtu | M27: =N88 -> 0
D28: Ostatné náklady | M28: =N96 -> 0
D30: Cena bez DPH | M30: =ROUND(M27+M28,2) -> 0
D32: DPH | E32: základná | F32: 0.2 | G32: z | H32: =ROUND((((SUM(BE96:BE103)+SUM(BE121:BE132))+SUM(BE134:BE138))),2) -> 0 | M32: =ROUND(((ROUND((SUM(BE96:BE103)+SUM(BE121:BE132)), 2)*F32)+SUM(BE134:BE138)*F32),2) -> 0
E33: znížená | F33: 0.2 | G33: z | H33: =ROUND((((SUM(BF96:BF103)+SUM(BF121:BF132))+SUM(BF134:BF138))),2) -> 0 | M33: =ROUND(((ROUND((SUM(BF96:BF103)+SUM(BF121:BF132)), 2)*F33)+SUM(BF134:BF138)*F33),2) -> 0
E34: zákl. prenesená | F34: 0.2 | G34: z | H34: =ROUND((((SUM(BG96:BG103)+SUM(BG121:BG132))+SUM(BG134:BG138))),2) -> 0 | M34: 0
E35: zníž. prenesená | F35: 0.2 | G35: z | H35: =ROUND((((SUM(BH96:BH103)+SUM(BH121:BH132))+SUM(BH134:BH138))),2) -> 0 | M35: 0
E36: nulová | F36: 0 | G36: z | H36: =ROUND((((SUM(BI96:BI103)+SUM(BI121:BI132))+SUM(BI134:BI138))),2) -> 0 | M36: 0
D38: Cena s DPH | G38: v | H38: EUR | L38: =SUM(M30:M36) -> 0
D50: Projektant | J50: Spracovateľ
D59: Dátum a podpis: | G59: Pečiatka | J59: Dátum a podpis: | N59: Pečiatka
D61: Objednávateľ | J61: Zhotoviteľ
D70: Dátum a podpis: | G70: Pečiatka | J70: Dátum a podpis: | N70: Pečiatka
C76: REKAPITULÁCIA ROZPOČTU
C78: Stavba: | F78: =F6 -> Rekonštrukcia chodníkov v Historickom Mestskom parku
C79: Objekt: | F79: =F7 -> 03 - Chodník trasa C
C81: Miesto: | F81: =F9 -> Trebišov | K81: Dátum: | M81: =IF(O9="","",O9) -> Vyplň údaj
C83: Objednávateľ: | F83: =E12 -> Mesto Trebišov | K83: Projektant: | M83: =E18
C84: Zhotoviteľ: | F84: =IF(E15="","",E15) -> Vyplň údaj | K84: Spracovateľ: | M84: =E21
C86: Kód - Popis | N86: Cena celkom [EUR]
C88: 1) Náklady z rozpočtu | N88: =N121 -> 0 | AU88: -1
D89: HSV - Práce a dodávky HSV | N89: =N122 -> 0
D90: 1 - Zemné práce | N90: =N123 -> 0
D91: 5 - Komunikácie | N91: =N125 -> 0
D92: 9 - Ostatné konštrukcie a práce-búranie | N92: =N129 -> 0
D93: 99 - Presun hmôt HSV | N93: =N131 -> 0
D94: VP - Práce naviac | N94: =N133 -> 0
C96: 2) Ostatné náklady | N96: =ROUND(N97+N98+N99+N100+N101+N102,2) -> 0 | U96: DPH
D97: Zariad. staveniska | N97: =ROUND(N88*T97,2) -> 0 | U97: znížená | AY97: VRN | BE97: =IF(U97="základná",N97,0) -> 0 | BF97: =IF(U97="znížená",N97,0) -> 0 | BG97: =IF(U97="zákl. prenesená",N97,0) -> 0 | BH97: =IF(U97="zníž. prenesená",N97,0) -> 0 | BI97: =IF(U97="nulová",N97,0) -> 0 | BJ97: 2
D98: Mimostav. doprava | N98: =ROUND(N88*T98,2) -> 0 | U98: znížená | AY98: VRN | BE98: =IF(U98="základná",N98,0) -> 0 | BF98: =IF(U98="znížená",N98,0) -> 0 | BG98: =IF(U98="zákl. prenesená",N98,0) -> 0 | BH98: =IF(U98="zníž. prenesená",N98,0) -> 0 | BI98: =IF(U98="nulová",N98,0) -> 0 | BJ98: 2
D99: Územné vplyvy | N99: =ROUND(N88*T99,2) -> 0 | U99: znížená | AY99: VRN | BE99: =IF(U99="základná",N99,0) -> 0 | BF99: =IF(U99="znížená",N99,0) -> 0 | BG99: =IF(U99="zákl. prenesená",N99,0) -> 0 | BH99: =IF(U99="zníž. prenesená",N99,0) -> 0 | BI99: =IF(U99="nulová",N99,0) -> 0 | BJ99: 2
D100: Prevádzkové vplyvy | N100: =ROUND(N88*T100,2) -> 0 | U100: znížená | AY100: VRN | BE100: =IF(U100="základná",N100,0) -> 0 | BF100: =IF(U100="znížená",N100,0) -> 0 | BG100: =IF(U100="zákl. prenesená",N100,0) -> 0 | BH100: =IF(U100="zníž. prenesená",N100,0) -> 0 | BI100: =IF(U100="nulová",N100,0) -> 0 | BJ100: 2
D101: Ostatné | N101: =ROUND(N88*T101,2) -> 0 | U101: znížená | AY101: VRN | BE101: =IF(U101="základná",N101,0) -> 0 | BF101: =IF(U101="znížená",N101,0) -> 0 | BG101: =IF(U101="zákl. prenesená",N101,0) -> 0 | BH101: =IF(U101="zníž. prenesená",N101,0) -> 0 | BI101: =IF(U101="nulová",N101,0) -> 0 | BJ101: 2
D102: Kompletačná činnosť | N102: =ROUND(N88*T102,2) -> 0 | U102: znížená | AY102: KOMPLETACNA | BE102: =IF(U102="základná",N102,0) -> 0 | BF102: =IF(U102="znížená",N102,0) -> 0 | BG102: =IF(U102="zákl. prenesená",N102,0) -> 0 | BH102: =IF(U102="zníž. prenesená",N102,0) -> 0 | BI102: =IF(U102="nulová",N102,0) -> 0 | BJ102: 2
C104: Celkové náklady za stavbu 1) + 2) | L104: =ROUND(SUM(N88+N96),2) -> 0
C110: ROZPOČET
C112: Stavba: | F112: =F6 -> Rekonštrukcia chodníkov v Historickom Mestskom parku
C113: Objekt: | F113: =F7 -> 03 - Chodník trasa C
C115: Miesto: | F115: =F9 -> Trebišov | K115: Dátum: | M115: =IF(O9="","",O9) -> Vyplň údaj
C117: Objednávateľ: | F117: =E12 -> Mesto Trebišov | K117: Projektant: | M117: =E18
C118: Zhotoviteľ: | F118: =IF(E15="","",E15) -> Vyplň údaj | K118: Spracovateľ: | M118: =E21
C120: PČ | D120: Typ | E120: Kód | F120: Popis | J120: MJ | K120: Množstvo | L120: J.cena [EUR] | N120: Cena celkom [EUR] | T120: Poznámka | U120: DPH | V120: J. Nh [h] | W120: Nh celkom [h] | X120: J. hmotnosť_x000D_ [t] | Y120: Hmotnosť_x000D_ celkom [t] | Z120: J. suť [t] | AA120: Suť Celkom [t]
C121: Náklady z rozpočtu | N121: =BK121 -> 0 | W121: =W122+W133 -> 0 | Y121: =Y122+Y133 -> 302.55565 | AA121: =AA122+AA133 -> 200.66 | AT121: D | AU121: -1 | BK121: =BK122+BK133 -> 0
D122: HSV - Práce a dodávky HSV | N122: =BK122 -> 0 | W122: =W123+W125+W129+W131 -> 0 | Y122: =Y123+Y125+Y129+Y131 -> 302.55565 | AA122: =AA123+AA125+AA129+AA131 -> 200.66 | AR122: 1 | AT122: D | AU122: 0 | AY122: ROZPOCET | BK122: =BK123+BK125+BK129+BK131 -> 0
D123: 1 - Zemné práce | N123: =BK123 -> 0 | W123: =W124 -> 0 | Y123: =Y124 -> 9.1008 | AA123: =AA124 -> 200.66 | AR123: 1 | AT123: D | AU123: 1 | AY123: ROZPOCET | BK123: =BK124 -> 0
C124: 1 | D124: K | E124: 113152130 | F124: Frézovanie asf. podkladu alebo krytu bez prek., plochy do 500 m2, pruh š. do 0,5 m, hr. 50 mm 0,127 t | J124: m2 | K124: 1580 | L124: 0 | N124: =ROUND(L124*K124,3) -> 0 | U124: znížená | W124: =V124*K124 -> 0 | X124: 0.00576 | Y124: =X124*K124 -> 9.1008 | Z124: 0.127 | AA124: =Z124*K124 -> 200.66 | AR124: 4 | AT124: K | AU124: 2 | AY124: ROZPOCET | BE124: =IF(U124="základná",N124,0) -> 0 | BF124: =IF(U124="znížená",N124,0) -> 0 | BG124: =IF(U124="zákl. prenesená",N124,0) -> 0 | BH124: =IF(U124="zníž. prenesená",N124,0) -> 0 | BI124: =IF(U124="nulová",N124,0) -> 0 | BJ124: 2 | BK124: =ROUND(L124*K124,3) -> 0 | BL124: 4 | BM124: -342860955
D125: 5 - Komunikácie | N125: =BK125 -> 0 | W125: =SUM(W126:W128) -> 0 | Y125: =SUM(Y126:Y128) -> 293.45485 | AA125: =SUM(AA126:AA128) -> 0 | AR125: 1 | AT125: D | AU125: 1 | AY125: ROZPOCET | BK125: =SUM(BK126:BK128) -> 0
C126: 10 | D126: K | E126: 572774112 | F126: Vyrovnanie povrchu doterajších krytov asfaltovou zmesou pre asfaltový koberec veľmi tenký BBTM hr. nad 20 do 30 mm | J126: m2 | K126: 1653 | L126: 0 | N126: =ROUND(L126*K126,3) -> 0 | U126: znížená | W126: =V126*K126 -> 0 | X126: 0.07312 | Y126: =X126*K126 -> 120.86736 | Z126: 0 | AA126: =Z126*K126 -> 0 | AR126: 4 | AT126: K | AU126: 2 | AY126: ROZPOCET | BE126: =IF(U126="základná",N126,0) -> 0 | BF126: =IF(U126="znížená",N126,0) -> 0 | BG126: =IF(U126="zákl. prenesená",N126,0) -> 0 | BH126: =IF(U126="zníž. prenesená",N126,0) -> 0 | BI126: =IF(U126="nulová",N126,0) -> 0 | BJ126: 2 | BK126: =ROUND(L126*K126,3) -> 0 | BL126: 4 | BM126: -1168003145
C127: 3 | D127: K | E127: 573211111 | F127: Postrek asfaltový spojovací bez posypu kamenivom z asfaltu cestného v množstve od 0,50 do 0,70 kg/m2 | J127: m2 | K127: 1580 | L127: 0 | N127: =ROUND(L127*K127,3) -> 0 | U127: znížená | W127: =V127*K127 -> 0 | X127: 0.00071 | Y127: =X127*K127 -> 1.1218 | Z127: 0 | AA127: =Z127*K127 -> 0 | AR127: 4 | AT127: K | AU127: 2 | AY127: ROZPOCET | BE127: =IF(U127="základná",N127,0) -> 0 | BF127: =IF(U127="znížená",N127,0) -> 0 | BG127: =IF(U127="zákl. prenesená",N127,0) -> 0 | BH127: =IF(U127="zníž. prenesená",N127,0) -> 0 | BI127: =IF(U127="nulová",N127,0) -> 0 | BJ127: 2 | BK127: =ROUND(L127*K127,3) -> 0 | BL127: 4 | BM127: 280567902
C128: 4 | D128: K | E128: 577134111 | F128: Asfaltový betón vrstva obrusná AC 8 O v pruhu š. do 3 m z nemodifik. asfaltu tr. II, po zhutnení hr. 40 mm | J128: m2 | K128: 1653 | L128: 0 | N128: =ROUND(L128*K128,3) -> 0 | U128: znížená | W128: =V128*K128 -> 0 | X128: 0.10373 | Y128: =X128*K128 -> 171.46569 | Z128: 0 | AA128: =Z128*K128 -> 0 | AR128: 4 | AT128: K | AU128: 2 | AY128: ROZPOCET | BE128: =IF(U128="základná",N128,0) -> 0 | BF128: =IF(U128="znížená",N128,0) -> 0 | BG128: =IF(U128="zákl. prenesená",N128,0) -> 0 | BH128: =IF(U128="zníž. prenesená",N128,0) -> 0 | BI128: =IF(U128="nulová",N128,0) -> 0 | BJ128: 2 | BK128: =ROUND(L128*K128,3) -> 0 | BL128: 4 | BM128: -1211831499
D129: 9 - Ostatné konštrukcie a práce-búranie | N129: =BK129 -> 0 | W129: =W130 -> 0 | Y129: =Y130 -> 0 | AA129: =AA130 -> 0 | AR129: 1 | AT129: D | AU129: 1 | AY129: ROZPOCET | BK129: =BK130 -> 0
C130: 5 | D130: K | E130: 979084216 | F130: Vodorovná doprava vybúraných hmôt po suchu bez naloženia, ale so zložením na vzdialenosť do 5 km vratane likvidácie | J130: t | K130: 200.66 | L130: 0 | N130: =ROUND(L130*K130,3) -> 0 | U130: znížená | W130: =V130*K130 -> 0 | X130: 0 | Y130: =X130*K130 -> 0 | Z130: 0 | AA130: =Z130*K130 -> 0 | AR130: 4 | AT130: K | AU130: 2 | AY130: ROZPOCET | BE130: =IF(U130="základná",N130,0) -> 0 | BF130: =IF(U130="znížená",N130,0) -> 0 | BG130: =IF(U130="zákl. prenesená",N130,0) -> 0 | BH130: =IF(U130="zníž. prenesená",N130,0) -> 0 | BI130: =IF(U130="nulová",N130,0) -> 0 | BJ130: 2 | BK130: =ROUND(L130*K130,3) -> 0 | BL130: 4 | BM130: 689538671
D131: 99 - Presun hmôt HSV | N131: =BK131 -> 0 | W131: =W132 -> 0 | Y131: =Y132 -> 0 | AA131: =AA132 -> 0 | AR131: 1 | AT131: D | AU131: 1 | AY131: ROZPOCET | BK131: =BK132 -> 0
C132: 8 | D132: K | E132: 998225111 | F132: Presun hmôt pre pozemnú komunikáciu a letisko s krytom asfaltovým akejkoľvek dĺžky objektu | J132: t | K132: 302.556 | L132: 0 | N132: =ROUND(L132*K132,3) -> 0 | U132: znížená | W132: =V132*K132 -> 0 | X132: 0 | Y132: =X132*K132 -> 0 | Z132: 0 | AA132: =Z132*K132 -> 0 | AR132: 4 | AT132: K | AU132: 2 | AY132: ROZPOCET | BE132: =IF(U132="základná",N132,0) -> 0 | BF132: =IF(U132="znížená",N132,0) -> 0 | BG132: =IF(U132="zákl. prenesená",N132,0) -> 0 | BH132: =IF(U132="zníž. prenesená",N132,0) -> 0 | BI132: =IF(U132="nulová",N132,0) -> 0 | BJ132: 2 | BK132: =ROUND(L132*K132,3) -> 0 | BL132: 4 | BM132: 1857325329
D133: VP - Práce naviac | N133: =BK133 -> 0 | AT133: D | AU133: 0 | AY133: PN | BK133: =SUM(BK134:BK138) -> 0
D134: K | N134: =BK134 -> 0 | U134: znížená | AT134: PN | AU134: 1 | AY134: PN | BE134: =IF(U134="základná",N134,0) -> 0 | BF134: =IF(U134="znížená",N134,0) -> 0 | BG134: =IF(U134="zákl. prenesená",N134,0) -> 0 | BH134: =IF(U134="zníž. prenesená",N134,0) -> 0 | BI134: =IF(U134="nulová",N134,0) -> 0 | BJ134: 2 | BK134: =L134*K134 -> 0
D135: K | N135: =BK135 -> 0 | U135: znížená | AT135: PN | AU135: 1 | AY135: PN | BE135: =IF(U135="základná",N135,0) -> 0 | BF135: =IF(U135="znížená",N135,0) -> 0 | BG135: =IF(U135="zákl. prenesená",N135,0) -> 0 | BH135: =IF(U135="zníž. prenesená",N135,0) -> 0 | BI135: =IF(U135="nulová",N135,0) -> 0 | BJ135: 2 | BK135: =L135*K135 -> 0
D136: K | N136: =BK136 -> 0 | U136: znížená | AT136: PN | AU136: 1 | AY136: PN | BE136: =IF(U136="základná",N136,0) -> 0 | BF136: =IF(U136="znížená",N136,0) -> 0 | BG136: =IF(U136="zákl. prenesená",N136,0) -> 0 | BH136: =IF(U136="zníž. prenesená",N136,0) -> 0 | BI136: =IF(U136="nulová",N136,0) -> 0 | BJ136: 2 | BK136: =L136*K136 -> 0
D137: K | N137: =BK137 -> 0 | U137: znížená | AT137: PN | AU137: 1 | AY137: PN | BE137: =IF(U137="základná",N137,0) -> 0 | BF137: =IF(U137="znížená",N137,0) -> 0 | BG137: =IF(U137="zákl. prenesená",N137,0) -> 0 | BH137: =IF(U137="zníž. prenesená",N137,0) -> 0 | BI137: =IF(U137="nulová",N137,0) -> 0 | BJ137: 2 | BK137: =L137*K137 -> 0
D138: K | N138: =BK138 -> 0 | U138: znížená | AT138: PN | AU138: 1 | AY138: PN | BE138: =IF(U138="základná",N138,0) -> 0 | BF138: =IF(U138="znížená",N138,0) -> 0 | BG138: =IF(U138="zákl. prenesená",N138,0) -> 0 | BH138: =IF(U138="zníž. prenesená",N138,0) -> 0 | BI138: =IF(U138="nulová",N138,0) -> 0 | BJ138: 2 | BK138: =L138*K138 -> 0

Sheet 04 - Chodník trasa D1
D1: Hárok obsahuje: | F1: 1) Krycí list rozpočtu | H1: 2) Rekapitulácia rozpočtu | L1: 3) Rozpočet | O1: Späť na hárok: | S1: Rekapitulácia stavby
C2: optimalizované pre tlač zostáv vo formáte A4 - na výšku | S2: >> skryté stĺpce << | AT2: {a8c99a42-dc73-4c13-8154-1f3487ab904f}
AT3: 0
C4: KRYCÍ LIST ROZPOČTU | T4: v --- nižšie sa nachádzajú doplnkové a pomocné údaje k zostavám --- v | AT4: False
D6: Stavba: | F6: ='Rekapitulácia stavby'!K6 -> Rekonštrukcia chodníkov v Historickom Mestskom parku
D7: Objekt: | F7: 04 - Chodník trasa D1
D8: JKSO: | M8: KS:
D9: Miesto: | F9: Trebišov | M9: Dátum: | O9: ='Rekapitulácia stavby'!AN8 -> Vyplň údaj
D11: Objednávateľ: | M11: IČO:
E12: Mesto Trebišov | M12: IČO DPH:
D14: Zhotoviteľ: | M14: IČO: | O14: =IF('Rekapitulácia stavby'!AN13="","",'Rekapitulácia stavby'!AN13) -> Vyplň údaj
E15: =IF('Rekapitulácia stavby'!E14="","",'Rekapitulácia stavby'!E14) -> Vyplň údaj | M15: IČO DPH: | O15: =IF('Rekapitulácia stavby'!AN14="","",'Rekapitulácia stavby'!AN14) -> Vyplň údaj
D17: Projektant: | M17: IČO: | O17: =IF('Rekapitulácia stavby'!AN16="","",'Rekapitulácia stavby'!AN16)
E18: =IF('Rekapitulácia stavby'!E17="","",'Rekapitulácia stavby'!E17) | M18: IČO DPH: | O18: =IF('Rekapitulácia stavby'!AN17="","",'Rekapitulácia stavby'!AN17)
D20: Spracovateľ: | M20: IČO: | O20: =IF('Rekapitulácia stavby'!AN19="","",'Rekapitulácia stavby'!AN19)
E21: =IF('Rekapitulácia stavby'!E20="","",'Rekapitulácia stavby'!E20) | M21: IČO DPH: | O21: =IF('Rekapitulácia stavby'!AN20="","",'Rekapitulácia stavby'!AN20)
D23: Poznámka:
D27: Náklady z rozpočtu | M27: =N88 -> 0
D28: Ostatné náklady | M28: =N96 -> 0
D30: Cena bez DPH | M30: =ROUND(M27+M28,2) -> 0
D32: DPH | E32: základná | F32: 0.2 | G32: z | H32: =ROUND((((SUM(BE96:BE103)+SUM(BE121:BE132))+SUM(BE134:BE138))),2) -> 0 | M32: =ROUND(((ROUND((SUM(BE96:BE103)+SUM(BE121:BE132)), 2)*F32)+SUM(BE134:BE138)*F32),2) -> 0
E33: znížená | F33: 0.2 | G33: z | H33: =ROUND((((SUM(BF96:BF103)+SUM(BF121:BF132))+SUM(BF134:BF138))),2) -> 0 | M33: =ROUND(((ROUND((SUM(BF96:BF103)+SUM(BF121:BF132)), 2)*F33)+SUM(BF134:BF138)*F33),2) -> 0
E34: zákl. prenesená | F34: 0.2 | G34: z | H34: =ROUND((((SUM(BG96:BG103)+SUM(BG121:BG132))+SUM(BG134:BG138))),2) -> 0 | M34: 0
E35: zníž. prenesená | F35: 0.2 | G35: z | H35: =ROUND((((SUM(BH96:BH103)+SUM(BH121:BH132))+SUM(BH134:BH138))),2) -> 0 | M35: 0
E36: nulová | F36: 0 | G36: z | H36: =ROUND((((SUM(BI96:BI103)+SUM(BI121:BI132))+SUM(BI134:BI138))),2) -> 0 | M36: 0
D38: Cena s DPH | G38: v | H38: EUR | L38: =SUM(M30:M36) -> 0
D50: Projektant | J50: Spracovateľ
D59: Dátum a podpis: | G59: Pečiatka | J59: Dátum a podpis: | N59: Pečiatka
D61: Objednávateľ | J61: Zhotoviteľ
D70: Dátum a podpis: | G70: Pečiatka | J70: Dátum a podpis: | N70: Pečiatka
C76: REKAPITULÁCIA ROZPOČTU
C78: Stavba: | F78: =F6 -> Rekonštrukcia chodníkov v Historickom Mestskom parku
C79: Objekt: | F79: =F7 -> 04 - Chodník trasa D1
C81: Miesto: | F81: =F9 -> Trebišov | K81: Dátum: | M81: =IF(O9="","",O9) -> Vyplň údaj
C83: Objednávateľ: | F83: =E12 -> Mesto Trebišov | K83: Projektant: | M83: =E18
C84: Zhotoviteľ: | F84: =IF(E15="","",E15) -> Vyplň údaj | K84: Spracovateľ: | M84: =E21
C86: Kód - Popis | N86: Cena celkom [EUR]
C88: 1) Náklady z rozpočtu | N88: =N121 -> 0 | AU88: -1
D89: HSV - Práce a dodávky HSV | N89: =N122 -> 0
D90: 1 - Zemné práce | N90: =N123 -> 0
D91: 5 - Komunikácie | N91: =N125 -> 0
D92: 9 - Ostatné konštrukcie a práce-búranie | N92: =N129 -> 0
D93: 99 - Presun hmôt HSV | N93: =N131 -> 0
D94: VP - Práce naviac | N94: =N133 -> 0
C96: 2) Ostatné náklady | N96: =ROUND(N97+N98+N99+N100+N101+N102,2) -> 0 | U96: DPH
D97: Zariad. staveniska | N97: =ROUND(N88*T97,2) -> 0 | U97: znížená | AY97: VRN | BE97: =IF(U97="základná",N97,0) -> 0 | BF97: =IF(U97="znížená",N97,0) -> 0 | BG97: =IF(U97="zákl. prenesená",N97,0) -> 0 | BH97: =IF(U97="zníž. prenesená",N97,0) -> 0 | BI97: =IF(U97="nulová",N97,0) -> 0 | BJ97: 2
D98: Mimostav. doprava | N98: =ROUND(N88*T98,2) -> 0 | U98: znížená | AY98: VRN | BE98: =IF(U98="základná",N98,0) -> 0 | BF98: =IF(U98="znížená",N98,0) -> 0 | BG98: =IF(U98="zákl. prenesená",N98,0) -> 0 | BH98: =IF(U98="zníž. prenesená",N98,0) -> 0 | BI98: =IF(U98="nulová",N98,0) -> 0 | BJ98: 2
D99: Územné vplyvy | N99: =ROUND(N88*T99,2) -> 0 | U99: znížená | AY99: VRN | BE99: =IF(U99="základná",N99,0) -> 0 | BF99: =IF(U99="znížená",N99,0) -> 0 | BG99: =IF(U99="zákl. prenesená",N99,0) -> 0 | BH99: =IF(U99="zníž. prenesená",N99,0) -> 0 | BI99: =IF(U99="nulová",N99,0) -> 0 | BJ99: 2
D100: Prevádzkové vplyvy | N100: =ROUND(N88*T100,2) -> 0 | U100: znížená | AY100: VRN | BE100: =IF(U100="základná",N100,0) -> 0 | BF100: =IF(U100="znížená",N100,0) -> 0 | BG100: =IF(U100="zákl. prenesená",N100,0) -> 0 | BH100: =IF(U100="zníž. prenesená",N100,0) -> 0 | BI100: =IF(U100="nulová",N100,0) -> 0 | BJ100: 2
D101: Ostatné | N101: =ROUND(N88*T101,2) -> 0 | U101: znížená | AY101: VRN | BE101: =IF(U101="základná",N101,0) -> 0 | BF101: =IF(U101="znížená",N101,0) -> 0 | BG101: =IF(U101="zákl. prenesená",N101,0) -> 0 | BH101: =IF(U101="zníž. prenesená",N101,0) -> 0 | BI101: =IF(U101="nulová",N101,0) -> 0 | BJ101: 2
D102: Kompletačná činnosť | N102: =ROUND(N88*T102,2) -> 0 | U102: znížená | AY102: KOMPLETACNA | BE102: =IF(U102="základná",N102,0) -> 0 | BF102: =IF(U102="znížená",N102,0) -> 0 | BG102: =IF(U102="zákl. prenesená",N102,0) -> 0 | BH102: =IF(U102="zníž. prenesená",N102,0) -> 0 | BI102: =IF(U102="nulová",N102,0) -> 0 | BJ102: 2
C104: Celkové náklady za stavbu 1) + 2) | L104: =ROUND(SUM(N88+N96),2) -> 0
C110: ROZPOČET
C112: Stavba: | F112: =F6 -> Rekonštrukcia chodníkov v Historickom Mestskom parku
C113: Objekt: | F113: =F7 -> 04 - Chodník trasa D1
C115: Miesto: | F115: =F9 -> Trebišov | K115: Dátum: | M115: =IF(O9="","",O9) -> Vyplň údaj
C117: Objednávateľ: | F117: =E12 -> Mesto Trebišov | K117: Projektant: | M117: =E18
C118: Zhotoviteľ: | F118: =IF(E15="","",E15) -> Vyplň údaj | K118: Spracovateľ: | M118: =E21
C120: PČ | D120: Typ | E120: Kód | F120: Popis | J120: MJ | K120: Množstvo | L120: J.cena [EUR] | N120: Cena celkom [EUR] | T120: Poznámka | U120: DPH | V120: J. Nh [h] | W120: Nh celkom [h] | X120: J. hmotnosť_x000D_ [t] | Y120: Hmotnosť_x000D_ celkom [t] | Z120: J. suť [t] | AA120: Suť Celkom [t]
C121: Náklady z rozpočtu | N121: =BK121 -> 0 | W121: =W122+W133 -> 0 | Y121: =Y122+Y133 -> 101.06886 | AA121: =AA122+AA133 -> 3.048 | AT121: D | AU121: -1 | BK121: =BK122+BK133 -> 0
D122: HSV - Práce a dodávky HSV | N122: =BK122 -> 0 | W122: =W123+W125+W129+W131 -> 0 | Y122: =Y123+Y125+Y129+Y131 -> 101.06886 | AA122: =AA123+AA125+AA129+AA131 -> 3.048 | AR122: 1 | AT122: D | AU122: 0 | AY122: ROZPOCET | BK122: =BK123+BK125+BK129+BK131 -> 0
D123: 1 - Zemné práce | N123: =BK123 -> 0 | W123: =W124 -> 0 | Y123: =Y124 -> 0.13824 | AA123: =AA124 -> 3.048 | AR123: 1 | AT123: D | AU123: 1 | AY123: ROZPOCET | BK123: =BK124 -> 0
C124: 1 | D124: K | E124: 113152130 | F124: Frézovanie asf. podkladu alebo krytu bez prek., plochy do 500 m2, pruh š. do 0,5 m, hr. 50 mm 0,127 t | J124: m2 | K124: 24 | L124: 0 | N124: =ROUND(L124*K124,3) -> 0 | U124: znížená | W124: =V124*K124 -> 0 | X124: 0.00576 | Y124: =X124*K124 -> 0.13824 | Z124: 0.127 | AA124: =Z124*K124 -> 3.048 | AR124: 4 | AT124: K | AU124: 2 | AY124: ROZPOCET | BE124: =IF(U124="základná",N124,0) -> 0 | BF124: =IF(U124="znížená",N124,0) -> 0 | BG124: =IF(U124="zákl. prenesená",N124,0) -> 0 | BH124: =IF(U124="zníž. prenesená",N124,0) -> 0 | BI124: =IF(U124="nulová",N124,0) -> 0 | BJ124: 2 | BK124: =ROUND(L124*K124,3) -> 0 | BL124: 4 | BM124: -342860955
D125: 5 - Komunikácie | N125: =BK125 -> 0 | W125: =SUM(W126:W128) -> 0 | Y125: =SUM(Y126:Y128) -> 100.93062 | AA125: =SUM(AA126:AA128) -> 0 | AR125: 1 | AT125: D | AU125: 1 | AY125: ROZPOCET | BK125: =SUM(BK126:BK128) -> 0
C126: 9 | D126: K | E126: 572774111 | F126: Vyrovnanie povrchu doterajších krytov asfaltovou zmesou pre asfaltový koberec veľmi tenký BBTM hr. od 15 do 20 mm | J126: m2 | K126: 658 | L126: 0 | N126: =ROUND(L126*K126,3) -> 0 | U126: znížená | W126: =V126*K126 -> 0 | X126: 0.04895 | Y126: =X126*K126 -> 32.2091 | Z126: 0 | AA126: =Z126*K126 -> 0 | AR126: 4 | AT126: K | AU126: 2 | AY126: ROZPOCET | BE126: =IF(U126="základná",N126,0) -> 0 | BF126: =IF(U126="znížená",N126,0) -> 0 | BG126: =IF(U126="zákl. prenesená",N126,0) -> 0 | BH126: =IF(U126="zníž. prenesená",N126,0) -> 0 | BI126: =IF(U126="nulová",N126,0) -> 0 | BJ126: 2 | BK126: =ROUND(L126*K126,3) -> 0 | BL126: 4 | BM126: 2012344957
C127: 3 | D127: K | E127: 573211111 | F127: Postrek asfaltový spojovací bez posypu kamenivom z asfaltu cestného v množstve od 0,50 do 0,70 kg/m2 | J127: m2 | K127: 658 | L127: 0 | N127: =ROUND(L127*K127,3) -> 0 | U127: znížená | W127: =V127*K127 -> 0 | X127: 0.00071 | Y127: =X127*K127 -> 0.46718 | Z127: 0 | AA127: =Z127*K127 -> 0 | AR127: 4 | AT127: K | AU127: 2 | AY127: ROZPOCET | BE127: =IF(U127="základná",N127,0) -> 0 | BF127: =IF(U127="znížená",N127,0) -> 0 | BG127: =IF(U127="zákl. prenesená",N127,0) -> 0 | BH127: =IF(U127="zníž. prenesená",N127,0) -> 0 | BI127: =IF(U127="nulová",N127,0) -> 0 | BJ127: 2 | BK127: =ROUND(L127*K127,3) -> 0 | BL127: 4 | BM127: 280567902
C128: 4 | D128: K | E128: 577134111 | F128: Asfaltový betón vrstva obrusná AC 8 O v pruhu š. do 3 m z nemodifik. asfaltu tr. II, po zhutnení hr. 40 mm | J128: m2 | K128: 658 | L128: 0 | N128: =ROUND(L128*K128,3) -> 0 | U128: znížená | W128: =V128*K128 -> 0 | X128: 0.10373 | Y128: =X128*K128 -> 68.25434 | Z128: 0 | AA128: =Z128*K128 -> 0 | AR128: 4 | AT128: K | AU128: 2 | AY128: ROZPOCET | BE128: =IF(U128="základná",N128,0) -> 0 | BF128: =IF(U128="znížená",N128,0) -> 0 | BG128: =IF(U128="zákl. prenesená",N128,0) -> 0 | BH128: =IF(U128="zníž. prenesená",N128,0) -> 0 | BI128: =IF(U128="nulová",N128,0) -> 0 | BJ128: 2 | BK128: =ROUND(L128*K128,3) -> 0 | BL128: 4 | BM128: -1211831499
D129: 9 - Ostatné konštrukcie a práce-búranie | N129: =BK129 -> 0 | W129: =W130 -> 0 | Y129: =Y130 -> 0 | AA129: =AA130 -> 0 | AR129: 1 | AT129: D | AU129: 1 | AY129: ROZPOCET | BK129: =BK130 -> 0
C130: 5 | D130: K | E130: 979084216 | F130: Vodorovná doprava vybúraných hmôt po suchu bez naloženia, ale so zložením na vzdialenosť do 5 km vratane likvidácie | J130: t | K130: 3.048 | L130: 0 | N130: =ROUND(L130*K130,3) -> 0 | U130: znížená | W130: =V130*K130 -> 0 | X130: 0 | Y130: =X130*K130 -> 0 | Z130: 0 | AA130: =Z130*K130 -> 0 | AR130: 4 | AT130: K | AU130: 2 | AY130: ROZPOCET | BE130: =IF(U130="základná",N130,0) -> 0 | BF130: =IF(U130="znížená",N130,0) -> 0 | BG130: =IF(U130="zákl. prenesená",N130,0) -> 0 | BH130: =IF(U130="zníž. prenesená",N130,0) -> 0 | BI130: =IF(U130="nulová",N130,0) -> 0 | BJ130: 2 | BK130: =ROUND(L130*K130,3) -> 0 | BL130: 4 | BM130: 689538671
D131: 99 - Presun hmôt HSV | N131: =BK131 -> 0 | W131: =W132 -> 0 | Y131: =Y132 -> 0 | AA131: =AA132 -> 0 | AR131: 1 | AT131: D | AU131: 1 | AY131: ROZPOCET | BK131: =BK132 -> 0
C132: 8 | D132: K | E132: 998225111 | F132: Presun hmôt pre pozemnú komunikáciu a letisko s krytom asfaltovým akejkoľvek dĺžky objektu | J132: t | K132: 101.069 | L132: 0 | N132: =ROUND(L132*K132,3) -> 0 | U132: znížená | W132: =V132*K132 -> 0 | X132: 0 | Y132: =X132*K132 -> 0 | Z132: 0 | AA132: =Z132*K132 -> 0 | AR132: 4 | AT132: K | AU132: 2 | AY132: ROZPOCET | BE132: =IF(U132="základná",N132,0) -> 0 | BF132: =IF(U132="znížená",N132,0) -> 0 | BG132: =IF(U132="zákl. prenesená",N132,0) -> 0 | BH132: =IF(U132="zníž. prenesená",N132,0) -> 0 | BI132: =IF(U132="nulová",N132,0) -> 0 | BJ132: 2 | BK132: =ROUND(L132*K132,3) -> 0 | BL132: 4 | BM132: 1857325329
D133: VP - Práce naviac | N133: =BK133 -> 0 | AT133: D | AU133: 0 | AY133: PN | BK133: =SUM(BK134:BK138) -> 0
D134: K | N134: =BK134 -> 0 | U134: znížená | AT134: PN | AU134: 1 | AY134: PN | BE134: =IF(U134="základná",N134,0) -> 0 | BF134: =IF(U134="znížená",N134,0) -> 0 | BG134: =IF(U134="zákl. prenesená",N134,0) -> 0 | BH134: =IF(U134="zníž. prenesená",N134,0) -> 0 | BI134: =IF(U134="nulová",N134,0) -> 0 | BJ134: 2 | BK134: =L134*K134 -> 0
D135: K | N135: =BK135 -> 0 | U135: znížená | AT135: PN | AU135: 1 | AY135: PN | BE135: =IF(U135="základná",N135,0) -> 0 | BF135: =IF(U135="znížená",N135,0) -> 0 | BG135: =IF(U135="zákl. prenesená",N135,0) -> 0 | BH135: =IF(U135="zníž. prenesená",N135,0) -> 0 | BI135: =IF(U135="nulová",N135,0) -> 0 | BJ135: 2 | BK135: =L135*K135 -> 0
D136: K | N136: =BK136 -> 0 | U136: znížená | AT136: PN | AU136: 1 | AY136: PN | BE136: =IF(U136="základná",N136,0) -> 0 | BF136: =IF(U136="znížená",N136,0) -> 0 | BG136: =IF(U136="zákl. prenesená",N136,0) -> 0 | BH136: =IF(U136="zníž. prenesená",N136,0) -> 0 | BI136: =IF(U136="nulová",N136,0) -> 0 | BJ136: 2 | BK136: =L136*K136 -> 0
D137: K | N137: =BK137 -> 0 | U137: znížená | AT137: PN | AU137: 1 | AY137: PN | BE137: =IF(U137="základná",N137,0) -> 0 | BF137: =IF(U137="znížená",N137,0) -> 0 | BG137: =IF(U137="zákl. prenesená",N137,0) -> 0 | BH137: =IF(U137="zníž. prenesená",N137,0) -> 0 | BI137: =IF(U137="nulová",N137,0) -> 0 | BJ137: 2 | BK137: =L137*K137 -> 0
D138: K | N138: =BK138 -> 0 | U138: znížená | AT138: PN | AU138: 1 | AY138: PN | BE138: =IF(U138="základná",N138,0) -> 0 | BF138: =IF(U138="znížená",N138,0) -> 0 | BG138: =IF(U138="zákl. prenesená",N138,0) -> 0 | BH138: =IF(U138="zníž. prenesená",N138,0) -> 0 | BI138: =IF(U138="nulová",N138,0) -> 0 | BJ138: 2 | BK138: =L138*K138 -> 0

Sheet 05 - Chodník trasa D2
D1: Hárok obsahuje: | F1: 1) Krycí list rozpočtu | H1: 2) Rekapitulácia rozpočtu | L1: 3) Rozpočet | O1: Späť na hárok: | S1: Rekapitulácia stavby
C2: optimalizované pre tlač zostáv vo formáte A4 - na výšku | S2: >> skryté stĺpce << | AT2: {9a9db5ff-f730-4de4-83aa-3f262b683d54}
AT3: 0
C4: KRYCÍ LIST ROZPOČTU | T4: v --- nižšie sa nachádzajú doplnkové a pomocné údaje k zostavám --- v | AT4: False
D6: Stavba: | F6: ='Rekapitulácia stavby'!K6 -> Rekonštrukcia chodníkov v Historickom Mestskom parku
D7: Objekt: | F7: 05 - Chodník trasa D2
D8: JKSO: | M8: KS:
D9: Miesto: | F9: Trebišov | M9: Dátum: | O9: ='Rekapitulácia stavby'!AN8 -> Vyplň údaj
D11: Objednávateľ: | M11: IČO:
E12: Mesto Trebišov | M12: IČO DPH:
D14: Zhotoviteľ: | M14: IČO: | O14: =IF('Rekapitulácia stavby'!AN13="","",'Rekapitulácia stavby'!AN13) -> Vyplň údaj
E15: =IF('Rekapitulácia stavby'!E14="","",'Rekapitulácia stavby'!E14) -> Vyplň údaj | M15: IČO DPH: | O15: =IF('Rekapitulácia stavby'!AN14="","",'Rekapitulácia stavby'!AN14) -> Vyplň údaj
D17: Projektant: | M17: IČO: | O17: =IF('Rekapitulácia stavby'!AN16="","",'Rekapitulácia stavby'!AN16)
E18: =IF('Rekapitulácia stavby'!E17="","",'Rekapitulácia stavby'!E17) | M18: IČO DPH: | O18: =IF('Rekapitulácia stavby'!AN17="","",'Rekapitulácia stavby'!AN17)
D20: Spracovateľ: | M20: IČO: | O20: =IF('Rekapitulácia stavby'!AN19="","",'Rekapitulácia stavby'!AN19)
E21: =IF('Rekapitulácia stavby'!E20="","",'Rekapitulácia stavby'!E20) | M21: IČO DPH: | O21: =IF('Rekapitulácia stavby'!AN20="","",'Rekapitulácia stavby'!AN20)
D23: Poznámka:
D27: Náklady z rozpočtu | M27: =N88 -> 0
D28: Ostatné náklady | M28: =N96 -> 0
D30: Cena bez DPH | M30: =ROUND(M27+M28,2) -> 0
D32: DPH | E32: základná | F32: 0.2 | G32: z | H32: =ROUND((((SUM(BE96:BE103)+SUM(BE121:BE132))+SUM(BE134:BE138))),2) -> 0 | M32: =ROUND(((ROUND((SUM(BE96:BE103)+SUM(BE121:BE132)), 2)*F32)+SUM(BE134:BE138)*F32),2) -> 0
E33: znížená | F33: 0.2 | G33: z | H33: =ROUND((((SUM(BF96:BF103)+SUM(BF121:BF132))+SUM(BF134:BF138))),2) -> 0 | M33: =ROUND(((ROUND((SUM(BF96:BF103)+SUM(BF121:BF132)), 2)*F33)+SUM(BF134:BF138)*F33),2) -> 0
E34: zákl. prenesená | F34: 0.2 | G34: z | H34: =ROUND((((SUM(BG96:BG103)+SUM(BG121:BG132))+SUM(BG134:BG138))),2) -> 0 | M34: 0
E35: zníž. prenesená | F35: 0.2 | G35: z | H35: =ROUND((((SUM(BH96:BH103)+SUM(BH121:BH132))+SUM(BH134:BH138))),2) -> 0 | M35: 0
E36: nulová | F36: 0 | G36: z | H36: =ROUND((((SUM(BI96:BI103)+SUM(BI121:BI132))+SUM(BI134:BI138))),2) -> 0 | M36: 0
D38: Cena s DPH | G38: v | H38: EUR | L38: =SUM(M30:M36) -> 0
D50: Projektant | J50: Spracovateľ
D59: Dátum a podpis: | G59: Pečiatka | J59: Dátum a podpis: | N59: Pečiatka
D61: Objednávateľ | J61: Zhotoviteľ
D70: Dátum a podpis: | G70: Pečiatka | J70: Dátum a podpis: | N70: Pečiatka
C76: REKAPITULÁCIA ROZPOČTU
C78: Stavba: | F78: =F6 -> Rekonštrukcia chodníkov v Historickom Mestskom parku
C79: Objekt: | F79: =F7 -> 05 - Chodník trasa D2
C81: Miesto: | F81: =F9 -> Trebišov | K81: Dátum: | M81: =IF(O9="","",O9) -> Vyplň údaj
C83: Objednávateľ: | F83: =E12 -> Mesto Trebišov | K83: Projektant: | M83: =E18
C84: Zhotoviteľ: | F84: =IF(E15="","",E15) -> Vyplň údaj | K84: Spracovateľ: | M84: =E21
C86: Kód - Popis | N86: Cena celkom [EUR]
C88: 1) Náklady z rozpočtu | N88: =N121 -> 0 | AU88: -1
D89: HSV - Práce a dodávky HSV | N89: =N122 -> 0
D90: 1 - Zemné práce | N90: =N123 -> 0
D91: 5 - Komunikácie | N91: =N125 -> 0
D92: 9 - Ostatné konštrukcie a práce-búranie | N92: =N129 -> 0
D93: 99 - Presun hmôt HSV | N93: =N131 -> 0
D94: VP - Práce naviac | N94: =N133 -> 0
C96: 2) Ostatné náklady | N96: =ROUND(N97+N98+N99+N100+N101+N102,2) -> 0 | U96: DPH
D97: Zariad. staveniska | N97: =ROUND(N88*T97,2) -> 0 | U97: znížená | AY97: VRN | BE97: =IF(U97="základná",N97,0) -> 0 | BF97: =IF(U97="znížená",N97,0) -> 0 | BG97: =IF(U97="zákl. prenesená",N97,0) -> 0 | BH97: =IF(U97="zníž. prenesená",N97,0) -> 0 | BI97: =IF(U97="nulová",N97,0) -> 0 | BJ97: 2
D98: Mimostav. doprava | N98: =ROUND(N88*T98,2) -> 0 | U98: znížená | AY98: VRN | BE98: =IF(U98="základná",N98,0) -> 0 | BF98: =IF(U98="znížená",N98,0) -> 0 | BG98: =IF(U98="zákl. prenesená",N98,0) -> 0 | BH98: =IF(U98="zníž. prenesená",N98,0) -> 0 | BI98: =IF(U98="nulová",N98,0) -> 0 | BJ98: 2
D99: Územné vplyvy | N99: =ROUND(N88*T99,2) -> 0 | U99: znížená | AY99: VRN | BE99: =IF(U99="základná",N99,0) -> 0 | BF99: =IF(U99="znížená",N99,0) -> 0 | BG99: =IF(U99="zákl. prenesená",N99,0) -> 0 | BH99: =IF(U99="zníž. prenesená",N99,0) -> 0 | BI99: =IF(U99="nulová",N99,0) -> 0 | BJ99: 2
D100: Prevádzkové vplyvy | N100: =ROUND(N88*T100,2) -> 0 | U100: znížená | AY100: VRN | BE100: =IF(U100="základná",N100,0) -> 0 | BF100: =IF(U100="znížená",N100,0) -> 0 | BG100: =IF(U100="zákl. prenesená",N100,0) -> 0 | BH100: =IF(U100="zníž. prenesená",N100,0) -> 0 | BI100: =IF(U100="nulová",N100,0) -> 0 | BJ100: 2
D101: Ostatné | N101: =ROUND(N88*T101,2) -> 0 | U101: znížená | AY101: VRN | BE101: =IF(U101="základná",N101,0) -> 0 | BF101: =IF(U101="znížená",N101,0) -> 0 | BG101: =IF(U101="zákl. prenesená",N101,0) -> 0 | BH101: =IF(U101="zníž. prenesená",N101,0) -> 0 | BI101: =IF(U101="nulová",N101,0) -> 0 | BJ101: 2
D102: Kompletačná činnosť | N102: =ROUND(N88*T102,2) -> 0 | U102: znížená | AY102: KOMPLETACNA | BE102: =IF(U102="základná",N102,0) -> 0 | BF102: =IF(U102="znížená",N102,0) -> 0 | BG102: =IF(U102="zákl. prenesená",N102,0) -> 0 | BH102: =IF(U102="zníž. prenesená",N102,0) -> 0 | BI102: =IF(U102="nulová",N102,0) -> 0 | BJ102: 2
C104: Celkové náklady za stavbu 1) + 2) | L104: =ROUND(SUM(N88+N96),2) -> 0
C110: ROZPOČET
C112: Stavba: | F112: =F6 -> Rekonštrukcia chodníkov v Historickom Mestskom parku
C113: Objekt: | F113: =F7 -> 05 - Chodník trasa D2
C115: Miesto: | F115: =F9 -> Trebišov | K115: Dátum: | M115: =IF(O9="","",O9) -> Vyplň údaj
C117: Objednávateľ: | F117: =E12 -> Mesto Trebišov | K117: Projektant: | M117: =E18
C118: Zhotoviteľ: | F118: =IF(E15="","",E15) -> Vyplň údaj | K118: Spracovateľ: | M118: =E21
C120: PČ | D120: Typ | E120: Kód | F120: Popis | J120: MJ | K120: Množstvo | L120: J.cena [EUR] | N120: Cena celkom [EUR] | T120: Poznámka | U120: DPH | V120: J. Nh [h] | W120: Nh celkom [h] | X120: J. hmotnosť_x000D_ [t] | Y120: Hmotnosť_x000D_ celkom [t] | Z120: J. suť [t] | AA120: Suť Celkom [t]
C121: Náklady z rozpočtu | N121: =BK121 -> 0 | W121: =W122+W133 -> 0 | Y121: =Y122+Y133 -> 83.82006 | AA121: =AA122+AA133 -> 1.524 | AT121: D | AU121: -1 | BK121: =BK122+BK133 -> 0
D122: HSV - Práce a dodávky HSV | N122: =BK122 -> 0 | W122: =W123+W125+W129+W131 -> 0 | Y122: =Y123+Y125+Y129+Y131 -> 83.82006 | AA122: =AA123+AA125+AA129+AA131 -> 1.524 | AR122: 1 | AT122: D | AU122: 0 | AY122: ROZPOCET | BK122: =BK123+BK125+BK129+BK131 -> 0
D123: 1 - Zemné práce | N123: =BK123 -> 0 | W123: =W124 -> 0 | Y123: =Y124 -> 0.06912 | AA123: =AA124 -> 1.524 | AR123: 1 | AT123: D | AU123: 1 | AY123: ROZPOCET | BK123: =BK124 -> 0
C124: 1 | D124: K | E124: 113152130 | F124: Frézovanie asf. podkladu alebo krytu bez prek., plochy do 500 m2, pruh š. do 0,5 m, hr. 50 mm 0,127 t | J124: m2 | K124: 12 | L124: 0 | N124: =ROUND(L124*K124,3) -> 0 | U124: znížená | W124: =V124*K124 -> 0 | X124: 0.00576 | Y124: =X124*K124 -> 0.06912 | Z124: 0.127 | AA124: =Z124*K124 -> 1.524 | AR124: 4 | AT124: K | AU124: 2 | AY124: ROZPOCET | BE124: =IF(U124="základná",N124,0) -> 0 | BF124: =IF(U124="znížená",N124,0) -> 0 | BG124: =IF(U124="zákl. prenesená",N124,0) -> 0 | BH124: =IF(U124="zníž. prenesená",N124,0) -> 0 | BI124: =IF(U124="nulová",N124,0) -> 0 | BJ124: 2 | BK124: =ROUND(L124*K124,3) -> 0 | BL124: 4 | BM124: -342860955
D125: 5 - Komunikácie | N125: =BK125 -> 0 | W125: =SUM(W126:W128) -> 0 | Y125: =SUM(Y126:Y128) -> 83.75094 | AA125: =SUM(AA126:AA128) -> 0 | AR125: 1 | AT125: D | AU125: 1 | AY125: ROZPOCET | BK125: =SUM(BK126:BK128) -> 0
C126: 9 | D126: K | E126: 572774111 | F126: Vyrovnanie povrchu doterajších krytov asfaltovou zmesou pre asfaltový koberec veľmi tenký BBTM hr. od 15 do 20 mm | J126: m2 | K126: 546 | L126: 0 | N126: =ROUND(L126*K126,3) -> 0 | U126: znížená | W126: =V126*K126 -> 0 | X126: 0.04895 | Y126: =X126*K126 -> 26.7267 | Z126: 0 | AA126: =Z126*K126 -> 0 | AR126: 4 | AT126: K | AU126: 2 | AY126: ROZPOCET | BE126: =IF(U126="základná",N126,0) -> 0 | BF126: =IF(U126="znížená",N126,0) -> 0 | BG126: =IF(U126="zákl. prenesená",N126,0) -> 0 | BH126: =IF(U126="zníž. prenesená",N126,0) -> 0 | BI126: =IF(U126="nulová",N126,0) -> 0 | BJ126: 2 | BK126: =ROUND(L126*K126,3) -> 0 | BL126: 4 | BM126: -310655152
C127: 3 | D127: K | E127: 573211111 | F127: Postrek asfaltový spojovací bez posypu kamenivom z asfaltu cestného v množstve od 0,50 do 0,70 kg/m2 | J127: m2 | K127: 546 | L127: 0 | N127: =ROUND(L127*K127,3) -> 0 | U127: znížená | W127: =V127*K127 -> 0 | X127: 0.00071 | Y127: =X127*K127 -> 0.38766 | Z127: 0 | AA127: =Z127*K127 -> 0 | AR127: 4 | AT127: K | AU127: 2 | AY127: ROZPOCET | BE127: =IF(U127="základná",N127,0) -> 0 | BF127: =IF(U127="znížená",N127,0) -> 0 | BG127: =IF(U127="zákl. prenesená",N127,0) -> 0 | BH127: =IF(U127="zníž. prenesená",N127,0) -> 0 | BI127: =IF(U127="nulová",N127,0) -> 0 | BJ127: 2 | BK127: =ROUND(L127*K127,3) -> 0 | BL127: 4 | BM127: 280567902
C128: 4 | D128: K | E128: 577134111 | F128: Asfaltový betón vrstva obrusná AC 8 O v pruhu š. do 3 m z nemodifik. asfaltu tr. II, po zhutnení hr. 40 mm | J128: m2 | K128: 546 | L128: 0 | N128: =ROUND(L128*K128,3) -> 0 | U128: znížená | W128: =V128*K128 -> 0 | X128: 0.10373 | Y128: =X128*K128 -> 56.63658 | Z128: 0 | AA128: =Z128*K128 -> 0 | AR128: 4 | AT128: K | AU128: 2 | AY128: ROZPOCET | BE128: =IF(U128="základná",N128,0) -> 0 | BF128: =IF(U128="znížená",N128,0) -> 0 | BG128: =IF(U128="zákl. prenesená",N128,0) -> 0 | BH128: =IF(U128="zníž. prenesená",N128,0) -> 0 | BI128: =IF(U128="nulová",N128,0) -> 0 | BJ128: 2 | BK128: =ROUND(L128*K128,3) -> 0 | BL128: 4 | BM128: -1211831499
D129: 9 - Ostatné konštrukcie a práce-búranie | N129: =BK129 -> 0 | W129: =W130 -> 0 | Y129: =Y130 -> 0 | AA129: =AA130 -> 0 | AR129: 1 | AT129: D | AU129: 1 | AY129: ROZPOCET | BK129: =BK130 -> 0
C130: 5 | D130: K | E130: 979084216 | F130: Vodorovná doprava vybúraných hmôt po suchu bez naloženia, ale so zložením na vzdialenosť do 5 km vratane likvidácie | J130: t | K130: 1.524 | L130: 0 | N130: =ROUND(L130*K130,3) -> 0 | U130: znížená | W130: =V130*K130 -> 0 | X130: 0 | Y130: =X130*K130 -> 0 | Z130: 0 | AA130: =Z130*K130 -> 0 | AR130: 4 | AT130: K | AU130: 2 | AY130: ROZPOCET | BE130: =IF(U130="základná",N130,0) -> 0 | BF130: =IF(U130="znížená",N130,0) -> 0 | BG130: =IF(U130="zákl. prenesená",N130,0) -> 0 | BH130: =IF(U130="zníž. prenesená",N130,0) -> 0 | BI130: =IF(U130="nulová",N130,0) -> 0 | BJ130: 2 | BK130: =ROUND(L130*K130,3) -> 0 | BL130: 4 | BM130: 689538671
D131: 99 - Presun hmôt HSV | N131: =BK131 -> 0 | W131: =W132 -> 0 | Y131: =Y132 -> 0 | AA131: =AA132 -> 0 | AR131: 1 | AT131: D | AU131: 1 | AY131: ROZPOCET | BK131: =BK132 -> 0
C132: 8 | D132: K | E132: 998225111 | F132: Presun hmôt pre pozemnú komunikáciu a letisko s krytom asfaltovým akejkoľvek dĺžky objektu | J132: t | K132: 83.82 | L132: 0 | N132: =ROUND(L132*K132,3) -> 0 | U132: znížená | W132: =V132*K132 -> 0 | X132: 0 | Y132: =X132*K132 -> 0 | Z132: 0 | AA132: =Z132*K132 -> 0 | AR132: 4 | AT132: K | AU132: 2 | AY132: ROZPOCET | BE132: =IF(U132="základná",N132,0) -> 0 | BF132: =IF(U132="znížená",N132,0) -> 0 | BG132: =IF(U132="zákl. prenesená",N132,0) -> 0 | BH132: =IF(U132="zníž. prenesená",N132,0) -> 0 | BI132: =IF(U132="nulová",N132,0) -> 0 | BJ132: 2 | BK132: =ROUND(L132*K132,3) -> 0 | BL132: 4 | BM132: 1857325329
D133: VP - Práce naviac | N133: =BK133 -> 0 | AT133: D | AU133: 0 | AY133: PN | BK133: =SUM(BK134:BK138) -> 0
D134: K | N134: =BK134 -> 0 | U134: znížená | AT134: PN | AU134: 1 | AY134: PN | BE134: =IF(U134="základná",N134,0) -> 0 | BF134: =IF(U134="znížená",N134,0) -> 0 | BG134: =IF(U134="zákl. prenesená",N134,0) -> 0 | BH134: =IF(U134="zníž. prenesená",N134,0) -> 0 | BI134: =IF(U134="nulová",N134,0) -> 0 | BJ134: 2 | BK134: =L134*K134 -> 0
D135: K | N135: =BK135 -> 0 | U135: znížená | AT135: PN | AU135: 1 | AY135: PN | BE135: =IF(U135="základná",N135,0) -> 0 | BF135: =IF(U135="znížená",N135,0) -> 0 | BG135: =IF(U135="zákl. prenesená",N135,0) -> 0 | BH135: =IF(U135="zníž. prenesená",N135,0) -> 0 | BI135: =IF(U135="nulová",N135,0) -> 0 | BJ135: 2 | BK135: =L135*K135 -> 0
D136: K | N136: =BK136 -> 0 | U136: znížená | AT136: PN | AU136: 1 | AY136: PN | BE136: =IF(U136="základná",N136,0) -> 0 | BF136: =IF(U136="znížená",N136,0) -> 0 | BG136: =IF(U136="zákl. prenesená",N136,0) -> 0 | BH136: =IF(U136="zníž. prenesená",N136,0) -> 0 | BI136: =IF(U136="nulová",N136,0) -> 0 | BJ136: 2 | BK136: =L136*K136 -> 0
D137: K | N137: =BK137 -> 0 | U137: znížená | AT137: PN | AU137: 1 | AY137: PN | BE137: =IF(U137="základná",N137,0) -> 0 | BF137: =IF(U137="znížená",N137,0) -> 0 | BG137: =IF(U137="zákl. prenesená",N137,0) -> 0 | BH137: =IF(U137="zníž. prenesená",N137,0) -> 0 | BI137: =IF(U137="nulová",N137,0) -> 0 | BJ137: 2 | BK137: =L137*K137 -> 0
D138: K | N138: =BK138 -> 0 | U138: znížená | AT138: PN | AU138: 1 | AY138: PN | BE138: =IF(U138="základná",N138,0) -> 0 | BF138: =IF(U138="znížená",N138,0) -> 0 | BG138: =IF(U138="zákl. prenesená",N138,0) -> 0 | BH138: =IF(U138="zníž. prenesená",N138,0) -> 0 | BI138: =IF(U138="nulová",N138,0) -> 0 | BJ138: 2 | BK138: =L138*K138 -> 0

Sheet 06 - Chodník trasa E
D1: Hárok obsahuje: | F1: 1) Krycí list rozpočtu | H1: 2) Rekapitulácia rozpočtu | L1: 3) Rozpočet | O1: Späť na hárok: | S1: Rekapitulácia stavby
C2: optimalizované pre tlač zostáv vo formáte A4 - na výšku | S2: >> skryté stĺpce << | AT2: {54ba967d-4b1a-4bfa-abf5-49b1c542edff}
AT3: 0
C4: KRYCÍ LIST ROZPOČTU | T4: v --- nižšie sa nachádzajú doplnkové a pomocné údaje k zostavám --- v | AT4: False
D6: Stavba: | F6: ='Rekapitulácia stavby'!K6 -> Rekonštrukcia chodníkov v Historickom Mestskom parku
D7: Objekt: | F7: 06 - Chodník trasa E
D8: JKSO: | M8: KS:
D9: Miesto: | F9: Trebišov | M9: Dátum: | O9: ='Rekapitulácia stavby'!AN8 -> Vyplň údaj
D11: Objednávateľ: | M11: IČO:
E12: Mesto Trebišov | M12: IČO DPH:
D14: Zhotoviteľ: | M14: IČO: | O14: =IF('Rekapitulácia stavby'!AN13="","",'Rekapitulácia stavby'!AN13) -> Vyplň údaj
E15: =IF('Rekapitulácia stavby'!E14="","",'Rekapitulácia stavby'!E14) -> Vyplň údaj | M15: IČO DPH: | O15: =IF('Rekapitulácia stavby'!AN14="","",'Rekapitulácia stavby'!AN14) -> Vyplň údaj
D17: Projektant: | M17: IČO: | O17: =IF('Rekapitulácia stavby'!AN16="","",'Rekapitulácia stavby'!AN16)
E18: =IF('Rekapitulácia stavby'!E17="","",'Rekapitulácia stavby'!E17) | M18: IČO DPH: | O18: =IF('Rekapitulácia stavby'!AN17="","",'Rekapitulácia stavby'!AN17)
D20: Spracovateľ: | M20: IČO: | O20: =IF('Rekapitulácia stavby'!AN19="","",'Rekapitulácia stavby'!AN19)
E21: =IF('Rekapitulácia stavby'!E20="","",'Rekapitulácia stavby'!E20) | M21: IČO DPH: | O21: =IF('Rekapitulácia stavby'!AN20="","",'Rekapitulácia stavby'!AN20)
D23: Poznámka:
D27: Náklady z rozpočtu | M27: =N88 -> 0
D28: Ostatné náklady | M28: =N94 -> 0
D30: Cena bez DPH | M30: =ROUND(M27+M28,2) -> 0
D32: DPH | E32: základná | F32: 0.2 | G32: z | H32: =ROUND((((SUM(BE94:BE101)+SUM(BE119:BE125))+SUM(BE127:BE131))),2) -> 0 | M32: =ROUND(((ROUND((SUM(BE94:BE101)+SUM(BE119:BE125)), 2)*F32)+SUM(BE127:BE131)*F32),2) -> 0
E33: znížená | F33: 0.2 | G33: z | H33: =ROUND((((SUM(BF94:BF101)+SUM(BF119:BF125))+SUM(BF127:BF131))),2) -> 0 | M33: =ROUND(((ROUND((SUM(BF94:BF101)+SUM(BF119:BF125)), 2)*F33)+SUM(BF127:BF131)*F33),2) -> 0
E34: zákl. prenesená | F34: 0.2 | G34: z | H34: =ROUND((((SUM(BG94:BG101)+SUM(BG119:BG125))+SUM(BG127:BG131))),2) -> 0 | M34: 0
E35: zníž. prenesená | F35: 0.2 | G35: z | H35: =ROUND((((SUM(BH94:BH101)+SUM(BH119:BH125))+SUM(BH127:BH131))),2) -> 0 | M35: 0
E36: nulová | F36: 0 | G36: z | H36: =ROUND((((SUM(BI94:BI101)+SUM(BI119:BI125))+SUM(BI127:BI131))),2) -> 0 | M36: 0
D38: Cena s DPH | G38: v | H38: EUR | L38: =SUM(M30:M36) -> 0
D50: Projektant | J50: Spracovateľ
D59: Dátum a podpis: | G59: Pečiatka | J59: Dátum a podpis: | N59: Pečiatka
D61: Objednávateľ | J61: Zhotoviteľ
D70: Dátum a podpis: | G70: Pečiatka | J70: Dátum a podpis: | N70: Pečiatka
C76: REKAPITULÁCIA ROZPOČTU
C78: Stavba: | F78: =F6 -> Rekonštrukcia chodníkov v Historickom Mestskom parku
C79: Objekt: | F79: =F7 -> 06 - Chodník trasa E
C81: Miesto: | F81: =F9 -> Trebišov | K81: Dátum: | M81: =IF(O9="","",O9) -> Vyplň údaj
C83: Objednávateľ: | F83: =E12 -> Mesto Trebišov | K83: Projektant: | M83: =E18
C84: Zhotoviteľ: | F84: =IF(E15="","",E15) -> Vyplň údaj | K84: Spracovateľ: | M84: =E21
C86: Kód - Popis | N86: Cena celkom [EUR]
C88: 1) Náklady z rozpočtu | N88: =N119 -> 0 | AU88: -1
D89: HSV - Práce a dodávky HSV | N89: =N120 -> 0
D90: 5 - Komunikácie | N90: =N121 -> 0
D91: 99 - Presun hmôt HSV | N91: =N124 -> 0
D92: VP - Práce naviac | N92: =N126 -> 0
C94: 2) Ostatné náklady | N94: =ROUND(N95+N96+N97+N98+N99+N100,2) -> 0 | U94: DPH
D95: Zariad. staveniska | N95: =ROUND(N88*T95,2) -> 0 | U95: znížená | AY95: VRN | BE95: =IF(U95="základná",N95,0) -> 0 | BF95: =IF(U95="znížená",N95,0) -> 0 | BG95: =IF(U95="zákl. prenesená",N95,0) -> 0 | BH95: =IF(U95="zníž. prenesená",N95,0) -> 0 | BI95: =IF(U95="nulová",N95,0) -> 0 | BJ95: 2
D96: Mimostav. doprava | N96: =ROUND(N88*T96,2) -> 0 | U96: znížená | AY96: VRN | BE96: =IF(U96="základná",N96,0) -> 0 | BF96: =IF(U96="znížená",N96,0) -> 0 | BG96: =IF(U96="zákl. prenesená",N96,0) -> 0 | BH96: =IF(U96="zníž. prenesená",N96,0) -> 0 | BI96: =IF(U96="nulová",N96,0) -> 0 | BJ96: 2
D97: Územné vplyvy | N97: =ROUND(N88*T97,2) -> 0 | U97: znížená | AY97: VRN | BE97: =IF(U97="základná",N97,0) -> 0 | BF97: =IF(U97="znížená",N97,0) -> 0 | BG97: =IF(U97="zákl. prenesená",N97,0) -> 0 | BH97: =IF(U97="zníž. prenesená",N97,0) -> 0 | BI97: =IF(U97="nulová",N97,0) -> 0 | BJ97: 2
D98: Prevádzkové vplyvy | N98: =ROUND(N88*T98,2) -> 0 | U98: znížená | AY98: VRN | BE98: =IF(U98="základná",N98,0) -> 0 | BF98: =IF(U98="znížená",N98,0) -> 0 | BG98: =IF(U98="zákl. prenesená",N98,0) -> 0 | BH98: =IF(U98="zníž. prenesená",N98,0) -> 0 | BI98: =IF(U98="nulová",N98,0) -> 0 | BJ98: 2
D99: Ostatné | N99: =ROUND(N88*T99,2) -> 0 | U99: znížená | AY99: VRN | BE99: =IF(U99="základná",N99,0) -> 0 | BF99: =IF(U99="znížená",N99,0) -> 0 | BG99: =IF(U99="zákl. prenesená",N99,0) -> 0 | BH99: =IF(U99="zníž. prenesená",N99,0) -> 0 | BI99: =IF(U99="nulová",N99,0) -> 0 | BJ99: 2
D100: Kompletačná činnosť | N100: =ROUND(N88*T100,2) -> 0 | U100: znížená | AY100: KOMPLETACNA | BE100: =IF(U100="základná",N100,0) -> 0 | BF100: =IF(U100="znížená",N100,0) -> 0 | BG100: =IF(U100="zákl. prenesená",N100,0) -> 0 | BH100: =IF(U100="zníž. prenesená",N100,0) -> 0 | BI100: =IF(U100="nulová",N100,0) -> 0 | BJ100: 2
C102: Celkové náklady za stavbu 1) + 2) | L102: =ROUND(SUM(N88+N94),2) -> 0
C108: ROZPOČET
C110: Stavba: | F110: =F6 -> Rekonštrukcia chodníkov v Historickom Mestskom parku
C111: Objekt: | F111: =F7 -> 06 - Chodník trasa E
C113: Miesto: | F113: =F9 -> Trebišov | K113: Dátum: | M113: =IF(O9="","",O9) -> Vyplň údaj
C115: Objednávateľ: | F115: =E12 -> Mesto Trebišov | K115: Projektant: | M115: =E18
C116: Zhotoviteľ: | F116: =IF(E15="","",E15) -> Vyplň údaj | K116: Spracovateľ: | M116: =E21
C118: PČ | D118: Typ | E118: Kód | F118: Popis | J118: MJ | K118: Množstvo | L118: J.cena [EUR] | N118: Cena celkom [EUR] | T118: Poznámka | U118: DPH | V118: J. Nh [h] | W118: Nh celkom [h] | X118: J. hmotnosť_x000D_ [t] | Y118: Hmotnosť_x000D_ celkom [t] | Z118: J. suť [t] | AA118: Suť Celkom [t]
C119: Náklady z rozpočtu | N119: =BK119 -> 0 | W119: =W120+W126 -> 0 | Y119: =Y120+Y126 -> 65.4345 | AA119: =AA120+AA126 -> 0 | AT119: D | AU119: -1 | BK119: =BK120+BK126 -> 0
D120: HSV - Práce a dodávky HSV | N120: =BK120 -> 0 | W120: =W121+W124 -> 0 | Y120: =Y121+Y124 -> 65.4345 | AA120: =AA121+AA124 -> 0 | AR120: 1 | AT120: D | AU120: 0 | AY120: ROZPOCET | BK120: =BK121+BK124 -> 0
D121: 5 - Komunikácie | N121: =BK121 -> 0 | W121: =SUM(W122:W123) -> 0 | Y121: =SUM(Y122:Y123) -> 65.4345 | AA121: =SUM(AA122:AA123) -> 0 | AR121: 1 | AT121: D | AU121: 1 | AY121: ROZPOCET | BK121: =SUM(BK122:BK123) -> 0
C122: 9 | D122: K | E122: 572774112 | F122: Vyrovnanie povrchu doterajších krytov asfaltovou zmesou pre asfaltový koberec veľmi tenký BBTM hr. nad 20 do 30 mm | J122: m2 | K122: 370 | L122: 0 | N122: =ROUND(L122*K122,3) -> 0 | U122: znížená | W122: =V122*K122 -> 0 | X122: 0.07312 | Y122: =X122*K122 -> 27.0544 | Z122: 0 | AA122: =Z122*K122 -> 0 | AR122: 4 | AT122: K | AU122: 2 | AY122: ROZPOCET | BE122: =IF(U122="základná",N122,0) -> 0 | BF122: =IF(U122="znížená",N122,0) -> 0 | BG122: =IF(U122="zákl. prenesená",N122,0) -> 0 | BH122: =IF(U122="zníž. prenesená",N122,0) -> 0 | BI122: =IF(U122="nulová",N122,0) -> 0 | BJ122: 2 | BK122: =ROUND(L122*K122,3) -> 0 | BL122: 4 | BM122: 853085368
C123: 4 | D123: K | E123: 577134111 | F123: Asfaltový betón vrstva obrusná AC 8 O v pruhu š. do 3 m z nemodifik. asfaltu tr. II, po zhutnení hr. 40 mm | J123: m2 | K123: 370 | L123: 0 | N123: =ROUND(L123*K123,3) -> 0 | U123: znížená | W123: =V123*K123 -> 0 | X123: 0.10373 | Y123: =X123*K123 -> 38.3801 | Z123: 0 | AA123: =Z123*K123 -> 0 | AR123: 4 | AT123: K | AU123: 2 | AY123: ROZPOCET | BE123: =IF(U123="základná",N123,0) -> 0 | BF123: =IF(U123="znížená",N123,0) -> 0 | BG123: =IF(U123="zákl. prenesená",N123,0) -> 0 | BH123: =IF(U123="zníž. prenesená",N123,0) -> 0 | BI123: =IF(U123="nulová",N123,0) -> 0 | BJ123: 2 | BK123: =ROUND(L123*K123,3) -> 0 | BL123: 4 | BM123: -1211831499
D124: 99 - Presun hmôt HSV | N124: =BK124 -> 0 | W124: =W125 -> 0 | Y124: =Y125 -> 0 | AA124: =AA125 -> 0 | AR124: 1 | AT124: D | AU124: 1 | AY124: ROZPOCET | BK124: =BK125 -> 0
C125: 8 | D125: K | E125: 998225111 | F125: Presun hmôt pre pozemnú komunikáciu a letisko s krytom asfaltovým akejkoľvek dĺžky objektu | J125: t | K125: 65.435 | L125: 0 | N125: =ROUND(L125*K125,3) -> 0 | U125: znížená | W125: =V125*K125 -> 0 | X125: 0 | Y125: =X125*K125 -> 0 | Z125: 0 | AA125: =Z125*K125 -> 0 | AR125: 4 | AT125: K | AU125: 2 | AY125: ROZPOCET | BE125: =IF(U125="základná",N125,0) -> 0 | BF125: =IF(U125="znížená",N125,0) -> 0 | BG125: =IF(U125="zákl. prenesená",N125,0) -> 0 | BH125: =IF(U125="zníž. prenesená",N125,0) -> 0 | BI125: =IF(U125="nulová",N125,0) -> 0 | BJ125: 2 | BK125: =ROUND(L125*K125,3) -> 0 | BL125: 4 | BM125: 1857325329
D126: VP - Práce naviac | N126: =BK126 -> 0 | AT126: D | AU126: 0 | AY126: PN | BK126: =SUM(BK127:BK131) -> 0
D127: K | N127: =BK127 -> 0 | U127: znížená | AT127: PN | AU127: 1 | AY127: PN | BE127: =IF(U127="základná",N127,0) -> 0 | BF127: =IF(U127="znížená",N127,0) -> 0 | BG127: =IF(U127="zákl. prenesená",N127,0) -> 0 | BH127: =IF(U127="zníž. prenesená",N127,0) -> 0 | BI127: =IF(U127="nulová",N127,0) -> 0 | BJ127: 2 | BK127: =L127*K127 -> 0
D128: K | N128: =BK128 -> 0 | U128: znížená | AT128: PN | AU128: 1 | AY128: PN | BE128: =IF(U128="základná",N128,0) -> 0 | BF128: =IF(U128="znížená",N128,0) -> 0 | BG128: =IF(U128="zákl. prenesená",N128,0) -> 0 | BH128: =IF(U128="zníž. prenesená",N128,0) -> 0 | BI128: =IF(U128="nulová",N128,0) -> 0 | BJ128: 2 | BK128: =L128*K128 -> 0
D129: K | N129: =BK129 -> 0 | U129: znížená | AT129: PN | AU129: 1 | AY129: PN | BE129: =IF(U129="základná",N129,0) -> 0 | BF129: =IF(U129="znížená",N129,0) -> 0 | BG129: =IF(U129="zákl. prenesená",N129,0) -> 0 | BH129: =IF(U129="zníž. prenesená",N129,0) -> 0 | BI129: =IF(U129="nulová",N129,0) -> 0 | BJ129: 2 | BK129: =L129*K129 -> 0
D130: K | N130: =BK130 -> 0 | U130: znížená | AT130: PN | AU130: 1 | AY130: PN | BE130: =IF(U130="základná",N130,0) -> 0 | BF130: =IF(U130="znížená",N130,0) -> 0 | BG130: =IF(U130="zákl. prenesená",N130,0) -> 0 | BH130: =IF(U130="zníž. prenesená",N130,0) -> 0 | BI130: =IF(U130="nulová",N130,0) -> 0 | BJ130: 2 | BK130: =L130*K130 -> 0
D131: K | N131: =BK131 -> 0 | U131: znížená | AT131: PN | AU131: 1 | AY131: PN | BE131: =IF(U131="základná",N131,0) -> 0 | BF131: =IF(U131="znížená",N131,0) -> 0 | BG131: =IF(U131="zákl. prenesená",N131,0) -> 0 | BH131: =IF(U131="zníž. prenesená",N131,0) -> 0 | BI131: =IF(U131="nulová",N131,0) -> 0 | BJ131: 2 | BK131: =L131*K131 -> 0

Sheet 07 - Chodník trasa F
D1: Hárok obsahuje: | F1: 1) Krycí list rozpočtu | H1: 2) Rekapitulácia rozpočtu | L1: 3) Rozpočet | O1: Späť na hárok: | S1: Rekapitulácia stavby
C2: optimalizované pre tlač zostáv vo formáte A4 - na výšku | S2: >> skryté stĺpce << | AT2: {21ce8e04-d12e-4202-ae77-1da90c2ff51d}
AT3: 0
C4: KRYCÍ LIST ROZPOČTU | T4: v --- nižšie sa nachádzajú doplnkové a pomocné údaje k zostavám --- v | AT4: False
D6: Stavba: | F6: ='Rekapitulácia stavby'!K6 -> Rekonštrukcia chodníkov v Historickom Mestskom parku
D7: Objekt: | F7: 07 - Chodník trasa F
D8: JKSO: | M8: KS:
D9: Miesto: | F9: Trebišov | M9: Dátum: | O9: ='Rekapitulácia stavby'!AN8 -> Vyplň údaj
D11: Objednávateľ: | M11: IČO:
E12: Mesto Trebišov | M12: IČO DPH:
D14: Zhotoviteľ: | M14: IČO: | O14: =IF('Rekapitulácia stavby'!AN13="","",'Rekapitulácia stavby'!AN13) -> Vyplň údaj
E15: =IF('Rekapitulácia stavby'!E14="","",'Rekapitulácia stavby'!E14) -> Vyplň údaj | M15: IČO DPH: | O15: =IF('Rekapitulácia stavby'!AN14="","",'Rekapitulácia stavby'!AN14) -> Vyplň údaj
D17: Projektant: | M17: IČO: | O17: =IF('Rekapitulácia stavby'!AN16="","",'Rekapitulácia stavby'!AN16)
E18: =IF('Rekapitulácia stavby'!E17="","",'Rekapitulácia stavby'!E17) | M18: IČO DPH: | O18: =IF('Rekapitulácia stavby'!AN17="","",'Rekapitulácia stavby'!AN17)
D20: Spracovateľ: | M20: IČO: | O20: =IF('Rekapitulácia stavby'!AN19="","",'Rekapitulácia stavby'!AN19)
E21: =IF('Rekapitulácia stavby'!E20="","",'Rekapitulácia stavby'!E20) | M21: IČO DPH: | O21: =IF('Rekapitulácia stavby'!AN20="","",'Rekapitulácia stavby'!AN20)
D23: Poznámka:
D27: Náklady z rozpočtu | M27: =N88 -> 0
D28: Ostatné náklady | M28: =N94 -> 0
D30: Cena bez DPH | M30: =ROUND(M27+M28,2) -> 0
D32: DPH | E32: základná | F32: 0.2 | G32: z | H32: =ROUND((((SUM(BE94:BE101)+SUM(BE119:BE126))+SUM(BE128:BE132))),2) -> 0 | M32: =ROUND(((ROUND((SUM(BE94:BE101)+SUM(BE119:BE126)), 2)*F32)+SUM(BE128:BE132)*F32),2) -> 0
E33: znížená | F33: 0.2 | G33: z | H33: =ROUND((((SUM(BF94:BF101)+SUM(BF119:BF126))+SUM(BF128:BF132))),2) -> 0 | M33: =ROUND(((ROUND((SUM(BF94:BF101)+SUM(BF119:BF126)), 2)*F33)+SUM(BF128:BF132)*F33),2) -> 0
E34: zákl. prenesená | F34: 0.2 | G34: z | H34: =ROUND((((SUM(BG94:BG101)+SUM(BG119:BG126))+SUM(BG128:BG132))),2) -> 0 | M34: 0
E35: zníž. prenesená | F35: 0.2 | G35: z | H35: =ROUND((((SUM(BH94:BH101)+SUM(BH119:BH126))+SUM(BH128:BH132))),2) -> 0 | M35: 0
E36: nulová | F36: 0 | G36: z | H36: =ROUND((((SUM(BI94:BI101)+SUM(BI119:BI126))+SUM(BI128:BI132))),2) -> 0 | M36: 0
D38: Cena s DPH | G38: v | H38: EUR | L38: =SUM(M30:M36) -> 0
D50: Projektant | J50: Spracovateľ
D59: Dátum a podpis: | G59: Pečiatka | J59: Dátum a podpis: | N59: Pečiatka
D61: Objednávateľ | J61: Zhotoviteľ
D70: Dátum a podpis: | G70: Pečiatka | J70: Dátum a podpis: | N70: Pečiatka
C76: REKAPITULÁCIA ROZPOČTU
C78: Stavba: | F78: =F6 -> Rekonštrukcia chodníkov v Historickom Mestskom parku
C79: Objekt: | F79: =F7 -> 07 - Chodník trasa F
C81: Miesto: | F81: =F9 -> Trebišov | K81: Dátum: | M81: =IF(O9="","",O9) -> Vyplň údaj
C83: Objednávateľ: | F83: =E12 -> Mesto Trebišov | K83: Projektant: | M83: =E18
C84: Zhotoviteľ: | F84: =IF(E15="","",E15) -> Vyplň údaj | K84: Spracovateľ: | M84: =E21
C86: Kód - Popis | N86: Cena celkom [EUR]
C88: 1) Náklady z rozpočtu | N88: =N119 -> 0 | AU88: -1
D89: HSV - Práce a dodávky HSV | N89: =N120 -> 0
D90: 5 - Komunikácie | N90: =N121 -> 0
D91: 99 - Presun hmôt HSV | N91: =N125 -> 0
D92: VP - Práce naviac | N92: =N127 -> 0
C94: 2) Ostatné náklady | N94: =ROUND(N95+N96+N97+N98+N99+N100,2) -> 0 | U94: DPH
D95: Zariad. staveniska | N95: =ROUND(N88*T95,2) -> 0 | U95: znížená | AY95: VRN | BE95: =IF(U95="základná",N95,0) -> 0 | BF95: =IF(U95="znížená",N95,0) -> 0 | BG95: =IF(U95="zákl. prenesená",N95,0) -> 0 | BH95: =IF(U95="zníž. prenesená",N95,0) -> 0 | BI95: =IF(U95="nulová",N95,0) -> 0 | BJ95: 2
D96: Mimostav. doprava | N96: =ROUND(N88*T96,2) -> 0 | U96: znížená | AY96: VRN | BE96: =IF(U96="základná",N96,0) -> 0 | BF96: =IF(U96="znížená",N96,0) -> 0 | BG96: =IF(U96="zákl. prenesená",N96,0) -> 0 | BH96: =IF(U96="zníž. prenesená",N96,0) -> 0 | BI96: =IF(U96="nulová",N96,0) -> 0 | BJ96: 2
D97: Územné vplyvy | N97: =ROUND(N88*T97,2) -> 0 | U97: znížená | AY97: VRN | BE97: =IF(U97="základná",N97,0) -> 0 | BF97: =IF(U97="znížená",N97,0) -> 0 | BG97: =IF(U97="zákl. prenesená",N97,0) -> 0 | BH97: =IF(U97="zníž. prenesená",N97,0) -> 0 | BI97: =IF(U97="nulová",N97,0) -> 0 | BJ97: 2
D98: Prevádzkové vplyvy | N98: =ROUND(N88*T98,2) -> 0 | U98: znížená | AY98: VRN | BE98: =IF(U98="základná",N98,0) -> 0 | BF98: =IF(U98="znížená",N98,0) -> 0 | BG98: =IF(U98="zákl. prenesená",N98,0) -> 0 | BH98: =IF(U98="zníž. prenesená",N98,0) -> 0 | BI98: =IF(U98="nulová",N98,0) -> 0 | BJ98: 2
D99: Ostatné | N99: =ROUND(N88*T99,2) -> 0 | U99: znížená | AY99: VRN | BE99: =IF(U99="základná",N99,0) -> 0 | BF99: =IF(U99="znížená",N99,0) -> 0 | BG99: =IF(U99="zákl. prenesená",N99,0) -> 0 | BH99: =IF(U99="zníž. prenesená",N99,0) -> 0 | BI99: =IF(U99="nulová",N99,0) -> 0 | BJ99: 2
D100: Kompletačná činnosť | N100: =ROUND(N88*T100,2) -> 0 | U100: znížená | AY100: KOMPLETACNA | BE100: =IF(U100="základná",N100,0) -> 0 | BF100: =IF(U100="znížená",N100,0) -> 0 | BG100: =IF(U100="zákl. prenesená",N100,0) -> 0 | BH100: =IF(U100="zníž. prenesená",N100,0) -> 0 | BI100: =IF(U100="nulová",N100,0) -> 0 | BJ100: 2
C102: Celkové náklady za stavbu 1) + 2) | L102: =ROUND(SUM(N88+N94),2) -> 0
C108: ROZPOČET
C110: Stavba: | F110: =F6 -> Rekonštrukcia chodníkov v Historickom Mestskom parku
C111: Objekt: | F111: =F7 -> 07 - Chodník trasa F
C113: Miesto: | F113: =F9 -> Trebišov | K113: Dátum: | M113: =IF(O9="","",O9) -> Vyplň údaj
C115: Objednávateľ: | F115: =E12 -> Mesto Trebišov | K115: Projektant: | M115: =E18
C116: Zhotoviteľ: | F116: =IF(E15="","",E15) -> Vyplň údaj | K116: Spracovateľ: | M116: =E21
C118: PČ | D118: Typ | E118: Kód | F118: Popis | J118: MJ | K118: Množstvo | L118: J.cena [EUR] | N118: Cena celkom [EUR] | T118: Poznámka | U118: DPH | V118: J. Nh [h] | W118: Nh celkom [h] | X118: J. hmotnosť_x000D_ [t] | Y118: Hmotnosť_x000D_ celkom [t] | Z118: J. suť [t] | AA118: Suť Celkom [t]
C119: Náklady z rozpočtu | N119: =BK119 -> 0 | W119: =W120+W127 -> 0 | Y119: =Y120+Y127 -> 129.46116 | AA119: =AA120+AA127 -> 0 | AT119: D | AU119: -1 | BK119: =BK120+BK127 -> 0
D120: HSV - Práce a dodávky HSV | N120: =BK120 -> 0 | W120: =W121+W125 -> 0 | Y120: =Y121+Y125 -> 129.46116 | AA120: =AA121+AA125 -> 0 | AR120: 1 | AT120: D | AU120: 0 | AY120: ROZPOCET | BK120: =BK121+BK125 -> 0
D121: 5 - Komunikácie | N121: =BK121 -> 0 | W121: =SUM(W122:W124) -> 0 | Y121: =SUM(Y122:Y124) -> 129.46116 | AA121: =SUM(AA122:AA124) -> 0 | AR121: 1 | AT121: D | AU121: 1 | AY121: ROZPOCET | BK121: =SUM(BK122:BK124) -> 0
C122: 9 | D122: K | E122: 572774111 | F122: Vyrovnanie povrchu doterajších krytov asfaltovou zmesou pre asfaltový koberec veľmi tenký BBTM hr. od 15 do 20 mm | J122: m2 | K122: 844 | L122: 0 | N122: =ROUND(L122*K122,3) -> 0 | U122: znížená | W122: =V122*K122 -> 0 | X122: 0.04895 | Y122: =X122*K122 -> 41.3138 | Z122: 0 | AA122: =Z122*K122 -> 0 | AR122: 4 | AT122: K | AU122: 2 | AY122: ROZPOCET | BE122: =IF(U122="základná",N122,0) -> 0 | BF122: =IF(U122="znížená",N122,0) -> 0 | BG122: =IF(U122="zákl. prenesená",N122,0) -> 0 | BH122: =IF(U122="zníž. prenesená",N122,0) -> 0 | BI122: =IF(U122="nulová",N122,0) -> 0 | BJ122: 2 | BK122: =ROUND(L122*K122,3) -> 0 | BL122: 4 | BM122: -734081517
C123: 3 | D123: K | E123: 573211111 | F123: Postrek asfaltový spojovací bez posypu kamenivom z asfaltu cestného v množstve od 0,50 do 0,70 kg/m2 | J123: m2 | K123: 844 | L123: 0 | N123: =ROUND(L123*K123,3) -> 0 | U123: znížená | W123: =V123*K123 -> 0 | X123: 0.00071 | Y123: =X123*K123 -> 0.59924 | Z123: 0 | AA123: =Z123*K123 -> 0 | AR123: 4 | AT123: K | AU123: 2 | AY123: ROZPOCET | BE123: =IF(U123="základná",N123,0) -> 0 | BF123: =IF(U123="znížená",N123,0) -> 0 | BG123: =IF(U123="zákl. prenesená",N123,0) -> 0 | BH123: =IF(U123="zníž. prenesená",N123,0) -> 0 | BI123: =IF(U123="nulová",N123,0) -> 0 | BJ123: 2 | BK123: =ROUND(L123*K123,3) -> 0 | BL123: 4 | BM123: 280567902
C124: 4 | D124: K | E124: 577134111 | F124: Asfaltový betón vrstva obrusná AC 8 O v pruhu š. do 3 m z nemodifik. asfaltu tr. II, po zhutnení hr. 40 mm | J124: m2 | K124: 844 | L124: 0 | N124: =ROUND(L124*K124,3) -> 0 | U124: znížená | W124: =V124*K124 -> 0 | X124: 0.10373 | Y124: =X124*K124 -> 87.54812 | Z124: 0 | AA124: =Z124*K124 -> 0 | AR124: 4 | AT124: K | AU124: 2 | AY124: ROZPOCET | BE124: =IF(U124="základná",N124,0) -> 0 | BF124: =IF(U124="znížená",N124,0) -> 0 | BG124: =IF(U124="zákl. prenesená",N124,0) -> 0 | BH124: =IF(U124="zníž. prenesená",N124,0) -> 0 | BI124: =IF(U124="nulová",N124,0) -> 0 | BJ124: 2 | BK124: =ROUND(L124*K124,3) -> 0 | BL124: 4 | BM124: -1211831499
D125: 99 - Presun hmôt HSV | N125: =BK125 -> 0 | W125: =W126 -> 0 | Y125: =Y126 -> 0 | AA125: =AA126 -> 0 | AR125: 1 | AT125: D | AU125: 1 | AY125: ROZPOCET | BK125: =BK126 -> 0
C126: 8 | D126: K | E126: 998225111 | F126: Presun hmôt pre pozemnú komunikáciu a letisko s krytom asfaltovým akejkoľvek dĺžky objektu | J126: t | K126: 129.461 | L126: 0 | N126: =ROUND(L126*K126,3) -> 0 | U126: znížená | W126: =V126*K126 -> 0 | X126: 0 | Y126: =X126*K126 -> 0 | Z126: 0 | AA126: =Z126*K126 -> 0 | AR126: 4 | AT126: K | AU126: 2 | AY126: ROZPOCET | BE126: =IF(U126="základná",N126,0) -> 0 | BF126: =IF(U126="znížená",N126,0) -> 0 | BG126: =IF(U126="zákl. prenesená",N126,0) -> 0 | BH126: =IF(U126="zníž. prenesená",N126,0) -> 0 | BI126: =IF(U126="nulová",N126,0) -> 0 | BJ126: 2 | BK126: =ROUND(L126*K126,3) -> 0 | BL126: 4 | BM126: 1857325329
D127: VP - Práce naviac | N127: =BK127 -> 0 | AT127: D | AU127: 0 | AY127: PN | BK127: =SUM(BK128:BK132) -> 0
D128: K | N128: =BK128 -> 0 | U128: znížená | AT128: PN | AU128: 1 | AY128: PN | BE128: =IF(U128="základná",N128,0) -> 0 | BF128: =IF(U128="znížená",N128,0) -> 0 | BG128: =IF(U128="zákl. prenesená",N128,0) -> 0 | BH128: =IF(U128="zníž. prenesená",N128,0) -> 0 | BI128: =IF(U128="nulová",N128,0) -> 0 | BJ128: 2 | BK128: =L128*K128 -> 0
D129: K | N129: =BK129 -> 0 | U129: znížená | AT129: PN | AU129: 1 | AY129: PN | BE129: =IF(U129="základná",N129,0) -> 0 | BF129: =IF(U129="znížená",N129,0) -> 0 | BG129: =IF(U129="zákl. prenesená",N129,0) -> 0 | BH129: =IF(U129="zníž. prenesená",N129,0) -> 0 | BI129: =IF(U129="nulová",N129,0) -> 0 | BJ129: 2 | BK129: =L129*K129 -> 0
D130: K | N130: =BK130 -> 0 | U130: znížená | AT130: PN | AU130: 1 | AY130: PN | BE130: =IF(U130="základná",N130,0) -> 0 | BF130: =IF(U130="znížená",N130,0) -> 0 | BG130: =IF(U130="zákl. prenesená",N130,0) -> 0 | BH130: =IF(U130="zníž. prenesená",N130,0) -> 0 | BI130: =IF(U130="nulová",N130,0) -> 0 | BJ130: 2 | BK130: =L130*K130 -> 0
D131: K | N131: =BK131 -> 0 | U131: znížená | AT131: PN | AU131: 1 | AY131: PN | BE131: =IF(U131="základná",N131,0) -> 0 | BF131: =IF(U131="znížená",N131,0) -> 0 | BG131: =IF(U131="zákl. prenesená",N131,0) -> 0 | BH131: =IF(U131="zníž. prenesená",N131,0) -> 0 | BI131: =IF(U131="nulová",N131,0) -> 0 | BJ131: 2 | BK131: =L131*K131 -> 0
D132: K | N132: =BK132 -> 0 | U132: znížená | AT132: PN | AU132: 1 | AY132: PN | BE132: =IF(U132="základná",N132,0) -> 0 | BF132: =IF(U132="znížená",N132,0) -> 0 | BG132: =IF(U132="zákl. prenesená",N132,0) -> 0 | BH132: =IF(U132="zníž. prenesená",N132,0) -> 0 | BI132: =IF(U132="nulová",N132,0) -> 0 | BJ132: 2 | BK132: =L132*K132 -> 0

Sheet 08 - Chodník trasa G
D1: Hárok obsahuje: | F1: 1) Krycí list rozpočtu | H1: 2) Rekapitulácia rozpočtu | L1: 3) Rozpočet | O1: Späť na hárok: | S1: Rekapitulácia stavby
C2: optimalizované pre tlač zostáv vo formáte A4 - na výšku | S2: >> skryté stĺpce << | AT2: {3667b544-9929-4b81-86ef-ad819d6e837a}
AT3: 0
C4: KRYCÍ LIST ROZPOČTU | T4: v --- nižšie sa nachádzajú doplnkové a pomocné údaje k zostavám --- v | AT4: False
D6: Stavba: | F6: ='Rekapitulácia stavby'!K6 -> Rekonštrukcia chodníkov v Historickom Mestskom parku
D7: Objekt: | F7: 08 - Chodník trasa G
D8: JKSO: | M8: KS:
D9: Miesto: | F9: Trebišov | M9: Dátum: | O9: ='Rekapitulácia stavby'!AN8 -> Vyplň údaj
D11: Objednávateľ: | M11: IČO:
E12: Mesto Trebišov | M12: IČO DPH:
D14: Zhotoviteľ: | M14: IČO: | O14: =IF('Rekapitulácia stavby'!AN13="","",'Rekapitulácia stavby'!AN13) -> Vyplň údaj
E15: =IF('Rekapitulácia stavby'!E14="","",'Rekapitulácia stavby'!E14) -> Vyplň údaj | M15: IČO DPH: | O15: =IF('Rekapitulácia stavby'!AN14="","",'Rekapitulácia stavby'!AN14) -> Vyplň údaj
D17: Projektant: | M17: IČO: | O17: =IF('Rekapitulácia stavby'!AN16="","",'Rekapitulácia stavby'!AN16)
E18: =IF('Rekapitulácia stavby'!E17="","",'Rekapitulácia stavby'!E17) | M18: IČO DPH: | O18: =IF('Rekapitulácia stavby'!AN17="","",'Rekapitulácia stavby'!AN17)
D20: Spracovateľ: | M20: IČO: | O20: =IF('Rekapitulácia stavby'!AN19="","",'Rekapitulácia stavby'!AN19)
E21: =IF('Rekapitulácia stavby'!E20="","",'Rekapitulácia stavby'!E20) | M21: IČO DPH: | O21: =IF('Rekapitulácia stavby'!AN20="","",'Rekapitulácia stavby'!AN20)
D23: Poznámka:
D27: Náklady z rozpočtu | M27: =N88 -> 0
D28: Ostatné náklady | M28: =N96 -> 0
D30: Cena bez DPH | M30: =ROUND(M27+M28,2) -> 0
D32: DPH | E32: základná | F32: 0.2 | G32: z | H32: =ROUND((((SUM(BE96:BE103)+SUM(BE121:BE132))+SUM(BE134:BE138))),2) -> 0 | M32: =ROUND(((ROUND((SUM(BE96:BE103)+SUM(BE121:BE132)), 2)*F32)+SUM(BE134:BE138)*F32),2) -> 0
E33: znížená | F33: 0.2 | G33: z | H33: =ROUND((((SUM(BF96:BF103)+SUM(BF121:BF132))+SUM(BF134:BF138))),2) -> 0 | M33: =ROUND(((ROUND((SUM(BF96:BF103)+SUM(BF121:BF132)), 2)*F33)+SUM(BF134:BF138)*F33),2) -> 0
E34: zákl. prenesená | F34: 0.2 | G34: z | H34: =ROUND((((SUM(BG96:BG103)+SUM(BG121:BG132))+SUM(BG134:BG138))),2) -> 0 | M34: 0
E35: zníž. prenesená | F35: 0.2 | G35: z | H35: =ROUND((((SUM(BH96:BH103)+SUM(BH121:BH132))+SUM(BH134:BH138))),2) -> 0 | M35: 0
E36: nulová | F36: 0 | G36: z | H36: =ROUND((((SUM(BI96:BI103)+SUM(BI121:BI132))+SUM(BI134:BI138))),2) -> 0 | M36: 0
D38: Cena s DPH | G38: v | H38: EUR | L38: =SUM(M30:M36) -> 0
D50: Projektant | J50: Spracovateľ
D59: Dátum a podpis: | G59: Pečiatka | J59: Dátum a podpis: | N59: Pečiatka
D61: Objednávateľ | J61: Zhotoviteľ
D70: Dátum a podpis: | G70: Pečiatka | J70: Dátum a podpis: | N70: Pečiatka
C76: REKAPITULÁCIA ROZPOČTU
C78: Stavba: | F78: =F6 -> Rekonštrukcia chodníkov v Historickom Mestskom parku
C79: Objekt: | F79: =F7 -> 08 - Chodník trasa G
C81: Miesto: | F81: =F9 -> Trebišov | K81: Dátum: | M81: =IF(O9="","",O9) -> Vyplň údaj
C83: Objednávateľ: | F83: =E12 -> Mesto Trebišov | K83: Projektant: | M83: =E18
C84: Zhotoviteľ: | F84: =IF(E15="","",E15) -> Vyplň údaj | K84: Spracovateľ: | M84: =E21
C86: Kód - Popis | N86: Cena celkom [EUR]
C88: 1) Náklady z rozpočtu | N88: =N121 -> 0 | AU88: -1
D89: HSV - Práce a dodávky HSV | N89: =N122 -> 0
D90: 1 - Zemné práce | N90: =N123 -> 0
D91: 5 - Komunikácie | N91: =N125 -> 0
D92: 9 - Ostatné konštrukcie a práce-búranie | N92: =N129 -> 0
D93: 99 - Presun hmôt HSV | N93: =N131 -> 0
D94: VP - Práce naviac | N94: =N133 -> 0
C96: 2) Ostatné náklady | N96: =ROUND(N97+N98+N99+N100+N101+N102,2) -> 0 | U96: DPH
D97: Zariad. staveniska | N97: =ROUND(N88*T97,2) -> 0 | U97: znížená | AY97: VRN | BE97: =IF(U97="základná",N97,0) -> 0 | BF97: =IF(U97="znížená",N97,0) -> 0 | BG97: =IF(U97="zákl. prenesená",N97,0) -> 0 | BH97: =IF(U97="zníž. prenesená",N97,0) -> 0 | BI97: =IF(U97="nulová",N97,0) -> 0 | BJ97: 2
D98: Mimostav. doprava | N98: =ROUND(N88*T98,2) -> 0 | U98: znížená | AY98: VRN | BE98: =IF(U98="základná",N98,0) -> 0 | BF98: =IF(U98="znížená",N98,0) -> 0 | BG98: =IF(U98="zákl. prenesená",N98,0) -> 0 | BH98: =IF(U98="zníž. prenesená",N98,0) -> 0 | BI98: =IF(U98="nulová",N98,0) -> 0 | BJ98: 2
D99: Územné vplyvy | N99: =ROUND(N88*T99,2) -> 0 | U99: znížená | AY99: VRN | BE99: =IF(U99="základná",N99,0) -> 0 | BF99: =IF(U99="znížená",N99,0) -> 0 | BG99: =IF(U99="zákl. prenesená",N99,0) -> 0 | BH99: =IF(U99="zníž. prenesená",N99,0) -> 0 | BI99: =IF(U99="nulová",N99,0) -> 0 | BJ99: 2
D100: Prevádzkové vplyvy | N100: =ROUND(N88*T100,2) -> 0 | U100: znížená | AY100: VRN | BE100: =IF(U100="základná",N100,0) -> 0 | BF100: =IF(U100="znížená",N100,0) -> 0 | BG100: =IF(U100="zákl. prenesená",N100,0) -> 0 | BH100: =IF(U100="zníž. prenesená",N100,0) -> 0 | BI100: =IF(U100="nulová",N100,0) -> 0 | BJ100: 2
D101: Ostatné | N101: =ROUND(N88*T101,2) -> 0 | U101: znížená | AY101: VRN | BE101: =IF(U101="základná",N101,0) -> 0 | BF101: =IF(U101="znížená",N101,0) -> 0 | BG101: =IF(U101="zákl. prenesená",N101,0) -> 0 | BH101: =IF(U101="zníž. prenesená",N101,0) -> 0 | BI101: =IF(U101="nulová",N101,0) -> 0 | BJ101: 2
D102: Kompletačná činnosť | N102: =ROUND(N88*T102,2) -> 0 | U102: znížená | AY102: KOMPLETACNA | BE102: =IF(U102="základná",N102,0) -> 0 | BF102: =IF(U102="znížená",N102,0) -> 0 | BG102: =IF(U102="zákl. prenesená",N102,0) -> 0 | BH102: =IF(U102="zníž. prenesená",N102,0) -> 0 | BI102: =IF(U102="nulová",N102,0) -> 0 | BJ102: 2
C104: Celkové náklady za stavbu 1) + 2) | L104: =ROUND(SUM(N88+N96),2) -> 0
C110: ROZPOČET
C112: Stavba: | F112: =F6 -> Rekonštrukcia chodníkov v Historickom Mestskom parku
C113: Objekt: | F113: =F7 -> 08 - Chodník trasa G
C115: Miesto: | F115: =F9 -> Trebišov | K115: Dátum: | M115: =IF(O9="","",O9) -> Vyplň údaj
C117: Objednávateľ: | F117: =E12 -> Mesto Trebišov | K117: Projektant: | M117: =E18
C118: Zhotoviteľ: | F118: =IF(E15="","",E15) -> Vyplň údaj | K118: Spracovateľ: | M118: =E21
C120: PČ | D120: Typ | E120: Kód | F120: Popis | J120: MJ | K120: Množstvo | L120: J.cena [EUR] | N120: Cena celkom [EUR] | T120: Poznámka | U120: DPH | V120: J. Nh [h] | W120: Nh celkom [h] | X120: J. hmotnosť_x000D_ [t] | Y120: Hmotnosť_x000D_ celkom [t] | Z120: J. suť [t] | AA120: Suť Celkom [t]
C121: Náklady z rozpočtu | N121: =BK121 -> 0 | W121: =W122+W133 -> 0 | Y121: =Y122+Y133 -> 131.67774 | AA121: =AA122+AA133 -> 1.524 | AT121: D | AU121: -1 | BK121: =BK122+BK133 -> 0
D122: HSV - Práce a dodávky HSV | N122: =BK122 -> 0 | W122: =W123+W125+W129+W131 -> 0 | Y122: =Y123+Y125+Y129+Y131 -> 131.67774 | AA122: =AA123+AA125+AA129+AA131 -> 1.524 | AR122: 1 | AT122: D | AU122: 0 | AY122: ROZPOCET | BK122: =BK123+BK125+BK129+BK131 -> 0
D123: 1 - Zemné práce | N123: =BK123 -> 0 | W123: =W124 -> 0 | Y123: =Y124 -> 0.06912 | AA123: =AA124 -> 1.524 | AR123: 1 | AT123: D | AU123: 1 | AY123: ROZPOCET | BK123: =BK124 -> 0
C124: 1 | D124: K | E124: 113152130 | F124: Frézovanie asf. podkladu alebo krytu bez prek., plochy do 500 m2, pruh š. do 0,5 m, hr. 50 mm 0,127 t | J124: m2 | K124: 12 | L124: 0 | N124: =ROUND(L124*K124,3) -> 0 | U124: znížená | W124: =V124*K124 -> 0 | X124: 0.00576 | Y124: =X124*K124 -> 0.06912 | Z124: 0.127 | AA124: =Z124*K124 -> 1.524 | AR124: 4 | AT124: K | AU124: 2 | AY124: ROZPOCET | BE124: =IF(U124="základná",N124,0) -> 0 | BF124: =IF(U124="znížená",N124,0) -> 0 | BG124: =IF(U124="zákl. prenesená",N124,0) -> 0 | BH124: =IF(U124="zníž. prenesená",N124,0) -> 0 | BI124: =IF(U124="nulová",N124,0) -> 0 | BJ124: 2 | BK124: =ROUND(L124*K124,3) -> 0 | BL124: 4 | BM124: -342860955
D125: 5 - Komunikácie | N125: =BK125 -> 0 | W125: =SUM(W126:W128) -> 0 | Y125: =SUM(Y126:Y128) -> 131.60862 | AA125: =SUM(AA126:AA128) -> 0 | AR125: 1 | AT125: D | AU125: 1 | AY125: ROZPOCET | BK125: =SUM(BK126:BK128) -> 0
C126: 9 | D126: K | E126: 572774111 | F126: Vyrovnanie povrchu doterajších krytov asfaltovou zmesou pre asfaltový koberec veľmi tenký BBTM hr. od 15 do 20 mm | J126: m2 | K126: 858 | L126: 0 | N126: =ROUND(L126*K126,3) -> 0 | U126: znížená | W126: =V126*K126 -> 0 | X126: 0.04895 | Y126: =X126*K126 -> 41.9991 | Z126: 0 | AA126: =Z126*K126 -> 0 | AR126: 4 | AT126: K | AU126: 2 | AY126: ROZPOCET | BE126: =IF(U126="základná",N126,0) -> 0 | BF126: =IF(U126="znížená",N126,0) -> 0 | BG126: =IF(U126="zákl. prenesená",N126,0) -> 0 | BH126: =IF(U126="zníž. prenesená",N126,0) -> 0 | BI126: =IF(U126="nulová",N126,0) -> 0 | BJ126: 2 | BK126: =ROUND(L126*K126,3) -> 0 | BL126: 4 | BM126: -324645106
C127: 3 | D127: K | E127: 573211111 | F127: Postrek asfaltový spojovací bez posypu kamenivom z asfaltu cestného v množstve od 0,50 do 0,70 kg/m2 | J127: m2 | K127: 858 | L127: 0 | N127: =ROUND(L127*K127,3) -> 0 | U127: znížená | W127: =V127*K127 -> 0 | X127: 0.00071 | Y127: =X127*K127 -> 0.60918 | Z127: 0 | AA127: =Z127*K127 -> 0 | AR127: 4 | AT127: K | AU127: 2 | AY127: ROZPOCET | BE127: =IF(U127="základná",N127,0) -> 0 | BF127: =IF(U127="znížená",N127,0) -> 0 | BG127: =IF(U127="zákl. prenesená",N127,0) -> 0 | BH127: =IF(U127="zníž. prenesená",N127,0) -> 0 | BI127: =IF(U127="nulová",N127,0) -> 0 | BJ127: 2 | BK127: =ROUND(L127*K127,3) -> 0 | BL127: 4 | BM127: 280567902
C128: 4 | D128: K | E128: 577134111 | F128: Asfaltový betón vrstva obrusná AC 8 O v pruhu š. do 3 m z nemodifik. asfaltu tr. II, po zhutnení hr. 40 mm | J128: m2 | K128: 858 | L128: 0 | N128: =ROUND(L128*K128,3) -> 0 | U128: znížená | W128: =V128*K128 -> 0 | X128: 0.10373 | Y128: =X128*K128 -> 89.00034 | Z128: 0 | AA128: =Z128*K128 -> 0 | AR128: 4 | AT128: K | AU128: 2 | AY128: ROZPOCET | BE128: =IF(U128="základná",N128,0) -> 0 | BF128: =IF(U128="znížená",N128,0) -> 0 | BG128: =IF(U128="zákl. prenesená",N128,0) -> 0 | BH128: =IF(U128="zníž. prenesená",N128,0) -> 0 | BI128: =IF(U128="nulová",N128,0) -> 0 | BJ128: 2 | BK128: =ROUND(L128*K128,3) -> 0 | BL128: 4 | BM128: -1211831499
D129: 9 - Ostatné konštrukcie a práce-búranie | N129: =BK129 -> 0 | W129: =W130 -> 0 | Y129: =Y130 -> 0 | AA129: =AA130 -> 0 | AR129: 1 | AT129: D | AU129: 1 | AY129: ROZPOCET | BK129: =BK130 -> 0
C130: 5 | D130: K | E130: 979084216 | F130: Vodorovná doprava vybúraných hmôt po suchu bez naloženia, ale so zložením na vzdialenosť do 5 km vratane likvidácie | J130: t | K130: 1.524 | L130: 0 | N130: =ROUND(L130*K130,3) -> 0 | U130: znížená | W130: =V130*K130 -> 0 | X130: 0 | Y130: =X130*K130 -> 0 | Z130: 0 | AA130: =Z130*K130 -> 0 | AR130: 4 | AT130: K | AU130: 2 | AY130: ROZPOCET | BE130: =IF(U130="základná",N130,0) -> 0 | BF130: =IF(U130="znížená",N130,0) -> 0 | BG130: =IF(U130="zákl. prenesená",N130,0) -> 0 | BH130: =IF(U130="zníž. prenesená",N130,0) -> 0 | BI130: =IF(U130="nulová",N130,0) -> 0 | BJ130: 2 | BK130: =ROUND(L130*K130,3) -> 0 | BL130: 4 | BM130: 689538671
D131: 99 - Presun hmôt HSV | N131: =BK131 -> 0 | W131: =W132 -> 0 | Y131: =Y132 -> 0 | AA131: =AA132 -> 0 | AR131: 1 | AT131: D | AU131: 1 | AY131: ROZPOCET | BK131: =BK132 -> 0
C132: 8 | D132: K | E132: 998225111 | F132: Presun hmôt pre pozemnú komunikáciu a letisko s krytom asfaltovým akejkoľvek dĺžky objektu | J132: t | K132: 131.678 | L132: 0 | N132: =ROUND(L132*K132,3) -> 0 | U132: znížená | W132: =V132*K132 -> 0 | X132: 0 | Y132: =X132*K132 -> 0 | Z132: 0 | AA132: =Z132*K132 -> 0 | AR132: 4 | AT132: K | AU132: 2 | AY132: ROZPOCET | BE132: =IF(U132="základná",N132,0) -> 0 | BF132: =IF(U132="znížená",N132,0) -> 0 | BG132: =IF(U132="zákl. prenesená",N132,0) -> 0 | BH132: =IF(U132="zníž. prenesená",N132,0) -> 0 | BI132: =IF(U132="nulová",N132,0) -> 0 | BJ132: 2 | BK132: =ROUND(L132*K132,3) -> 0 | BL132: 4 | BM132: 1857325329
D133: VP - Práce naviac | N133: =BK133 -> 0 | AT133: D | AU133: 0 | AY133: PN | BK133: =SUM(BK134:BK138) -> 0
D134: K | N134: =BK134 -> 0 | U134: znížená | AT134: PN | AU134: 1 | AY134: PN | BE134: =IF(U134="základná",N134,0) -> 0 | BF134: =IF(U134="znížená",N134,0) -> 0 | BG134: =IF(U134="zákl. prenesená",N134,0) -> 0 | BH134: =IF(U134="zníž. prenesená",N134,0) -> 0 | BI134: =IF(U134="nulová",N134,0) -> 0 | BJ134: 2 | BK134: =L134*K134 -> 0
D135: K | N135: =BK135 -> 0 | U135: znížená | AT135: PN | AU135: 1 | AY135: PN | BE135: =IF(U135="základná",N135,0) -> 0 | BF135: =IF(U135="znížená",N135,0) -> 0 | BG135: =IF(U135="zákl. prenesená",N135,0) -> 0 | BH135: =IF(U135="zníž. prenesená",N135,0) -> 0 | BI135: =IF(U135="nulová",N135,0) -> 0 | BJ135: 2 | BK135: =L135*K135 -> 0
D136: K | N136: =BK136 -> 0 | U136: znížená | AT136: PN | AU136: 1 | AY136: PN | BE136: =IF(U136="základná",N136,0) -> 0 | BF136: =IF(U136="znížená",N136,0) -> 0 | BG136: =IF(U136="zákl. prenesená",N136,0) -> 0 | BH136: =IF(U136="zníž. prenesená",N136,0) -> 0 | BI136: =IF(U136="nulová",N136,0) -> 0 | BJ136: 2 | BK136: =L136*K136 -> 0
D137: K | N137: =BK137 -> 0 | U137: znížená | AT137: PN | AU137: 1 | AY137: PN | BE137: =IF(U137="základná",N137,0) -> 0 | BF137: =IF(U137="znížená",N137,0) -> 0 | BG137: =IF(U137="zákl. prenesená",N137,0) -> 0 | BH137: =IF(U137="zníž. prenesená",N137,0) -> 0 | BI137: =IF(U137="nulová",N137,0) -> 0 | BJ137: 2 | BK137: =L137*K137 -> 0
D138: K | N138: =BK138 -> 0 | U138: znížená | AT138: PN | AU138: 1 | AY138: PN | BE138: =IF(U138="základná",N138,0) -> 0 | BF138: =IF(U138="znížená",N138,0) -> 0 | BG138: =IF(U138="zákl. prenesená",N138,0) -> 0 | BH138: =IF(U138="zníž. prenesená",N138,0) -> 0 | BI138: =IF(U138="nulová",N138,0) -> 0 | BJ138: 2 | BK138: =L138*K138 -> 0

Sheet 09 - Chodník trasa H
D1: Hárok obsahuje: | F1: 1) Krycí list rozpočtu | H1: 2) Rekapitulácia rozpočtu | L1: 3) Rozpočet | O1: Späť na hárok: | S1: Rekapitulácia stavby
C2: optimalizované pre tlač zostáv vo formáte A4 - na výšku | S2: >> skryté stĺpce << | AT2: {03a55661-7cf8-4621-a39b-233409219910}
AT3: 0
C4: KRYCÍ LIST ROZPOČTU | T4: v --- nižšie sa nachádzajú doplnkové a pomocné údaje k zostavám --- v | AT4: False
D6: Stavba: | F6: ='Rekapitulácia stavby'!K6 -> Rekonštrukcia chodníkov v Historickom Mestskom parku
D7: Objekt: | F7: 09 - Chodník trasa H
D8: JKSO: | M8: KS:
D9: Miesto: | F9: Trebišov | M9: Dátum: | O9: ='Rekapitulácia stavby'!AN8 -> Vyplň údaj
D11: Objednávateľ: | M11: IČO:
E12: Mesto Trebišov | M12: IČO DPH:
D14: Zhotoviteľ: | M14: IČO: | O14: =IF('Rekapitulácia stavby'!AN13="","",'Rekapitulácia stavby'!AN13) -> Vyplň údaj
E15: =IF('Rekapitulácia stavby'!E14="","",'Rekapitulácia stavby'!E14) -> Vyplň údaj | M15: IČO DPH: | O15: =IF('Rekapitulácia stavby'!AN14="","",'Rekapitulácia stavby'!AN14) -> Vyplň údaj
D17: Projektant: | M17: IČO: | O17: =IF('Rekapitulácia stavby'!AN16="","",'Rekapitulácia stavby'!AN16)
E18: =IF('Rekapitulácia stavby'!E17="","",'Rekapitulácia stavby'!E17) | M18: IČO DPH: | O18: =IF('Rekapitulácia stavby'!AN17="","",'Rekapitulácia stavby'!AN17)
D20: Spracovateľ: | M20: IČO: | O20: =IF('Rekapitulácia stavby'!AN19="","",'Rekapitulácia stavby'!AN19)
E21: =IF('Rekapitulácia stavby'!E20="","",'Rekapitulácia stavby'!E20) | M21: IČO DPH: | O21: =IF('Rekapitulácia stavby'!AN20="","",'Rekapitulácia stavby'!AN20)
D23: Poznámka:
D27: Náklady z rozpočtu | M27: =N88 -> 0
D28: Ostatné náklady | M28: =N96 -> 0
D30: Cena bez DPH | M30: =ROUND(M27+M28,2) -> 0
D32: DPH | E32: základná | F32: 0.2 | G32: z | H32: =ROUND((((SUM(BE96:BE103)+SUM(BE121:BE132))+SUM(BE134:BE138))),2) -> 0 | M32: =ROUND(((ROUND((SUM(BE96:BE103)+SUM(BE121:BE132)), 2)*F32)+SUM(BE134:BE138)*F32),2) -> 0
E33: znížená | F33: 0.2 | G33: z | H33: =ROUND((((SUM(BF96:BF103)+SUM(BF121:BF132))+SUM(BF134:BF138))),2) -> 0 | M33: =ROUND(((ROUND((SUM(BF96:BF103)+SUM(BF121:BF132)), 2)*F33)+SUM(BF134:BF138)*F33),2) -> 0
E34: zákl. prenesená | F34: 0.2 | G34: z | H34: =ROUND((((SUM(BG96:BG103)+SUM(BG121:BG132))+SUM(BG134:BG138))),2) -> 0 | M34: 0
E35: zníž. prenesená | F35: 0.2 | G35: z | H35: =ROUND((((SUM(BH96:BH103)+SUM(BH121:BH132))+SUM(BH134:BH138))),2) -> 0 | M35: 0
E36: nulová | F36: 0 | G36: z | H36: =ROUND((((SUM(BI96:BI103)+SUM(BI121:BI132))+SUM(BI134:BI138))),2) -> 0 | M36: 0
D38: Cena s DPH | G38: v | H38: EUR | L38: =SUM(M30:M36) -> 0
D50: Projektant | J50: Spracovateľ
D59: Dátum a podpis: | G59: Pečiatka | J59: Dátum a podpis: | N59: Pečiatka
D61: Objednávateľ | J61: Zhotoviteľ
D70: Dátum a podpis: | G70: Pečiatka | J70: Dátum a podpis: | N70: Pečiatka
C76: REKAPITULÁCIA ROZPOČTU
C78: Stavba: | F78: =F6 -> Rekonštrukcia chodníkov v Historickom Mestskom parku
C79: Objekt: | F79: =F7 -> 09 - Chodník trasa H
C81: Miesto: | F81: =F9 -> Trebišov | K81: Dátum: | M81: =IF(O9="","",O9) -> Vyplň údaj
C83: Objednávateľ: | F83: =E12 -> Mesto Trebišov | K83: Projektant: | M83: =E18
C84: Zhotoviteľ: | F84: =IF(E15="","",E15) -> Vyplň údaj | K84: Spracovateľ: | M84: =E21
C86: Kód - Popis | N86: Cena celkom [EUR]
C88: 1) Náklady z rozpočtu | N88: =N121 -> 0 | AU88: -1
D89: HSV - Práce a dodávky HSV | N89: =N122 -> 0
D90: 1 - Zemné práce | N90: =N123 -> 0
D91: 5 - Komunikácie | N91: =N125 -> 0
D92: 9 - Ostatné konštrukcie a práce-búranie | N92: =N129 -> 0
D93: 99 - Presun hmôt HSV | N93: =N131 -> 0
D94: VP - Práce naviac | N94: =N133 -> 0
C96: 2) Ostatné náklady | N96: =ROUND(N97+N98+N99+N100+N101+N102,2) -> 0 | U96: DPH
D97: Zariad. staveniska | N97: =ROUND(N88*T97,2) -> 0 | U97: znížená | AY97: VRN | BE97: =IF(U97="základná",N97,0) -> 0 | BF97: =IF(U97="znížená",N97,0) -> 0 | BG97: =IF(U97="zákl. prenesená",N97,0) -> 0 | BH97: =IF(U97="zníž. prenesená",N97,0) -> 0 | BI97: =IF(U97="nulová",N97,0) -> 0 | BJ97: 2
D98: Mimostav. doprava | N98: =ROUND(N88*T98,2) -> 0 | U98: znížená | AY98: VRN | BE98: =IF(U98="základná",N98,0) -> 0 | BF98: =IF(U98="znížená",N98,0) -> 0 | BG98: =IF(U98="zákl. prenesená",N98,0) -> 0 | BH98: =IF(U98="zníž. prenesená",N98,0) -> 0 | BI98: =IF(U98="nulová",N98,0) -> 0 | BJ98: 2
D99: Územné vplyvy | N99: =ROUND(N88*T99,2) -> 0 | U99: znížená | AY99: VRN | BE99: =IF(U99="základná",N99,0) -> 0 | BF99: =IF(U99="znížená",N99,0) -> 0 | BG99: =IF(U99="zákl. prenesená",N99,0) -> 0 | BH99: =IF(U99="zníž. prenesená",N99,0) -> 0 | BI99: =IF(U99="nulová",N99,0) -> 0 | BJ99: 2
D100: Prevádzkové vplyvy | N100: =ROUND(N88*T100,2) -> 0 | U100: znížená | AY100: VRN | BE100: =IF(U100="základná",N100,0) -> 0 | BF100: =IF(U100="znížená",N100,0) -> 0 | BG100: =IF(U100="zákl. prenesená",N100,0) -> 0 | BH100: =IF(U100="zníž. prenesená",N100,0) -> 0 | BI100: =IF(U100="nulová",N100,0) -> 0 | BJ100: 2
D101: Ostatné | N101: =ROUND(N88*T101,2) -> 0 | U101: znížená | AY101: VRN | BE101: =IF(U101="základná",N101,0) -> 0 | BF101: =IF(U101="znížená",N101,0) -> 0 | BG101: =IF(U101="zákl. prenesená",N101,0) -> 0 | BH101: =IF(U101="zníž. prenesená",N101,0) -> 0 | BI101: =IF(U101="nulová",N101,0) -> 0 | BJ101: 2
D102: Kompletačná činnosť | N102: =ROUND(N88*T102,2) -> 0 | U102: znížená | AY102: KOMPLETACNA | BE102: =IF(U102="základná",N102,0) -> 0 | BF102: =IF(U102="znížená",N102,0) -> 0 | BG102: =IF(U102="zákl. prenesená",N102,0) -> 0 | BH102: =IF(U102="zníž. prenesená",N102,0) -> 0 | BI102: =IF(U102="nulová",N102,0) -> 0 | BJ102: 2
C104: Celkové náklady za stavbu 1) + 2) | L104: =ROUND(SUM(N88+N96),2) -> 0
C110: ROZPOČET
C112: Stavba: | F112: =F6 -> Rekonštrukcia chodníkov v Historickom Mestskom parku
C113: Objekt: | F113: =F7 -> 09 - Chodník trasa H
C115: Miesto: | F115: =F9 -> Trebišov | K115: Dátum: | M115: =IF(O9="","",O9) -> Vyplň údaj
C117: Objednávateľ: | F117: =E12 -> Mesto Trebišov | K117: Projektant: | M117: =E18
C118: Zhotoviteľ: | F118: =IF(E15="","",E15) -> Vyplň údaj | K118: Spracovateľ: | M118: =E21
C120: PČ | D120: Typ | E120: Kód | F120: Popis | J120: MJ | K120: Množstvo | L120: J.cena [EUR] | N120: Cena celkom [EUR] | T120: Poznámka | U120: DPH | V120: J. Nh [h] | W120: Nh celkom [h] | X120: J. hmotnosť_x000D_ [t] | Y120: Hmotnosť_x000D_ celkom [t] | Z120: J. suť [t] | AA120: Suť Celkom [t]
C121: Náklady z rozpočtu | N121: =BK121 -> 0 | W121: =W122+W133 -> 0 | Y121: =Y122+Y133 -> 49.4607 | AA121: =AA122+AA133 -> 1.524 | AT121: D | AU121: -1 | BK121: =BK122+BK133 -> 0
D122: HSV - Práce a dodávky HSV | N122: =BK122 -> 0 | W122: =W123+W125+W129+W131 -> 0 | Y122: =Y123+Y125+Y129+Y131 -> 49.4607 | AA122: =AA123+AA125+AA129+AA131 -> 1.524 | AR122: 1 | AT122: D | AU122: 0 | AY122: ROZPOCET | BK122: =BK123+BK125+BK129+BK131 -> 0
D123: 1 - Zemné práce | N123: =BK123 -> 0 | W123: =W124 -> 0 | Y123: =Y124 -> 0.06912 | AA123: =AA124 -> 1.524 | AR123: 1 | AT123: D | AU123: 1 | AY123: ROZPOCET | BK123: =BK124 -> 0
C124: 1 | D124: K | E124: 113152130 | F124: Frézovanie asf. podkladu alebo krytu bez prek., plochy do 500 m2, pruh š. do 0,5 m, hr. 50 mm 0,127 t | J124: m2 | K124: 12 | L124: 0 | N124: =ROUND(L124*K124,3) -> 0 | U124: znížená | W124: =V124*K124 -> 0 | X124: 0.00576 | Y124: =X124*K124 -> 0.06912 | Z124: 0.127 | AA124: =Z124*K124 -> 1.524 | AR124: 4 | AT124: K | AU124: 2 | AY124: ROZPOCET | BE124: =IF(U124="základná",N124,0) -> 0 | BF124: =IF(U124="znížená",N124,0) -> 0 | BG124: =IF(U124="zákl. prenesená",N124,0) -> 0 | BH124: =IF(U124="zníž. prenesená",N124,0) -> 0 | BI124: =IF(U124="nulová",N124,0) -> 0 | BJ124: 2 | BK124: =ROUND(L124*K124,3) -> 0 | BL124: 4 | BM124: -342860955
D125: 5 - Komunikácie | N125: =BK125 -> 0 | W125: =SUM(W126:W128) -> 0 | Y125: =SUM(Y126:Y128) -> 49.39158 | AA125: =SUM(AA126:AA128) -> 0 | AR125: 1 | AT125: D | AU125: 1 | AY125: ROZPOCET | BK125: =SUM(BK126:BK128) -> 0
C126: 9 | D126: K | E126: 572774111 | F126: Vyrovnanie povrchu doterajších krytov asfaltovou zmesou pre asfaltový koberec veľmi tenký BBTM hr. od 15 do 20 mm | J126: m2 | K126: 322 | L126: 0 | N126: =ROUND(L126*K126,3) -> 0 | U126: znížená | W126: =V126*K126 -> 0 | X126: 0.04895 | Y126: =X126*K126 -> 15.7619 | Z126: 0 | AA126: =Z126*K126 -> 0 | AR126: 4 | AT126: K | AU126: 2 | AY126: ROZPOCET | BE126: =IF(U126="základná",N126,0) -> 0 | BF126: =IF(U126="znížená",N126,0) -> 0 | BG126: =IF(U126="zákl. prenesená",N126,0) -> 0 | BH126: =IF(U126="zníž. prenesená",N126,0) -> 0 | BI126: =IF(U126="nulová",N126,0) -> 0 | BJ126: 2 | BK126: =ROUND(L126*K126,3) -> 0 | BL126: 4 | BM126: 1577047402
C127: 3 | D127: K | E127: 573211111 | F127: Postrek asfaltový spojovací bez posypu kamenivom z asfaltu cestného v množstve od 0,50 do 0,70 kg/m2 | J127: m2 | K127: 322 | L127: 0 | N127: =ROUND(L127*K127,3) -> 0 | U127: znížená | W127: =V127*K127 -> 0 | X127: 0.00071 | Y127: =X127*K127 -> 0.22862 | Z127: 0 | AA127: =Z127*K127 -> 0 | AR127: 4 | AT127: K | AU127: 2 | AY127: ROZPOCET | BE127: =IF(U127="základná",N127,0) -> 0 | BF127: =IF(U127="znížená",N127,0) -> 0 | BG127: =IF(U127="zákl. prenesená",N127,0) -> 0 | BH127: =IF(U127="zníž. prenesená",N127,0) -> 0 | BI127: =IF(U127="nulová",N127,0) -> 0 | BJ127: 2 | BK127: =ROUND(L127*K127,3) -> 0 | BL127: 4 | BM127: 280567902
C128: 4 | D128: K | E128: 577134111 | F128: Asfaltový betón vrstva obrusná AC 8 O v pruhu š. do 3 m z nemodifik. asfaltu tr. II, po zhutnení hr. 40 mm | J128: m2 | K128: 322 | L128: 0 | N128: =ROUND(L128*K128,3) -> 0 | U128: znížená | W128: =V128*K128 -> 0 | X128: 0.10373 | Y128: =X128*K128 -> 33.40106 | Z128: 0 | AA128: =Z128*K128 -> 0 | AR128: 4 | AT128: K | AU128: 2 | AY128: ROZPOCET | BE128: =IF(U128="základná",N128,0) -> 0 | BF128: =IF(U128="znížená",N128,0) -> 0 | BG128: =IF(U128="zákl. prenesená",N128,0) -> 0 | BH128: =IF(U128="zníž. prenesená",N128,0) -> 0 | BI128: =IF(U128="nulová",N128,0) -> 0 | BJ128: 2 | BK128: =ROUND(L128*K128,3) -> 0 | BL128: 4 | BM128: -1211831499
D129: 9 - Ostatné konštrukcie a práce-búranie | N129: =BK129 -> 0 | W129: =W130 -> 0 | Y129: =Y130 -> 0 | AA129: =AA130 -> 0 | AR129: 1 | AT129: D | AU129: 1 | AY129: ROZPOCET | BK129: =BK130 -> 0
C130: 5 | D130: K | E130: 979084216 | F130: Vodorovná doprava vybúraných hmôt po suchu bez naloženia, ale so zložením na vzdialenosť do 5 km vratane likvidácie | J130: t | K130: 1.524 | L130: 0 | N130: =ROUND(L130*K130,3) -> 0 | U130: znížená | W130: =V130*K130 -> 0 | X130: 0 | Y130: =X130*K130 -> 0 | Z130: 0 | AA130: =Z130*K130 -> 0 | AR130: 4 | AT130: K | AU130: 2 | AY130: ROZPOCET | BE130: =IF(U130="základná",N130,0) -> 0 | BF130: =IF(U130="znížená",N130,0) -> 0 | BG130: =IF(U130="zákl. prenesená",N130,0) -> 0 | BH130: =IF(U130="zníž. prenesená",N130,0) -> 0 | BI130: =IF(U130="nulová",N130,0) -> 0 | BJ130: 2 | BK130: =ROUND(L130*K130,3) -> 0 | BL130: 4 | BM130: 689538671
D131: 99 - Presun hmôt HSV | N131: =BK131 -> 0 | W131: =W132 -> 0 | Y131: =Y132 -> 0 | AA131: =AA132 -> 0 | AR131: 1 | AT131: D | AU131: 1 | AY131: ROZPOCET | BK131: =BK132 -> 0
C132: 8 | D132: K | E132: 998225111 | F132: Presun hmôt pre pozemnú komunikáciu a letisko s krytom asfaltovým akejkoľvek dĺžky objektu | J132: t | K132: 49.461 | L132: 0 | N132: =ROUND(L132*K132,3) -> 0 | U132: znížená | W132: =V132*K132 -> 0 | X132: 0 | Y132: =X132*K132 -> 0 | Z132: 0 | AA132: =Z132*K132 -> 0 | AR132: 4 | AT132: K | AU132: 2 | AY132: ROZPOCET | BE132: =IF(U132="základná",N132,0) -> 0 | BF132: =IF(U132="znížená",N132,0) -> 0 | BG132: =IF(U132="zákl. prenesená",N132,0) -> 0 | BH132: =IF(U132="zníž. prenesená",N132,0) -> 0 | BI132: =IF(U132="nulová",N132,0) -> 0 | BJ132: 2 | BK132: =ROUND(L132*K132,3) -> 0 | BL132: 4 | BM132: 1857325329
D133: VP - Práce naviac | N133: =BK133 -> 0 | AT133: D | AU133: 0 | AY133: PN | BK133: =SUM(BK134:BK138) -> 0
D134: K | N134: =BK134 -> 0 | U134: znížená | AT134: PN | AU134: 1 | AY134: PN | BE134: =IF(U134="základná",N134,0) -> 0 | BF134: =IF(U134="znížená",N134,0) -> 0 | BG134: =IF(U134="zákl. prenesená",N134,0) -> 0 | BH134: =IF(U134="zníž. prenesená",N134,0) -> 0 | BI134: =IF(U134="nulová",N134,0) -> 0 | BJ134: 2 | BK134: =L134*K134 -> 0
D135: K | N135: =BK135 -> 0 | U135: znížená | AT135: PN | AU135: 1 | AY135: PN | BE135: =IF(U135="základná",N135,0) -> 0 | BF135: =IF(U135="znížená",N135,0) -> 0 | BG135: =IF(U135="zákl. prenesená",N135,0) -> 0 | BH135: =IF(U135="zníž. prenesená",N135,0) -> 0 | BI135: =IF(U135="nulová",N135,0) -> 0 | BJ135: 2 | BK135: =L135*K135 -> 0
D136: K | N136: =BK136 -> 0 | U136: znížená | AT136: PN | AU136: 1 | AY136: PN | BE136: =IF(U136="základná",N136,0) -> 0 | BF136: =IF(U136="znížená",N136,0) -> 0 | BG136: =IF(U136="zákl. prenesená",N136,0) -> 0 | BH136: =IF(U136="zníž. prenesená",N136,0) -> 0 | BI136: =IF(U136="nulová",N136,0) -> 0 | BJ136: 2 | BK136: =L136*K136 -> 0
D137: K | N137: =BK137 -> 0 | U137: znížená | AT137: PN | AU137: 1 | AY137: PN | BE137: =IF(U137="základná",N137,0) -> 0 | BF137: =IF(U137="znížená",N137,0) -> 0 | BG137: =IF(U137="zákl. prenesená",N137,0) -> 0 | BH137: =IF(U137="zníž. prenesená",N137,0) -> 0 | BI137: =IF(U137="nulová",N137,0) -> 0 | BJ137: 2 | BK137: =L137*K137 -> 0
D138: K | N138: =BK138 -> 0 | U138: znížená | AT138: PN | AU138: 1 | AY138: PN | BE138: =IF(U138="základná",N138,0) -> 0 | BF138: =IF(U138="znížená",N138,0) -> 0 | BG138: =IF(U138="zákl. prenesená",N138,0) -> 0 | BH138: =IF(U138="zníž. prenesená",N138,0) -> 0 | BI138: =IF(U138="nulová",N138,0) -> 0 | BJ138: 2 | BK138: =L138*K138 -> 0
