Workbook

Sheet Rekapitulácia stavby
A1: 2012 | D1: Hárok obsahuje: | K1: 1) Súhrnný list stavby | W1: 2) Rekapitulácia objektov | BA1: 2.0 | BB1: ZAMOK | BT1: False | BU1: False
C2: optimalizované pre tlač zostáv vo formáte A4 - na výšku | AR2: >> skryté stĺpce << | BS2: 0,001 | BT2: 20
BS3: 0,001 | BT3: 20
C4: SÚHRNNÝ LIST STAVBY | AS4: v --- nižšie sa nachádzajú doplnkové a pomocné údaje k zostavám --- v | BE4: Návod na vyplnenie | BS4: 0,001
D5: Kód: | K5: 09915 | BE5: Meniť je možné iba bunky so žltým podfarbením!_x000D_ _x000D_ 1) na prvom liste Rekapitulácie stavby vyplňte v zostave_x000D_ _x000D_ a) Súhrnný list_x000D_ - údaje o Zhotoviteľovi_x000D_ (prenesú sa do ostatných zostáv aj v iných listoch)_x000D_ _x000D_ b) Rekapitulácia objektov_x000D_ - potrebné Ostatné náklady_x000D_ _x000D_ 2) na vybraných listoch vyplňte v zostave_x000D_ _x000D_ a) Krycí list_x000D_ - údaje o Zhotoviteľovi, pokiaľ sa líšia od údajov o Zhotoviteľovi na Súhrnnom liste_x000D_ (údaje se prenesú do ostatných zostav v danom liste)_x000D_ _x000D_ b) Rekapitulácia rozpočtu_x000D_ - potrebné Ostatné náklady_x000D_ _x000D_ c) Celkové náklady za stavbu_x000D_ - ceny na položkách_x000D_ - množstvo, pokiaľ má žlté podfarbenie_x000D_ - a v prípade potreby poznámku (tá je v skrytom stĺpci) | BS5: 0,001
D6: Stavba: | K6: Oprava povrchov detských ihrísk Trebišov | BS6: 0,001
D7: JKSO: | AK7: KS: | BS7: 0,001
D8: Miesto: | AK8: Dátum: | AN8: Vyplň údaj | BS8: 0,001
BS9: 0,001
D10: Objednávateľ: | AK10: IČO: | BS10: 0,001
AK11: IČO DPH: | BS11: 0,001
BS12: 0,001
D13: Zhotoviteľ: | AK13: IČO: | AN13: Vyplň údaj | BS13: 0,001
E14: Vyplň údaj | AK14: IČO DPH: | AN14: Vyplň údaj | BS14: 0,001
BS15: False
D16: Projektant: | AK16: IČO: | BS16: False
AK17: IČO DPH: | BS17: True
BS18: 0,01
D19: Spracovateľ: | AK19: IČO: | BS19: 0,01
AK20: IČO DPH:
D22: Poznámka:
D26: Náklady z rozpočtov | AK26: =ROUND(AG87,2) -> 0
D27: Ostatné náklady zo súhrnného listu | AK27: =ROUND(AG91,2) -> 0
D29: Cena bez DPH | AK29: =ROUND(AK26+AK27,2) -> 0
D31: DPH | F31: základná | L31: 0.2 | T31: z | W31: =ROUND(AZ87+SUM(CD92:CD96),2) -> 0 | AK31: =ROUND(AV87+SUM(BY92:BY96),2) -> 0
F32: znížená | L32: 0.2 | T32: z | W32: =ROUND(BA87+SUM(CE92:CE96),2) -> 0 | AK32: =ROUND(AW87+SUM(BZ92:BZ96),2) -> 0
F33: zákl. prenesená | L33: 0.2 | T33: z | W33: =ROUND(BB87+SUM(CF92:CF96),2) -> 0 | AK33: 0
F34: zníž. prenesená | L34: 0.2 | T34: z | W34: =ROUND(BC87+SUM(CG92:CG96),2) -> 0 | AK34: 0
F35: nulová | L35: 0 | T35: z | W35: =ROUND(BD87+SUM(CH92:CH96),2) -> 0 | AK35: 0
D37: Cena s DPH | T37: v | X37: EUR | AK37: =SUM(AK29:AK35) -> 0
D49: Projektant | AC49: Spracovateľ
D58: Dátum a podpis: | R58: Pečiatka | AC58: Dátum a podpis: | AM58: Pečiatka
D60: Objednávateľ | AC60: Zhotoviteľ
D69: Dátum a podpis: | R69: Pečiatka | AC69: Dátum a podpis: | AM69: Pečiatka
C76: REKAPITULÁCIA OBJEKTOV STAVBY
C77: Kód: | L77: =K5 -> 09915
C78: Stavba: | L78: =K6 -> Oprava povrchov detských ihrísk Trebišov
C80: Miesto: | L80: =IF(K8="","",K8) | AI80: Dátum: | AM80: =IF(AN8= "","",AN8) -> Vyplň údaj
C82: Objednávateľ: | L82: =IF(E11= "","",E11) | AI82: Projektant: | AM82: =IF(E17="","",E17) | AS82: Informatívne údaje z listov zákaziek
C83: Zhotoviteľ: | L83: =IF(E14= "Vyplň údaj","",E14) | AI83: Spracovateľ: | AM83: =IF(E20="","",E20)
C85: Kód | I85: Objekt | AG85: Cena bez DPH [EUR] | AN85: Cena s DPH [EUR] | AS85: z toho Ostat._x000D_ náklady [EUR] | AT85: DPH [EUR] | AU85: Normohodiny [h] | AV85: DPH základná [EUR] | AW85: DPH znížená [EUR] | AX85: DPH základná prenesená_x000D_ [EUR] | AY85: DPH znížená prenesená_x000D_ [EUR] | AZ85: Základňa_x000D_ DPH základná | BA85: Základňa_x000D_ DPH znížená | BB85: Základňa_x000D_ DPH zákl. prenesená | BC85: Základňa_x000D_ DPH zníž. prenesená | BD85: Základňa_x000D_ DPH nulová
C87: 1) Náklady z rozpočtov | AG87: =ROUND(SUM(AG88:AG89),2) -> 0 | AN87: =SUM(AG87,AT87) -> 0 | AS87: =ROUND(SUM(AS88:AS89),2) -> 0 | AT87: =ROUND(SUM(AV87:AW87),2) -> 0 | AU87: =ROUND(SUM(AU88:AU89),5) -> 0 | AV87: =ROUND(AZ87*L31,2) -> 0 | AW87: =ROUND(BA87*L32,2) -> 0 | AX87: =ROUND(BB87*L31,2) -> 0 | AY87: =ROUND(BC87*L32,2) -> 0 | AZ87: =ROUND(SUM(AZ88:AZ89),2) -> 0 | BA87: =ROUND(SUM(BA88:BA89),2) -> 0 | BB87: =ROUND(SUM(BB88:BB89),2) -> 0 | BC87: =ROUND(SUM(BC88:BC89),2) -> 0 | BD87: =ROUND(SUM(BD88:BD89),2) -> 0 | BS87: D | BT87: 0 | BU87: ###NOIMPORT### | BV87: IMPORT | BW87: {3e1faf55-9437-4d7b-a058-e0b498d4f729} | BX87: {00000000-0000-0000-0000-000000000000}
A88: / | D88: 01 | J88: Detské ihrisko Berehovska pod kopcom | AG88: ='01 - Detské ihrisko Bereh...'!M30 -> 0 | AN88: =SUM(AG88,AT88) -> 0 | AS88: ='01 - Detské ihrisko Bereh...'!M28 -> 0 | AT88: =ROUND(SUM(AV88:AW88),2) -> 0 | AU88: ='01 - Detské ihrisko Bereh...'!W119 -> 0 | AV88: ='01 - Detské ihrisko Bereh...'!M32 -> 0 | AW88: ='01 - Detské ihrisko Bereh...'!M33 -> 0 | AX88: ='01 - Detské ihrisko Bereh...'!M34 -> 0 | AY88: ='01 - Detské ihrisko Bereh...'!M35 -> 0 | AZ88: ='01 - Detské ihrisko Bereh...'!H32 -> 0 | BA88: ='01 - Detské ihrisko Bereh...'!H33 -> 0 | BB88: ='01 - Detské ihrisko Bereh...'!H34 -> 0 | BC88: ='01 - Detské ihrisko Bereh...'!H35 -> 0 | BD88: ='01 - Detské ihrisko Bereh...'!H36 -> 0 | BT88: 1 | BV88: IMPORT | BW88: {36f5ea1d-2c48-4456-801c-e58aeb960318} | BX88: {3e1faf55-9437-4d7b-a058-e0b498d4f729}
A89: / | D89: 02 | J89: Detské ihrisko Berehovska za MŠ 1. Decembra | AG89: ='02 - Detské ihrisko Bereh...'!M30 -> 0 | AN89: =SUM(AG89,AT89) -> 0 | AS89: ='02 - Detské ihrisko Bereh...'!M28 -> 0 | AT89: =ROUND(SUM(AV89:AW89),2) -> 0 | AU89: ='02 - Detské ihrisko Bereh...'!W119 -> 0 | AV89: ='02 - Detské ihrisko Bereh...'!M32 -> 0 | AW89: ='02 - Detské ihrisko Bereh...'!M33 -> 0 | AX89: ='02 - Detské ihrisko Bereh...'!M34 -> 0 | AY89: ='02 - Detské ihrisko Bereh...'!M35 -> 0 | AZ89: ='02 - Detské ihrisko Bereh...'!H32 -> 0 | BA89: ='02 - Detské ihrisko Bereh...'!H33 -> 0 | BB89: ='02 - Detské ihrisko Bereh...'!H34 -> 0 | BC89: ='02 - Detské ihrisko Bereh...'!H35 -> 0 | BD89: ='02 - Detské ihrisko Bereh...'!H36 -> 0 | BT89: 1 | BV89: IMPORT | BW89: {a0c4677e-26b8-4b4f-8779-0e9b5ad957b8} | BX89: {3e1faf55-9437-4d7b-a058-e0b498d4f729}
C91: 2) Ostatné náklady zo súhrnného listu | AG91: =ROUND(SUM(AG92:AG95),2) -> 0 | AN91: =ROUND(SUM(AN92:AN95),2) -> 0 | AS91: Percent. zadanie_x000D_ [% nákladov rozpočtu] | AT91: Zaradenie nákladov | AU91: DPH | AV91: DPH [EUR]
D92: Ostatné náklady | AG92: =ROUND(AG87*AS92,2) -> 0 | AN92: =ROUND(AG92+AV92,2) -> 0 | AS92: 0 | AT92: stavebná časť | AU92: základná | AV92: =ROUND(IF(AU92="základná",AG92*L31,IF(AU92="znížená",AG92*L32,0)),2) -> 0 | BV92: OSTATNENAKLADY | BY92: =IF(AU92="základná",AV92,0) -> 0 | BZ92: =IF(AU92="znížená",AV92,0) -> 0 | CA92: 0 | CB92: 0 | CC92: 0 | CD92: =IF(AU92="základná",AG92,0) -> 0 | CE92: =IF(AU92="znížená",AG92,0) -> 0 | CF92: =IF(AU92="zákl. prenesená",AG92,0) -> 0 | CG92: =IF(AU92="zníž. prenesená",AG92,0) -> 0 | CH92: =IF(AU92="nulová",AG92,0) -> 0 | CI92: =IF(AU92="základná",1,IF(AU92="znížená",2,IF(AU92="zákl. prenesená",4,IF(AU92="zníž. prenesená",5,3)))) -> 1 | CJ92: =IF(AT92="stavebná časť",1,IF(8892="investičná časť",2,3)) -> 1 | CK92: =IF(D92="Vyplň vlastné","","x") -> x
D93: Vyplň vlastné | AG93: =AG87*AS93 -> 0 | AN93: =AG93+AV93 -> 0 | AS93: 0 | AT93: stavebná časť | AU93: základná | AV93: =ROUND(IF(AU93="nulová",0,IF(OR(AU93="základná",AU93="zákl. prenesená"),AG93*L31,AG93*L32)),2) -> 0 | BV93: OSTATNENAKLADYVLASTNE | BY93: =IF(AU93="základná",AV93,0) -> 0 | BZ93: =IF(AU93="znížená",AV93,0) -> 0 | CA93: =IF(AU93="zákl. prenesená",AV93,0) -> 0 | CB93: =IF(AU93="zníž. prenesená",AV93,0) -> 0 | CC93: =IF(AU93="nulová",AV93,0) -> 0 | CD93: =IF(AU93="základná",AG93,0) -> 0 | CE93: =IF(AU93="znížená",AG93,0) -> 0 | CF93: =IF(AU93="zákl. prenesená",AG93,0) -> 0 | CG93: =IF(AU93="zníž. prenesená",AG93,0) -> 0 | CH93: =IF(AU93="nulová",AG93,0) -> 0 | CI93: =IF(AU93="základná",1,IF(AU93="znížená",2,IF(AU93="zákl. prenesená",4,IF(AU93="zníž. prenesená",5,3)))) -> 1 | CJ93: =IF(AT93="stavebná časť",1,IF(8893="investičná časť",2,3)) -> 1 | CK93: =IF(D93="Vyplň vlastné","","x")
D94: Vyplň vlastné | AG94: =AG87*AS94 -> 0 | AN94: =AG94+AV94 -> 0 | AS94: 0 | AT94: stavebná časť | AU94: základná | AV94: =ROUND(IF(AU94="nulová",0,IF(OR(AU94="základná",AU94="zákl. prenesená"),AG94*L31,AG94*L32)),2) -> 0 | BV94: OSTATNENAKLADYVLASTNE | BY94: =IF(AU94="základná",AV94,0) -> 0 | BZ94: =IF(AU94="znížená",AV94,0) -> 0 | CA94: =IF(AU94="zákl. prenesená",AV94,0) -> 0 | CB94: =IF(AU94="zníž. prenesená",AV94,0) -> 0 | CC94: =IF(AU94="nulová",AV94,0) -> 0 | CD94: =IF(AU94="základná",AG94,0) -> 0 | CE94: =IF(AU94="znížená",AG94,0) -> 0 | CF94: =IF(AU94="zákl. prenesená",AG94,0) -> 0 | CG94: =IF(AU94="zníž. prenesená",AG94,0) -> 0 | CH94: =IF(AU94="nulová",AG94,0) -> 0 | CI94: =IF(AU94="základná",1,IF(AU94="znížená",2,IF(AU94="zákl. prenesená",4,IF(AU94="zníž. prenesená",5,3)))) -> 1 | CJ94: =IF(AT94="stavebná časť",1,IF(8894="investičná časť",2,3)) -> 1 | CK94: =IF(D94="Vyplň vlastné","","x")
D95: Vyplň vlastné | AG95: =AG87*AS95 -> 0 | AN95: =AG95+AV95 -> 0 | AS95: 0 | AT95: stavebná časť | AU95: základná | AV95: =ROUND(IF(AU95="nulová",0,IF(OR(AU95="základná",AU95="zákl. prenesená"),AG95*L31,AG95*L32)),2) -> 0 | BV95: OSTATNENAKLADYVLASTNE | BY95: =IF(AU95="základná",AV95,0) -> 0 | BZ95: =IF(AU95="znížená",AV95,0) -> 0 | CA95: =IF(AU95="zákl. prenesená",AV95,0) -> 0 | CB95: =IF(AU95="zníž. prenesená",AV95,0) -> 0 | CC95: =IF(AU95="nulová",AV95,0) -> 0 | CD95: =IF(AU95="základná",AG95,0) -> 0 | CE95: =IF(AU95="znížená",AG95,0) -> 0 | CF95: =IF(AU95="zákl. prenesená",AG95,0) -> 0 | CG95: =IF(AU95="zníž. prenesená",AG95,0) -> 0 | CH95: =IF(AU95="nulová",AG95,0) -> 0 | CI95: =IF(AU95="základná",1,IF(AU95="znížená",2,IF(AU95="zákl. prenesená",4,IF(AU95="zníž. prenesená",5,3)))) -> 1 | CJ95: =IF(AT95="stavebná časť",1,IF(8895="investičná časť",2,3)) -> 1 | CK95: =IF(D95="Vyplň vlastné","","x")
C97: Celkové náklady za stavbu 1) + 2) | AG97: =ROUND(AG87+AG91,2) -> 0 | AN97: =AN87+AN91 -> 0

Sheet 01 - Detské ihrisko Bereh...
D1: Hárok obsahuje: | F1: 1) Krycí list rozpočtu | H1: 2) Rekapitulácia rozpočtu | L1: 3) Rozpočet | O1: Späť na hárok: | S1: Rekapitulácia stavby
C2: optimalizované pre tlač zostáv vo formáte A4 - na výšku | S2: >> skryté stĺpce << | AT2: {36f5ea1d-2c48-4456-801c-e58aeb960318}
AT3: 0
C4: KRYCÍ LIST ROZPOČTU | T4: v --- nižšie sa nachádzajú doplnkové a pomocné údaje k zostavám --- v | AT4: False
D6: Stavba: | F6: ='Rekapitulácia stavby'!K6 -> Oprava povrchov detských ihrísk Trebišov
D7: Objekt: | F7: 01 - Detské ihrisko Berehovska pod kopcom
D8: JKSO: | M8: KS:
D9: Miesto: | M9: Dátum: | O9: ='Rekapitulácia stavby'!AN8 -> Vyplň údaj
D11: Objednávateľ: | M11: IČO: | O11: =IF('Rekapitulácia stavby'!AN10="","",'Rekapitulácia stavby'!AN10)
E12: =IF('Rekapitulácia stavby'!E11="","",'Rekapitulácia stavby'!E11) | M12: IČO DPH: | O12: =IF('Rekapitulácia stavby'!AN11="","",'Rekapitulácia stavby'!AN11)
D14: Zhotoviteľ: | M14: IČO: | O14: =IF('Rekapitulácia stavby'!AN13="","",'Rekapitulácia stavby'!AN13) -> Vyplň údaj
E15: =IF('Rekapitulácia stavby'!E14="","",'Rekapitulácia stavby'!E14) -> Vyplň údaj | M15: IČO DPH: | O15: =IF('Rekapitulácia stavby'!AN14="","",'Rekapitulácia stavby'!AN14) -> Vyplň údaj
D17: Projektant: | M17: IČO: | O17: =IF('Rekapitulácia stavby'!AN16="","",'Rekapitulácia stavby'!AN16)
E18: =IF('Rekapitulácia stavby'!E17="","",'Rekapitulácia stavby'!E17) | M18: IČO DPH: | O18: =IF('Rekapitulácia stavby'!AN17="","",'Rekapitulácia stavby'!AN17)
D20: Spracovateľ: | M20: IČO: | O20: =IF('Rekapitulácia stavby'!AN19="","",'Rekapitulácia stavby'!AN19)
E21: =IF('Rekapitulácia stavby'!E20="","",'Rekapitulácia stavby'!E20) | M21: IČO DPH: | O21: =IF('Rekapitulácia stavby'!AN20="","",'Rekapitulácia stavby'!AN20)
D23: Poznámka:
D27: Náklady z rozpočtu | M27: =N88 -> 0
D28: Ostatné náklady | M28: =N94 -> 0
D30: Cena bez DPH | M30: =ROUND(M27+M28,2) -> 0
D32: DPH | E32: základná | F32: 0.2 | G32: z | H32: =ROUND((((SUM(BE94:BE101)+SUM(BE119:BE126))+SUM(BE128:BE132))),2) -> 0 | M32: =ROUND(((ROUND((SUM(BE94:BE101)+SUM(BE119:BE126)), 2)*F32)+SUM(BE128:BE132)*F32),2) -> 0
E33: znížená | F33: 0.2 | G33: z | H33: =ROUND((((SUM(BF94:BF101)+SUM(BF119:BF126))+SUM(BF128:BF132))),2) -> 0 | M33: =ROUND(((ROUND((SUM(BF94:BF101)+SUM(BF119:BF126)), 2)*F33)+SUM(BF128:BF132)*F33),2) -> 0
E34: zákl. prenesená | F34: 0.2 | G34: z | H34: =ROUND((((SUM(BG94:BG101)+SUM(BG119:BG126))+SUM(BG128:BG132))),2) -> 0 | M34: 0
E35: zníž. prenesená | F35: 0.2 | G35: z | H35: =ROUND((((SUM(BH94:BH101)+SUM(BH119:BH126))+SUM(BH128:BH132))),2) -> 0 | M35: 0
E36: nulová | F36: 0 | G36: z | H36: =ROUND((((SUM(BI94:BI101)+SUM(BI119:BI126))+SUM(BI128:BI132))),2) -> 0 | M36: 0
D38: Cena s DPH | G38: v | H38: EUR | L38: =SUM(M30:M36) -> 0
D50: Projektant | J50: Spracovateľ
D59: Dátum a podpis: | G59: Pečiatka | J59: Dátum a podpis: | N59: Pečiatka
D61: Objednávateľ | J61: Zhotoviteľ
D70: Dátum a podpis: | G70: Pečiatka | J70: Dátum a podpis: | N70: Pečiatka
C76: REKAPITULÁCIA ROZPOČTU
C78: Stavba: | F78: =F6 -> Oprava povrchov detských ihrísk Trebišov
C79: Objekt: | F79: =F7 -> 01 - Detské ihrisko Berehovska pod kopcom
C81: Miesto: | F81: =F9 | K81: Dátum: | M81: =IF(O9="","",O9) -> Vyplň údaj
C83: Objednávateľ: | F83: =E12 | K83: Projektant: | M83: =E18
C84: Zhotoviteľ: | F84: =IF(E15="","",E15) -> Vyplň údaj | K84: Spracovateľ: | M84: =E21
C86: Kód - Popis | N86: Cena celkom [EUR]
C88: 1) Náklady z rozpočtu | N88: =N119 -> 0 | AU88: -1
D89: HSV - Práce a dodávky HSV | N89: =N120 -> 0
D90: 5 - Komunikácie | N90: =N121 -> 0
D91: 99 - Presun hmôt HSV | N91: =N125 -> 0
D92: VP - Práce naviac | N92: =N127 -> 0
C94: 2) Ostatné náklady | N94: =ROUND(N95+N96+N97+N98+N99+N100,2) -> 0 | U94: DPH
D95: Zariad. staveniska | N95: =ROUND(N88*T95,2) -> 0 | U95: znížená | AY95: VRN | BE95: =IF(U95="základná",N95,0) -> 0 | BF95: =IF(U95="znížená",N95,0) -> 0 | BG95: =IF(U95="zákl. prenesená",N95,0) -> 0 | BH95: =IF(U95="zníž. prenesená",N95,0) -> 0 | BI95: =IF(U95="nulová",N95,0) -> 0 | BJ95: 2
D96: Mimostav. doprava | N96: =ROUND(N88*T96,2) -> 0 | U96: znížená | AY96: VRN | BE96: =IF(U96="základná",N96,0) -> 0 | BF96: =IF(U96="znížená",N96,0) -> 0 | BG96: =IF(U96="zákl. prenesená",N96,0) -> 0 | BH96: =IF(U96="zníž. prenesená",N96,0) -> 0 | BI96: =IF(U96="nulová",N96,0) -> 0 | BJ96: 2
D97: Územné vplyvy | N97: =ROUND(N88*T97,2) -> 0 | U97: znížená | AY97: VRN | BE97: =IF(U97="základná",N97,0) -> 0 | BF97: =IF(U97="znížená",N97,0) -> 0 | BG97: =IF(U97="zákl. prenesená",N97,0) -> 0 | BH97: =IF(U97="zníž. prenesená",N97,0) -> 0 | BI97: =IF(U97="nulová",N97,0) -> 0 | BJ97: 2
D98: Prevádzkové vplyvy | N98: =ROUND(N88*T98,2) -> 0 | U98: znížená | AY98: VRN | BE98: =IF(U98="základná",N98,0) -> 0 | BF98: =IF(U98="znížená",N98,0) -> 0 | BG98: =IF(U98="zákl. prenesená",N98,0) -> 0 | BH98: =IF(U98="zníž. prenesená",N98,0) -> 0 | BI98: =IF(U98="nulová",N98,0) -> 0 | BJ98: 2
D99: Ostatné | N99: =ROUND(N88*T99,2) -> 0 | U99: znížená | AY99: VRN | BE99: =IF(U99="základná",N99,0) -> 0 | BF99: =IF(U99="znížená",N99,0) -> 0 | BG99: =IF(U99="zákl. prenesená",N99,0) -> 0 | BH99: =IF(U99="zníž. prenesená",N99,0) -> 0 | BI99: =IF(U99="nulová",N99,0) -> 0 | BJ99: 2
D100: Kompletačná činnosť | N100: =ROUND(N88*T100,2) -> 0 | U100: znížená | AY100: KOMPLETACNA | BE100: =IF(U100="základná",N100,0) -> 0 | BF100: =IF(U100="znížená",N100,0) -> 0 | BG100: =IF(U100="zákl. prenesená",N100,0) -> 0 | BH100: =IF(U100="zníž. prenesená",N100,0) -> 0 | BI100: =IF(U100="nulová",N100,0) -> 0 | BJ100: 2
C102: Celkové náklady za stavbu 1) + 2) | L102: =ROUND(SUM(N88+N94),2) -> 0
C108: ROZPOČET
C110: Stavba: | F110: =F6 -> Oprava povrchov detských ihrísk Trebišov
C111: Objekt: | F111: =F7 -> 01 - Detské ihrisko Berehovska pod kopcom
C113: Miesto: | F113: =F9 | K113: Dátum: | M113: =IF(O9="","",O9) -> Vyplň údaj
C115: Objednávateľ: | F115: =E12 | K115: Projektant: | M115: =E18
C116: Zhotoviteľ: | F116: =IF(E15="","",E15) -> Vyplň údaj | K116: Spracovateľ: | M116: =E21
C118: PČ | D118: Typ | E118: Kód | F118: Popis | J118: MJ | K118: Množstvo | L118: J.cena [EUR] | N118: Cena celkom [EUR] | T118: Poznámka | U118: DPH | V118: J. Nh [h] | W118: Nh celkom [h] | X118: J. hmotnosť_x000D_ [t] | Y118: Hmotnosť_x000D_ celkom [t] | Z118: J. suť [t] | AA118: Suť Celkom [t]
C119: Náklady z rozpočtu | N119: =BK119 -> 0 | W119: =W120+W127 -> 0 | Y119: =Y120+Y127 -> 55.17562 | AA119: =AA120+AA127 -> 0 | AT119: D | AU119: -1 | BK119: =BK120+BK127 -> 0
D120: HSV - Práce a dodávky HSV | N120: =BK120 -> 0 | W120: =W121+W125 -> 0 | Y120: =Y121+Y125 -> 55.17562 | AA120: =AA121+AA125 -> 0 | AR120: 1 | AT120: D | AU120: 0 | AY120: ROZPOCET | BK120: =BK121+BK125 -> 0
D121: 5 - Komunikácie | N121: =BK121 -> 0 | W121: =SUM(W122:W124) -> 0 | Y121: =SUM(Y122:Y124) -> 55.17562 | AA121: =SUM(AA122:AA124) -> 0 | AR121: 1 | AT121: D | AU121: 1 | AY121: ROZPOCET | BK121: =SUM(BK122:BK124) -> 0
C122: 1 | D122: K | E122: 572774111 | F122: Vyrovnanie povrchu doterajších krytov asfaltovou zmesou pre asfaltový koberec veľmi tenký BBTM hr. od 15 do 20 mm | J122: m2 | K122: 214 | L122: 0 | N122: =ROUND(L122*K122,3) -> 0 | U122: znížená | W122: =V122*K122 -> 0 | X122: 0.04895 | Y122: =X122*K122 -> 10.4753 | Z122: 0 | AA122: =Z122*K122 -> 0 | AR122: 4 | AT122: K | AU122: 2 | AY122: ROZPOCET | BE122: =IF(U122="základná",N122,0) -> 0 | BF122: =IF(U122="znížená",N122,0) -> 0 | BG122: =IF(U122="zákl. prenesená",N122,0) -> 0 | BH122: =IF(U122="zníž. prenesená",N122,0) -> 0 | BI122: =IF(U122="nulová",N122,0) -> 0 | BJ122: 2 | BK122: =ROUND(L122*K122,3) -> 0 | BL122: 4 | BM122: 1121758234
C123: 2 | D123: K | E123: 573211111 | F123: Postrek asfaltový spojovací bez posypu kamenivom z asfaltu cestného v množstve od 0,50 do 0,70 kg/m2 | J123: m2 | K123: 428 | L123: 0 | N123: =ROUND(L123*K123,3) -> 0 | U123: znížená | W123: =V123*K123 -> 0 | X123: 0.00071 | Y123: =X123*K123 -> 0.30388 | Z123: 0 | AA123: =Z123*K123 -> 0 | AR123: 4 | AT123: K | AU123: 2 | AY123: ROZPOCET | BE123: =IF(U123="základná",N123,0) -> 0 | BF123: =IF(U123="znížená",N123,0) -> 0 | BG123: =IF(U123="zákl. prenesená",N123,0) -> 0 | BH123: =IF(U123="zníž. prenesená",N123,0) -> 0 | BI123: =IF(U123="nulová",N123,0) -> 0 | BJ123: 2 | BK123: =ROUND(L123*K123,3) -> 0 | BL123: 4 | BM123: -1076133146
C124: 3 | D124: K | E124: 577134111 | F124: Asfaltový betón vrstva obrusná AC 8 O v pruhu š. do 3 m z nemodifik. asfaltu tr. II, po zhutnení hr. 40 mm | J124: m2 | K124: 428 | L124: 0 | N124: =ROUND(L124*K124,3) -> 0 | U124: znížená | W124: =V124*K124 -> 0 | X124: 0.10373 | Y124: =X124*K124 -> 44.39644 | Z124: 0 | AA124: =Z124*K124 -> 0 | AR124: 4 | AT124: K | AU124: 2 | AY124: ROZPOCET | BE124: =IF(U124="základná",N124,0) -> 0 | BF124: =IF(U124="znížená",N124,0) -> 0 | BG124: =IF(U124="zákl. prenesená",N124,0) -> 0 | BH124: =IF(U124="zníž. prenesená",N124,0) -> 0 | BI124: =IF(U124="nulová",N124,0) -> 0 | BJ124: 2 | BK124: =ROUND(L124*K124,3) -> 0 | BL124: 4 | BM124: 584272549
D125: 99 - Presun hmôt HSV | N125: =BK125 -> 0 | W125: =W126 -> 0 | Y125: =Y126 -> 0 | AA125: =AA126 -> 0 | AR125: 1 | AT125: D | AU125: 1 | AY125: ROZPOCET | BK125: =BK126 -> 0
C126: 4 | D126: K | E126: 998225111 | F126: Presun hmôt pre pozemnú komunikáciu a letisko s krytom asfaltovým akejkoľvek dĺžky objektu | J126: t | K126: 55.176 | L126: 0 | N126: =ROUND(L126*K126,3) -> 0 | U126: znížená | W126: =V126*K126 -> 0 | X126: 0 | Y126: =X126*K126 -> 0 | Z126: 0 | AA126: =Z126*K126 -> 0 | AR126: 4 | AT126: K | AU126: 2 | AY126: ROZPOCET | BE126: =IF(U126="základná",N126,0) -> 0 | BF126: =IF(U126="znížená",N126,0) -> 0 | BG126: =IF(U126="zákl. prenesená",N126,0) -> 0 | BH126: =IF(U126="zníž. prenesená",N126,0) -> 0 | BI126: =IF(U126="nulová",N126,0) -> 0 | BJ126: 2 | BK126: =ROUND(L126*K126,3) -> 0 | BL126: 4 | BM126: -452504863
D127: VP - Práce naviac | N127: =BK127 -> 0 | AT127: D | AU127: 0 | AY127: PN | BK127: =SUM(BK128:BK132) -> 0
D128: K | N128: =BK128 -> 0 | U128: znížená | AT128: PN | AU128: 1 | AY128: PN | BE128: =IF(U128="základná",N128,0) -> 0 | BF128: =IF(U128="znížená",N128,0) -> 0 | BG128: =IF(U128="zákl. prenesená",N128,0) -> 0 | BH128: =IF(U128="zníž. prenesená",N128,0) -> 0 | BI128: =IF(U128="nulová",N128,0) -> 0 | BJ128: 2 | BK128: =L128*K128 -> 0
D129: K | N129: =BK129 -> 0 | U129: znížená | AT129: PN | AU129: 1 | AY129: PN | BE129: =IF(U129="základná",N129,0) -> 0 | BF129: =IF(U129="znížená",N129,0) -> 0 | BG129: =IF(U129="zákl. prenesená",N129,0) -> 0 | BH129: =IF(U129="zníž. prenesená",N129,0) -> 0 | BI129: =IF(U129="nulová",N129,0) -> 0 | BJ129: 2 | BK129: =L129*K129 -> 0
D130: K | N130: =BK130 -> 0 | U130: znížená | AT130: PN | AU130: 1 | AY130: PN | BE130: =IF(U130="základná",N130,0) -> 0 | BF130: =IF(U130="znížená",N130,0) -> 0 | BG130: =IF(U130="zákl. prenesená",N130,0) -> 0 | BH130: =IF(U130="zníž. prenesená",N130,0) -> 0 | BI130: =IF(U130="nulová",N130,0) -> 0 | BJ130: 2 | BK130: =L130*K130 -> 0
D131: K | N131: =BK131 -> 0 | U131: znížená | AT131: PN | AU131: 1 | AY131: PN | BE131: =IF(U131="základná",N131,0) -> 0 | BF131: =IF(U131="znížená",N131,0) -> 0 | BG131: =IF(U131="zákl. prenesená",N131,0) -> 0 | BH131: =IF(U131="zníž. prenesená",N131,0) -> 0 | BI131: =IF(U131="nulová",N131,0) -> 0 | BJ131: 2 | BK131: =L131*K131 -> 0
D132: K | N132: =BK132 -> 0 | U132: znížená | AT132: PN | AU132: 1 | AY132: PN | BE132: =IF(U132="základná",N132,0) -> 0 | BF132: =IF(U132="znížená",N132,0) -> 0 | BG132: =IF(U132="zákl. prenesená",N132,0) -> 0 | BH132: =IF(U132="zníž. prenesená",N132,0) -> 0 | BI132: =IF(U132="nulová",N132,0) -> 0 | BJ132: 2 | BK132: =L132*K132 -> 0

Sheet 02 - Detské ihrisko Bereh...
D1: Hárok obsahuje: | F1: 1) Krycí list rozpočtu | H1: 2) Rekapitulácia rozpočtu | L1: 3) Rozpočet | O1: Späť na hárok: | S1: Rekapitulácia stavby
C2: optimalizované pre tlač zostáv vo formáte A4 - na výšku | S2: >> skryté stĺpce << | AT2: {a0c4677e-26b8-4b4f-8779-0e9b5ad957b8}
AT3: 0
C4: KRYCÍ LIST ROZPOČTU | T4: v --- nižšie sa nachádzajú doplnkové a pomocné údaje k zostavám --- v | AT4: False
D6: Stavba: | F6: ='Rekapitulácia stavby'!K6 -> Oprava povrchov detských ihrísk Trebišov
D7: Objekt: | F7: 02 - Detské ihrisko Berehovska za MŠ 1. Decembra
D8: JKSO: | M8: KS:
D9: Miesto: | M9: Dátum: | O9: ='Rekapitulácia stavby'!AN8 -> Vyplň údaj
D11: Objednávateľ: | M11: IČO: | O11: =IF('Rekapitulácia stavby'!AN10="","",'Rekapitulácia stavby'!AN10)
E12: =IF('Rekapitulácia stavby'!E11="","",'Rekapitulácia stavby'!E11) | M12: IČO DPH: | O12: =IF('Rekapitulácia stavby'!AN11="","",'Rekapitulácia stavby'!AN11)
D14: Zhotoviteľ: | M14: IČO: | O14: =IF('Rekapitulácia stavby'!AN13="","",'Rekapitulácia stavby'!AN13) -> Vyplň údaj
E15: =IF('Rekapitulácia stavby'!E14="","",'Rekapitulácia stavby'!E14) -> Vyplň údaj | M15: IČO DPH: | O15: =IF('Rekapitulácia stavby'!AN14="","",'Rekapitulácia stavby'!AN14) -> Vyplň údaj
D17: Projektant: | M17: IČO: | O17: =IF('Rekapitulácia stavby'!AN16="","",'Rekapitulácia stavby'!AN16)
E18: =IF('Rekapitulácia stavby'!E17="","",'Rekapitulácia stavby'!E17) | M18: IČO DPH: | O18: =IF('Rekapitulácia stavby'!AN17="","",'Rekapitulácia stavby'!AN17)
D20: Spracovateľ: | M20: IČO: | O20: =IF('Rekapitulácia stavby'!AN19="","",'Rekapitulácia stavby'!AN19)
E21: =IF('Rekapitulácia stavby'!E20="","",'Rekapitulácia stavby'!E20) | M21: IČO DPH: | O21: =IF('Rekapitulácia stavby'!AN20="","",'Rekapitulácia stavby'!AN20)
D23: Poznámka:
D27: Náklady z rozpočtu | M27: =N88 -> 0
D28: Ostatné náklady | M28: =N94 -> 0
D30: Cena bez DPH | M30: =ROUND(M27+M28,2) -> 0
D32: DPH | E32: základná | F32: 0.2 | G32: z | H32: =ROUND((((SUM(BE94:BE101)+SUM(BE119:BE126))+SUM(BE128:BE132))),2) -> 0 | M32: =ROUND(((ROUND((SUM(BE94:BE101)+SUM(BE119:BE126)), 2)*F32)+SUM(BE128:BE132)*F32),2) -> 0
E33: znížená | F33: 0.2 | G33: z | H33: =ROUND((((SUM(BF94:BF101)+SUM(BF119:BF126))+SUM(BF128:BF132))),2) -> 0 | M33: =ROUND(((ROUND((SUM(BF94:BF101)+SUM(BF119:BF126)), 2)*F33)+SUM(BF128:BF132)*F33),2) -> 0
E34: zákl. prenesená | F34: 0.2 | G34: z | H34: =ROUND((((SUM(BG94:BG101)+SUM(BG119:BG126))+SUM(BG128:BG132))),2) -> 0 | M34: 0
E35: zníž. prenesená | F35: 0.2 | G35: z | H35: =ROUND((((SUM(BH94:BH101)+SUM(BH119:BH126))+SUM(BH128:BH132))),2) -> 0 | M35: 0
E36: nulová | F36: 0 | G36: z | H36: =ROUND((((SUM(BI94:BI101)+SUM(BI119:BI126))+SUM(BI128:BI132))),2) -> 0 | M36: 0
D38: Cena s DPH | G38: v | H38: EUR | L38: =SUM(M30:M36) -> 0
D50: Projektant | J50: Spracovateľ
D59: Dátum a podpis: | G59: Pečiatka | J59: Dátum a podpis: | N59: Pečiatka
D61: Objednávateľ | J61: Zhotoviteľ
D70: Dátum a podpis: | G70: Pečiatka | J70: Dátum a podpis: | N70: Pečiatka
C76: REKAPITULÁCIA ROZPOČTU
C78: Stavba: | F78: =F6 -> Oprava povrchov detských ihrísk Trebišov
C79: Objekt: | F79: =F7 -> 02 - Detské ihrisko Berehovska za MŠ 1. Decembra
C81: Miesto: | F81: =F9 | K81: Dátum: | M81: =IF(O9="","",O9) -> Vyplň údaj
C83: Objednávateľ: | F83: =E12 | K83: Projektant: | M83: =E18
C84: Zhotoviteľ: | F84: =IF(E15="","",E15) -> Vyplň údaj | K84: Spracovateľ: | M84: =E21
C86: Kód - Popis | N86: Cena celkom [EUR]
C88: 1) Náklady z rozpočtu | N88: =N119 -> 0 | AU88: -1
D89: HSV - Práce a dodávky HSV | N89: =N120 -> 0
D90: 5 - Komunikácie | N90: =N121 -> 0
D91: 99 - Presun hmôt HSV | N91: =N125 -> 0
D92: VP - Práce naviac | N92: =N127 -> 0
C94: 2) Ostatné náklady | N94: =ROUND(N95+N96+N97+N98+N99+N100,2) -> 0 | U94: DPH
D95: Zariad. staveniska | N95: =ROUND(N88*T95,2) -> 0 | U95: znížená | AY95: VRN | BE95: =IF(U95="základná",N95,0) -> 0 | BF95: =IF(U95="znížená",N95,0) -> 0 | BG95: =IF(U95="zákl. prenesená",N95,0) -> 0 | BH95: =IF(U95="zníž. prenesená",N95,0) -> 0 | BI95: =IF(U95="nulová",N95,0) -> 0 | BJ95: 2
D96: Mimostav. doprava | N96: =ROUND(N88*T96,2) -> 0 | U96: znížená | AY96: VRN | BE96: =IF(U96="základná",N96,0) -> 0 | BF96: =IF(U96="znížená",N96,0) -> 0 | BG96: =IF(U96="zákl. prenesená",N96,0) -> 0 | BH96: =IF(U96="zníž. prenesená",N96,0) -> 0 | BI96: =IF(U96="nulová",N96,0) -> 0 | BJ96: 2
D97: Územné vplyvy | N97: =ROUND(N88*T97,2) -> 0 | U97: znížená | AY97: VRN | BE97: =IF(U97="základná",N97,0) -> 0 | BF97: =IF(U97="znížená",N97,0) -> 0 | BG97: =IF(U97="zákl. prenesená",N97,0) -> 0 | BH97: =IF(U97="zníž. prenesená",N97,0) -> 0 | BI97: =IF(U97="nulová",N97,0) -> 0 | BJ97: 2
D98: Prevádzkové vplyvy | N98: =ROUND(N88*T98,2) -> 0 | U98: znížená | AY98: VRN | BE98: =IF(U98="základná",N98,0) -> 0 | BF98: =IF(U98="znížená",N98,0) -> 0 | BG98: =IF(U98="zákl. prenesená",N98,0) -> 0 | BH98: =IF(U98="zníž. prenesená",N98,0) -> 0 | BI98: =IF(U98="nulová",N98,0) -> 0 | BJ98: 2
D99: Ostatné | N99: =ROUND(N88*T99,2) -> 0 | U99: znížená | AY99: VRN | BE99: =IF(U99="základná",N99,0) -> 0 | BF99: =IF(U99="znížená",N99,0) -> 0 | BG99: =IF(U99="zákl. prenesená",N99,0) -> 0 | BH99: =IF(U99="zníž. prenesená",N99,0) -> 0 | BI99: =IF(U99="nulová",N99,0) -> 0 | BJ99: 2
D100: Kompletačná činnosť | N100: =ROUND(N88*T100,2) -> 0 | U100: znížená | AY100: KOMPLETACNA | BE100: =IF(U100="základná",N100,0) -> 0 | BF100: =IF(U100="znížená",N100,0) -> 0 | BG100: =IF(U100="zákl. prenesená",N100,0) -> 0 | BH100: =IF(U100="zníž. prenesená",N100,0) -> 0 | BI100: =IF(U100="nulová",N100,0) -> 0 | BJ100: 2
C102: Celkové náklady za stavbu 1) + 2) | L102: =ROUND(SUM(N88+N94),2) -> 0
C108: ROZPOČET
C110: Stavba: | F110: =F6 -> Oprava povrchov detských ihrísk Trebišov
C111: Objekt: | F111: =F7 -> 02 - Detské ihrisko Berehovska za MŠ 1. Decembra
C113: Miesto: | F113: =F9 | K113: Dátum: | M113: =IF(O9="","",O9) -> Vyplň údaj
C115: Objednávateľ: | F115: =E12 | K115: Projektant: | M115: =E18
C116: Zhotoviteľ: | F116: =IF(E15="","",E15) -> Vyplň údaj | K116: Spracovateľ: | M116: =E21
C118: PČ | D118: Typ | E118: Kód | F118: Popis | J118: MJ | K118: Množstvo | L118: J.cena [EUR] | N118: Cena celkom [EUR] | T118: Poznámka | U118: DPH | V118: J. Nh [h] | W118: Nh celkom [h] | X118: J. hmotnosť_x000D_ [t] | Y118: Hmotnosť_x000D_ celkom [t] | Z118: J. suť [t] | AA118: Suť Celkom [t]
C119: Náklady z rozpočtu | N119: =BK119 -> 0 | W119: =W120+W127 -> 0 | Y119: =Y120+Y127 -> 123.7584 | AA119: =AA120+AA127 -> 0 | AT119: D | AU119: -1 | BK119: =BK120+BK127 -> 0
D120: HSV - Práce a dodávky HSV | N120: =BK120 -> 0 | W120: =W121+W125 -> 0 | Y120: =Y121+Y125 -> 123.7584 | AA120: =AA121+AA125 -> 0 | AR120: 1 | AT120: D | AU120: 0 | AY120: ROZPOCET | BK120: =BK121+BK125 -> 0
D121: 5 - Komunikácie | N121: =BK121 -> 0 | W121: =SUM(W122:W124) -> 0 | Y121: =SUM(Y122:Y124) -> 123.7584 | AA121: =SUM(AA122:AA124) -> 0 | AR121: 1 | AT121: D | AU121: 1 | AY121: ROZPOCET | BK121: =SUM(BK122:BK124) -> 0
C122: 1 | D122: K | E122: 572774111 | F122: Vyrovnanie povrchu doterajších krytov asfaltovou zmesou pre asfaltový koberec veľmi tenký BBTM hr. od 15 do 20 mm | J122: m2 | K122: 480 | L122: 0 | N122: =ROUND(L122*K122,3) -> 0 | U122: znížená | W122: =V122*K122 -> 0 | X122: 0.04895 | Y122: =X122*K122 -> 23.496 | Z122: 0 | AA122: =Z122*K122 -> 0 | AR122: 4 | AT122: K | AU122: 2 | AY122: ROZPOCET | BE122: =IF(U122="základná",N122,0) -> 0 | BF122: =IF(U122="znížená",N122,0) -> 0 | BG122: =IF(U122="zákl. prenesená",N122,0) -> 0 | BH122: =IF(U122="zníž. prenesená",N122,0) -> 0 | BI122: =IF(U122="nulová",N122,0) -> 0 | BJ122: 2 | BK122: =ROUND(L122*K122,3) -> 0 | BL122: 4 | BM122: 1121758234
C123: 2 | D123: K | E123: 573211111 | F123: Postrek asfaltový spojovací bez posypu kamenivom z asfaltu cestného v množstve od 0,50 do 0,70 kg/m2 | J123: m2 | K123: 960 | L123: 0 | N123: =ROUND(L123*K123,3) -> 0 | U123: znížená | W123: =V123*K123 -> 0 | X123: 0.00071 | Y123: =X123*K123 -> 0.6816 | Z123: 0 | AA123: =Z123*K123 -> 0 | AR123: 4 | AT123: K | AU123: 2 | AY123: ROZPOCET | BE123: =IF(U123="základná",N123,0) -> 0 | BF123: =IF(U123="znížená",N123,0) -> 0 | BG123: =IF(U123="zákl. prenesená",N123,0) -> 0 | BH123: =IF(U123="zníž. prenesená",N123,0) -> 0 | BI123: =IF(U123="nulová",N123,0) -> 0 | BJ123: 2 | BK123: =ROUND(L123*K123,3) -> 0 | BL123: 4 | BM123: -1076133146
C124: 3 | D124: K | E124: 577134111 | F124: Asfaltový betón vrstva obrusná AC 8 O v pruhu š. do 3 m z nemodifik. asfaltu tr. II, po zhutnení hr. 40 mm | J124: m2 | K124: 960 | L124: 0 | N124: =ROUND(L124*K124,3) -> 0 | U124: znížená | W124: =V124*K124 -> 0 | X124: 0.10373 | Y124: =X124*K124 -> 99.5808 | Z124: 0 | AA124: =Z124*K124 -> 0 | AR124: 4 | AT124: K | AU124: 2 | AY124: ROZPOCET | BE124: =IF(U124="základná",N124,0) -> 0 | BF124: =IF(U124="znížená",N124,0) -> 0 | BG124: =IF(U124="zákl. prenesená",N124,0) -> 0 | BH124: =IF(U124="zníž. prenesená",N124,0) -> 0 | BI124: =IF(U124="nulová",N124,0) -> 0 | BJ124: 2 | BK124: =ROUND(L124*K124,3) -> 0 | BL124: 4 | BM124: 584272549
D125: 99 - Presun hmôt HSV | N125: =BK125 -> 0 | W125: =W126 -> 0 | Y125: =Y126 -> 0 | AA125: =AA126 -> 0 | AR125: 1 | AT125: D | AU125: 1 | AY125: ROZPOCET | BK125: =BK126 -> 0
C126: 4 | D126: K | E126: 998225111 | F126: Presun hmôt pre pozemnú komunikáciu a letisko s krytom asfaltovým akejkoľvek dĺžky objektu | J126: t | K126: 123.758 | L126: 0 | N126: =ROUND(L126*K126,3) -> 0 | U126: znížená | W126: =V126*K126 -> 0 | X126: 0 | Y126: =X126*K126 -> 0 | Z126: 0 | AA126: =Z126*K126 -> 0 | AR126: 4 | AT126: K | AU126: 2 | AY126: ROZPOCET | BE126: =IF(U126="základná",N126,0) -> 0 | BF126: =IF(U126="znížená",N126,0) -> 0 | BG126: =IF(U126="zákl. prenesená",N126,0) -> 0 | BH126: =IF(U126="zníž. prenesená",N126,0) -> 0 | BI126: =IF(U126="nulová",N126,0) -> 0 | BJ126: 2 | BK126: =ROUND(L126*K126,3) -> 0 | BL126: 4 | BM126: -452504863
D127: VP - Práce naviac | N127: =BK127 -> 0 | AT127: D | AU127: 0 | AY127: PN | BK127: =SUM(BK128:BK132) -> 0
D128: K | N128: =BK128 -> 0 | U128: znížená | AT128: PN | AU128: 1 | AY128: PN | BE128: =IF(U128="základná",N128,0) -> 0 | BF128: =IF(U128="znížená",N128,0) -> 0 | BG128: =IF(U128="zákl. prenesená",N128,0) -> 0 | BH128: =IF(U128="zníž. prenesená",N128,0) -> 0 | BI128: =IF(U128="nulová",N128,0) -> 0 | BJ128: 2 | BK128: =L128*K128 -> 0
D129: K | N129: =BK129 -> 0 | U129: znížená | AT129: PN | AU129: 1 | AY129: PN | BE129: =IF(U129="základná",N129,0) -> 0 | BF129: =IF(U129="znížená",N129,0) -> 0 | BG129: =IF(U129="zákl. prenesená",N129,0) -> 0 | BH129: =IF(U129="zníž. prenesená",N129,0) -> 0 | BI129: =IF(U129="nulová",N129,0) -> 0 | BJ129: 2 | BK129: =L129*K129 -> 0
D130: K | N130: =BK130 -> 0 | U130: znížená | AT130: PN | AU130: 1 | AY130: PN | BE130: =IF(U130="základná",N130,0) -> 0 | BF130: =IF(U130="znížená",N130,0) -> 0 | BG130: =IF(U130="zákl. prenesená",N130,0) -> 0 | BH130: =IF(U130="zníž. prenesená",N130,0) -> 0 | BI130: =IF(U130="nulová",N130,0) -> 0 | BJ130: 2 | BK130: =L130*K130 -> 0
D131: K | N131: =BK131 -> 0 | U131: znížená | AT131: PN | AU131: 1 | AY131: PN | BE131: =IF(U131="základná",N131,0) -> 0 | BF131: =IF(U131="znížená",N131,0) -> 0 | BG131: =IF(U131="zákl. prenesená",N131,0) -> 0 | BH131: =IF(U131="zníž. prenesená",N131,0) -> 0 | BI131: =IF(U131="nulová",N131,0) -> 0 | BJ131: 2 | BK131: =L131*K131 -> 0
D132: K | N132: =BK132 -> 0 | U132: znížená | AT132: PN | AU132: 1 | AY132: PN | BE132: =IF(U132="základná",N132,0) -> 0 | BF132: =IF(U132="znížená",N132,0) -> 0 | BG132: =IF(U132="zákl. prenesená",N132,0) -> 0 | BH132: =IF(U132="zníž. prenesená",N132,0) -> 0 | BI132: =IF(U132="nulová",N132,0) -> 0 | BJ132: 2 | BK132: =L132*K132 -> 0
