Workbook

Sheet Rekapitulácia stavby
A1: Export Komplet | BA1: 2.0 | BB1: ZAMOK | BT1: False | BU1: False | BV1: {0fd7b207-cfaa-43fa-ad15-73054c8877ee}
BS2: 0,001 | BT2: 20
BS3: 0,001 | BT3: 20
D4: REKAPITULÁCIA STAVBY | AS4: v --- nižšie sa nachádzajú doplnkové a pomocné údaje k zostavám --- v | BE4: Návod na vyplnenie | BS4: 0,001
D5: Kód: | K5: 13258-1 | BE5: Meniť je možné iba bunky so žltým podfarbením!_x000D_ _x000D_ 1) na prvom liste Rekapitulácie stavby vyplňte v zostave_x000D_ _x000D_ a) Rekapitulácia stavby_x000D_ - údaje o Zhotoviteľovi_x000D_ (prenesú sa do ostatných zostáv aj v iných listoch)_x000D_ _x000D_ b) Rekapitulácia objektov stavby_x000D_ - potrebné Ostatné náklady_x000D_ _x000D_ 2) na vybraných listoch vyplňte v zostave_x000D_ _x000D_ a) Krycí list_x000D_ - údaje o Zhotoviteľovi, pokiaľ sa líšia od údajov o Zhotoviteľovi na Rekapitulácii stavby_x000D_ (údaje se prenesú do ostatných zostav v danom liste)_x000D_ _x000D_ b) Rekapitulácia rozpočtu_x000D_ - potrebné Ostatné náklady_x000D_ _x000D_ c) Celkové náklady za stavbu_x000D_ - ceny na položkách_x000D_ - množstvo, pokiaľ má žlté podfarbenie_x000D_ - a v prípade potreby poznámku (tá je v skrytom stĺpci) | BS5: 0,001
D6: Stavba: | K6: Zážitkovy bazen - prestavba | BS6: 0,001
D7: JKSO: | AK7: KS: | BS7: 0,001
D8: Miesto: | K8: Trebišov | AK8: Dátum: | AN8: 1. 4. 2019 | BS8: 0,001
BS9: 0,001
D10: Objednávateľ: | AK10: IČO: | BS10: 0,001
E11: Technické služby mesta Trebišov | AK11: IČ DPH: | BS11: 0,001
BS12: 0,001
D13: Zhotoviteľ: | AK13: IČO: | AN13: Vyplň údaj | BS13: 0,001
E14: Vyplň údaj | AK14: IČ DPH: | AN14: Vyplň údaj | BS14: 0,001
BS15: False
D16: Projektant: | AK16: IČO: | BS16: False
AK17: IČ DPH: | BS17: True
BS18: 0,01
D19: Spracovateľ: | AK19: IČO: | BS19: 0,01
AK20: IČ DPH: | BS20: True
D22: Poznámka:
D26: Cena bez DPH | AK26: =ROUND(AG94,2) -> 0
L28: Sadzba dane | W28: Základ dane | AK28: Výška dane
D29: DPH | F29: základná | L29: 0.2 | W29: =ROUND(AZ94, 2) -> 0 | AK29: =ROUND(AV94, 2) -> 0
F30: znížená | L30: 0.2 | W30: =ROUND(BA94, 2) -> 0 | AK30: =ROUND(AW94, 2) -> 0
F31: zákl. prenesená | L31: 0.2 | W31: =ROUND(BB94, 2) -> 0 | AK31: 0
F32: zníž. prenesená | L32: 0.2 | W32: =ROUND(BC94, 2) -> 0 | AK32: 0
F33: nulová | L33: 0 | W33: =ROUND(BD94, 2) -> 0 | AK33: 0
D35: Cena s DPH | T35: v | X35: EUR | AK35: =SUM(AK26:AK33) -> 0
D49: Projektant | AH49: Spracovateľ
D60: Dátum a podpis: | V60: Pečiatka | AH60: Dátum a podpis: | AM60: Pečiatka
D64: Objednávateľ | AH64: Zhotoviteľ
D75: Dátum a podpis: | V75: Pečiatka | AH75: Dátum a podpis: | AM75: Pečiatka
C82: REKAPITULÁCIA OBJEKTOV STAVBY
C84: Kód: | L84: =K5 -> 13258-1
C85: Stavba: | L85: =K6 -> Zážitkovy bazen - prestavba
C87: Miesto: | L87: =IF(K8="","",K8) -> Trebišov | AI87: Dátum: | AM87: =IF(AN8= "","",AN8) -> 1. 4. 2019
C89: Objednávateľ: | L89: =IF(E11= "","",E11) -> Technické služby mesta Trebišov | AI89: Projektant: | AM89: =IF(E17="","",E17) | AS89: Informatívne údaje z listov zákaziek
C90: Zhotoviteľ: | L90: =IF(E14= "Vyplň údaj","",E14) | AI90: Spracovateľ: | AM90: =IF(E20="","",E20)
C92: Kód | I92: Popis | AG92: Cena bez DPH [EUR] | AN92: Cena s DPH [EUR] | AQ92: Typ | AS92: z toho Ostat._x000D_ náklady [EUR] | AT92: DPH [EUR] | AU92: Normohodiny [h] | AV92: DPH základná [EUR] | AW92: DPH znížená [EUR] | AX92: DPH základná prenesená_x000D_ [EUR] | AY92: DPH znížená prenesená_x000D_ [EUR] | AZ92: Základňa_x000D_ DPH základná | BA92: Základňa_x000D_ DPH znížená | BB92: Základňa_x000D_ DPH zákl. prenesená | BC92: Základňa_x000D_ DPH zníž. prenesená | BD92: Základňa_x000D_ DPH nulová
C94: Náklady z rozpočtov | AG94: =ROUND(SUM(AG95:AG97),2) -> 0 | AN94: =SUM(AG94,AT94) -> 0 | AS94: =ROUND(SUM(AS95:AS97),2) -> 0 | AT94: =ROUND(SUM(AV94:AW94),2) -> 0 | AU94: =ROUND(SUM(AU95:AU97),5) -> 0 | AV94: =ROUND(AZ94*L29,2) -> 0 | AW94: =ROUND(BA94*L30,2) -> 0 | AX94: =ROUND(BB94*L29,2) -> 0 | AY94: =ROUND(BC94*L30,2) -> 0 | AZ94: =ROUND(SUM(AZ95:AZ97),2) -> 0 | BA94: =ROUND(SUM(BA95:BA97),2) -> 0 | BB94: =ROUND(SUM(BB95:BB97),2) -> 0 | BC94: =ROUND(SUM(BC95:BC97),2) -> 0 | BD94: =ROUND(SUM(BD95:BD97),2) -> 0 | BS94: D | BT94: 0 | BU94: ###NOIMPORT### | BV94: IMPORT | BW94: {0fd7b207-cfaa-43fa-ad15-73054c8877ee} | BX94: {00000000-0000-0000-0000-000000000000}
A95: / | D95: 03 | J95: Stavebné prace, betonovanie a potery | AG95: ='03 - Stavebné prace, beto...'!J30 -> 0 | AN95: =SUM(AG95,AT95) -> 0 | AQ95: STA | AS95: 0 | AT95: =ROUND(SUM(AV95:AW95),2) -> 0 | AU95: ='03 - Stavebné prace, beto...'!P122 -> 0 | AV95: ='03 - Stavebné prace, beto...'!J33 -> 0 | AW95: ='03 - Stavebné prace, beto...'!J34 -> 0 | AX95: ='03 - Stavebné prace, beto...'!J35 -> 0 | AY95: ='03 - Stavebné prace, beto...'!J36 -> 0 | AZ95: ='03 - Stavebné prace, beto...'!F33 -> 0 | BA95: ='03 - Stavebné prace, beto...'!F34 -> 0 | BB95: ='03 - Stavebné prace, beto...'!F35 -> 0 | BC95: ='03 - Stavebné prace, beto...'!F36 -> 0 | BD95: ='03 - Stavebné prace, beto...'!F37 -> 0 | BT95: 1 | BV95: IMPORT | BW95: {fe5cb3dc-8efa-4868-a945-cf1a9961689f} | BX95: {0fd7b207-cfaa-43fa-ad15-73054c8877ee} | CM95: 0
A96: / | D96: 04 | J96: Odborné prace - technologia | AG96: ='04 - Odborné prace - tech...'!J30 -> 0 | AN96: =SUM(AG96,AT96) -> 0 | AQ96: STA | AS96: 0 | AT96: =ROUND(SUM(AV96:AW96),2) -> 0 | AU96: ='04 - Odborné prace - tech...'!P120 -> 0 | AV96: ='04 - Odborné prace - tech...'!J33 -> 0 | AW96: ='04 - Odborné prace - tech...'!J34 -> 0 | AX96: ='04 - Odborné prace - tech...'!J35 -> 0 | AY96: ='04 - Odborné prace - tech...'!J36 -> 0 | AZ96: ='04 - Odborné prace - tech...'!F33 -> 0 | BA96: ='04 - Odborné prace - tech...'!F34 -> 0 | BB96: ='04 - Odborné prace - tech...'!F35 -> 0 | BC96: ='04 - Odborné prace - tech...'!F36 -> 0 | BD96: ='04 - Odborné prace - tech...'!F37 -> 0 | BT96: 1 | BV96: IMPORT | BW96: {f63c9aaa-0408-4892-9e97-4c6093aa3102} | BX96: {0fd7b207-cfaa-43fa-ad15-73054c8877ee} | CM96: 0
A97: / | D97: 05 | J97: Hracie prvky bazenove | AG97: ='05 - Hracie prvky bazenove '!J30 -> 0 | AN97: =SUM(AG97,AT97) -> 0 | AQ97: STA | AS97: 0 | AT97: =ROUND(SUM(AV97:AW97),2) -> 0 | AU97: ='05 - Hracie prvky bazenove '!P118 -> 0 | AV97: ='05 - Hracie prvky bazenove '!J33 -> 0 | AW97: ='05 - Hracie prvky bazenove '!J34 -> 0 | AX97: ='05 - Hracie prvky bazenove '!J35 -> 0 | AY97: ='05 - Hracie prvky bazenove '!J36 -> 0 | AZ97: ='05 - Hracie prvky bazenove '!F33 -> 0 | BA97: ='05 - Hracie prvky bazenove '!F34 -> 0 | BB97: ='05 - Hracie prvky bazenove '!F35 -> 0 | BC97: ='05 - Hracie prvky bazenove '!F36 -> 0 | BD97: ='05 - Hracie prvky bazenove '!F37 -> 0 | BT97: 1 | BV97: IMPORT | BW97: {615f7efa-234d-42ef-9f07-9b2485499354} | BX97: {0fd7b207-cfaa-43fa-ad15-73054c8877ee} | CM97: 0

Sheet 03 - Stavebné prace, beto...
AT2: {fe5cb3dc-8efa-4868-a945-cf1a9961689f}
AT3: 0
D4: KRYCÍ LIST ROZPOČTU | M4: v --- nižšie sa nachádzajú doplnkové a pomocné údaje k zostavám --- v | AT4: False
D6: Stavba:
E7: ='Rekapitulácia stavby'!K6 -> Zážitkovy bazen - prestavba
D8: Objekt:
E9: 03 - Stavebné prace, betonovanie a potery
D11: JKSO: | I11: KS:
D12: Miesto: | F12: Trebišov | I12: Dátum: | J12: ='Rekapitulácia stavby'!AN8 -> 1. 4. 2019
D14: Objednávateľ: | I14: IČO:
E15: Technické služby mesta Trebišov | I15: IČ DPH:
D17: Zhotoviteľ: | I17: IČO: | J17: ='Rekapitulácia stavby'!AN13 -> Vyplň údaj
E18: ='Rekapitulácia stavby'!E14 -> Vyplň údaj | I18: IČ DPH: | J18: ='Rekapitulácia stavby'!AN14 -> Vyplň údaj
D20: Projektant: | I20: IČO: | J20: =IF('Rekapitulácia stavby'!AN16="","",'Rekapitulácia stavby'!AN16)
E21: =IF('Rekapitulácia stavby'!E17="","",'Rekapitulácia stavby'!E17) | I21: IČ DPH: | J21: =IF('Rekapitulácia stavby'!AN17="","",'Rekapitulácia stavby'!AN17)
D23: Spracovateľ: | I23: IČO: | J23: =IF('Rekapitulácia stavby'!AN19="","",'Rekapitulácia stavby'!AN19)
E24: =IF('Rekapitulácia stavby'!E20="","",'Rekapitulácia stavby'!E20) | I24: IČ DPH: | J24: =IF('Rekapitulácia stavby'!AN20="","",'Rekapitulácia stavby'!AN20)
D26: Poznámka:
D30: Cena bez DPH | J30: =ROUND(J122, 2) -> 0
F32: Základ dane | I32: Sadzba dane | J32: Výška dane
D33: DPH | E33: základná | F33: =ROUND((SUM(BE122:BE144)), 2) -> 0 | I33: 0.2 | J33: =ROUND(((SUM(BE122:BE144))*I33), 2) -> 0
E34: znížená | F34: =ROUND((SUM(BF122:BF144)), 2) -> 0 | I34: 0.2 | J34: =ROUND(((SUM(BF122:BF144))*I34), 2) -> 0
E35: zákl. prenesená | F35: =ROUND((SUM(BG122:BG144)), 2) -> 0 | I35: 0.2 | J35: =0 -> 0
E36: zníž. prenesená | F36: =ROUND((SUM(BH122:BH144)), 2) -> 0 | I36: 0.2 | J36: =0 -> 0
E37: nulová | F37: =ROUND((SUM(BI122:BI144)), 2) -> 0 | I37: 0 | J37: =0 -> 0
D39: Cena s DPH | G39: v | H39: EUR | J39: =SUM(J30:J37) -> 0
D50: Projektant | G50: Spracovateľ
D61: Dátum a podpis: | F61: Pečiatka | G61: Dátum a podpis: | J61: Pečiatka
D65: Objednávateľ | G65: Zhotoviteľ
D76: Dátum a podpis: | F76: Pečiatka | G76: Dátum a podpis: | J76: Pečiatka
C82: REKAPITULÁCIA ROZPOČTU
C84: Stavba:
E85: =E7 -> Zážitkovy bazen - prestavba
C86: Objekt:
E87: =E9 -> 03 - Stavebné prace, betonovanie a potery
C89: Miesto: | F89: =F12 -> Trebišov | I89: Dátum: | J89: =IF(J12="","",J12) -> 1. 4. 2019
C91: Objednávateľ: | F91: =E15 -> Technické služby mesta Trebišov | I91: Projektant: | J91: =E21
C92: Zhotoviteľ: | F92: =IF(E18="","",E18) -> Vyplň údaj | I92: Spracovateľ: | J92: =E24
C94: Kód dielu - Popis | J94: Cena celkom [EUR]
C96: Náklady z rozpočtu | J96: =J122 -> 0 | AU96: -1
D97: HSV - Práce a dodávky HSV | J97: =J123 -> 0
D98: 4 - Vodorovné konštrukcie | J98: =J124 -> 0
D99: 6 - Úpravy povrchov, podlahy, osadenie | J99: =J131 -> 0
D100: 99 - Presun hmôt HSV | J100: =J138 -> 0
D101: PSV - Práce a dodávky PSV | J101: =J140 -> 0
D102: 713 - Izolácie tepelné | J102: =J141 -> 0
C109: ROZPOČET
C111: Stavba:
E112: =E7 -> Zážitkovy bazen - prestavba
C113: Objekt:
E114: =E9 -> 03 - Stavebné prace, betonovanie a potery
C116: Miesto: | F116: =F12 -> Trebišov | I116: Dátum: | J116: =IF(J12="","",J12) -> 1. 4. 2019
C118: Objednávateľ: | F118: =E15 -> Technické služby mesta Trebišov | I118: Projektant: | J118: =E21
C119: Zhotoviteľ: | F119: =IF(E18="","",E18) -> Vyplň údaj | I119: Spracovateľ: | J119: =E24
C121: PČ | D121: Typ | E121: Kód | F121: Popis | G121: MJ | H121: Množstvo | I121: J.cena [EUR] | J121: Cena celkom [EUR] | K121: Cenová sústava | N121: DPH | O121: J. Nh [h] | P121: Nh celkom [h] | Q121: J. hmotnosť [t] | R121: Hmotnosť celkom [t] | S121: J. suť [t] | T121: Suť Celkom [t]
C122: Náklady z rozpočtu | J122: =BK122 -> 0 | P122: =P123+P140 -> 0 | R122: =R123+R140 -> 43.9804 | T122: =T123+T140 -> 0 | AT122: D | AU122: -1 | BK122: =BK123+BK140 -> 0
D123: D | E123: HSV | F123: Práce a dodávky HSV | J123: =BK123 -> 0 | P123: =P124+P131+P138 -> 0 | R123: =R124+R131+R138 -> 43.739893 | T123: =T124+T131+T138 -> 0 | AR123: 1 | AT123: D | AU123: 0 | AY123: ROZPOCET | BK123: =BK124+BK131+BK138 -> 0
D124: D | E124: 4 | F124: Vodorovné konštrukcie | J124: =BK124 -> 0 | P124: =SUM(P125:P130) -> 0 | R124: =SUM(R125:R130) -> 15.155164 | T124: =SUM(T125:T130) -> 0 | AR124: 1 | AT124: D | AU124: 1 | AY124: ROZPOCET | BK124: =SUM(BK125:BK130) -> 0
C125: 1 | D125: K | E125: 417321515 | F125: Betón stužujúcich pásov a vencov železový tr. C 25/30 | G125: m3 | H125: 5.003 | J125: =ROUND(I125*H125,3) -> 0 | K125: CS CENEKON 2019 01 | N125: znížená | P125: =O125*H125 -> 0 | Q125: 2.40186 | R125: =Q125*H125 -> 12.016506 | S125: 0 | T125: =S125*H125 -> 0 | AR125: 4 | AT125: K | AU125: 2 | AY125: ROZPOCET | BE125: =IF(N125="základná",J125,0) -> 0 | BF125: =IF(N125="znížená",J125,0) -> 0 | BG125: =IF(N125="zákl. prenesená",J125,0) -> 0 | BH125: =IF(N125="zníž. prenesená",J125,0) -> 0 | BI125: =IF(N125="nulová",J125,0) -> 0 | BJ125: 2 | BK125: =ROUND(I125*H125,3) -> 0 | BL125: 4 | BM125: 940309783
C126: 2 | D126: K | E126: 417351115 | F126: Debnenie bočníc stužujúcich pásov a vencov vrátane vzpier zhotovenie | G126: m2 | H126: 30.856 | J126: =ROUND(I126*H126,3) -> 0 | K126: CS CENEKON 2019 01 | N126: znížená | P126: =O126*H126 -> 0 | Q126: 0.00341 | R126: =Q126*H126 -> 0.10521896 | S126: 0 | T126: =S126*H126 -> 0 | AR126: 4 | AT126: K | AU126: 2 | AY126: ROZPOCET | BE126: =IF(N126="základná",J126,0) -> 0 | BF126: =IF(N126="znížená",J126,0) -> 0 | BG126: =IF(N126="zákl. prenesená",J126,0) -> 0 | BH126: =IF(N126="zníž. prenesená",J126,0) -> 0 | BI126: =IF(N126="nulová",J126,0) -> 0 | BJ126: 2 | BK126: =ROUND(I126*H126,3) -> 0 | BL126: 4 | BM126: 520424980
C127: 3 | D127: K | E127: 417351116 | F127: Debnenie bočníc stužujúcich pásov a vencov vrátane vzpier odstránenie | G127: m2 | H127: 30.856 | J127: =ROUND(I127*H127,3) -> 0 | K127: CS CENEKON 2019 01 | N127: znížená | P127: =O127*H127 -> 0 | Q127: 0 | R127: =Q127*H127 -> 0 | S127: 0 | T127: =S127*H127 -> 0 | AR127: 4 | AT127: K | AU127: 2 | AY127: ROZPOCET | BE127: =IF(N127="základná",J127,0) -> 0 | BF127: =IF(N127="znížená",J127,0) -> 0 | BG127: =IF(N127="zákl. prenesená",J127,0) -> 0 | BH127: =IF(N127="zníž. prenesená",J127,0) -> 0 | BI127: =IF(N127="nulová",J127,0) -> 0 | BJ127: 2 | BK127: =ROUND(I127*H127,3) -> 0 | BL127: 4 | BM127: 301865144
C128: 4 | D128: K | E128: 430321315 | F128: Schodiskové konštrukcie, betón železový tr. C 20/25 | G128: m3 | H128: 1.341 | J128: =ROUND(I128*H128,3) -> 0 | K128: CS CENEKON 2019 01 | N128: znížená | P128: =O128*H128 -> 0 | Q128: 2.24056 | R128: =Q128*H128 -> 3.004591 | S128: 0 | T128: =S128*H128 -> 0 | AR128: 4 | AT128: K | AU128: 2 | AY128: ROZPOCET | BE128: =IF(N128="základná",J128,0) -> 0 | BF128: =IF(N128="znížená",J128,0) -> 0 | BG128: =IF(N128="zákl. prenesená",J128,0) -> 0 | BH128: =IF(N128="zníž. prenesená",J128,0) -> 0 | BI128: =IF(N128="nulová",J128,0) -> 0 | BJ128: 2 | BK128: =ROUND(I128*H128,3) -> 0 | BL128: 4 | BM128: 1282245489
C129: 5 | D129: K | E129: 431351121 | F129: Debnenie do 4 m výšky - podest a podstupňových dosiek pôdorysne priamočiarych zhotovenie | G129: m2 | H129: 3.41 | J129: =ROUND(I129*H129,3) -> 0 | K129: CS CENEKON 2019 01 | N129: znížená | P129: =O129*H129 -> 0 | Q129: 0.00846 | R129: =Q129*H129 -> 0.0288486 | S129: 0 | T129: =S129*H129 -> 0 | AR129: 4 | AT129: K | AU129: 2 | AY129: ROZPOCET | BE129: =IF(N129="základná",J129,0) -> 0 | BF129: =IF(N129="znížená",J129,0) -> 0 | BG129: =IF(N129="zákl. prenesená",J129,0) -> 0 | BH129: =IF(N129="zníž. prenesená",J129,0) -> 0 | BI129: =IF(N129="nulová",J129,0) -> 0 | BJ129: 2 | BK129: =ROUND(I129*H129,3) -> 0 | BL129: 4 | BM129: -668505142
C130: 6 | D130: K | E130: 431351122 | F130: Debnenie do 4 m výšky - podest a podstupňových dosiek pôdorysne priamočiarych odstránenie | G130: m2 | H130: 3.41 | J130: =ROUND(I130*H130,3) -> 0 | K130: CS CENEKON 2019 01 | N130: znížená | P130: =O130*H130 -> 0 | Q130: 0 | R130: =Q130*H130 -> 0 | S130: 0 | T130: =S130*H130 -> 0 | AR130: 4 | AT130: K | AU130: 2 | AY130: ROZPOCET | BE130: =IF(N130="základná",J130,0) -> 0 | BF130: =IF(N130="znížená",J130,0) -> 0 | BG130: =IF(N130="zákl. prenesená",J130,0) -> 0 | BH130: =IF(N130="zníž. prenesená",J130,0) -> 0 | BI130: =IF(N130="nulová",J130,0) -> 0 | BJ130: 2 | BK130: =ROUND(I130*H130,3) -> 0 | BL130: 4 | BM130: -648110367
D131: D | E131: 6 | F131: Úpravy povrchov, podlahy, osadenie | J131: =BK131 -> 0 | P131: =SUM(P132:P137) -> 0 | R131: =SUM(R132:R137) -> 28.584729 | T131: =SUM(T132:T137) -> 0 | AR131: 1 | AT131: D | AU131: 1 | AY131: ROZPOCET | BK131: =SUM(BK132:BK137) -> 0
C132: 7 | D132: K | E132: 612460122 | F132: Príprava vnútorného podkladu stien penetráciou hĺbkovou | G132: m2 | H132: 36.831 | J132: =ROUND(I132*H132,3) -> 0 | K132: CS CENEKON 2019 01 | N132: znížená | P132: =O132*H132 -> 0 | Q132: 0.0002 | R132: =Q132*H132 -> 0.0073662 | S132: 0 | T132: =S132*H132 -> 0 | AR132: 4 | AT132: K | AU132: 2 | AY132: ROZPOCET | BE132: =IF(N132="základná",J132,0) -> 0 | BF132: =IF(N132="znížená",J132,0) -> 0 | BG132: =IF(N132="zákl. prenesená",J132,0) -> 0 | BH132: =IF(N132="zníž. prenesená",J132,0) -> 0 | BI132: =IF(N132="nulová",J132,0) -> 0 | BJ132: 2 | BK132: =ROUND(I132*H132,3) -> 0 | BL132: 4 | BM132: -251353244
C133: 8 | D133: K | E133: 632001051 | F133: Zhotovenie jednonásobného penetračného náteru pre potery a stierky | G133: m2 | H133: 343.75 | J133: =ROUND(I133*H133,3) -> 0 | K133: CS CENEKON 2019 01 | N133: znížená | P133: =O133*H133 -> 0 | Q133: 0 | R133: =Q133*H133 -> 0 | S133: 0 | T133: =S133*H133 -> 0 | AR133: 4 | AT133: K | AU133: 2 | AY133: ROZPOCET | BE133: =IF(N133="základná",J133,0) -> 0 | BF133: =IF(N133="znížená",J133,0) -> 0 | BG133: =IF(N133="zákl. prenesená",J133,0) -> 0 | BH133: =IF(N133="zníž. prenesená",J133,0) -> 0 | BI133: =IF(N133="nulová",J133,0) -> 0 | BJ133: 2 | BK133: =ROUND(I133*H133,3) -> 0 | BL133: 4 | BM133: -189915119
C134: 9 | D134: K | E134: 632450271 | F134: Cementový poter Weber - Terranova, weber.bat rapid, triedy CT-C30-F6, hr. 15 mm | G134: m2 | H134: 30.8 | J134: =ROUND(I134*H134,3) -> 0 | K134: CS CENEKON 2019 01 | N134: znížená | P134: =O134*H134 -> 0 | Q134: 0.0309 | R134: =Q134*H134 -> 0.95172 | S134: 0 | T134: =S134*H134 -> 0 | AR134: 4 | AT134: K | AU134: 2 | AY134: ROZPOCET | BE134: =IF(N134="základná",J134,0) -> 0 | BF134: =IF(N134="znížená",J134,0) -> 0 | BG134: =IF(N134="zákl. prenesená",J134,0) -> 0 | BH134: =IF(N134="zníž. prenesená",J134,0) -> 0 | BI134: =IF(N134="nulová",J134,0) -> 0 | BJ134: 2 | BK134: =ROUND(I134*H134,3) -> 0 | BL134: 4 | BM134: 870954666
C135: 10 | D135: K | E135: 632450275 | F135: Cementový poter Weber - Terranova, weber.bat rapid, triedy CT-C30-F6, hr. 50 mm | G135: m2 | H135: 257.8 | J135: =ROUND(I135*H135,3) -> 0 | K135: CS CENEKON 2019 01 | N135: znížená | P135: =O135*H135 -> 0 | Q135: 0.103 | R135: =Q135*H135 -> 26.5534 | S135: 0 | T135: =S135*H135 -> 0 | AR135: 4 | AT135: K | AU135: 2 | AY135: ROZPOCET | BE135: =IF(N135="základná",J135,0) -> 0 | BF135: =IF(N135="znížená",J135,0) -> 0 | BG135: =IF(N135="zákl. prenesená",J135,0) -> 0 | BH135: =IF(N135="zníž. prenesená",J135,0) -> 0 | BI135: =IF(N135="nulová",J135,0) -> 0 | BJ135: 2 | BK135: =ROUND(I135*H135,3) -> 0 | BL135: 4 | BM135: -289289082
C136: 11 | D136: K | E136: 632450441 | F136: Opravný poter CEMIX, oprava dutín a výtlkov v poteroch, Polymércementový poter 40 MPa, ozn. 070, hr. 5 mm | G136: m2 | H136: 94.796 | J136: =ROUND(I136*H136,3) -> 0 | K136: CS CENEKON 2019 01 | N136: znížená | P136: =O136*H136 -> 0 | Q136: 0.01033 | R136: =Q136*H136 -> 0.97924268 | S136: 0 | T136: =S136*H136 -> 0 | AR136: 4 | AT136: K | AU136: 2 | AY136: ROZPOCET | BE136: =IF(N136="základná",J136,0) -> 0 | BF136: =IF(N136="znížená",J136,0) -> 0 | BG136: =IF(N136="zákl. prenesená",J136,0) -> 0 | BH136: =IF(N136="zníž. prenesená",J136,0) -> 0 | BI136: =IF(N136="nulová",J136,0) -> 0 | BJ136: 2 | BK136: =ROUND(I136*H136,3) -> 0 | BL136: 4 | BM136: -1170296305
C137: 12 | D137: K | E137: 632451653 | F137: Vyspravenie betónových podláh, okolo vypúšťacích otvorov cementovým polymérom, oprava priemeru nad 200 do 500 mm hr. do 30 mm | G137: ks | H137: 3 | J137: =ROUND(I137*H137,3) -> 0 | K137: CS CENEKON 2019 01 | N137: znížená | P137: =O137*H137 -> 0 | Q137: 0.031 | R137: =Q137*H137 -> 0.093 | S137: 0 | T137: =S137*H137 -> 0 | AR137: 4 | AT137: K | AU137: 2 | AY137: ROZPOCET | BE137: =IF(N137="základná",J137,0) -> 0 | BF137: =IF(N137="znížená",J137,0) -> 0 | BG137: =IF(N137="zákl. prenesená",J137,0) -> 0 | BH137: =IF(N137="zníž. prenesená",J137,0) -> 0 | BI137: =IF(N137="nulová",J137,0) -> 0 | BJ137: 2 | BK137: =ROUND(I137*H137,3) -> 0 | BL137: 4 | BM137: 521917281
D138: D | E138: 99 | F138: Presun hmôt HSV | J138: =BK138 -> 0 | P138: =P139 -> 0 | R138: =R139 -> 0 | T138: =T139 -> 0 | AR138: 1 | AT138: D | AU138: 1 | AY138: ROZPOCET | BK138: =BK139 -> 0
C139: 13 | D139: K | E139: 999281111 | F139: Presun hmôt pre opravy a údržbu objektov vrátane vonkajších plášťov výšky do 25 m | G139: t | H139: 43.74 | J139: =ROUND(I139*H139,3) -> 0 | K139: CS CENEKON 2019 01 | N139: znížená | P139: =O139*H139 -> 0 | Q139: 0 | R139: =Q139*H139 -> 0 | S139: 0 | T139: =S139*H139 -> 0 | AR139: 4 | AT139: K | AU139: 2 | AY139: ROZPOCET | BE139: =IF(N139="základná",J139,0) -> 0 | BF139: =IF(N139="znížená",J139,0) -> 0 | BG139: =IF(N139="zákl. prenesená",J139,0) -> 0 | BH139: =IF(N139="zníž. prenesená",J139,0) -> 0 | BI139: =IF(N139="nulová",J139,0) -> 0 | BJ139: 2 | BK139: =ROUND(I139*H139,3) -> 0 | BL139: 4 | BM139: -1707395481
D140: D | E140: PSV | F140: Práce a dodávky PSV | J140: =BK140 -> 0 | P140: =P141 -> 0 | R140: =R141 -> 0.240507 | T140: =T141 -> 0 | AR140: 2 | AT140: D | AU140: 0 | AY140: ROZPOCET | BK140: =BK141 -> 0
D141: D | E141: 713 | F141: Izolácie tepelné | J141: =BK141 -> 0 | P141: =SUM(P142:P144) -> 0 | R141: =SUM(R142:R144) -> 0.240507 | T141: =SUM(T142:T144) -> 0 | AR141: 2 | AT141: D | AU141: 1 | AY141: ROZPOCET | BK141: =SUM(BK142:BK144) -> 0
C142: 14 | D142: K | E142: 713132132 | F142: Montáž tepelnej izolácie stien polystyrénom, celoplošným prilepením | G142: m2 | H142: 36.831 | J142: =ROUND(I142*H142,3) -> 0 | K142: CS CENEKON 2019 01 | N142: znížená | P142: =O142*H142 -> 0 | Q142: 0.005 | R142: =Q142*H142 -> 0.184155 | S142: 0 | T142: =S142*H142 -> 0 | AR142: 16 | AT142: K | AU142: 2 | AY142: ROZPOCET | BE142: =IF(N142="základná",J142,0) -> 0 | BF142: =IF(N142="znížená",J142,0) -> 0 | BG142: =IF(N142="zákl. prenesená",J142,0) -> 0 | BH142: =IF(N142="zníž. prenesená",J142,0) -> 0 | BI142: =IF(N142="nulová",J142,0) -> 0 | BJ142: 2 | BK142: =ROUND(I142*H142,3) -> 0 | BL142: 16 | BM142: 457355424
C143: 15 | D143: M | E143: 283750000700 | F143: Doska XPS STYRODUR 2800 C hr. 50 mm, zateplenie soklov, suterénov, podláh, ISOVER | G143: m2 | H143: 37.568 | J143: =ROUND(I143*H143,3) -> 0 | K143: CS CENEKON 2019 01 | N143: znížená | P143: =O143*H143 -> 0 | Q143: 0.0015 | R143: =Q143*H143 -> 0.056352 | S143: 0 | T143: =S143*H143 -> 0 | AR143: 32 | AT143: M | AU143: 2 | AY143: ROZPOCET | BE143: =IF(N143="základná",J143,0) -> 0 | BF143: =IF(N143="znížená",J143,0) -> 0 | BG143: =IF(N143="zákl. prenesená",J143,0) -> 0 | BH143: =IF(N143="zníž. prenesená",J143,0) -> 0 | BI143: =IF(N143="nulová",J143,0) -> 0 | BJ143: 2 | BK143: =ROUND(I143*H143,3) -> 0 | BL143: 16 | BM143: -2137185002
C144: 16 | D144: K | E144: 998713201 | F144: Presun hmôt pre izolácie tepelné v objektoch výšky do 6 m | G144: % | J144: =ROUND(I144*H144,3) -> 0 | K144: CS CENEKON 2019 01 | N144: znížená | P144: =O144*H144 -> 0 | Q144: 0 | R144: =Q144*H144 -> 0 | S144: 0 | T144: =S144*H144 -> 0 | AR144: 16 | AT144: K | AU144: 2 | AY144: ROZPOCET | BE144: =IF(N144="základná",J144,0) -> 0 | BF144: =IF(N144="znížená",J144,0) -> 0 | BG144: =IF(N144="zákl. prenesená",J144,0) -> 0 | BH144: =IF(N144="zníž. prenesená",J144,0) -> 0 | BI144: =IF(N144="nulová",J144,0) -> 0 | BJ144: 2 | BK144: =ROUND(I144*H144,3) -> 0 | BL144: 16 | BM144: -2007854806

Sheet 04 - Odborné prace - tech...
AT2: {f63c9aaa-0408-4892-9e97-4c6093aa3102}
AT3: 0
D4: KRYCÍ LIST ROZPOČTU | M4: v --- nižšie sa nachádzajú doplnkové a pomocné údaje k zostavám --- v | AT4: False
D6: Stavba:
E7: ='Rekapitulácia stavby'!K6 -> Zážitkovy bazen - prestavba
D8: Objekt:
E9: 04 - Odborné prace - technologia
D11: JKSO: | I11: KS:
D12: Miesto: | F12: Trebišov | I12: Dátum: | J12: ='Rekapitulácia stavby'!AN8 -> 1. 4. 2019
D14: Objednávateľ: | I14: IČO:
E15: Technické služby mesta Trebišov | I15: IČ DPH:
D17: Zhotoviteľ: | I17: IČO: | J17: ='Rekapitulácia stavby'!AN13 -> Vyplň údaj
E18: ='Rekapitulácia stavby'!E14 -> Vyplň údaj | I18: IČ DPH: | J18: ='Rekapitulácia stavby'!AN14 -> Vyplň údaj
D20: Projektant: | I20: IČO: | J20: =IF('Rekapitulácia stavby'!AN16="","",'Rekapitulácia stavby'!AN16)
E21: =IF('Rekapitulácia stavby'!E17="","",'Rekapitulácia stavby'!E17) | I21: IČ DPH: | J21: =IF('Rekapitulácia stavby'!AN17="","",'Rekapitulácia stavby'!AN17)
D23: Spracovateľ: | I23: IČO: | J23: =IF('Rekapitulácia stavby'!AN19="","",'Rekapitulácia stavby'!AN19)
E24: =IF('Rekapitulácia stavby'!E20="","",'Rekapitulácia stavby'!E20) | I24: IČ DPH: | J24: =IF('Rekapitulácia stavby'!AN20="","",'Rekapitulácia stavby'!AN20)
D26: Poznámka:
D30: Cena bez DPH | J30: =ROUND(J120, 2) -> 0
F32: Základ dane | I32: Sadzba dane | J32: Výška dane
D33: DPH | E33: základná | F33: =ROUND((SUM(BE120:BE138)), 2) -> 0 | I33: 0.2 | J33: =ROUND(((SUM(BE120:BE138))*I33), 2) -> 0
E34: znížená | F34: =ROUND((SUM(BF120:BF138)), 2) -> 0 | I34: 0.2 | J34: =ROUND(((SUM(BF120:BF138))*I34), 2) -> 0
E35: zákl. prenesená | F35: =ROUND((SUM(BG120:BG138)), 2) -> 0 | I35: 0.2 | J35: =0 -> 0
E36: zníž. prenesená | F36: =ROUND((SUM(BH120:BH138)), 2) -> 0 | I36: 0.2 | J36: =0 -> 0
E37: nulová | F37: =ROUND((SUM(BI120:BI138)), 2) -> 0 | I37: 0 | J37: =0 -> 0
D39: Cena s DPH | G39: v | H39: EUR | J39: =SUM(J30:J37) -> 0
D50: Projektant | G50: Spracovateľ
D61: Dátum a podpis: | F61: Pečiatka | G61: Dátum a podpis: | J61: Pečiatka
D65: Objednávateľ | G65: Zhotoviteľ
D76: Dátum a podpis: | F76: Pečiatka | G76: Dátum a podpis: | J76: Pečiatka
C82: REKAPITULÁCIA ROZPOČTU
C84: Stavba:
E85: =E7 -> Zážitkovy bazen - prestavba
C86: Objekt:
E87: =E9 -> 04 - Odborné prace - technologia
C89: Miesto: | F89: =F12 -> Trebišov | I89: Dátum: | J89: =IF(J12="","",J12) -> 1. 4. 2019
C91: Objednávateľ: | F91: =E15 -> Technické služby mesta Trebišov | I91: Projektant: | J91: =E21
C92: Zhotoviteľ: | F92: =IF(E18="","",E18) -> Vyplň údaj | I92: Spracovateľ: | J92: =E24
C94: Kód dielu - Popis | J94: Cena celkom [EUR]
C96: Náklady z rozpočtu | J96: =J120 -> 0 | AU96: -1
D97: PSV - Práce a dodávky PSV | J97: =J121 -> 0
D98: 711 - Izolácie proti vode a vlhkosti | J98: =J122 -> 0
D99: 712 - Izolácie striech, povlakové krytiny | J99: =J125 -> 0
D100: 722 - Zdravotechnika - vnútorný vodovod | J100: =J132 -> 0
C107: ROZPOČET
C109: Stavba:
E110: =E7 -> Zážitkovy bazen - prestavba
C111: Objekt:
E112: =E9 -> 04 - Odborné prace - technologia
C114: Miesto: | F114: =F12 -> Trebišov | I114: Dátum: | J114: =IF(J12="","",J12) -> 1. 4. 2019
C116: Objednávateľ: | F116: =E15 -> Technické služby mesta Trebišov | I116: Projektant: | J116: =E21
C117: Zhotoviteľ: | F117: =IF(E18="","",E18) -> Vyplň údaj | I117: Spracovateľ: | J117: =E24
C119: PČ | D119: Typ | E119: Kód | F119: Popis | G119: MJ | H119: Množstvo | I119: J.cena [EUR] | J119: Cena celkom [EUR] | K119: Cenová sústava | N119: DPH | O119: J. Nh [h] | P119: Nh celkom [h] | Q119: J. hmotnosť [t] | R119: Hmotnosť celkom [t] | S119: J. suť [t] | T119: Suť Celkom [t]
C120: Náklady z rozpočtu | J120: =BK120 -> 0 | P120: =P121 -> 0 | R120: =R121 -> 1.4824491 | T120: =T121 -> 0 | AT120: D | AU120: -1 | BK120: =BK121 -> 0
D121: D | E121: PSV | F121: Práce a dodávky PSV | J121: =BK121 -> 0 | P121: =P122+P125+P132 -> 0 | R121: =R122+R125+R132 -> 1.4824491 | T121: =T122+T125+T132 -> 0 | AR121: 2 | AT121: D | AU121: 0 | AY121: ROZPOCET | BK121: =BK122+BK125+BK132 -> 0
D122: D | E122: 711 | F122: Izolácie proti vode a vlhkosti | J122: =BK122 -> 0 | P122: =SUM(P123:P124) -> 0 | R122: =SUM(R123:R124) -> 0 | T122: =SUM(T123:T124) -> 0 | AR122: 2 | AT122: D | AU122: 1 | AY122: ROZPOCET | BK122: =SUM(BK123:BK124) -> 0
C123: 1 | D123: K | E123: 711132103 | F123: Zhotovenie izolácie vodorovne a zvislo, separačná fólia na sucho | G123: m2 | H123: 337 | J123: =ROUND(I123*H123,3) -> 0 | K123: CS CENEKON 2019 01 | N123: znížená | P123: =O123*H123 -> 0 | Q123: 0 | R123: =Q123*H123 -> 0 | S123: 0 | T123: =S123*H123 -> 0 | AR123: 16 | AT123: K | AU123: 2 | AY123: ROZPOCET | BE123: =IF(N123="základná",J123,0) -> 0 | BF123: =IF(N123="znížená",J123,0) -> 0 | BG123: =IF(N123="zákl. prenesená",J123,0) -> 0 | BH123: =IF(N123="zníž. prenesená",J123,0) -> 0 | BI123: =IF(N123="nulová",J123,0) -> 0 | BJ123: 2 | BK123: =ROUND(I123*H123,3) -> 0 | BL123: 16 | BM123: 458594945
C124: 2 | D124: M | E124: 2615261588 | F124: FILTEK 500 g/m2 bazénová PP geotextília 1,65×20 m (rolka 33 m2) | G124: m2 | H124: 404.4 | J124: =ROUND(I124*H124,3) -> 0 | N124: znížená | P124: =O124*H124 -> 0 | Q124: 0 | R124: =Q124*H124 -> 0 | S124: 0 | T124: =S124*H124 -> 0 | AR124: 32 | AT124: M | AU124: 2 | AY124: ROZPOCET | BE124: =IF(N124="základná",J124,0) -> 0 | BF124: =IF(N124="znížená",J124,0) -> 0 | BG124: =IF(N124="zákl. prenesená",J124,0) -> 0 | BH124: =IF(N124="zníž. prenesená",J124,0) -> 0 | BI124: =IF(N124="nulová",J124,0) -> 0 | BJ124: 2 | BK124: =ROUND(I124*H124,3) -> 0 | BL124: 16 | BM124: -218688023
D125: D | E125: 712 | F125: Izolácie striech, povlakové krytiny | J125: =BK125 -> 0 | P125: =SUM(P126:P131) -> 0 | R125: =SUM(R126:R131) -> 1.2839753 | T125: =SUM(T126:T131) -> 0 | AR125: 2 | AT125: D | AU125: 1 | AY125: ROZPOCET | BK125: =SUM(BK126:BK131) -> 0
C126: 3 | D126: K | E126: 712370360 | F126: Zhotovenie bazenovej fólie EPDM celoplošne lepenou | G126: m2 | H126: 320 | J126: =ROUND(I126*H126,3) -> 0 | K126: CS CENEKON 2019 01 | N126: znížená | P126: =O126*H126 -> 0 | Q126: 0.0006071728 | R126: =Q126*H126 -> 0.1942953 | S126: 0 | T126: =S126*H126 -> 0 | AR126: 16 | AT126: K | AU126: 2 | AY126: ROZPOCET | BE126: =IF(N126="základná",J126,0) -> 0 | BF126: =IF(N126="znížená",J126,0) -> 0 | BG126: =IF(N126="zákl. prenesená",J126,0) -> 0 | BH126: =IF(N126="zníž. prenesená",J126,0) -> 0 | BI126: =IF(N126="nulová",J126,0) -> 0 | BJ126: 2 | BK126: =ROUND(I126*H126,3) -> 0 | BL126: 16 | BM126: 2028900233
C127: 4 | D127: M | E127: 283220001500 | F127: Bazenova fólia PVC-P ALKORPLAN 1,5 mm modra | G127: m2 | H127: 260 | J127: =ROUND(I127*H127,3) -> 0 | K127: CS CENEKON 2019 01 | N127: znížená | P127: =O127*H127 -> 0 | Q127: 0.0018 | R127: =Q127*H127 -> 0.468 | S127: 0 | T127: =S127*H127 -> 0 | AR127: 32 | AT127: M | AU127: 2 | AY127: ROZPOCET | BE127: =IF(N127="základná",J127,0) -> 0 | BF127: =IF(N127="znížená",J127,0) -> 0 | BG127: =IF(N127="zákl. prenesená",J127,0) -> 0 | BH127: =IF(N127="zníž. prenesená",J127,0) -> 0 | BI127: =IF(N127="nulová",J127,0) -> 0 | BJ127: 2 | BK127: =ROUND(I127*H127,3) -> 0 | BL127: 16 | BM127: 435749400
C128: 5 | D128: M | E128: 283220001600 | F128: Bazenova fólia PVC-P ALKORPLAN 1,5 mm s potlačou protišmykova | G128: m2 | H128: 92 | J128: =ROUND(I128*H128,3) -> 0 | K128: CS CENEKON 2019 01 | N128: znížená | P128: =O128*H128 -> 0 | Q128: 0.00224 | R128: =Q128*H128 -> 0.20608 | S128: 0 | T128: =S128*H128 -> 0 | AR128: 32 | AT128: M | AU128: 2 | AY128: ROZPOCET | BE128: =IF(N128="základná",J128,0) -> 0 | BF128: =IF(N128="znížená",J128,0) -> 0 | BG128: =IF(N128="zákl. prenesená",J128,0) -> 0 | BH128: =IF(N128="zníž. prenesená",J128,0) -> 0 | BI128: =IF(N128="nulová",J128,0) -> 0 | BJ128: 2 | BK128: =ROUND(I128*H128,3) -> 0 | BL128: 16 | BM128: 434330788
C129: 6 | D129: M | E129: 553430004900 | F129: Lišta kútová vyhnutá z poplastovaného plechu PVC š. 250 mm, dĺ. 2 m, | G129: m | H129: 160 | J129: =ROUND(I129*H129,3) -> 0 | K129: CS CENEKON 2019 01 | N129: znížená | P129: =O129*H129 -> 0 | Q129: 0.00041 | R129: =Q129*H129 -> 0.0656 | S129: 0 | T129: =S129*H129 -> 0 | AR129: 32 | AT129: M | AU129: 2 | AY129: ROZPOCET | BE129: =IF(N129="základná",J129,0) -> 0 | BF129: =IF(N129="znížená",J129,0) -> 0 | BG129: =IF(N129="zákl. prenesená",J129,0) -> 0 | BH129: =IF(N129="zníž. prenesená",J129,0) -> 0 | BI129: =IF(N129="nulová",J129,0) -> 0 | BJ129: 2 | BK129: =ROUND(I129*H129,3) -> 0 | BL129: 16 | BM129: -1096777750
C130: 7 | D130: M | E130: 553430005600 | F130: Spojovaci materiál na lišty - vruty | G130: ks | H130: 1000 | J130: =ROUND(I130*H130,3) -> 0 | K130: CS CENEKON 2019 01 | N130: znížená | P130: =O130*H130 -> 0 | Q130: 0.00035 | R130: =Q130*H130 -> 0.35 | S130: 0 | T130: =S130*H130 -> 0 | AR130: 32 | AT130: M | AU130: 2 | AY130: ROZPOCET | BE130: =IF(N130="základná",J130,0) -> 0 | BF130: =IF(N130="znížená",J130,0) -> 0 | BG130: =IF(N130="zákl. prenesená",J130,0) -> 0 | BH130: =IF(N130="zníž. prenesená",J130,0) -> 0 | BI130: =IF(N130="nulová",J130,0) -> 0 | BJ130: 2 | BK130: =ROUND(I130*H130,3) -> 0 | BL130: 16 | BM130: 445944276
C131: 8 | D131: K | E131: 998712201 | F131: Presun hmôt pre izoláciu povlakovej krytiny v objektoch výšky do 6 m | G131: % | J131: =ROUND(I131*H131,3) -> 0 | K131: CS CENEKON 2019 01 | N131: znížená | P131: =O131*H131 -> 0 | Q131: 0 | R131: =Q131*H131 -> 0 | S131: 0 | T131: =S131*H131 -> 0 | AR131: 16 | AT131: K | AU131: 2 | AY131: ROZPOCET | BE131: =IF(N131="základná",J131,0) -> 0 | BF131: =IF(N131="znížená",J131,0) -> 0 | BG131: =IF(N131="zákl. prenesená",J131,0) -> 0 | BH131: =IF(N131="zníž. prenesená",J131,0) -> 0 | BI131: =IF(N131="nulová",J131,0) -> 0 | BJ131: 2 | BK131: =ROUND(I131*H131,3) -> 0 | BL131: 16 | BM131: -173741299
D132: D | E132: 722 | F132: Zdravotechnika - vnútorný vodovod | J132: =BK132 -> 0 | P132: =SUM(P133:P138) -> 0 | R132: =SUM(R133:R138) -> 0.1984738 | T132: =SUM(T133:T138) -> 0 | AR132: 2 | AT132: D | AU132: 1 | AY132: ROZPOCET | BK132: =SUM(BK133:BK138) -> 0
C133: 9 | D133: K | E133: 722172105 | F133: Potrubie z plastických rúr PP-R D63/5.8 - PN10, polyfúznym zváraním | G133: m | H133: 110 | J133: =ROUND(I133*H133,3) -> 0 | K133: CS CENEKON 2019 01 | N133: znížená | P133: =O133*H133 -> 0 | Q133: 0.00165 | R133: =Q133*H133 -> 0.1815 | S133: 0 | T133: =S133*H133 -> 0 | AR133: 16 | AT133: K | AU133: 2 | AY133: ROZPOCET | BE133: =IF(N133="základná",J133,0) -> 0 | BF133: =IF(N133="znížená",J133,0) -> 0 | BG133: =IF(N133="zákl. prenesená",J133,0) -> 0 | BH133: =IF(N133="zníž. prenesená",J133,0) -> 0 | BI133: =IF(N133="nulová",J133,0) -> 0 | BJ133: 2 | BK133: =ROUND(I133*H133,3) -> 0 | BL133: 16 | BM133: 1320853401
C134: 10 | D134: M | E134: 551110011200 | F134: Spodná výpusť Nerez 316 | G134: ks | H134: 3 | J134: =ROUND(I134*H134,3) -> 0 | K134: CS CENEKON 2019 01 | N134: znížená | P134: =O134*H134 -> 0 | Q134: 7.5e-05 | R134: =Q134*H134 -> 0.000225 | S134: 0 | T134: =S134*H134 -> 0 | AR134: 32 | AT134: M | AU134: 2 | AY134: ROZPOCET | BE134: =IF(N134="základná",J134,0) -> 0 | BF134: =IF(N134="znížená",J134,0) -> 0 | BG134: =IF(N134="zákl. prenesená",J134,0) -> 0 | BH134: =IF(N134="zníž. prenesená",J134,0) -> 0 | BI134: =IF(N134="nulová",J134,0) -> 0 | BJ134: 2 | BK134: =ROUND(I134*H134,3) -> 0 | BL134: 16 | BM134: -93434170
C135: 11 | D135: M | E135: 551110011300 | F135: Trysky Nerez 316 | G135: ks | H135: 4 | J135: =ROUND(I135*H135,3) -> 0 | K135: CS CENEKON 2019 01 | N135: znížená | P135: =O135*H135 -> 0 | Q135: 0.00013 | R135: =Q135*H135 -> 0.00052 | S135: 0 | T135: =S135*H135 -> 0 | AR135: 32 | AT135: M | AU135: 2 | AY135: ROZPOCET | BE135: =IF(N135="základná",J135,0) -> 0 | BF135: =IF(N135="znížená",J135,0) -> 0 | BG135: =IF(N135="zákl. prenesená",J135,0) -> 0 | BH135: =IF(N135="zníž. prenesená",J135,0) -> 0 | BI135: =IF(N135="nulová",J135,0) -> 0 | BJ135: 2 | BK135: =ROUND(I135*H135,3) -> 0 | BL135: 16 | BM135: 673475508
C136: 12 | D136: M | E136: 551110028500 | F136: Ventil priamy PP-R s výpusťou vľavo, rozmer 63x2", Instaplast - systém pre rozvod pitnej, teplej vody a stlačeného vzduchu, PIPELIFE | G136: ks | H136: 6 | J136: =ROUND(I136*H136,3) -> 0 | K136: CS CENEKON 2019 01 | N136: znížená | P136: =O136*H136 -> 0 | Q136: 0.00112 | R136: =Q136*H136 -> 0.00672 | S136: 0 | T136: =S136*H136 -> 0 | AR136: 32 | AT136: M | AU136: 2 | AY136: ROZPOCET | BE136: =IF(N136="základná",J136,0) -> 0 | BF136: =IF(N136="znížená",J136,0) -> 0 | BG136: =IF(N136="zákl. prenesená",J136,0) -> 0 | BH136: =IF(N136="zníž. prenesená",J136,0) -> 0 | BI136: =IF(N136="nulová",J136,0) -> 0 | BJ136: 2 | BK136: =ROUND(I136*H136,3) -> 0 | BL136: 16 | BM136: 1524564767
C137: 13 | D137: K | E137: 953998640 | F137: Prielivova mriežka vratane žľabu, rohov a krytky sania | G137: m | H137: 45.28 | J137: =ROUND(I137*H137,3) -> 0 | K137: CS CENEKON 2019 01 | N137: znížená | P137: =O137*H137 -> 0 | Q137: 0.00021 | R137: =Q137*H137 -> 0.0095088 | S137: 0 | T137: =S137*H137 -> 0 | AR137: 4 | AT137: K | AU137: 2 | AY137: ROZPOCET | BE137: =IF(N137="základná",J137,0) -> 0 | BF137: =IF(N137="znížená",J137,0) -> 0 | BG137: =IF(N137="zákl. prenesená",J137,0) -> 0 | BH137: =IF(N137="zníž. prenesená",J137,0) -> 0 | BI137: =IF(N137="nulová",J137,0) -> 0 | BJ137: 2 | BK137: =ROUND(I137*H137,3) -> 0 | BL137: 4 | BM137: 1603453806
C138: 14 | D138: K | E138: 998722201 | F138: Presun hmôt pre vnútorný vodovod v objektoch výšky do 6 m | G138: % | J138: =ROUND(I138*H138,3) -> 0 | K138: CS CENEKON 2019 01 | N138: znížená | P138: =O138*H138 -> 0 | Q138: 0 | R138: =Q138*H138 -> 0 | S138: 0 | T138: =S138*H138 -> 0 | AR138: 16 | AT138: K | AU138: 2 | AY138: ROZPOCET | BE138: =IF(N138="základná",J138,0) -> 0 | BF138: =IF(N138="znížená",J138,0) -> 0 | BG138: =IF(N138="zákl. prenesená",J138,0) -> 0 | BH138: =IF(N138="zníž. prenesená",J138,0) -> 0 | BI138: =IF(N138="nulová",J138,0) -> 0 | BJ138: 2 | BK138: =ROUND(I138*H138,3) -> 0 | BL138: 16 | BM138: 669551095

Sheet 05 - Hracie prvky bazenove 
AT2: {615f7efa-234d-42ef-9f07-9b2485499354}
AT3: 0
D4: KRYCÍ LIST ROZPOČTU | M4: v --- nižšie sa nachádzajú doplnkové a pomocné údaje k zostavám --- v | AT4: False
D6: Stavba:
E7: ='Rekapitulácia stavby'!K6 -> Zážitkovy bazen - prestavba
D8: Objekt:
E9: 05 - Hracie prvky bazenove
D11: JKSO: | I11: KS:
D12: Miesto: | F12: Trebišov | I12: Dátum: | J12: ='Rekapitulácia stavby'!AN8 -> 1. 4. 2019
D14: Objednávateľ: | I14: IČO:
E15: Technické služby mesta Trebišov | I15: IČ DPH:
D17: Zhotoviteľ: | I17: IČO: | J17: ='Rekapitulácia stavby'!AN13 -> Vyplň údaj
E18: ='Rekapitulácia stavby'!E14 -> Vyplň údaj | I18: IČ DPH: | J18: ='Rekapitulácia stavby'!AN14 -> Vyplň údaj
D20: Projektant: | I20: IČO: | J20: =IF('Rekapitulácia stavby'!AN16="","",'Rekapitulácia stavby'!AN16)
E21: =IF('Rekapitulácia stavby'!E17="","",'Rekapitulácia stavby'!E17) | I21: IČ DPH: | J21: =IF('Rekapitulácia stavby'!AN17="","",'Rekapitulácia stavby'!AN17)
D23: Spracovateľ: | I23: IČO: | J23: =IF('Rekapitulácia stavby'!AN19="","",'Rekapitulácia stavby'!AN19)
E24: =IF('Rekapitulácia stavby'!E20="","",'Rekapitulácia stavby'!E20) | I24: IČ DPH: | J24: =IF('Rekapitulácia stavby'!AN20="","",'Rekapitulácia stavby'!AN20)
D26: Poznámka:
D30: Cena bez DPH | J30: =ROUND(J118, 2) -> 0
F32: Základ dane | I32: Sadzba dane | J32: Výška dane
D33: DPH | E33: základná | F33: =ROUND((SUM(BE118:BE123)), 2) -> 0 | I33: 0.2 | J33: =ROUND(((SUM(BE118:BE123))*I33), 2) -> 0
E34: znížená | F34: =ROUND((SUM(BF118:BF123)), 2) -> 0 | I34: 0.2 | J34: =ROUND(((SUM(BF118:BF123))*I34), 2) -> 0
E35: zákl. prenesená | F35: =ROUND((SUM(BG118:BG123)), 2) -> 0 | I35: 0.2 | J35: =0 -> 0
E36: zníž. prenesená | F36: =ROUND((SUM(BH118:BH123)), 2) -> 0 | I36: 0.2 | J36: =0 -> 0
E37: nulová | F37: =ROUND((SUM(BI118:BI123)), 2) -> 0 | I37: 0 | J37: =0 -> 0
D39: Cena s DPH | G39: v | H39: EUR | J39: =SUM(J30:J37) -> 0
D50: Projektant | G50: Spracovateľ
D61: Dátum a podpis: | F61: Pečiatka | G61: Dátum a podpis: | J61: Pečiatka
D65: Objednávateľ | G65: Zhotoviteľ
D76: Dátum a podpis: | F76: Pečiatka | G76: Dátum a podpis: | J76: Pečiatka
C82: REKAPITULÁCIA ROZPOČTU
C84: Stavba:
E85: =E7 -> Zážitkovy bazen - prestavba
C86: Objekt:
E87: =E9 -> 05 - Hracie prvky bazenove
C89: Miesto: | F89: =F12 -> Trebišov | I89: Dátum: | J89: =IF(J12="","",J12) -> 1. 4. 2019
C91: Objednávateľ: | F91: =E15 -> Technické služby mesta Trebišov | I91: Projektant: | J91: =E21
C92: Zhotoviteľ: | F92: =IF(E18="","",E18) -> Vyplň údaj | I92: Spracovateľ: | J92: =E24
C94: Kód dielu - Popis | J94: Cena celkom [EUR]
C96: Náklady z rozpočtu | J96: =J118 -> 0 | AU96: -1
D97: HSV - Práce a dodávky HSV | J97: =J119 -> 0
D98: 9 - Ostatné konštrukcie a práce | J98: =J120 -> 0
C105: ROZPOČET
C107: Stavba:
E108: =E7 -> Zážitkovy bazen - prestavba
C109: Objekt:
E110: =E9 -> 05 - Hracie prvky bazenove
C112: Miesto: | F112: =F12 -> Trebišov | I112: Dátum: | J112: =IF(J12="","",J12) -> 1. 4. 2019
C114: Objednávateľ: | F114: =E15 -> Technické služby mesta Trebišov | I114: Projektant: | J114: =E21
C115: Zhotoviteľ: | F115: =IF(E18="","",E18) -> Vyplň údaj | I115: Spracovateľ: | J115: =E24
C117: PČ | D117: Typ | E117: Kód | F117: Popis | G117: MJ | H117: Množstvo | I117: J.cena [EUR] | J117: Cena celkom [EUR] | K117: Cenová sústava | N117: DPH | O117: J. Nh [h] | P117: Nh celkom [h] | Q117: J. hmotnosť [t] | R117: Hmotnosť celkom [t] | S117: J. suť [t] | T117: Suť Celkom [t]
C118: Náklady z rozpočtu | J118: =BK118 -> 0 | P118: =P119 -> 0 | R118: =R119 -> 2.80998 | T118: =T119 -> 0 | AT118: D | AU118: -1 | BK118: =BK119 -> 0
D119: D | E119: HSV | F119: Práce a dodávky HSV | J119: =BK119 -> 0 | P119: =P120 -> 0 | R119: =R120 -> 2.80998 | T119: =T120 -> 0 | AR119: 1 | AT119: D | AU119: 0 | AY119: ROZPOCET | BK119: =BK120 -> 0
D120: D | E120: 9 | F120: Ostatné konštrukcie a práce | J120: =BK120 -> 0 | P120: =SUM(P121:P123) -> 0 | R120: =SUM(R121:R123) -> 2.80998 | T120: =SUM(T121:T123) -> 0 | AR120: 1 | AT120: D | AU120: 1 | AY120: ROZPOCET | BK120: =SUM(BK121:BK123) -> 0
C121: 1 | D121: K | E121: 936105211 | F121: Montáž detskej zostavy malej osadené do betónuy | G121: súb. | H121: 2 | J121: =ROUND(I121*H121,3) -> 0 | K121: CS CENEKON 2019 01 | N121: znížená | P121: =O121*H121 -> 0 | Q121: 0.97299 | R121: =Q121*H121 -> 1.94598 | S121: 0 | T121: =S121*H121 -> 0 | AR121: 4 | AT121: K | AU121: 2 | AY121: ROZPOCET | BE121: =IF(N121="základná",J121,0) -> 0 | BF121: =IF(N121="znížená",J121,0) -> 0 | BG121: =IF(N121="zákl. prenesená",J121,0) -> 0 | BH121: =IF(N121="zníž. prenesená",J121,0) -> 0 | BI121: =IF(N121="nulová",J121,0) -> 0 | BJ121: 2 | BK121: =ROUND(I121*H121,3) -> 0 | BL121: 4 | BM121: 2122731445
C122: 2 | D122: M | E122: 553570015600 | F122: Bazenovy prvok - šmýkačka | G122: ks | H122: 2 | J122: =ROUND(I122*H122,3) -> 0 | K122: CS CENEKON 2019 01 | N122: znížená | P122: =O122*H122 -> 0 | Q122: 0.343 | R122: =Q122*H122 -> 0.686 | S122: 0 | T122: =S122*H122 -> 0 | AR122: 8 | AT122: M | AU122: 2 | AY122: ROZPOCET | BE122: =IF(N122="základná",J122,0) -> 0 | BF122: =IF(N122="znížená",J122,0) -> 0 | BG122: =IF(N122="zákl. prenesená",J122,0) -> 0 | BH122: =IF(N122="zníž. prenesená",J122,0) -> 0 | BI122: =IF(N122="nulová",J122,0) -> 0 | BJ122: 2 | BK122: =ROUND(I122*H122,3) -> 0 | BL122: 4 | BM122: 1417398089
C123: 3 | D123: M | E123: 553570015500 | F123: Bazenovy prvok HUBKA - dodávka vratane montaže a technologie | G123: ks | H123: 1 | J123: =ROUND(I123*H123,3) -> 0 | K123: CS CENEKON 2019 01 | N123: znížená | P123: =O123*H123 -> 0 | Q123: 0.178 | R123: =Q123*H123 -> 0.178 | S123: 0 | T123: =S123*H123 -> 0 | AR123: 8 | AT123: M | AU123: 2 | AY123: ROZPOCET | BE123: =IF(N123="základná",J123,0) -> 0 | BF123: =IF(N123="znížená",J123,0) -> 0 | BG123: =IF(N123="zákl. prenesená",J123,0) -> 0 | BH123: =IF(N123="zníž. prenesená",J123,0) -> 0 | BI123: =IF(N123="nulová",J123,0) -> 0 | BJ123: 2 | BK123: =ROUND(I123*H123,3) -> 0 | BL123: 4 | BM123: 1216296803
