Workbook

Sheet Rekapitulácia stavby
A1: Export Komplet | BA1: 2.0 | BT1: False | BU1: False | BV1: {1c8bb324-8bcb-4f75-bfb5-b97bb3243a5b}
AR2: >> skryté stĺpce << | BS2: 0,001 | BT2: 20
BS3: 0,001 | BT3: 20
D4: REKAPITULÁCIA STAVBY | AS4: v --- nižšie sa nachádzajú doplnkové a pomocné údaje k zostavám --- v | BE4: Návod na vyplnenie | BS4: 0,001
D5: Kód: | K5: 2019-08 | BE5: Meniť je možné iba bunky so žltým podfarbením!_x000D_ _x000D_ 1) na prvom liste Rekapitulácie stavby vyplňte v zostave_x000D_ _x000D_ a) Rekapitulácia stavby_x000D_ - údaje o Zhotoviteľovi_x000D_ (prenesú sa do ostatných zostáv aj v iných listoch)_x000D_ _x000D_ b) Rekapitulácia objektov stavby_x000D_ - potrebné Ostatné náklady_x000D_ _x000D_ 2) na vybraných listoch vyplňte v zostave_x000D_ _x000D_ a) Krycí list_x000D_ - údaje o Zhotoviteľovi, pokiaľ sa líšia od údajov o Zhotoviteľovi na Rekapitulácii stavby_x000D_ (údaje se prenesú do ostatných zostav v danom liste)_x000D_ _x000D_ b) Rekapitulácia rozpočtu_x000D_ - potrebné Ostatné náklady_x000D_ _x000D_ c) Celkové náklady za stavbu_x000D_ - ceny na položkách_x000D_ - množstvo, pokiaľ má žlté podfarbenie_x000D_ - a v prípade potreby poznámku (tá je v skrytom stĺpci) | BS5: 0,001
D6: Stavba: | K6: HOKEJBALOVÉ IHRISKO | BS6: 0,001
D7: JKSO: | AK7: KS: | BS7: 0,001
D8: Miesto: | K8: TREBIŠOV | AK8: Dátum: | AN8: Vyplň údaj | BS8: 0,001
BS9: 0,001
D10: Objednávateľ: | AK10: IČO: | BS10: 0,001
E11: MESTO TREBIŠOV | AK11: IČ DPH: | BS11: 0,001
BS12: 0,001
D13: Zhotoviteľ: | AK13: IČO: | AN13: Vyplň údaj | BS13: 0,001
E14: Vyplň údaj | AK14: IČ DPH: | AN14: Vyplň údaj | BS14: 0,001
BS15: False
D16: Projektant: | AK16: IČO: | BS16: False
E17: APRO s.r.o. TREBIŠOV | AK17: IČ DPH: | BS17: True
BS18: 0,01
D19: Spracovateľ: | AK19: IČO: | BS19: 0,01
AK20: IČ DPH: | BS20: True
D22: Poznámka:
D26: Cena bez DPH | AK26: =ROUND(AG94,2) -> 0
L28: Sadzba dane | W28: Základ dane | AK28: Výška dane
D29: DPH | F29: základná | L29: 0.2 | W29: =ROUND(AZ94, 2) -> 0 | AK29: =ROUND(AV94, 2) -> 0
F30: znížená | L30: 0.2 | W30: =ROUND(BA94, 2) -> 0 | AK30: =ROUND(AW94, 2) -> 0
F31: zákl. prenesená | L31: 0.2 | W31: =ROUND(BB94, 2) -> 0 | AK31: 0
F32: zníž. prenesená | L32: 0.2 | W32: =ROUND(BC94, 2) -> 0 | AK32: 0
F33: nulová | L33: 0 | W33: =ROUND(BD94, 2) -> 0 | AK33: 0
D35: Cena s DPH | T35: v | X35: EUR | AK35: =SUM(AK26:AK33) -> 0
D49: Projektant | AH49: Spracovateľ
D60: Dátum a podpis: | V60: Pečiatka | AH60: Dátum a podpis: | AM60: Pečiatka
D64: Objednávateľ | AH64: Zhotoviteľ
D75: Dátum a podpis: | V75: Pečiatka | AH75: Dátum a podpis: | AM75: Pečiatka
C82: REKAPITULÁCIA OBJEKTOV STAVBY
C84: Kód: | L84: =K5 -> 2019-08
C85: Stavba: | L85: =K6 -> HOKEJBALOVÉ IHRISKO
C87: Miesto: | L87: =IF(K8="","",K8) -> TREBIŠOV | AI87: Dátum: | AM87: =IF(AN8= "","",AN8) -> Vyplň údaj
C89: Objednávateľ: | L89: =IF(E11= "","",E11) -> MESTO TREBIŠOV | AI89: Projektant: | AM89: =IF(E17="","",E17) -> APRO s.r.o. TREBIŠOV | AS89: Informatívne údaje z listov zákaziek
C90: Zhotoviteľ: | L90: =IF(E14= "Vyplň údaj","",E14) | AI90: Spracovateľ: | AM90: =IF(E20="","",E20)
C92: Kód | I92: Popis | AG92: Cena bez DPH [EUR] | AN92: Cena s DPH [EUR] | AQ92: Typ | AS92: z toho Ostat._x000D_ náklady [EUR] | AT92: DPH [EUR] | AU92: Normohodiny [h] | AV92: DPH základná [EUR] | AW92: DPH znížená [EUR] | AX92: DPH základná prenesená_x000D_ [EUR] | AY92: DPH znížená prenesená_x000D_ [EUR] | AZ92: Základňa_x000D_ DPH základná | BA92: Základňa_x000D_ DPH znížená | BB92: Základňa_x000D_ DPH zákl. prenesená | BC92: Základňa_x000D_ DPH zníž. prenesená | BD92: Základňa_x000D_ DPH nulová
C94: Náklady z rozpočtov | AG94: =ROUND(AG95+AG98,2) -> 0 | AN94: =SUM(AG94,AT94) -> 0 | AS94: =ROUND(AS95+AS98,2) -> 0 | AT94: =ROUND(SUM(AV94:AW94),2) -> 0 | AU94: =ROUND(AU95+AU98,5) -> 0 | AV94: =ROUND(AZ94*L29,2) -> 0 | AW94: =ROUND(BA94*L30,2) -> 0 | AX94: =ROUND(BB94*L29,2) -> 0 | AY94: =ROUND(BC94*L30,2) -> 0 | AZ94: =ROUND(AZ95+AZ98,2) -> 0 | BA94: =ROUND(BA95+BA98,2) -> 0 | BB94: =ROUND(BB95+BB98,2) -> 0 | BC94: =ROUND(BC95+BC98,2) -> 0 | BD94: =ROUND(BD95+BD98,2) -> 0 | BS94: D | BT94: 0 | BU94: ###NOIMPORT### | BV94: IMPORT | BW94: {1c8bb324-8bcb-4f75-bfb5-b97bb3243a5b} | BX94: {00000000-0000-0000-0000-000000000000}
D95: 01 | J95: SO 01 - HOKEJBALOVÉ IHRISKO | AG95: =ROUND(SUM(AG96:AG97),2) -> 0 | AN95: =SUM(AG95,AT95) -> 0 | AQ95: STA | AS95: =ROUND(SUM(AS96:AS97),2) -> 0 | AT95: =ROUND(SUM(AV95:AW95),2) -> 0 | AU95: =ROUND(SUM(AU96:AU97),5) -> 0 | AV95: =ROUND(AZ95*L29,2) -> 0 | AW95: =ROUND(BA95*L30,2) -> 0 | AX95: =ROUND(BB95*L29,2) -> 0 | AY95: =ROUND(BC95*L30,2) -> 0 | AZ95: =ROUND(SUM(AZ96:AZ97),2) -> 0 | BA95: =ROUND(SUM(BA96:BA97),2) -> 0 | BB95: =ROUND(SUM(BB96:BB97),2) -> 0 | BC95: =ROUND(SUM(BC96:BC97),2) -> 0 | BD95: =ROUND(SUM(BD96:BD97),2) -> 0 | BS95: D | BT95: 1 | BU95: ###NOIMPORT### | BV95: IMPORT | BW95: {19f899a0-8e00-4ac9-b05a-77c8a4e69c30} | BX95: {1c8bb324-8bcb-4f75-bfb5-b97bb3243a5b} | CM95: 0
A96: / | E96: 01.1 | K96: HOKEJBALOVÉ IHRISKO + ASFALT. SPEVN. PLOCHA | AG96: ='01.1 - HOKEJBALOVÉ IHRISK...'!J32 -> 0 | AN96: =SUM(AG96,AT96) -> 0 | AQ96: Časť | AS96: 0 | AT96: =ROUND(SUM(AV96:AW96),2) -> 0 | AU96: ='01.1 - HOKEJBALOVÉ IHRISK...'!P131 -> 0 | AV96: ='01.1 - HOKEJBALOVÉ IHRISK...'!J35 -> 0 | AW96: ='01.1 - HOKEJBALOVÉ IHRISK...'!J36 -> 0 | AX96: ='01.1 - HOKEJBALOVÉ IHRISK...'!J37 -> 0 | AY96: ='01.1 - HOKEJBALOVÉ IHRISK...'!J38 -> 0 | AZ96: ='01.1 - HOKEJBALOVÉ IHRISK...'!F35 -> 0 | BA96: ='01.1 - HOKEJBALOVÉ IHRISK...'!F36 -> 0 | BB96: ='01.1 - HOKEJBALOVÉ IHRISK...'!F37 -> 0 | BC96: ='01.1 - HOKEJBALOVÉ IHRISK...'!F38 -> 0 | BD96: ='01.1 - HOKEJBALOVÉ IHRISK...'!F39 -> 0 | BT96: 2 | BV96: IMPORT | BW96: {551a5275-a5c6-42e8-ba18-2dd5578390f8} | BX96: {19f899a0-8e00-4ac9-b05a-77c8a4e69c30}
A97: / | E97: 01.2 | K97: OPLOTENIE + ZELEŇ | AG97: ='01.2 - OPLOTENIE + ZELEŇ'!J32 -> 0 | AN97: =SUM(AG97,AT97) -> 0 | AQ97: Časť | AS97: 0 | AT97: =ROUND(SUM(AV97:AW97),2) -> 0 | AU97: ='01.2 - OPLOTENIE + ZELEŇ'!P130 -> 0 | AV97: ='01.2 - OPLOTENIE + ZELEŇ'!J35 -> 0 | AW97: ='01.2 - OPLOTENIE + ZELEŇ'!J36 -> 0 | AX97: ='01.2 - OPLOTENIE + ZELEŇ'!J37 -> 0 | AY97: ='01.2 - OPLOTENIE + ZELEŇ'!J38 -> 0 | AZ97: ='01.2 - OPLOTENIE + ZELEŇ'!F35 -> 0 | BA97: ='01.2 - OPLOTENIE + ZELEŇ'!F36 -> 0 | BB97: ='01.2 - OPLOTENIE + ZELEŇ'!F37 -> 0 | BC97: ='01.2 - OPLOTENIE + ZELEŇ'!F38 -> 0 | BD97: ='01.2 - OPLOTENIE + ZELEŇ'!F39 -> 0 | BT97: 2 | BV97: IMPORT | BW97: {e210c1fe-873c-4ff4-bcde-36c27416f644} | BX97: {19f899a0-8e00-4ac9-b05a-77c8a4e69c30}
D98: 02 | J98: SO 02 - NN ELEKTRICKÁ PRÍPOJKA | AG98: =ROUND(SUM(AG99:AG100),2) -> 0 | AN98: =SUM(AG98,AT98) -> 0 | AQ98: STA | AS98: =ROUND(SUM(AS99:AS100),2) -> 0 | AT98: =ROUND(SUM(AV98:AW98),2) -> 0 | AU98: =ROUND(SUM(AU99:AU100),5) -> 0 | AV98: =ROUND(AZ98*L29,2) -> 0 | AW98: =ROUND(BA98*L30,2) -> 0 | AX98: =ROUND(BB98*L29,2) -> 0 | AY98: =ROUND(BC98*L30,2) -> 0 | AZ98: =ROUND(SUM(AZ99:AZ100),2) -> 0 | BA98: =ROUND(SUM(BA99:BA100),2) -> 0 | BB98: =ROUND(SUM(BB99:BB100),2) -> 0 | BC98: =ROUND(SUM(BC99:BC100),2) -> 0 | BD98: =ROUND(SUM(BD99:BD100),2) -> 0 | BS98: D | BT98: 1 | BU98: ###NOIMPORT### | BV98: IMPORT | BW98: {9b20080e-2c10-452e-b1cc-770e50f83cbf} | BX98: {1c8bb324-8bcb-4f75-bfb5-b97bb3243a5b} | CM98: 0
A99: / | E99: 02.1 | K99: NN ELEKTRICKÁ PRÍPOJKA | AG99: ='02.1 - NN ELEKTRICKÁ PRÍP...'!J32 -> 0 | AN99: =SUM(AG99,AT99) -> 0 | AQ99: Časť | AS99: 0 | AT99: =ROUND(SUM(AV99:AW99),2) -> 0 | AU99: ='02.1 - NN ELEKTRICKÁ PRÍP...'!P122 -> 0 | AV99: ='02.1 - NN ELEKTRICKÁ PRÍP...'!J35 -> 0 | AW99: ='02.1 - NN ELEKTRICKÁ PRÍP...'!J36 -> 0 | AX99: ='02.1 - NN ELEKTRICKÁ PRÍP...'!J37 -> 0 | AY99: ='02.1 - NN ELEKTRICKÁ PRÍP...'!J38 -> 0 | AZ99: ='02.1 - NN ELEKTRICKÁ PRÍP...'!F35 -> 0 | BA99: ='02.1 - NN ELEKTRICKÁ PRÍP...'!F36 -> 0 | BB99: ='02.1 - NN ELEKTRICKÁ PRÍP...'!F37 -> 0 | BC99: ='02.1 - NN ELEKTRICKÁ PRÍP...'!F38 -> 0 | BD99: ='02.1 - NN ELEKTRICKÁ PRÍP...'!F39 -> 0 | BT99: 2 | BV99: IMPORT | BW99: {623551b3-fce5-4083-b533-a13451c05869} | BX99: {9b20080e-2c10-452e-b1cc-770e50f83cbf}
A100: / | E100: 02.2 | K100: ODBERNÉ ELEKTRICKÉ ZARIADENIE | AG100: ='02.2 - ODBERNÉ ELEKTRICKÉ...'!J32 -> 0 | AN100: =SUM(AG100,AT100) -> 0 | AQ100: Časť | AS100: 0 | AT100: =ROUND(SUM(AV100:AW100),2) -> 0 | AU100: ='02.2 - ODBERNÉ ELEKTRICKÉ...'!P122 -> 0 | AV100: ='02.2 - ODBERNÉ ELEKTRICKÉ...'!J35 -> 0 | AW100: ='02.2 - ODBERNÉ ELEKTRICKÉ...'!J36 -> 0 | AX100: ='02.2 - ODBERNÉ ELEKTRICKÉ...'!J37 -> 0 | AY100: ='02.2 - ODBERNÉ ELEKTRICKÉ...'!J38 -> 0 | AZ100: ='02.2 - ODBERNÉ ELEKTRICKÉ...'!F35 -> 0 | BA100: ='02.2 - ODBERNÉ ELEKTRICKÉ...'!F36 -> 0 | BB100: ='02.2 - ODBERNÉ ELEKTRICKÉ...'!F37 -> 0 | BC100: ='02.2 - ODBERNÉ ELEKTRICKÉ...'!F38 -> 0 | BD100: ='02.2 - ODBERNÉ ELEKTRICKÉ...'!F39 -> 0 | BT100: 2 | BV100: IMPORT | BW100: {f2e7b224-ac2b-4e6f-b4e0-46bd7d443d4a} | BX100: {9b20080e-2c10-452e-b1cc-770e50f83cbf}

Sheet 01.1 - HOKEJBALOVÉ IHRISK...
L2: >> skryté stĺpce << | AT2: {551a5275-a5c6-42e8-ba18-2dd5578390f8}
AT3: 0
D4: KRYCÍ LIST ROZPOČTU | M4: v --- nižšie sa nachádzajú doplnkové a pomocné údaje k zostavám --- v | AT4: False
D6: Stavba:
E7: ='Rekapitulácia stavby'!K6 -> HOKEJBALOVÉ IHRISKO
D8: Objekt:
E9: 01 - SO 01 - HOKEJBALOVÉ IHRISKO
D10: Časť:
E11: 01.1 - HOKEJBALOVÉ IHRISKO + ASFALT. SPEVN. PLOCHA
D13: JKSO: | I13: KS:
D14: Miesto: | F14: TREBIŠOV | I14: Dátum: | J14: Vyplň údaj
D16: Objednávateľ: | I16: IČO:
E17: MESTO TREBIŠOV | I17: IČ DPH:
D19: Zhotoviteľ: | I19: IČO: | J19: ='Rekapitulácia stavby'!AN13 -> Vyplň údaj
E20: ='Rekapitulácia stavby'!E14 -> Vyplň údaj | I20: IČ DPH: | J20: ='Rekapitulácia stavby'!AN14 -> Vyplň údaj
D22: Projektant: | I22: IČO:
E23: APRO s.r.o. TREBIŠOV | I23: IČ DPH:
D25: Spracovateľ: | I25: IČO: | J25: =IF('Rekapitulácia stavby'!AN19="","",'Rekapitulácia stavby'!AN19)
E26: =IF('Rekapitulácia stavby'!E20="","",'Rekapitulácia stavby'!E20) | I26: IČ DPH: | J26: =IF('Rekapitulácia stavby'!AN20="","",'Rekapitulácia stavby'!AN20)
D28: Poznámka:
D32: Cena bez DPH | J32: =ROUND(J131, 2) -> 0
F34: Základ dane | I34: Sadzba dane | J34: Výška dane
D35: DPH | E35: základná | F35: =ROUND((SUM(BE131:BE163)), 2) -> 0 | I35: 0.2 | J35: =ROUND(((SUM(BE131:BE163))*I35), 2) -> 0
E36: znížená | F36: =ROUND((SUM(BF131:BF163)), 2) -> 0 | I36: 0.2 | J36: =ROUND(((SUM(BF131:BF163))*I36), 2) -> 0
E37: zákl. prenesená | F37: =ROUND((SUM(BG131:BG163)), 2) -> 0 | I37: 0.2 | J37: =0 -> 0
E38: zníž. prenesená | F38: =ROUND((SUM(BH131:BH163)), 2) -> 0 | I38: 0.2 | J38: =0 -> 0
E39: nulová | F39: =ROUND((SUM(BI131:BI163)), 2) -> 0 | I39: 0 | J39: =0 -> 0
D41: Cena s DPH | G41: v | H41: EUR | J41: =SUM(J32:J39) -> 0
D50: Projektant | G50: Spracovateľ
D61: Dátum a podpis: | F61: Pečiatka | G61: Dátum a podpis: | J61: Pečiatka
D65: Objednávateľ | G65: Zhotoviteľ
D76: Dátum a podpis: | F76: Pečiatka | G76: Dátum a podpis: | J76: Pečiatka
C82: REKAPITULÁCIA ROZPOČTU
C84: Stavba:
E85: =E7 -> HOKEJBALOVÉ IHRISKO
C86: Objekt:
E87: 01 - SO 01 - HOKEJBALOVÉ IHRISKO
C88: Časť:
E89: =E11 -> 01.1 - HOKEJBALOVÉ IHRISKO + ASFALT. SPEVN. PLOCHA
C91: Miesto: | F91: =F14 -> TREBIŠOV | I91: Dátum: | J91: =IF(J14="","",J14) -> Vyplň údaj
C93: Objednávateľ: | F93: =E17 -> MESTO TREBIŠOV | I93: Projektant: | J93: =E23 -> APRO s.r.o. TREBIŠOV
C94: Zhotoviteľ: | F94: =IF(E20="","",E20) -> Vyplň údaj | I94: Spracovateľ: | J94: =E26
C96: Kód dielu - Popis | J96: Cena celkom [EUR]
C98: Náklady z rozpočtu | J98: =J131 -> 0 | AU98: -1
D99: HSV - Práce a dodávky HSV | J99: =J132 -> 0
D100: 1 - Zemné práce | J100: =J133 -> 0
D101: 3 - Zvislé a kompletné konštrukcie | J101: =J140 -> 0
D102: 4 - Vodorovné konštrukcie | J102: =J142 -> 0
D103: 5 - Komunikácie | J103: =J144 -> 0
D104: 6 - Úpravy povrchov, podlahy, osadenie | J104: =J150 -> 0
D105: 9 - Ostatné konštrukcie a práce-búranie | J105: =J152 -> 0
D106: 99 - Presun hmôt HSV | J106: =J155 -> 0
D107: D990 - Ostatné investičné náklady | J107: =J157 -> 0
D108: M - Práce a dodávky M | J108: =J161 -> 0
D109: 21-M - Elektromontáže | J109: =J162 -> 0
C116: ROZPOČET
C118: Stavba:
E119: =E7 -> HOKEJBALOVÉ IHRISKO
C120: Objekt:
E121: 01 - SO 01 - HOKEJBALOVÉ IHRISKO
C122: Časť:
E123: HOKEJBALOVÉ IHRISKO - SPODNÁ STAVBA
C125: Miesto: | F125: =F14 -> TREBIŠOV | I125: Dátum: | J125: =IF(J14="","",J14) -> Vyplň údaj
C127: Objednávateľ: | F127: =E17 -> MESTO TREBIŠOV | I127: Projektant: | J127: =E23 -> APRO s.r.o. TREBIŠOV
C128: Zhotoviteľ: | F128: =IF(E20="","",E20) -> Vyplň údaj | I128: Spracovateľ: | J128: =E26
C130: PČ | D130: Typ | E130: Kód | F130: Popis | G130: MJ | H130: Množstvo | I130: J.cena [EUR] | J130: Cena celkom [EUR] | K130: Cenová sústava | N130: DPH | O130: J. Nh [h] | P130: Nh celkom [h] | Q130: J. hmotnosť [t] | R130: Hmotnosť celkom [t] | S130: J. suť [t] | T130: Suť Celkom [t]
C131: Náklady z rozpočtu | P131: =P132+P161 -> 0 | R131: =R132+R161 -> 1410.0051 | T131: =T132+T161 -> 0 | AT131: D | AU131: -1 | BK131: =BK132+BK161 -> #VALUE!
D132: D | E132: HSV | F132: Práce a dodávky HSV | P132: =P133+P140+P142+P144+P150+P152+P155+P157 -> 0 | R132: =R133+R140+R142+R144+R150+R152+R155+R157 -> 1410.0051 | T132: =T133+T140+T142+T144+T150+T152+T155+T157 -> 0 | AR132: 1 | AT132: D | AU132: 0 | AY132: ROZPOCET | BK132: =BK133+BK140+BK142+BK144+BK150+BK152+BK155+BK157 -> #VALUE!
D133: D | E133: 1 | F133: Zemné práce | J133: =BK133 -> 0 | P133: =SUM(P134:P139) -> 0 | R133: =SUM(R134:R139) -> 0 | T133: =SUM(T134:T139) -> 0 | AR133: 1 | AT133: D | AU133: 1 | AY133: ROZPOCET | BK133: =SUM(BK134:BK139) -> 0
C134: 1 | D134: K | E134: 122201102 | F134: Odkopávka a prekopávka nezapažená v hornine 3, nad 100 do 1000 m3 | G134: m3 | H134: 284.25 | J134: =ROUND(I134*H134,3) -> 0 | K134: CS CENEKON 2019 01 | N134: znížená | P134: =O134*H134 -> 0 | Q134: 0 | R134: =Q134*H134 -> 0 | S134: 0 | T134: =S134*H134 -> 0 | AR134: 4 | AT134: K | AU134: 2 | AY134: ROZPOCET | BE134: =IF(N134="základná",J134,0) -> 0 | BF134: =IF(N134="znížená",J134,0) -> 0 | BG134: =IF(N134="zákl. prenesená",J134,0) -> 0 | BH134: =IF(N134="zníž. prenesená",J134,0) -> 0 | BI134: =IF(N134="nulová",J134,0) -> 0 | BJ134: 2 | BK134: =ROUND(I134*H134,3) -> 0 | BL134: 4 | BM134: -1403557316
C135: 2 | D135: K | E135: 132201101 | F135: Výkop ryhy do šírky 600 mm v horn.3 do 100 m3 | G135: m3 | H135: 11.475 | J135: =ROUND(I135*H135,3) -> 0 | K135: CS CENEKON 2019 01 | N135: znížená | P135: =O135*H135 -> 0 | Q135: 0 | R135: =Q135*H135 -> 0 | S135: 0 | T135: =S135*H135 -> 0 | AR135: 4 | AT135: K | AU135: 2 | AY135: ROZPOCET | BE135: =IF(N135="základná",J135,0) -> 0 | BF135: =IF(N135="znížená",J135,0) -> 0 | BG135: =IF(N135="zákl. prenesená",J135,0) -> 0 | BH135: =IF(N135="zníž. prenesená",J135,0) -> 0 | BI135: =IF(N135="nulová",J135,0) -> 0 | BJ135: 2 | BK135: =ROUND(I135*H135,3) -> 0 | BL135: 4 | BM135: -635264846
C136: 3 | D136: K | E136: 162501122 | F136: Vodorovné premiestnenie výkopku po spevnenej ceste z horniny tr.1-4, nad 100 do 1000 m3 na vzdialenosť do 3000 m | G136: m3 | H136: 295.725 | J136: =ROUND(I136*H136,3) -> 0 | K136: CS CENEKON 2019 01 | N136: znížená | P136: =O136*H136 -> 0 | Q136: 0 | R136: =Q136*H136 -> 0 | S136: 0 | T136: =S136*H136 -> 0 | AR136: 4 | AT136: K | AU136: 2 | AY136: ROZPOCET | BE136: =IF(N136="základná",J136,0) -> 0 | BF136: =IF(N136="znížená",J136,0) -> 0 | BG136: =IF(N136="zákl. prenesená",J136,0) -> 0 | BH136: =IF(N136="zníž. prenesená",J136,0) -> 0 | BI136: =IF(N136="nulová",J136,0) -> 0 | BJ136: 2 | BK136: =ROUND(I136*H136,3) -> 0 | BL136: 4 | BM136: 2067379930
C137: 4 | D137: K | E137: 167101102 | F137: Nakladanie neuľahnutého výkopku z hornín tr.1-4 nad 100 do 1000 m3 | G137: m3 | H137: 295.725 | J137: =ROUND(I137*H137,3) -> 0 | K137: CS CENEKON 2019 01 | N137: znížená | P137: =O137*H137 -> 0 | Q137: 0 | R137: =Q137*H137 -> 0 | S137: 0 | T137: =S137*H137 -> 0 | AR137: 4 | AT137: K | AU137: 2 | AY137: ROZPOCET | BE137: =IF(N137="základná",J137,0) -> 0 | BF137: =IF(N137="znížená",J137,0) -> 0 | BG137: =IF(N137="zákl. prenesená",J137,0) -> 0 | BH137: =IF(N137="zníž. prenesená",J137,0) -> 0 | BI137: =IF(N137="nulová",J137,0) -> 0 | BJ137: 2 | BK137: =ROUND(I137*H137,3) -> 0 | BL137: 4 | BM137: 1105261639
C138: 5 | D138: K | E138: 171201202 | F138: Uloženie sypaniny na skládky nad 100 do 1000 m3 | G138: m3 | H138: 295.725 | J138: =ROUND(I138*H138,3) -> 0 | K138: CS CENEKON 2019 01 | N138: znížená | P138: =O138*H138 -> 0 | Q138: 0 | R138: =Q138*H138 -> 0 | S138: 0 | T138: =S138*H138 -> 0 | AR138: 4 | AT138: K | AU138: 2 | AY138: ROZPOCET | BE138: =IF(N138="základná",J138,0) -> 0 | BF138: =IF(N138="znížená",J138,0) -> 0 | BG138: =IF(N138="zákl. prenesená",J138,0) -> 0 | BH138: =IF(N138="zníž. prenesená",J138,0) -> 0 | BI138: =IF(N138="nulová",J138,0) -> 0 | BJ138: 2 | BK138: =ROUND(I138*H138,3) -> 0 | BL138: 4 | BM138: -1094768732
C139: 6 | D139: K | E139: 181101102 | F139: Úprava pláne v zárezoch v hornine 1-4 so zhutnením | G139: m2 | H139: 1895 | J139: =ROUND(I139*H139,3) -> 0 | K139: CS CENEKON 2019 01 | N139: znížená | P139: =O139*H139 -> 0 | Q139: 0 | R139: =Q139*H139 -> 0 | S139: 0 | T139: =S139*H139 -> 0 | AR139: 4 | AT139: K | AU139: 2 | AY139: ROZPOCET | BE139: =IF(N139="základná",J139,0) -> 0 | BF139: =IF(N139="znížená",J139,0) -> 0 | BG139: =IF(N139="zákl. prenesená",J139,0) -> 0 | BH139: =IF(N139="zníž. prenesená",J139,0) -> 0 | BI139: =IF(N139="nulová",J139,0) -> 0 | BJ139: 2 | BK139: =ROUND(I139*H139,3) -> 0 | BL139: 4 | BM139: 1236706429
D140: D | E140: 3 | F140: Zvislé a kompletné konštrukcie | P140: =P141 -> 0 | R140: =R141 -> 0 | T140: =T141 -> 0 | AR140: 1 | AT140: D | AU140: 1 | AY140: ROZPOCET | BK140: =BK141 -> 0
C141: 7 | D141: K | E141: 33817112P | F141: Montáž + dodávka komplet - mantinelov vrátane stlpikov, sietí vrátane zvýšených stĺpikov pre siete, bránkovísk, hráčskych lavíc, trestných lavíc, pre obidve mužstvá, lavice pre funkcionárov, bránkových rozhodcov, bránkovísk a vodorovného značenia ihriska | G141: kpl | H141: 1 | N141: znížená | P141: =O141*H141 -> 0 | Q141: 0 | R141: =Q141*H141 -> 0 | S141: 0 | T141: =S141*H141 -> 0 | AR141: 4 | AT141: K | AU141: 2 | AY141: ROZPOCET | BE141: =IF(N141="základná",J141,0) -> 0 | BF141: =IF(N141="znížená",J141,0) -> 0 | BG141: =IF(N141="zákl. prenesená",J141,0) -> 0 | BH141: =IF(N141="zníž. prenesená",J141,0) -> 0 | BI141: =IF(N141="nulová",J141,0) -> 0 | BJ141: 2 | BK141: =ROUND(I141*H141,3) -> 0 | BL141: 4 | BM141: -111553233
D142: D | E142: 4 | F142: Vodorovné konštrukcie | J142: =BK142 -> 0 | P142: =P143 -> 0 | R142: =R143 -> 8.25792 | T142: =T143 -> 0 | AR142: 1 | AT142: D | AU142: 1 | AY142: ROZPOCET | BK142: =BK143 -> 0
C143: 8 | D143: K | E143: 45157787P | F143: Podklad pod obrubníky v ploche vodorovnej alebo v sklone do 1:5 hr. 100 mm zo štrkopiesku | G143: m2 | H143: 51 | J143: =ROUND(I143*H143,3) -> 0 | N143: znížená | P143: =O143*H143 -> 0 | Q143: 0.16192 | R143: =Q143*H143 -> 8.25792 | S143: 0 | T143: =S143*H143 -> 0 | AR143: 4 | AT143: K | AU143: 2 | AY143: ROZPOCET | BE143: =IF(N143="základná",J143,0) -> 0 | BF143: =IF(N143="znížená",J143,0) -> 0 | BG143: =IF(N143="zákl. prenesená",J143,0) -> 0 | BH143: =IF(N143="zníž. prenesená",J143,0) -> 0 | BI143: =IF(N143="nulová",J143,0) -> 0 | BJ143: 2 | BK143: =ROUND(I143*H143,3) -> 0 | BL143: 4 | BM143: -1879292599
D144: D | E144: 5 | F144: Komunikácie | P144: =SUM(P145:P149) -> 0 | R144: =SUM(R145:R149) -> 1348.3872 | T144: =SUM(T145:T149) -> 0 | AR144: 1 | AT144: D | AU144: 1 | AY144: ROZPOCET | BK144: =SUM(BK145:BK149) -> #VALUE!
C145: 9 | D145: K | E145: 564211111 | F145: Podklad alebo podsyp zo štrkopiesku fr. 8-16, s rozprestretím, vlhčením a zhutnením, po zhutnení hr. 50 mm | G145: m2 | H145: 1895 | J145: =ROUND(I145*H145,3) -> 0 | K145: CS CENEKON 2019 01 | N145: znížená | P145: =O145*H145 -> 0 | Q145: 0.1012 | R145: =Q145*H145 -> 191.774 | S145: 0 | T145: =S145*H145 -> 0 | AR145: 4 | AT145: K | AU145: 2 | AY145: ROZPOCET | BE145: =IF(N145="základná",J145,0) -> 0 | BF145: =IF(N145="znížená",J145,0) -> 0 | BG145: =IF(N145="zákl. prenesená",J145,0) -> 0 | BH145: =IF(N145="zníž. prenesená",J145,0) -> 0 | BI145: =IF(N145="nulová",J145,0) -> 0 | BJ145: 2 | BK145: =ROUND(I145*H145,3) -> 0 | BL145: 4 | BM145: -1523460001
C146: 10 | D146: K | E146: 564831111 | F146: Podklad zo štrkodrviny fr. 16-32, s rozprestretím a zhutnením, po zhutnení hr. 100 mm | G146: m2 | H146: 1895 | J146: =ROUND(I146*H146,3) -> 0 | K146: CS CENEKON 2019 01 | N146: znížená | P146: =O146*H146 -> 0 | Q146: 0.18907 | R146: =Q146*H146 -> 358.28765 | S146: 0 | T146: =S146*H146 -> 0 | AR146: 4 | AT146: K | AU146: 2 | AY146: ROZPOCET | BE146: =IF(N146="základná",J146,0) -> 0 | BF146: =IF(N146="znížená",J146,0) -> 0 | BG146: =IF(N146="zákl. prenesená",J146,0) -> 0 | BH146: =IF(N146="zníž. prenesená",J146,0) -> 0 | BI146: =IF(N146="nulová",J146,0) -> 0 | BJ146: 2 | BK146: =ROUND(I146*H146,3) -> 0 | BL146: 4 | BM146: 2113474440
C147: 11 | D147: K | E147: 567124115 | F147: Podklad z podkladového betónu PB I tr. C 20/25 hr. 150 mm | G147: m2 | H147: 1895 | J147: =ROUND(I147*H147,3) -> 0 | K147: CS CENEKON 2019 01 | N147: znížená | P147: =O147*H147 -> 0 | Q147: 0.34297 | R147: =Q147*H147 -> 649.92815 | S147: 0 | T147: =S147*H147 -> 0 | AR147: 4 | AT147: K | AU147: 2 | AY147: ROZPOCET | BE147: =IF(N147="základná",J147,0) -> 0 | BF147: =IF(N147="znížená",J147,0) -> 0 | BG147: =IF(N147="zákl. prenesená",J147,0) -> 0 | BH147: =IF(N147="zníž. prenesená",J147,0) -> 0 | BI147: =IF(N147="nulová",J147,0) -> 0 | BJ147: 2 | BK147: =ROUND(I147*H147,3) -> 0 | BL147: 4 | BM147: -439110778
C148: 12 | D148: K | E148: 573211108 | F148: Postrek asfaltový spojovací bez posypu kamenivom z asfaltu cestného v množstve 0,50 kg/m2 | G148: m2 | H148: 1895 | I148: nerieši sa | K148: CS CENEKON 2019 01 | N148: znížená | P148: =O148*H148 -> 0 | Q148: 0.00051 | R148: =Q148*H148 -> 0.96645 | S148: 0 | T148: =S148*H148 -> 0 | AR148: 4 | AT148: K | AU148: 2 | AY148: ROZPOCET | BE148: =IF(N148="základná",J148,0) -> 0 | BF148: =IF(N148="znížená",J148,0) -> 0 | BG148: =IF(N148="zákl. prenesená",J148,0) -> 0 | BH148: =IF(N148="zníž. prenesená",J148,0) -> 0 | BI148: =IF(N148="nulová",J148,0) -> 0 | BJ148: 2 | BK148: =ROUND(I148*H148,3) -> #VALUE! | BL148: 4 | BM148: -1368040953
C149: 13 | D149: K | E149: 577124141 | F149: Asfaltový betón vrstva obrusná AC 8 O z asfaltu tr. II, po zhutnení hr. 30 mm | G149: m2 | H149: 1895 | I149: nerieši sa | K149: CS CENEKON 2019 01 | N149: znížená | P149: =O149*H149 -> 0 | Q149: 0.0778 | R149: =Q149*H149 -> 147.431 | S149: 0 | T149: =S149*H149 -> 0 | AR149: 4 | AT149: K | AU149: 2 | AY149: ROZPOCET | BE149: =IF(N149="základná",J149,0) -> 0 | BF149: =IF(N149="znížená",J149,0) -> 0 | BG149: =IF(N149="zákl. prenesená",J149,0) -> 0 | BH149: =IF(N149="zníž. prenesená",J149,0) -> 0 | BI149: =IF(N149="nulová",J149,0) -> 0 | BJ149: 2 | BK149: =ROUND(I149*H149,3) -> #VALUE! | BL149: 4 | BM149: 268266093
D150: D | E150: 6 | F150: Úpravy povrchov, podlahy, osadenie | J150: =BK150 -> 0 | P150: =P151 -> 0 | R150: =R151 -> 11.88165 | T150: =T151 -> 0 | AR150: 1 | AT150: D | AU150: 1 | AY150: ROZPOCET | BK150: =BK151 -> 0
C151: 14 | D151: K | E151: 631362442 | F151: Výstuž mazanín z betónov (z kameniva) a z ľahkých betónov zo sietí (napr. KARI), priemer drôtu 8/8 mm, veľkosť oka 150x150 mm | G151: m2 | H151: 1895 | J151: =ROUND(I151*H151,3) -> 0 | K151: CS CENEKON 2019 01 | N151: znížená | P151: =O151*H151 -> 0 | Q151: 0.00627 | R151: =Q151*H151 -> 11.88165 | S151: 0 | T151: =S151*H151 -> 0 | AR151: 4 | AT151: K | AU151: 2 | AY151: ROZPOCET | BE151: =IF(N151="základná",J151,0) -> 0 | BF151: =IF(N151="znížená",J151,0) -> 0 | BG151: =IF(N151="zákl. prenesená",J151,0) -> 0 | BH151: =IF(N151="zníž. prenesená",J151,0) -> 0 | BI151: =IF(N151="nulová",J151,0) -> 0 | BJ151: 2 | BK151: =ROUND(I151*H151,3) -> 0 | BL151: 4 | BM151: 1799011649
D152: D | E152: 9 | F152: Ostatné konštrukcie a práce-búranie | J152: =BK152 -> 0 | P152: =SUM(P153:P154) -> 0 | R152: =SUM(R153:R154) -> 41.4783 | T152: =SUM(T153:T154) -> 0 | AR152: 1 | AT152: D | AU152: 1 | AY152: ROZPOCET | BK152: =SUM(BK153:BK154) -> 0
C153: 15 | D153: K | E153: 916362113 | F153: Osadenie cestného obrubníka betónového stojatého do lôžka z betónu prostého tr. C 20/25 s bočnou oporou | G153: m | H153: 170 | J153: =ROUND(I153*H153,3) -> 0 | K153: CS CENEKON 2019 01 | N153: znížená | P153: =O153*H153 -> 0 | Q153: 0.15814 | R153: =Q153*H153 -> 26.8838 | S153: 0 | T153: =S153*H153 -> 0 | AR153: 4 | AT153: K | AU153: 2 | AY153: ROZPOCET | BE153: =IF(N153="základná",J153,0) -> 0 | BF153: =IF(N153="znížená",J153,0) -> 0 | BG153: =IF(N153="zákl. prenesená",J153,0) -> 0 | BH153: =IF(N153="zníž. prenesená",J153,0) -> 0 | BI153: =IF(N153="nulová",J153,0) -> 0 | BJ153: 2 | BK153: =ROUND(I153*H153,3) -> 0 | BL153: 4 | BM153: 1950442738
C154: 16 | D154: M | E154: 592170001000 | F154: Obrubník (napr. PREMAC) cestný, lxšxv 1000x150x260 mm | G154: ks | H154: 171.7 | J154: =ROUND(I154*H154,3) -> 0 | K154: CS CENEKON 2019 01 | N154: znížená | P154: =O154*H154 -> 0 | Q154: 0.085 | R154: =Q154*H154 -> 14.5945 | S154: 0 | T154: =S154*H154 -> 0 | AR154: 8 | AT154: M | AU154: 2 | AY154: ROZPOCET | BE154: =IF(N154="základná",J154,0) -> 0 | BF154: =IF(N154="znížená",J154,0) -> 0 | BG154: =IF(N154="zákl. prenesená",J154,0) -> 0 | BH154: =IF(N154="zníž. prenesená",J154,0) -> 0 | BI154: =IF(N154="nulová",J154,0) -> 0 | BJ154: 2 | BK154: =ROUND(I154*H154,3) -> 0 | BL154: 4 | BM154: -86042755
D155: D | E155: 99 | F155: Presun hmôt HSV | J155: =BK155 -> 0 | P155: =P156 -> 0 | R155: =R156 -> 0 | T155: =T156 -> 0 | AR155: 1 | AT155: D | AU155: 1 | AY155: ROZPOCET | BK155: =BK156 -> 0
C156: 17 | D156: K | E156: 998225111 | F156: Presun hmôt pre pozemnú komunikáciu a letisko s krytom asfaltovým akejkoľvek dĺžky objektu | G156: t | H156: 1410.005 | J156: =ROUND(I156*H156,3) -> 0 | K156: CS CENEKON 2019 01 | N156: znížená | P156: =O156*H156 -> 0 | Q156: 0 | R156: =Q156*H156 -> 0 | S156: 0 | T156: =S156*H156 -> 0 | AR156: 4 | AT156: K | AU156: 2 | AY156: ROZPOCET | BE156: =IF(N156="základná",J156,0) -> 0 | BF156: =IF(N156="znížená",J156,0) -> 0 | BG156: =IF(N156="zákl. prenesená",J156,0) -> 0 | BH156: =IF(N156="zníž. prenesená",J156,0) -> 0 | BI156: =IF(N156="nulová",J156,0) -> 0 | BJ156: 2 | BK156: =ROUND(I156*H156,3) -> 0 | BL156: 4 | BM156: -1098819178
D157: D | E157: D990 | F157: Ostatné investičné náklady | J157: =BK157 -> 0 | P157: =SUM(P158:P160) -> 0 | R157: =SUM(R158:R160) -> 0 | T157: =SUM(T158:T160) -> 0 | AR157: 1 | AT157: D | AU157: 1 | AY157: ROZPOCET | BK157: =SUM(BK158:BK160) -> 0
C158: 18 | D158: K | E158: D990PC01 | F158: Náklady na smerové a výškové vytýčenie stavby | G158: kpl | H158: 1 | J158: =ROUND(I158*H158,3) -> 0 | N158: znížená | P158: =O158*H158 -> 0 | Q158: 0 | R158: =Q158*H158 -> 0 | S158: 0 | T158: =S158*H158 -> 0 | AR158: 4 | AT158: K | AU158: 2 | AY158: ROZPOCET | BE158: =IF(N158="základná",J158,0) -> 0 | BF158: =IF(N158="znížená",J158,0) -> 0 | BG158: =IF(N158="zákl. prenesená",J158,0) -> 0 | BH158: =IF(N158="zníž. prenesená",J158,0) -> 0 | BI158: =IF(N158="nulová",J158,0) -> 0 | BJ158: 2 | BK158: =ROUND(I158*H158,3) -> 0 | BL158: 4 | BM158: -465278921
C159: 19 | D159: K | E159: D990PC02 | F159: Statická záťažová skúška podložia | G159: kpl | H159: 1 | J159: =ROUND(I159*H159,3) -> 0 | N159: znížená | P159: =O159*H159 -> 0 | Q159: 0 | R159: =Q159*H159 -> 0 | S159: 0 | T159: =S159*H159 -> 0 | AR159: 4 | AT159: K | AU159: 2 | AY159: ROZPOCET | BE159: =IF(N159="základná",J159,0) -> 0 | BF159: =IF(N159="znížená",J159,0) -> 0 | BG159: =IF(N159="zákl. prenesená",J159,0) -> 0 | BH159: =IF(N159="zníž. prenesená",J159,0) -> 0 | BI159: =IF(N159="nulová",J159,0) -> 0 | BJ159: 2 | BK159: =ROUND(I159*H159,3) -> 0 | BL159: 4 | BM159: 2075935109
C160: 20 | D160: K | E160: D990PC03 | F160: Vytýčenie inžinierskych sietí | G160: kpl | H160: 1 | J160: =ROUND(I160*H160,3) -> 0 | N160: znížená | P160: =O160*H160 -> 0 | Q160: 0 | R160: =Q160*H160 -> 0 | S160: 0 | T160: =S160*H160 -> 0 | AR160: 4 | AT160: K | AU160: 2 | AY160: ROZPOCET | BE160: =IF(N160="základná",J160,0) -> 0 | BF160: =IF(N160="znížená",J160,0) -> 0 | BG160: =IF(N160="zákl. prenesená",J160,0) -> 0 | BH160: =IF(N160="zníž. prenesená",J160,0) -> 0 | BI160: =IF(N160="nulová",J160,0) -> 0 | BJ160: 2 | BK160: =ROUND(I160*H160,3) -> 0 | BL160: 4 | BM160: 1649397498
D161: D | E161: M | F161: Práce a dodávky M | P161: =P162 -> 0 | R161: =R162 -> 0 | T161: =T162 -> 0 | AR161: 3 | AT161: D | AU161: 0 | AY161: ROZPOCET | BK161: =BK162 -> #VALUE!
D162: D | E162: 21-M | F162: Elektromontáže | P162: =P163 -> 0 | R162: =R163 -> 0 | T162: =T163 -> 0 | AR162: 3 | AT162: D | AU162: 1 | AY162: ROZPOCET | BK162: =BK163 -> #VALUE!
C163: 21 | D163: K | E163: 21022010P | F163: Elektroinštalácia - komplet - viď. dielči rozpočet - príloha | G163: kpl | H163: 1 | I163: nerieši sa | N163: znížená | P163: =O163*H163 -> 0 | Q163: 0 | R163: =Q163*H163 -> 0 | S163: 0 | T163: =S163*H163 -> 0 | AR163: 64 | AT163: K | AU163: 2 | AY163: ROZPOCET | BE163: =IF(N163="základná",J163,0) -> 0 | BF163: =IF(N163="znížená",J163,0) -> 0 | BG163: =IF(N163="zákl. prenesená",J163,0) -> 0 | BH163: =IF(N163="zníž. prenesená",J163,0) -> 0 | BI163: =IF(N163="nulová",J163,0) -> 0 | BJ163: 2 | BK163: =ROUND(I163*H163,3) -> #VALUE! | BL163: 64 | BM163: -773473871
F167: V rozpočte sú pri niektorých stavebných materiáloch uvedené značky stavebných materiálov. Verejný obstarávateľ pripúšťa možnosť predloženia ekvivalentu stavebného materiálu rovnakej alebo vyššej kvality. V prípade využitia ekvivalentu, verejný obstarávateľ požaduje, aby uchádzač uvádzal už priamo značku stavebného materiálu do rozpočtu. Verejný obstarávateľ v tomto prípade požaduje od uchádzača aj predloženie dokladu (napr. produktový list, technický list a pod.) ekvivalentu stavebného materiálu za účelom overenia splnenia kvalitatívnych parametrov stavebných materiálov.
...

Sheet Hárok1

Sheet 01.2 - OPLOTENIE + ZELEŇ
L2: >> skryté stĺpce << | AT2: {e210c1fe-873c-4ff4-bcde-36c27416f644}
AT3: 0
D4: KRYCÍ LIST ROZPOČTU | M4: v --- nižšie sa nachádzajú doplnkové a pomocné údaje k zostavám --- v | AT4: False
D6: Stavba:
E7: ='Rekapitulácia stavby'!K6 -> HOKEJBALOVÉ IHRISKO
D8: Objekt:
E9: 01 - SO 01 - HOKEJBALOVÉ IHRISKO
D10: Časť:
E11: 01.2 - OPLOTENIE + ZELEŇ
D13: JKSO: | I13: KS:
D14: Miesto: | F14: TREBIŠOV | I14: Dátum: | J14: ='Rekapitulácia stavby'!AN8 -> Vyplň údaj
D16: Objednávateľ: | I16: IČO:
E17: MESTO TREBIŠOV | I17: IČ DPH:
D19: Zhotoviteľ: | I19: IČO: | J19: ='Rekapitulácia stavby'!AN13 -> Vyplň údaj
E20: ='Rekapitulácia stavby'!E14 -> Vyplň údaj | I20: IČ DPH: | J20: ='Rekapitulácia stavby'!AN14 -> Vyplň údaj
D22: Projektant: | I22: IČO:
E23: APRO s.r.o. TREBIŠOV | I23: IČ DPH:
D25: Spracovateľ: | I25: IČO: | J25: =IF('Rekapitulácia stavby'!AN19="","",'Rekapitulácia stavby'!AN19)
E26: =IF('Rekapitulácia stavby'!E20="","",'Rekapitulácia stavby'!E20) | I26: IČ DPH: | J26: =IF('Rekapitulácia stavby'!AN20="","",'Rekapitulácia stavby'!AN20)
D28: Poznámka:
D32: Cena bez DPH | J32: =ROUND(J130, 2) -> 0
F34: Základ dane | I34: Sadzba dane | J34: Výška dane
D35: DPH | E35: základná | F35: =ROUND((SUM(BE130:BE174)), 2) -> 0 | I35: 0.2 | J35: =ROUND(((SUM(BE130:BE174))*I35), 2) -> 0
E36: znížená | F36: =ROUND((SUM(BF130:BF174)), 2) -> 0 | I36: 0.2 | J36: =ROUND(((SUM(BF130:BF174))*I36), 2) -> 0
E37: zákl. prenesená | F37: =ROUND((SUM(BG130:BG174)), 2) -> 0 | I37: 0.2 | J37: =0 -> 0
E38: zníž. prenesená | F38: =ROUND((SUM(BH130:BH174)), 2) -> 0 | I38: 0.2 | J38: =0 -> 0
E39: nulová | F39: =ROUND((SUM(BI130:BI174)), 2) -> 0 | I39: 0 | J39: =0 -> 0
D41: Cena s DPH | G41: v | H41: EUR | J41: =SUM(J32:J39) -> 0
D50: Projektant | G50: Spracovateľ
D61: Dátum a podpis: | F61: Pečiatka | G61: Dátum a podpis: | J61: Pečiatka
D65: Objednávateľ | G65: Zhotoviteľ
D76: Dátum a podpis: | F76: Pečiatka | G76: Dátum a podpis: | J76: Pečiatka
C82: REKAPITULÁCIA ROZPOČTU
C84: Stavba:
E85: =E7 -> HOKEJBALOVÉ IHRISKO
C86: Objekt:
E87: 01 - SO 01 - HOKEJBALOVÉ IHRISKO
C88: Časť:
E89: =E11 -> 01.2 - OPLOTENIE + ZELEŇ
C91: Miesto: | F91: =F14 -> TREBIŠOV | I91: Dátum: | J91: =IF(J14="","",J14) -> Vyplň údaj
C93: Objednávateľ: | F93: =E17 -> MESTO TREBIŠOV | I93: Projektant: | J93: =E23 -> APRO s.r.o. TREBIŠOV
C94: Zhotoviteľ: | F94: =IF(E20="","",E20) -> Vyplň údaj | I94: Spracovateľ: | J94: =E26
C96: Kód dielu - Popis | J96: Cena celkom [EUR]
C98: Náklady z rozpočtu | J98: =J130 -> 0 | AU98: -1
D99: HSV - Práce a dodávky HSV | J99: =J131 -> 0
D100: 1 - Zemné práce | J100: =J132 -> 0
D101: 2 - Zakladanie | J101: =J149 -> 0
D102: 3 - Zvislé a kompletné konštrukcie | J102: =J152 -> 0
D103: 4 - Vodorovné konštrukcie | J103: =J157 -> 0
D104: 9 - Ostatné konštrukcie a práce-búranie | J104: =J159 -> 0
D105: 99 - Presun hmôt HSV | J105: =J162 -> 0
D106: PSV - Práce a dodávky PSV | J106: =J164 -> 0
D107: 767 - Konštrukcie doplnkové kovové | J107: =J165 -> 0
D108: HZS - Hodinové zúčtovacie sadzby | J108: =J173 -> 0
C115: ROZPOČET
C117: Stavba:
E118: =E7 -> HOKEJBALOVÉ IHRISKO
C119: Objekt:
E120: 01 - SO 01 - HOKEJBALOVÉ IHRISKO
C121: Časť:
E122: =E11 -> 01.2 - OPLOTENIE + ZELEŇ
C124: Miesto: | F124: =F14 -> TREBIŠOV | I124: Dátum: | J124: =IF(J14="","",J14) -> Vyplň údaj
C126: Objednávateľ: | F126: =E17 -> MESTO TREBIŠOV | I126: Projektant: | J126: =E23 -> APRO s.r.o. TREBIŠOV
C127: Zhotoviteľ: | F127: =IF(E20="","",E20) -> Vyplň údaj | I127: Spracovateľ: | J127: =E26
C129: PČ | D129: Typ | E129: Kód | F129: Popis | G129: MJ | H129: Množstvo | I129: J.cena [EUR] | J129: Cena celkom [EUR] | K129: Cenová sústava | N129: DPH | O129: J. Nh [h] | P129: Nh celkom [h] | Q129: J. hmotnosť [t] | R129: Hmotnosť celkom [t] | S129: J. suť [t] | T129: Suť Celkom [t]
C130: Náklady z rozpočtu | J130: =BK130 -> 0 | P130: =P131+P164+P173 -> 0 | R130: =R131+R164+R173 -> 38.676984 | T130: =T131+T164+T173 -> 0 | AT130: D | AU130: -1 | BK130: =BK131+BK164+BK173 -> 0
D131: D | E131: HSV | F131: Práce a dodávky HSV | J131: =BK131 -> 0 | P131: =P132+P149+P152+P157+P159+P162 -> 0 | R131: =R132+R149+R152+R157+R159+R162 -> 38.149608 | T131: =T132+T149+T152+T157+T159+T162 -> 0 | AR131: 1 | AT131: D | AU131: 0 | AY131: ROZPOCET | BK131: =BK132+BK149+BK152+BK157+BK159+BK162 -> 0
D132: D | E132: 1 | F132: Zemné práce | J132: =BK132 -> 0 | P132: =SUM(P133:P148) -> 0 | R132: =SUM(R133:R148) -> 0.025241 | T132: =SUM(T133:T148) -> 0 | AR132: 1 | AT132: D | AU132: 1 | AY132: ROZPOCET | BK132: =SUM(BK133:BK148) -> 0
C133: 1 | D133: K | E133: 122201101 | F133: Odkopávka a prekopávka nezapažená v hornine 3, do 100 m3 | G133: m3 | H133: 39.5 | J133: =ROUND(I133*H133,3) -> 0 | K133: CS CENEKON 2019 01 | N133: znížená | P133: =O133*H133 -> 0 | Q133: 0 | R133: =Q133*H133 -> 0 | S133: 0 | T133: =S133*H133 -> 0 | AR133: 4 | AT133: K | AU133: 2 | AY133: ROZPOCET | BE133: =IF(N133="základná",J133,0) -> 0 | BF133: =IF(N133="znížená",J133,0) -> 0 | BG133: =IF(N133="zákl. prenesená",J133,0) -> 0 | BH133: =IF(N133="zníž. prenesená",J133,0) -> 0 | BI133: =IF(N133="nulová",J133,0) -> 0 | BJ133: 2 | BK133: =ROUND(I133*H133,3) -> 0 | BL133: 4 | BM133: 720105425
C134: 2 | D134: K | E134: 130201001 | F134: Výkop jamy a ryhy v obmedzenom priestore horn. tr.3 ručne | G134: m3 | H134: 4.966 | J134: =ROUND(I134*H134,3) -> 0 | K134: CS CENEKON 2019 01 | N134: znížená | P134: =O134*H134 -> 0 | Q134: 0 | R134: =Q134*H134 -> 0 | S134: 0 | T134: =S134*H134 -> 0 | AR134: 4 | AT134: K | AU134: 2 | AY134: ROZPOCET | BE134: =IF(N134="základná",J134,0) -> 0 | BF134: =IF(N134="znížená",J134,0) -> 0 | BG134: =IF(N134="zákl. prenesená",J134,0) -> 0 | BH134: =IF(N134="zníž. prenesená",J134,0) -> 0 | BI134: =IF(N134="nulová",J134,0) -> 0 | BJ134: 2 | BK134: =ROUND(I134*H134,3) -> 0 | BL134: 4 | BM134: 1484212863
C135: 3 | D135: K | E135: 132201101 | F135: Výkop ryhy do šírky 600 mm v horn.3 do 100 m3 | G135: m3 | H135: 8.55 | J135: =ROUND(I135*H135,3) -> 0 | K135: CS CENEKON 2019 01 | N135: znížená | P135: =O135*H135 -> 0 | Q135: 0 | R135: =Q135*H135 -> 0 | S135: 0 | T135: =S135*H135 -> 0 | AR135: 4 | AT135: K | AU135: 2 | AY135: ROZPOCET | BE135: =IF(N135="základná",J135,0) -> 0 | BF135: =IF(N135="znížená",J135,0) -> 0 | BG135: =IF(N135="zákl. prenesená",J135,0) -> 0 | BH135: =IF(N135="zníž. prenesená",J135,0) -> 0 | BI135: =IF(N135="nulová",J135,0) -> 0 | BJ135: 2 | BK135: =ROUND(I135*H135,3) -> 0 | BL135: 4 | BM135: 113380982
C136: 4 | D136: K | E136: 162501102 | F136: Vodorovné premiestnenie výkopku po spevnenej ceste z horniny tr.1-4, do 100 m3 na vzdialenosť do 3000 m | G136: m3 | H136: 52.974 | J136: =ROUND(I136*H136,3) -> 0 | K136: CS CENEKON 2019 01 | N136: znížená | P136: =O136*H136 -> 0 | Q136: 0 | R136: =Q136*H136 -> 0 | S136: 0 | T136: =S136*H136 -> 0 | AR136: 4 | AT136: K | AU136: 2 | AY136: ROZPOCET | BE136: =IF(N136="základná",J136,0) -> 0 | BF136: =IF(N136="znížená",J136,0) -> 0 | BG136: =IF(N136="zákl. prenesená",J136,0) -> 0 | BH136: =IF(N136="zníž. prenesená",J136,0) -> 0 | BI136: =IF(N136="nulová",J136,0) -> 0 | BJ136: 2 | BK136: =ROUND(I136*H136,3) -> 0 | BL136: 4 | BM136: 1113095012
C137: 5 | D137: K | E137: 167101101 | F137: Nakladanie neuľahnutého výkopku z hornín tr.1-4 do 100 m3 | G137: m3 | H137: 52.974 | J137: =ROUND(I137*H137,3) -> 0 | K137: CS CENEKON 2019 01 | N137: znížená | P137: =O137*H137 -> 0 | Q137: 0 | R137: =Q137*H137 -> 0 | S137: 0 | T137: =S137*H137 -> 0 | AR137: 4 | AT137: K | AU137: 2 | AY137: ROZPOCET | BE137: =IF(N137="základná",J137,0) -> 0 | BF137: =IF(N137="znížená",J137,0) -> 0 | BG137: =IF(N137="zákl. prenesená",J137,0) -> 0 | BH137: =IF(N137="zníž. prenesená",J137,0) -> 0 | BI137: =IF(N137="nulová",J137,0) -> 0 | BJ137: 2 | BK137: =ROUND(I137*H137,3) -> 0 | BL137: 4 | BM137: -418004395
C138: 6 | D138: K | E138: 171201201 | F138: Uloženie sypaniny na skládky do 100 m3 | G138: m3 | H138: 52.974 | J138: =ROUND(I138*H138,3) -> 0 | K138: CS CENEKON 2019 01 | N138: znížená | P138: =O138*H138 -> 0 | Q138: 0 | R138: =Q138*H138 -> 0 | S138: 0 | T138: =S138*H138 -> 0 | AR138: 4 | AT138: K | AU138: 2 | AY138: ROZPOCET | BE138: =IF(N138="základná",J138,0) -> 0 | BF138: =IF(N138="znížená",J138,0) -> 0 | BG138: =IF(N138="zákl. prenesená",J138,0) -> 0 | BH138: =IF(N138="zníž. prenesená",J138,0) -> 0 | BI138: =IF(N138="nulová",J138,0) -> 0 | BJ138: 2 | BK138: =ROUND(I138*H138,3) -> 0 | BL138: 4 | BM138: 2140116132
C139: 7 | D139: K | E139: 180402111 | F139: Založenie trávnika parkového výsevom v rovine do 1:5 | G139: m2 | H139: 790 | J139: =ROUND(I139*H139,3) -> 0 | K139: CS CENEKON 2019 01 | N139: znížená | P139: =O139*H139 -> 0 | Q139: 0 | R139: =Q139*H139 -> 0 | S139: 0 | T139: =S139*H139 -> 0 | AR139: 4 | AT139: K | AU139: 2 | AY139: ROZPOCET | BE139: =IF(N139="základná",J139,0) -> 0 | BF139: =IF(N139="znížená",J139,0) -> 0 | BG139: =IF(N139="zákl. prenesená",J139,0) -> 0 | BH139: =IF(N139="zníž. prenesená",J139,0) -> 0 | BI139: =IF(N139="nulová",J139,0) -> 0 | BJ139: 2 | BK139: =ROUND(I139*H139,3) -> 0 | BL139: 4 | BM139: -448469372
C140: 8 | D140: M | E140: 005720001400 | F140: Osivá tráv - semená parkovej zmesi | G140: kg | H140: 24.411 | J140: =ROUND(I140*H140,3) -> 0 | K140: CS CENEKON 2019 01 | N140: znížená | P140: =O140*H140 -> 0 | Q140: 0.001 | R140: =Q140*H140 -> 0.024411 | S140: 0 | T140: =S140*H140 -> 0 | AR140: 8 | AT140: M | AU140: 2 | AY140: ROZPOCET | BE140: =IF(N140="základná",J140,0) -> 0 | BF140: =IF(N140="znížená",J140,0) -> 0 | BG140: =IF(N140="zákl. prenesená",J140,0) -> 0 | BH140: =IF(N140="zníž. prenesená",J140,0) -> 0 | BI140: =IF(N140="nulová",J140,0) -> 0 | BJ140: 2 | BK140: =ROUND(I140*H140,3) -> 0 | BL140: 4 | BM140: -931761397
C141: 9 | D141: K | E141: 181301301 | F141: Rozprestretie ornice na svahu do sklonu 1:5, plocha do 500 m2, hr. do 100 mm | G141: m2 | H141: 790 | J141: =ROUND(I141*H141,3) -> 0 | K141: CS CENEKON 2019 01 | N141: znížená | P141: =O141*H141 -> 0 | Q141: 0 | R141: =Q141*H141 -> 0 | S141: 0 | T141: =S141*H141 -> 0 | AR141: 4 | AT141: K | AU141: 2 | AY141: ROZPOCET | BE141: =IF(N141="základná",J141,0) -> 0 | BF141: =IF(N141="znížená",J141,0) -> 0 | BG141: =IF(N141="zákl. prenesená",J141,0) -> 0 | BH141: =IF(N141="zníž. prenesená",J141,0) -> 0 | BI141: =IF(N141="nulová",J141,0) -> 0 | BJ141: 2 | BK141: =ROUND(I141*H141,3) -> 0 | BL141: 4 | BM141: 1370955030
C142: 10 | D142: K | E142: 182001111 | F142: Plošná úprava terénu pri nerovnostiach terénu nad 50-100mm v rovine alebo na svahu do 1:5 | G142: m2 | H142: 790 | J142: =ROUND(I142*H142,3) -> 0 | K142: CS CENEKON 2019 01 | N142: znížená | P142: =O142*H142 -> 0 | Q142: 0 | R142: =Q142*H142 -> 0 | S142: 0 | T142: =S142*H142 -> 0 | AR142: 4 | AT142: K | AU142: 2 | AY142: ROZPOCET | BE142: =IF(N142="základná",J142,0) -> 0 | BF142: =IF(N142="znížená",J142,0) -> 0 | BG142: =IF(N142="zákl. prenesená",J142,0) -> 0 | BH142: =IF(N142="zníž. prenesená",J142,0) -> 0 | BI142: =IF(N142="nulová",J142,0) -> 0 | BJ142: 2 | BK142: =ROUND(I142*H142,3) -> 0 | BL142: 4 | BM142: 612258518
C143: 11 | D143: K | E143: 183403114 | F143: Obrobenie pôdy kultivátorovaním v rovine alebo na svahu do 1:5 | G143: m2 | H143: 790 | J143: =ROUND(I143*H143,3) -> 0 | K143: CS CENEKON 2019 01 | N143: znížená | P143: =O143*H143 -> 0 | Q143: 0 | R143: =Q143*H143 -> 0 | S143: 0 | T143: =S143*H143 -> 0 | AR143: 4 | AT143: K | AU143: 2 | AY143: ROZPOCET | BE143: =IF(N143="základná",J143,0) -> 0 | BF143: =IF(N143="znížená",J143,0) -> 0 | BG143: =IF(N143="zákl. prenesená",J143,0) -> 0 | BH143: =IF(N143="zníž. prenesená",J143,0) -> 0 | BI143: =IF(N143="nulová",J143,0) -> 0 | BJ143: 2 | BK143: =ROUND(I143*H143,3) -> 0 | BL143: 4 | BM143: -1042495905
C144: 12 | D144: K | E144: 183403161 | F144: Obrobenie pôdy valcovaním v rovine alebo na svahu do 1:5 | G144: m2 | H144: 790 | J144: =ROUND(I144*H144,3) -> 0 | K144: CS CENEKON 2019 01 | N144: znížená | P144: =O144*H144 -> 0 | Q144: 0 | R144: =Q144*H144 -> 0 | S144: 0 | T144: =S144*H144 -> 0 | AR144: 4 | AT144: K | AU144: 2 | AY144: ROZPOCET | BE144: =IF(N144="základná",J144,0) -> 0 | BF144: =IF(N144="znížená",J144,0) -> 0 | BG144: =IF(N144="zákl. prenesená",J144,0) -> 0 | BH144: =IF(N144="zníž. prenesená",J144,0) -> 0 | BI144: =IF(N144="nulová",J144,0) -> 0 | BJ144: 2 | BK144: =ROUND(I144*H144,3) -> 0 | BL144: 4 | BM144: 1674954585
C145: 13 | D145: K | E145: 18340316P | F145: Obrobenie trávnika valcovaním v rovine alebo na svahu do 1:5 | G145: m2 | H145: 790 | J145: =ROUND(I145*H145,3) -> 0 | N145: znížená | P145: =O145*H145 -> 0 | Q145: 0 | R145: =Q145*H145 -> 0 | S145: 0 | T145: =S145*H145 -> 0 | AR145: 4 | AT145: K | AU145: 2 | AY145: ROZPOCET | BE145: =IF(N145="základná",J145,0) -> 0 | BF145: =IF(N145="znížená",J145,0) -> 0 | BG145: =IF(N145="zákl. prenesená",J145,0) -> 0 | BH145: =IF(N145="zníž. prenesená",J145,0) -> 0 | BI145: =IF(N145="nulová",J145,0) -> 0 | BJ145: 2 | BK145: =ROUND(I145*H145,3) -> 0 | BL145: 4 | BM145: 358667742
C146: 14 | D146: K | E146: 184802111 | F146: Chemické odburinenie pôdy v rovine alebo na svahu do 1:5 postrekom naširoko | G146: m2 | H146: 790 | J146: =ROUND(I146*H146,3) -> 0 | K146: CS CENEKON 2019 01 | N146: znížená | P146: =O146*H146 -> 0 | Q146: 0 | R146: =Q146*H146 -> 0 | S146: 0 | T146: =S146*H146 -> 0 | AR146: 4 | AT146: K | AU146: 2 | AY146: ROZPOCET | BE146: =IF(N146="základná",J146,0) -> 0 | BF146: =IF(N146="znížená",J146,0) -> 0 | BG146: =IF(N146="zákl. prenesená",J146,0) -> 0 | BH146: =IF(N146="zníž. prenesená",J146,0) -> 0 | BI146: =IF(N146="nulová",J146,0) -> 0 | BJ146: 2 | BK146: =ROUND(I146*H146,3) -> 0 | BL146: 4 | BM146: 145715514
C147: 15 | D147: M | E147: 252310000100 | F147: Postrekový prípravok (napr. Bofix) na ničenie burín | G147: l | H147: 0.83 | J147: =ROUND(I147*H147,3) -> 0 | K147: CS CENEKON 2019 01 | N147: znížená | P147: =O147*H147 -> 0 | Q147: 0.001 | R147: =Q147*H147 -> 0.00083 | S147: 0 | T147: =S147*H147 -> 0 | AR147: 8 | AT147: M | AU147: 2 | AY147: ROZPOCET | BE147: =IF(N147="základná",J147,0) -> 0 | BF147: =IF(N147="znížená",J147,0) -> 0 | BG147: =IF(N147="zákl. prenesená",J147,0) -> 0 | BH147: =IF(N147="zníž. prenesená",J147,0) -> 0 | BI147: =IF(N147="nulová",J147,0) -> 0 | BJ147: 2 | BK147: =ROUND(I147*H147,3) -> 0 | BL147: 4 | BM147: -1362439403
C148: 16 | D148: K | E148: 185803111 | F148: Ošetrenie trávnika v rovine alebo na svahu do 1:5 | G148: m2 | H148: 790 | J148: =ROUND(I148*H148,3) -> 0 | K148: CS CENEKON 2019 01 | N148: znížená | P148: =O148*H148 -> 0 | Q148: 0 | R148: =Q148*H148 -> 0 | S148: 0 | T148: =S148*H148 -> 0 | AR148: 4 | AT148: K | AU148: 2 | AY148: ROZPOCET | BE148: =IF(N148="základná",J148,0) -> 0 | BF148: =IF(N148="znížená",J148,0) -> 0 | BG148: =IF(N148="zákl. prenesená",J148,0) -> 0 | BH148: =IF(N148="zníž. prenesená",J148,0) -> 0 | BI148: =IF(N148="nulová",J148,0) -> 0 | BJ148: 2 | BK148: =ROUND(I148*H148,3) -> 0 | BL148: 4 | BM148: -166828743
D149: D | E149: 2 | F149: Zakladanie | J149: =BK149 -> 0 | P149: =SUM(P150:P151) -> 0 | R149: =SUM(R150:R151) -> 11.098103 | T149: =SUM(T150:T151) -> 0 | AR149: 1 | AT149: D | AU149: 1 | AY149: ROZPOCET | BK149: =SUM(BK150:BK151) -> 0
C150: 17 | D150: K | E150: 271571111 | F150: Vankúše zhutnené pod základy zo štrkopiesku | G150: m3 | H150: 0.018 | J150: =ROUND(I150*H150,3) -> 0 | K150: CS CENEKON 2019 01 | N150: znížená | P150: =O150*H150 -> 0 | Q150: 2.0664 | R150: =Q150*H150 -> 0.0371952 | S150: 0 | T150: =S150*H150 -> 0 | AR150: 4 | AT150: K | AU150: 2 | AY150: ROZPOCET | BE150: =IF(N150="základná",J150,0) -> 0 | BF150: =IF(N150="znížená",J150,0) -> 0 | BG150: =IF(N150="zákl. prenesená",J150,0) -> 0 | BH150: =IF(N150="zníž. prenesená",J150,0) -> 0 | BI150: =IF(N150="nulová",J150,0) -> 0 | BJ150: 2 | BK150: =ROUND(I150*H150,3) -> 0 | BL150: 4 | BM150: 1027319498
C151: 18 | D151: K | E151: 275313521 | F151: Betón základových pätiek, prostý tr. C 12/15 | G151: m3 | H151: 4.948 | J151: =ROUND(I151*H151,3) -> 0 | K151: CS CENEKON 2019 01 | N151: znížená | P151: =O151*H151 -> 0 | Q151: 2.23543 | R151: =Q151*H151 -> 11.060908 | S151: 0 | T151: =S151*H151 -> 0 | AR151: 4 | AT151: K | AU151: 2 | AY151: ROZPOCET | BE151: =IF(N151="základná",J151,0) -> 0 | BF151: =IF(N151="znížená",J151,0) -> 0 | BG151: =IF(N151="zákl. prenesená",J151,0) -> 0 | BH151: =IF(N151="zníž. prenesená",J151,0) -> 0 | BI151: =IF(N151="nulová",J151,0) -> 0 | BJ151: 2 | BK151: =ROUND(I151*H151,3) -> 0 | BL151: 4 | BM151: 105943381
D152: D | E152: 3 | F152: Zvislé a kompletné konštrukcie | J152: =BK152 -> 0 | P152: =SUM(P153:P156) -> 0 | R152: =SUM(R153:R156) -> 0.77024 | T152: =SUM(T153:T156) -> 0 | AR152: 1 | AT152: D | AU152: 1 | AY152: ROZPOCET | BK152: =SUM(BK153:BK156) -> 0
C153: 19 | D153: K | E153: 338171121 | F153: Osadzovanie stĺpika oceľového plotového výšky nad 2 m so zaliatím cementovou maltou do vynechaných otvorov | G153: ks | H153: 64 | J153: =ROUND(I153*H153,3) -> 0 | K153: CS CENEKON 2019 01 | N153: znížená | P153: =O153*H153 -> 0 | Q153: 0.00636 | R153: =Q153*H153 -> 0.40704 | S153: 0 | T153: =S153*H153 -> 0 | AR153: 4 | AT153: K | AU153: 2 | AY153: ROZPOCET | BE153: =IF(N153="základná",J153,0) -> 0 | BF153: =IF(N153="znížená",J153,0) -> 0 | BG153: =IF(N153="zákl. prenesená",J153,0) -> 0 | BH153: =IF(N153="zníž. prenesená",J153,0) -> 0 | BI153: =IF(N153="nulová",J153,0) -> 0 | BJ153: 2 | BK153: =ROUND(I153*H153,3) -> 0 | BL153: 4 | BM153: 126998799
C154: 20 | D154: M | E154: 553510023000 | F154: Stĺpik (napr. STANDARD PLUS), d 48 mm, výška 2,5 m, výška pletiva 2 m, poplastovaný s PVC čiapkou, pre pletivo v rolkách | G154: ks | H154: 64 | J154: =ROUND(I154*H154,3) -> 0 | K154: CS CENEKON 2019 01 | N154: znížená | P154: =O154*H154 -> 0 | Q154: 0.0034 | R154: =Q154*H154 -> 0.2176 | S154: 0 | T154: =S154*H154 -> 0 | AR154: 8 | AT154: M | AU154: 2 | AY154: ROZPOCET | BE154: =IF(N154="základná",J154,0) -> 0 | BF154: =IF(N154="znížená",J154,0) -> 0 | BG154: =IF(N154="zákl. prenesená",J154,0) -> 0 | BH154: =IF(N154="zníž. prenesená",J154,0) -> 0 | BI154: =IF(N154="nulová",J154,0) -> 0 | BJ154: 2 | BK154: =ROUND(I154*H154,3) -> 0 | BL154: 4 | BM154: 1397004274
C155: 21 | D155: K | E155: 338172111 | F155: Osadzovanie vzpery oceľovej plotovej so zaliatím cementovou maltou do vynechaných otvorov | G155: ks | H155: 16 | J155: =ROUND(I155*H155,3) -> 0 | K155: CS CENEKON 2019 01 | N155: znížená | P155: =O155*H155 -> 0 | Q155: 0.0063 | R155: =Q155*H155 -> 0.1008 | S155: 0 | T155: =S155*H155 -> 0 | AR155: 4 | AT155: K | AU155: 2 | AY155: ROZPOCET | BE155: =IF(N155="základná",J155,0) -> 0 | BF155: =IF(N155="znížená",J155,0) -> 0 | BG155: =IF(N155="zákl. prenesená",J155,0) -> 0 | BH155: =IF(N155="zníž. prenesená",J155,0) -> 0 | BI155: =IF(N155="nulová",J155,0) -> 0 | BJ155: 2 | BK155: =ROUND(I155*H155,3) -> 0 | BL155: 4 | BM155: -418707594
C156: 22 | D156: M | E156: 553510023300 | F156: Vzpera (napr. STANDARD PLUS), d 38 mm, výška 2,5 m, výška pletiva 2 m, poplastovaná, pre pletivo v rolkách | G156: ks | H156: 16 | J156: =ROUND(I156*H156,3) -> 0 | K156: CS CENEKON 2019 01 | N156: znížená | P156: =O156*H156 -> 0 | Q156: 0.0028 | R156: =Q156*H156 -> 0.0448 | S156: 0 | T156: =S156*H156 -> 0 | AR156: 8 | AT156: M | AU156: 2 | AY156: ROZPOCET | BE156: =IF(N156="základná",J156,0) -> 0 | BF156: =IF(N156="znížená",J156,0) -> 0 | BG156: =IF(N156="zákl. prenesená",J156,0) -> 0 | BH156: =IF(N156="zníž. prenesená",J156,0) -> 0 | BI156: =IF(N156="nulová",J156,0) -> 0 | BJ156: 2 | BK156: =ROUND(I156*H156,3) -> 0 | BL156: 4 | BM156: 1173986515
D157: D | E157: 4 | F157: Vodorovné konštrukcie | J157: =BK157 -> 0 | P157: =P158 -> 0 | R157: =R158 -> 5.537664 | T157: =T158 -> 0 | AR157: 1 | AT157: D | AU157: 1 | AY157: ROZPOCET | BK157: =BK158 -> 0
C158: 23 | D158: K | E158: 45157787P | F158: Podklad pod obrubníky v ploche vodorovnej alebo v sklone do 1:5 hr. 100 mm zo štrkopiesku | G158: m2 | H158: 34.2 | J158: =ROUND(I158*H158,3) -> 0 | N158: znížená | P158: =O158*H158 -> 0 | Q158: 0.16192 | R158: =Q158*H158 -> 5.537664 | S158: 0 | T158: =S158*H158 -> 0 | AR158: 4 | AT158: K | AU158: 2 | AY158: ROZPOCET | BE158: =IF(N158="základná",J158,0) -> 0 | BF158: =IF(N158="znížená",J158,0) -> 0 | BG158: =IF(N158="zákl. prenesená",J158,0) -> 0 | BH158: =IF(N158="zníž. prenesená",J158,0) -> 0 | BI158: =IF(N158="nulová",J158,0) -> 0 | BJ158: 2 | BK158: =ROUND(I158*H158,3) -> 0 | BL158: 4 | BM158: 1346497040
D159: D | E159: 9 | F159: Ostatné konštrukcie a práce-búranie | J159: =BK159 -> 0 | P159: =SUM(P160:P161) -> 0 | R159: =SUM(R160:R161) -> 20.71836 | T159: =SUM(T160:T161) -> 0 | AR159: 1 | AT159: D | AU159: 1 | AY159: ROZPOCET | BK159: =SUM(BK160:BK161) -> 0
C160: 24 | D160: K | E160: 916561111 | F160: Osadenie záhonového alebo parkového obrubníka betón., do lôžka z bet. pros. tr. C 12/15 s bočnou oporou | G160: m | H160: 171 | J160: =ROUND(I160*H160,3) -> 0 | K160: CS CENEKON 2019 01 | N160: znížená | P160: =O160*H160 -> 0 | Q160: 0.09793 | R160: =Q160*H160 -> 16.74603 | S160: 0 | T160: =S160*H160 -> 0 | AR160: 4 | AT160: K | AU160: 2 | AY160: ROZPOCET | BE160: =IF(N160="základná",J160,0) -> 0 | BF160: =IF(N160="znížená",J160,0) -> 0 | BG160: =IF(N160="zákl. prenesená",J160,0) -> 0 | BH160: =IF(N160="zníž. prenesená",J160,0) -> 0 | BI160: =IF(N160="nulová",J160,0) -> 0 | BJ160: 2 | BK160: =ROUND(I160*H160,3) -> 0 | BL160: 4 | BM160: -302737113
C161: 25 | D161: M | E161: 592170001800 | F161: Obrubník (napr. PREMAC) parkový, lxšxv 1000x50x200 mm, sivá | G161: ks | H161: 172.71 | J161: =ROUND(I161*H161,3) -> 0 | K161: CS CENEKON 2019 01 | N161: znížená | P161: =O161*H161 -> 0 | Q161: 0.023 | R161: =Q161*H161 -> 3.97233 | S161: 0 | T161: =S161*H161 -> 0 | AR161: 8 | AT161: M | AU161: 2 | AY161: ROZPOCET | BE161: =IF(N161="základná",J161,0) -> 0 | BF161: =IF(N161="znížená",J161,0) -> 0 | BG161: =IF(N161="zákl. prenesená",J161,0) -> 0 | BH161: =IF(N161="zníž. prenesená",J161,0) -> 0 | BI161: =IF(N161="nulová",J161,0) -> 0 | BJ161: 2 | BK161: =ROUND(I161*H161,3) -> 0 | BL161: 4 | BM161: -1227155848
D162: D | E162: 99 | F162: Presun hmôt HSV | J162: =BK162 -> 0 | P162: =P163 -> 0 | R162: =R163 -> 0 | T162: =T163 -> 0 | AR162: 1 | AT162: D | AU162: 1 | AY162: ROZPOCET | BK162: =BK163 -> 0
C163: 26 | D163: K | E163: 998151111 | F163: Presun hmôt pre obj.8152, 8153,8159,zvislá nosná konštr.z tehál,tvárnic,blokov výšky do 10 m | G163: t | H163: 38.15 | J163: =ROUND(I163*H163,3) -> 0 | K163: CS CENEKON 2019 01 | N163: znížená | P163: =O163*H163 -> 0 | Q163: 0 | R163: =Q163*H163 -> 0 | S163: 0 | T163: =S163*H163 -> 0 | AR163: 4 | AT163: K | AU163: 2 | AY163: ROZPOCET | BE163: =IF(N163="základná",J163,0) -> 0 | BF163: =IF(N163="znížená",J163,0) -> 0 | BG163: =IF(N163="zákl. prenesená",J163,0) -> 0 | BH163: =IF(N163="zníž. prenesená",J163,0) -> 0 | BI163: =IF(N163="nulová",J163,0) -> 0 | BJ163: 2 | BK163: =ROUND(I163*H163,3) -> 0 | BL163: 4 | BM163: 509690044
D164: D | E164: PSV | F164: Práce a dodávky PSV | J164: =BK164 -> 0 | P164: =P165 -> 0 | R164: =R165 -> 0.5273763 | T164: =T165 -> 0 | AR164: 2 | AT164: D | AU164: 0 | AY164: ROZPOCET | BK164: =BK165 -> 0
...

Sheet 02.1 - NN ELEKTRICKÁ PRÍP...
L2: >> skryté stĺpce << | AT2: {623551b3-fce5-4083-b533-a13451c05869}
AT3: 0
D4: KRYCÍ LIST ROZPOČTU | M4: v --- nižšie sa nachádzajú doplnkové a pomocné údaje k zostavám --- v | AT4: False
D6: Stavba:
E7: ='Rekapitulácia stavby'!K6 -> HOKEJBALOVÉ IHRISKO
D8: Objekt:
E9: 02 - SO 02 - NN ELEKTRICKÁ PRÍPOJKA
D10: Časť:
E11: 02.1 - NN ELEKTRICKÁ PRÍPOJKA
D13: JKSO: | I13: KS:
D14: Miesto: | F14: TREBIŠOV | I14: Dátum: | J14: ='Rekapitulácia stavby'!AN8 -> Vyplň údaj
D16: Objednávateľ: | I16: IČO:
E17: MESTO TREBIŠOV | I17: IČ DPH:
D19: Zhotoviteľ: | I19: IČO: | J19: ='Rekapitulácia stavby'!AN13 -> Vyplň údaj
E20: ='Rekapitulácia stavby'!E14 -> Vyplň údaj | I20: IČ DPH: | J20: ='Rekapitulácia stavby'!AN14 -> Vyplň údaj
D22: Projektant: | I22: IČO:
E23: APRO s.r.o. TREBIŠOV | I23: IČ DPH:
D25: Spracovateľ: | I25: IČO: | J25: =IF('Rekapitulácia stavby'!AN19="","",'Rekapitulácia stavby'!AN19)
E26: =IF('Rekapitulácia stavby'!E20="","",'Rekapitulácia stavby'!E20) | I26: IČ DPH: | J26: =IF('Rekapitulácia stavby'!AN20="","",'Rekapitulácia stavby'!AN20)
D28: Poznámka:
D32: Cena bez DPH | J32: =ROUND(J122, 2) -> 0
F34: Základ dane | I34: Sadzba dane | J34: Výška dane
D35: DPH | E35: základná | F35: =ROUND((SUM(BE122:BE125)), 2) -> 0 | I35: 0.2 | J35: =ROUND(((SUM(BE122:BE125))*I35), 2) -> 0
E36: znížená | F36: =ROUND((SUM(BF122:BF125)), 2) -> 0 | I36: 0.2 | J36: =ROUND(((SUM(BF122:BF125))*I36), 2) -> 0
E37: zákl. prenesená | F37: =ROUND((SUM(BG122:BG125)), 2) -> 0 | I37: 0.2 | J37: =0 -> 0
E38: zníž. prenesená | F38: =ROUND((SUM(BH122:BH125)), 2) -> 0 | I38: 0.2 | J38: =0 -> 0
E39: nulová | F39: =ROUND((SUM(BI122:BI125)), 2) -> 0 | I39: 0 | J39: =0 -> 0
D41: Cena s DPH | G41: v | H41: EUR | J41: =SUM(J32:J39) -> 0
D50: Projektant | G50: Spracovateľ
D61: Dátum a podpis: | F61: Pečiatka | G61: Dátum a podpis: | J61: Pečiatka
D65: Objednávateľ | G65: Zhotoviteľ
D76: Dátum a podpis: | F76: Pečiatka | G76: Dátum a podpis: | J76: Pečiatka
C82: REKAPITULÁCIA ROZPOČTU
C84: Stavba:
E85: =E7 -> HOKEJBALOVÉ IHRISKO
C86: Objekt:
E87: 02 - SO 02 - NN ELEKTRICKÁ PRÍPOJKA
C88: Časť:
E89: =E11 -> 02.1 - NN ELEKTRICKÁ PRÍPOJKA
C91: Miesto: | F91: =F14 -> TREBIŠOV | I91: Dátum: | J91: =IF(J14="","",J14) -> Vyplň údaj
C93: Objednávateľ: | F93: =E17 -> MESTO TREBIŠOV | I93: Projektant: | J93: =E23 -> APRO s.r.o. TREBIŠOV
C94: Zhotoviteľ: | F94: =IF(E20="","",E20) -> Vyplň údaj | I94: Spracovateľ: | J94: =E26
C96: Kód dielu - Popis | J96: Cena celkom [EUR]
C98: Náklady z rozpočtu | J98: =J122 -> 0 | AU98: -1
D99: M - Práce a dodávky M | J99: =J123 -> 0
D100: 21-M - Elektromontáže | J100: =J124 -> 0
C107: ROZPOČET
C109: Stavba:
E110: =E7 -> HOKEJBALOVÉ IHRISKO
C111: Objekt:
E112: 02 - SO 02 - NN ELEKTRICKÁ PRÍPOJKA
C113: Časť:
E114: =E11 -> 02.1 - NN ELEKTRICKÁ PRÍPOJKA
C116: Miesto: | F116: =F14 -> TREBIŠOV | I116: Dátum: | J116: =IF(J14="","",J14) -> Vyplň údaj
C118: Objednávateľ: | F118: =E17 -> MESTO TREBIŠOV | I118: Projektant: | J118: =E23 -> APRO s.r.o. TREBIŠOV
C119: Zhotoviteľ: | F119: =IF(E20="","",E20) -> Vyplň údaj | I119: Spracovateľ: | J119: =E26
C121: PČ | D121: Typ | E121: Kód | F121: Popis | G121: MJ | H121: Množstvo | I121: J.cena [EUR] | J121: Cena celkom [EUR] | K121: Cenová sústava | N121: DPH | O121: J. Nh [h] | P121: Nh celkom [h] | Q121: J. hmotnosť [t] | R121: Hmotnosť celkom [t] | S121: J. suť [t] | T121: Suť Celkom [t]
C122: Náklady z rozpočtu | J122: =BK122 -> 0 | P122: =P123 -> 0 | R122: =R123 -> 0 | T122: =T123 -> 0 | AT122: D | AU122: -1 | BK122: =BK123 -> 0
D123: D | E123: M | F123: Práce a dodávky M | J123: =BK123 -> 0 | P123: =P124 -> 0 | R123: =R124 -> 0 | T123: =T124 -> 0 | AR123: 3 | AT123: D | AU123: 0 | AY123: ROZPOCET | BK123: =BK124 -> 0
D124: D | E124: 21-M | F124: Elektromontáže | J124: =BK124 -> 0 | P124: =P125 -> 0 | R124: =R125 -> 0 | T124: =T125 -> 0 | AR124: 3 | AT124: D | AU124: 1 | AY124: ROZPOCET | BK124: =BK125 -> 0
C125: 1 | D125: K | E125: 21022011P | F125: NN ellektrická prípojka - rieši VSD | G125: kpl | H125: 1 | J125: =ROUND(I125*H125,3) -> 0 | N125: znížená | P125: =O125*H125 -> 0 | Q125: 0 | R125: =Q125*H125 -> 0 | S125: 0 | T125: =S125*H125 -> 0 | AR125: 64 | AT125: K | AU125: 2 | AY125: ROZPOCET | BE125: =IF(N125="základná",J125,0) -> 0 | BF125: =IF(N125="znížená",J125,0) -> 0 | BG125: =IF(N125="zákl. prenesená",J125,0) -> 0 | BH125: =IF(N125="zníž. prenesená",J125,0) -> 0 | BI125: =IF(N125="nulová",J125,0) -> 0 | BJ125: 2 | BK125: =ROUND(I125*H125,3) -> 0 | BL125: 64 | BM125: 917685857

Sheet 02.2 - ODBERNÉ ELEKTRICKÉ...
L2: >> skryté stĺpce << | AT2: {f2e7b224-ac2b-4e6f-b4e0-46bd7d443d4a}
AT3: 0
D4: KRYCÍ LIST ROZPOČTU | M4: v --- nižšie sa nachádzajú doplnkové a pomocné údaje k zostavám --- v | AT4: False
D6: Stavba:
E7: ='Rekapitulácia stavby'!K6 -> HOKEJBALOVÉ IHRISKO
D8: Objekt:
E9: 02 - SO 02 - NN ELEKTRICKÁ PRÍPOJKA
D10: Časť:
E11: 02.2 - ODBERNÉ ELEKTRICKÉ ZARIADENIE
D13: JKSO: | I13: KS:
D14: Miesto: | F14: TREBIŠOV | I14: Dátum: | J14: ='Rekapitulácia stavby'!AN8 -> Vyplň údaj
D16: Objednávateľ: | I16: IČO:
E17: MESTO TREBIŠOV | I17: IČ DPH:
D19: Zhotoviteľ: | I19: IČO: | J19: ='Rekapitulácia stavby'!AN13 -> Vyplň údaj
E20: ='Rekapitulácia stavby'!E14 -> Vyplň údaj | I20: IČ DPH: | J20: ='Rekapitulácia stavby'!AN14 -> Vyplň údaj
D22: Projektant: | I22: IČO:
E23: APRO s.r.o. TREBIŠOV | I23: IČ DPH:
D25: Spracovateľ: | I25: IČO: | J25: =IF('Rekapitulácia stavby'!AN19="","",'Rekapitulácia stavby'!AN19)
E26: =IF('Rekapitulácia stavby'!E20="","",'Rekapitulácia stavby'!E20) | I26: IČ DPH: | J26: =IF('Rekapitulácia stavby'!AN20="","",'Rekapitulácia stavby'!AN20)
D28: Poznámka:
D32: Cena bez DPH | J32: =ROUND(J122, 2) -> 0
F34: Základ dane | I34: Sadzba dane | J34: Výška dane
D35: DPH | E35: základná | F35: =ROUND((SUM(BE122:BE125)), 2) -> 0 | I35: 0.2 | J35: =ROUND(((SUM(BE122:BE125))*I35), 2) -> 0
E36: znížená | F36: =ROUND((SUM(BF122:BF125)), 2) -> 0 | I36: 0.2 | J36: =ROUND(((SUM(BF122:BF125))*I36), 2) -> 0
E37: zákl. prenesená | F37: =ROUND((SUM(BG122:BG125)), 2) -> 0 | I37: 0.2 | J37: =0 -> 0
E38: zníž. prenesená | F38: =ROUND((SUM(BH122:BH125)), 2) -> 0 | I38: 0.2 | J38: =0 -> 0
E39: nulová | F39: =ROUND((SUM(BI122:BI125)), 2) -> 0 | I39: 0 | J39: =0 -> 0
D41: Cena s DPH | G41: v | H41: EUR | J41: =SUM(J32:J39) -> 0
D50: Projektant | G50: Spracovateľ
D61: Dátum a podpis: | F61: Pečiatka | G61: Dátum a podpis: | J61: Pečiatka
D65: Objednávateľ | G65: Zhotoviteľ
D76: Dátum a podpis: | F76: Pečiatka | G76: Dátum a podpis: | J76: Pečiatka
C82: REKAPITULÁCIA ROZPOČTU
C84: Stavba:
E85: =E7 -> HOKEJBALOVÉ IHRISKO
C86: Objekt:
E87: 02 - SO 02 - NN ELEKTRICKÁ PRÍPOJKA
C88: Časť:
E89: =E11 -> 02.2 - ODBERNÉ ELEKTRICKÉ ZARIADENIE
C91: Miesto: | F91: =F14 -> TREBIŠOV | I91: Dátum: | J91: =IF(J14="","",J14) -> Vyplň údaj
C93: Objednávateľ: | F93: =E17 -> MESTO TREBIŠOV | I93: Projektant: | J93: =E23 -> APRO s.r.o. TREBIŠOV
C94: Zhotoviteľ: | F94: =IF(E20="","",E20) -> Vyplň údaj | I94: Spracovateľ: | J94: =E26
C96: Kód dielu - Popis | J96: Cena celkom [EUR]
C98: Náklady z rozpočtu | J98: =J122 -> 0 | AU98: -1
D99: M - Práce a dodávky M | J99: =J123 -> 0
D100: 21-M - Elektromontáže | J100: =J124 -> 0
C107: ROZPOČET
C109: Stavba:
E110: =E7 -> HOKEJBALOVÉ IHRISKO
C111: Objekt:
E112: 02 - SO 02 - NN ELEKTRICKÁ PRÍPOJKA
C113: Časť:
E114: =E11 -> 02.2 - ODBERNÉ ELEKTRICKÉ ZARIADENIE
C116: Miesto: | F116: =F14 -> TREBIŠOV | I116: Dátum: | J116: =IF(J14="","",J14) -> Vyplň údaj
C118: Objednávateľ: | F118: =E17 -> MESTO TREBIŠOV | I118: Projektant: | J118: =E23 -> APRO s.r.o. TREBIŠOV
C119: Zhotoviteľ: | F119: =IF(E20="","",E20) -> Vyplň údaj | I119: Spracovateľ: | J119: =E26
C121: PČ | D121: Typ | E121: Kód | F121: Popis | G121: MJ | H121: Množstvo | I121: J.cena [EUR] | J121: Cena celkom [EUR] | K121: Cenová sústava | N121: DPH | O121: J. Nh [h] | P121: Nh celkom [h] | Q121: J. hmotnosť [t] | R121: Hmotnosť celkom [t] | S121: J. suť [t] | T121: Suť Celkom [t]
C122: Náklady z rozpočtu | J122: =BK122 -> 0 | P122: =P123 -> 0 | R122: =R123 -> 0 | T122: =T123 -> 0 | AT122: D | AU122: -1 | BK122: =BK123 -> 0
D123: D | E123: M | F123: Práce a dodávky M | J123: =BK123 -> 0 | P123: =P124 -> 0 | R123: =R124 -> 0 | T123: =T124 -> 0 | AR123: 3 | AT123: D | AU123: 0 | AY123: ROZPOCET | BK123: =BK124 -> 0
D124: D | E124: 21-M | F124: Elektromontáže | J124: =BK124 -> 0 | P124: =P125 -> 0 | R124: =R125 -> 0 | T124: =T125 -> 0 | AR124: 3 | AT124: D | AU124: 1 | AY124: ROZPOCET | BK124: =BK125 -> 0
C125: 1 | D125: K | E125: 21022012P | F125: Odberné elektrické zariadenie - komplet - viď. dielči rozpočet - príloha | G125: kpl | H125: 1 | J125: =ROUND(I125*H125,3) -> 0 | N125: znížená | P125: =O125*H125 -> 0 | Q125: 0 | R125: =Q125*H125 -> 0 | S125: 0 | T125: =S125*H125 -> 0 | AR125: 64 | AT125: K | AU125: 2 | AY125: ROZPOCET | BE125: =IF(N125="základná",J125,0) -> 0 | BF125: =IF(N125="znížená",J125,0) -> 0 | BG125: =IF(N125="zákl. prenesená",J125,0) -> 0 | BH125: =IF(N125="zníž. prenesená",J125,0) -> 0 | BI125: =IF(N125="nulová",J125,0) -> 0 | BJ125: 2 | BK125: =ROUND(I125*H125,3) -> 0 | BL125: 64 | BM125: 120858511
