Workbook

Sheet Rekapitulácia stavby
A1: Export Komplet | BA1: 2.0 | BT1: False | BU1: False | BV1: {1c8bb324-8bcb-4f75-bfb5-b97bb3243a5b}
AR2: >> skryté stĺpce << | BS2: 0,001 | BT2: 20
BS3: 0,001 | BT3: 20
D4: REKAPITULÁCIA STAVBY | AS4: v --- nižšie sa nachádzajú doplnkové a pomocné údaje k zostavám --- v | BE4: Návod na vyplnenie | BS4: 0,001
D5: Kód: | K5: 2019-08 | BE5: Meniť je možné iba bunky so žltým podfarbením!_x000D_ _x000D_ 1) na prvom liste Rekapitulácie stavby vyplňte v zostave_x000D_ _x000D_ a) Rekapitulácia stavby_x000D_ - údaje o Zhotoviteľovi_x000D_ (prenesú sa do ostatných zostáv aj v iných listoch)_x000D_ _x000D_ b) Rekapitulácia objektov stavby_x000D_ - potrebné Ostatné náklady_x000D_ _x000D_ 2) na vybraných listoch vyplňte v zostave_x000D_ _x000D_ a) Krycí list_x000D_ - údaje o Zhotoviteľovi, pokiaľ sa líšia od údajov o Zhotoviteľovi na Rekapitulácii stavby_x000D_ (údaje se prenesú do ostatných zostav v danom liste)_x000D_ _x000D_ b) Rekapitulácia rozpočtu_x000D_ - potrebné Ostatné náklady_x000D_ _x000D_ c) Celkové náklady za stavbu_x000D_ - ceny na položkách_x000D_ - množstvo, pokiaľ má žlté podfarbenie_x000D_ - a v prípade potreby poznámku (tá je v skrytom stĺpci) | BS5: 0,001
D6: Stavba: | K6: HOKEJBALOVÉ IHRISKO | BS6: 0,001
D7: JKSO: | AK7: KS: | BS7: 0,001
D8: Miesto: | K8: TREBIŠOV | AK8: Dátum: | AN8: Vyplň údaj | BS8: 0,001
BS9: 0,001
D10: Objednávateľ: | AK10: IČO: | BS10: 0,001
E11: MESTO TREBIŠOV | AK11: IČ DPH: | BS11: 0,001
BS12: 0,001
D13: Zhotoviteľ: | AK13: IČO: | AN13: Vyplň údaj | BS13: 0,001
E14: Vyplň údaj | AK14: IČ DPH: | AN14: Vyplň údaj | BS14: 0,001
BS15: False
D16: Projektant: | AK16: IČO: | BS16: False
E17: APRO s.r.o. TREBIŠOV | AK17: IČ DPH: | BS17: True
BS18: 0,01
D19: Spracovateľ: | AK19: IČO: | BS19: 0,01
AK20: IČ DPH: | BS20: True
D22: Poznámka:
D26: Cena bez DPH | AK26: =ROUND(AG94,2) -> 0
L28: Sadzba dane | W28: Základ dane | AK28: Výška dane
D29: DPH | F29: základná | L29: 0.2 | W29: =ROUND(AZ94, 2) -> 0 | AK29: =ROUND(AV94, 2) -> 0
F30: znížená | L30: 0.2 | W30: =ROUND(BA94, 2) -> 0 | AK30: =ROUND(AW94, 2) -> 0
F31: zákl. prenesená | L31: 0.2 | W31: =ROUND(BB94, 2) -> 0 | AK31: 0
F32: zníž. prenesená | L32: 0.2 | W32: =ROUND(BC94, 2) -> 0 | AK32: 0
F33: nulová | L33: 0 | W33: =ROUND(BD94, 2) -> 0 | AK33: 0
D35: Cena s DPH | T35: v | X35: EUR | AK35: =SUM(AK26:AK33) -> 0
D49: Projektant | AH49: Spracovateľ
D60: Dátum a podpis: | V60: Pečiatka | AH60: Dátum a podpis: | AM60: Pečiatka
D64: Objednávateľ | AH64: Zhotoviteľ
D75: Dátum a podpis: | V75: Pečiatka | AH75: Dátum a podpis: | AM75: Pečiatka
C82: REKAPITULÁCIA OBJEKTOV STAVBY
C84: Kód: | L84: =K5 -> 2019-08
C85: Stavba: | L85: =K6 -> HOKEJBALOVÉ IHRISKO
C87: Miesto: | L87: =IF(K8="","",K8) -> TREBIŠOV | AI87: Dátum: | AM87: =IF(AN8= "","",AN8) -> Vyplň údaj
C89: Objednávateľ: | L89: =IF(E11= "","",E11) -> MESTO TREBIŠOV | AI89: Projektant: | AM89: =IF(E17="","",E17) -> APRO s.r.o. TREBIŠOV | AS89: Informatívne údaje z listov zákaziek
C90: Zhotoviteľ: | L90: =IF(E14= "Vyplň údaj","",E14) | AI90: Spracovateľ: | AM90: =IF(E20="","",E20)
C92: Kód | I92: Popis | AG92: Cena bez DPH [EUR] | AN92: Cena s DPH [EUR] | AQ92: Typ | AS92: z toho Ostat._x000D_ náklady [EUR] | AT92: DPH [EUR] | AU92: Normohodiny [h] | AV92: DPH základná [EUR] | AW92: DPH znížená [EUR] | AX92: DPH základná prenesená_x000D_ [EUR] | AY92: DPH znížená prenesená_x000D_ [EUR] | AZ92: Základňa_x000D_ DPH základná | BA92: Základňa_x000D_ DPH znížená | BB92: Základňa_x000D_ DPH zákl. prenesená | BC92: Základňa_x000D_ DPH zníž. prenesená | BD92: Základňa_x000D_ DPH nulová
...

Sheet 01.1 - HOKEJBALOVÉ IHRISK...
L2: >> skryté stĺpce << | AT2: {551a5275-a5c6-42e8-ba18-2dd5578390f8}
AT3: 0
D4: KRYCÍ LIST ROZPOČTU | M4: v --- nižšie sa nachádzajú doplnkové a pomocné údaje k zostavám --- v | AT4: False
D6: Stavba:
E7: ='Rekapitulácia stavby'!K6 -> HOKEJBALOVÉ IHRISKO
D8: Objekt:
E9: 01 - SO 01 - HOKEJBALOVÉ IHRISKO
D10: Časť:
E11: 01.1 - HOKEJBALOVÉ IHRISKO + ASFALT. SPEVN. PLOCHA
D13: JKSO: | I13: KS:
D14: Miesto: | F14: TREBIŠOV | I14: Dátum: | J14: Vyplň údaj
D16: Objednávateľ: | I16: IČO:
E17: MESTO TREBIŠOV | I17: IČ DPH:
D19: Zhotoviteľ: | I19: IČO: | J19: ='Rekapitulácia stavby'!AN13 -> Vyplň údaj
E20: ='Rekapitulácia stavby'!E14 -> Vyplň údaj | I20: IČ DPH: | J20: ='Rekapitulácia stavby'!AN14 -> Vyplň údaj
D22: Projektant: | I22: IČO:
E23: APRO s.r.o. TREBIŠOV | I23: IČ DPH:
D25: Spracovateľ: | I25: IČO: | J25: =IF('Rekapitulácia stavby'!AN19="","",'Rekapitulácia stavby'!AN19)
E26: =IF('Rekapitulácia stavby'!E20="","",'Rekapitulácia stavby'!E20) | I26: IČ DPH: | J26: =IF('Rekapitulácia stavby'!AN20="","",'Rekapitulácia stavby'!AN20)
D28: Poznámka:
D32: Cena bez DPH | J32: =ROUND(J131, 2) -> 0
F34: Základ dane | I34: Sadzba dane | J34: Výška dane
D35: DPH | E35: základná | F35: =ROUND((SUM(BE131:BE163)), 2) -> 0 | I35: 0.2 | J35: =ROUND(((SUM(BE131:BE163))*I35), 2) -> 0
E36: znížená | F36: =ROUND((SUM(BF131:BF163)), 2) -> 0 | I36: 0.2 | J36: =ROUND(((SUM(BF131:BF163))*I36), 2) -> 0
E37: zákl. prenesená | F37: =ROUND((SUM(BG131:BG163)), 2) -> 0 | I37: 0.2 | J37: =0 -> 0
E38: zníž. prenesená | F38: =ROUND((SUM(BH131:BH163)), 2) -> 0 | I38: 0.2 | J38: =0 -> 0
E39: nulová | F39: =ROUND((SUM(BI131:BI163)), 2) -> 0 | I39: 0 | J39: =0 -> 0
D41: Cena s DPH | G41: v | H41: EUR | J41: =SUM(J32:J39) -> 0
D50: Projektant | G50: Spracovateľ
D61: Dátum a podpis: | F61: Pečiatka | G61: Dátum a podpis: | J61: Pečiatka
D65: Objednávateľ | G65: Zhotoviteľ
D76: Dátum a podpis: | F76: Pečiatka | G76: Dátum a podpis: | J76: Pečiatka
C82: REKAPITULÁCIA ROZPOČTU
C84: Stavba:
E85: =E7 -> HOKEJBALOVÉ IHRISKO
C86: Objekt:
E87: 01 - SO 01 - HOKEJBALOVÉ IHRISKO
C88: Časť:
E89: =E11 -> 01.1 - HOKEJBALOVÉ IHRISKO + ASFALT. SPEVN. PLOCHA
C91: Miesto: | F91: =F14 -> TREBIŠOV | I91: Dátum: | J91: =IF(J14="","",J14) -> Vyplň údaj
...

Sheet Hárok1

Sheet 01.2 - OPLOTENIE + ZELEŇ
L2: >> skryté stĺpce << | AT2: {e210c1fe-873c-4ff4-bcde-36c27416f644}
AT3: 0
D4: KRYCÍ LIST ROZPOČTU | M4: v --- nižšie sa nachádzajú doplnkové a pomocné údaje k zostavám --- v | AT4: False
D6: Stavba:
E7: ='Rekapitulácia stavby'!K6 -> HOKEJBALOVÉ IHRISKO
D8: Objekt:
E9: 01 - SO 01 - HOKEJBALOVÉ IHRISKO
D10: Časť:
E11: 01.2 - OPLOTENIE + ZELEŇ
D13: JKSO: | I13: KS:
D14: Miesto: | F14: TREBIŠOV | I14: Dátum: | J14: ='Rekapitulácia stavby'!AN8 -> Vyplň údaj
D16: Objednávateľ: | I16: IČO:
E17: MESTO TREBIŠOV | I17: IČ DPH:
D19: Zhotoviteľ: | I19: IČO: | J19: ='Rekapitulácia stavby'!AN13 -> Vyplň údaj
E20: ='Rekapitulácia stavby'!E14 -> Vyplň údaj | I20: IČ DPH: | J20: ='Rekapitulácia stavby'!AN14 -> Vyplň údaj
D22: Projektant: | I22: IČO:
E23: APRO s.r.o. TREBIŠOV | I23: IČ DPH:
D25: Spracovateľ: | I25: IČO: | J25: =IF('Rekapitulácia stavby'!AN19="","",'Rekapitulácia stavby'!AN19)
E26: =IF('Rekapitulácia stavby'!E20="","",'Rekapitulácia stavby'!E20) | I26: IČ DPH: | J26: =IF('Rekapitulácia stavby'!AN20="","",'Rekapitulácia stavby'!AN20)
D28: Poznámka:
D32: Cena bez DPH | J32: =ROUND(J130, 2) -> 0
F34: Základ dane | I34: Sadzba dane | J34: Výška dane
D35: DPH | E35: základná | F35: =ROUND((SUM(BE130:BE174)), 2) -> 0 | I35: 0.2 | J35: =ROUND(((SUM(BE130:BE174))*I35), 2) -> 0
E36: znížená | F36: =ROUND((SUM(BF130:BF174)), 2) -> 0 | I36: 0.2 | J36: =ROUND(((SUM(BF130:BF174))*I36), 2) -> 0
E37: zákl. prenesená | F37: =ROUND((SUM(BG130:BG174)), 2) -> 0 | I37: 0.2 | J37: =0 -> 0
E38: zníž. prenesená | F38: =ROUND((SUM(BH130:BH174)), 2) -> 0 | I38: 0.2 | J38: =0 -> 0
E39: nulová | F39: =ROUND((SUM(BI130:BI174)), 2) -> 0 | I39: 0 | J39: =0 -> 0
D41: Cena s DPH | G41: v | H41: EUR | J41: =SUM(J32:J39) -> 0
D50: Projektant | G50: Spracovateľ
D61: Dátum a podpis: | F61: Pečiatka | G61: Dátum a podpis: | J61: Pečiatka
D65: Objednávateľ | G65: Zhotoviteľ
D76: Dátum a podpis: | F76: Pečiatka | G76: Dátum a podpis: | J76: Pečiatka
C82: REKAPITULÁCIA ROZPOČTU
C84: Stavba:
E85: =E7 -> HOKEJBALOVÉ IHRISKO
C86: Objekt:
E87: 01 - SO 01 - HOKEJBALOVÉ IHRISKO
C88: Časť:
E89: =E11 -> 01.2 - OPLOTENIE + ZELEŇ
C91: Miesto: | F91: =F14 -> TREBIŠOV | I91: Dátum: | J91: =IF(J14="","",J14) -> Vyplň údaj
...

Sheet 02.1 - NN ELEKTRICKÁ PRÍP...
L2: >> skryté stĺpce << | AT2: {623551b3-fce5-4083-b533-a13451c05869}
AT3: 0
D4: KRYCÍ LIST ROZPOČTU | M4: v --- nižšie sa nachádzajú doplnkové a pomocné údaje k zostavám --- v | AT4: False
D6: Stavba:
E7: ='Rekapitulácia stavby'!K6 -> HOKEJBALOVÉ IHRISKO
D8: Objekt:
E9: 02 - SO 02 - NN ELEKTRICKÁ PRÍPOJKA
D10: Časť:
E11: 02.1 - NN ELEKTRICKÁ PRÍPOJKA
D13: JKSO: | I13: KS:
D14: Miesto: | F14: TREBIŠOV | I14: Dátum: | J14: ='Rekapitulácia stavby'!AN8 -> Vyplň údaj
D16: Objednávateľ: | I16: IČO:
E17: MESTO TREBIŠOV | I17: IČ DPH:
D19: Zhotoviteľ: | I19: IČO: | J19: ='Rekapitulácia stavby'!AN13 -> Vyplň údaj
E20: ='Rekapitulácia stavby'!E14 -> Vyplň údaj | I20: IČ DPH: | J20: ='Rekapitulácia stavby'!AN14 -> Vyplň údaj
D22: Projektant: | I22: IČO:
E23: APRO s.r.o. TREBIŠOV | I23: IČ DPH:
D25: Spracovateľ: | I25: IČO: | J25: =IF('Rekapitulácia stavby'!AN19="","",'Rekapitulácia stavby'!AN19)
E26: =IF('Rekapitulácia stavby'!E20="","",'Rekapitulácia stavby'!E20) | I26: IČ DPH: | J26: =IF('Rekapitulácia stavby'!AN20="","",'Rekapitulácia stavby'!AN20)
D28: Poznámka:
D32: Cena bez DPH | J32: =ROUND(J122, 2) -> 0
F34: Základ dane | I34: Sadzba dane | J34: Výška dane
D35: DPH | E35: základná | F35: =ROUND((SUM(BE122:BE125)), 2) -> 0 | I35: 0.2 | J35: =ROUND(((SUM(BE122:BE125))*I35), 2) -> 0
E36: znížená | F36: =ROUND((SUM(BF122:BF125)), 2) -> 0 | I36: 0.2 | J36: =ROUND(((SUM(BF122:BF125))*I36), 2) -> 0
E37: zákl. prenesená | F37: =ROUND((SUM(BG122:BG125)), 2) -> 0 | I37: 0.2 | J37: =0 -> 0
E38: zníž. prenesená | F38: =ROUND((SUM(BH122:BH125)), 2) -> 0 | I38: 0.2 | J38: =0 -> 0
E39: nulová | F39: =ROUND((SUM(BI122:BI125)), 2) -> 0 | I39: 0 | J39: =0 -> 0
D41: Cena s DPH | G41: v | H41: EUR | J41: =SUM(J32:J39) -> 0
D50: Projektant | G50: Spracovateľ
D61: Dátum a podpis: | F61: Pečiatka | G61: Dátum a podpis: | J61: Pečiatka
D65: Objednávateľ | G65: Zhotoviteľ
D76: Dátum a podpis: | F76: Pečiatka | G76: Dátum a podpis: | J76: Pečiatka
C82: REKAPITULÁCIA ROZPOČTU
C84: Stavba:
E85: =E7 -> HOKEJBALOVÉ IHRISKO
C86: Objekt:
E87: 02 - SO 02 - NN ELEKTRICKÁ PRÍPOJKA
C88: Časť:
E89: =E11 -> 02.1 - NN ELEKTRICKÁ PRÍPOJKA
C91: Miesto: | F91: =F14 -> TREBIŠOV | I91: Dátum: | J91: =IF(J14="","",J14) -> Vyplň údaj
...

Sheet 02.2 - ODBERNÉ ELEKTRICKÉ...
L2: >> skryté stĺpce << | AT2: {f2e7b224-ac2b-4e6f-b4e0-46bd7d443d4a}
AT3: 0
D4: KRYCÍ LIST ROZPOČTU | M4: v --- nižšie sa nachádzajú doplnkové a pomocné údaje k zostavám --- v | AT4: False
D6: Stavba:
E7: ='Rekapitulácia stavby'!K6 -> HOKEJBALOVÉ IHRISKO
D8: Objekt:
E9: 02 - SO 02 - NN ELEKTRICKÁ PRÍPOJKA
D10: Časť:
E11: 02.2 - ODBERNÉ ELEKTRICKÉ ZARIADENIE
D13: JKSO: | I13: KS:
D14: Miesto: | F14: TREBIŠOV | I14: Dátum: | J14: ='Rekapitulácia stavby'!AN8 -> Vyplň údaj
D16: Objednávateľ: | I16: IČO:
E17: MESTO TREBIŠOV | I17: IČ DPH:
D19: Zhotoviteľ: | I19: IČO: | J19: ='Rekapitulácia stavby'!AN13 -> Vyplň údaj
E20: ='Rekapitulácia stavby'!E14 -> Vyplň údaj | I20: IČ DPH: | J20: ='Rekapitulácia stavby'!AN14 -> Vyplň údaj
D22: Projektant: | I22: IČO:
E23: APRO s.r.o. TREBIŠOV | I23: IČ DPH:
D25: Spracovateľ: | I25: IČO: | J25: =IF('Rekapitulácia stavby'!AN19="","",'Rekapitulácia stavby'!AN19)
E26: =IF('Rekapitulácia stavby'!E20="","",'Rekapitulácia stavby'!E20) | I26: IČ DPH: | J26: =IF('Rekapitulácia stavby'!AN20="","",'Rekapitulácia stavby'!AN20)
D28: Poznámka:
D32: Cena bez DPH | J32: =ROUND(J122, 2) -> 0
F34: Základ dane | I34: Sadzba dane | J34: Výška dane
D35: DPH | E35: základná | F35: =ROUND((SUM(BE122:BE125)), 2) -> 0 | I35: 0.2 | J35: =ROUND(((SUM(BE122:BE125))*I35), 2) -> 0
E36: znížená | F36: =ROUND((SUM(BF122:BF125)), 2) -> 0 | I36: 0.2 | J36: =ROUND(((SUM(BF122:BF125))*I36), 2) -> 0
E37: zákl. prenesená | F37: =ROUND((SUM(BG122:BG125)), 2) -> 0 | I37: 0.2 | J37: =0 -> 0
E38: zníž. prenesená | F38: =ROUND((SUM(BH122:BH125)), 2) -> 0 | I38: 0.2 | J38: =0 -> 0
E39: nulová | F39: =ROUND((SUM(BI122:BI125)), 2) -> 0 | I39: 0 | J39: =0 -> 0
D41: Cena s DPH | G41: v | H41: EUR | J41: =SUM(J32:J39) -> 0
D50: Projektant | G50: Spracovateľ
D61: Dátum a podpis: | F61: Pečiatka | G61: Dátum a podpis: | J61: Pečiatka
D65: Objednávateľ | G65: Zhotoviteľ
D76: Dátum a podpis: | F76: Pečiatka | G76: Dátum a podpis: | J76: Pečiatka
C82: REKAPITULÁCIA ROZPOČTU
C84: Stavba:
E85: =E7 -> HOKEJBALOVÉ IHRISKO
C86: Objekt:
E87: 02 - SO 02 - NN ELEKTRICKÁ PRÍPOJKA
C88: Časť:
E89: =E11 -> 02.2 - ODBERNÉ ELEKTRICKÉ ZARIADENIE
C91: Miesto: | F91: =F14 -> TREBIŠOV | I91: Dátum: | J91: =IF(J14="","",J14) -> Vyplň údaj
...
