Workbook

Sheet Rekapitulácia stavby
A1: Export Komplet | BA1: 2.0 | BT1: False | BU1: False | BV1: {b20950f5-592c-4d2a-a8a9-150ca6a7448e}
AR2: >> skryté stĺpce << | BS2: 0,001 | BT2: 20
BS3: 0,001 | BT3: 20
D4: REKAPITULÁCIA STAVBY | AS4: v --- nižšie sa nachádzajú doplnkové a pomocné údaje k zostavám --- v | BS4: 0,001
D5: Kód: | K5: 13794 | BS5: 0,001
D6: Stavba: | K6: Oprava strešnej krytiny - Športova hala | BS6: 0,001
D7: JKSO: | AK7: KS: | BS7: 0,001
D8: Miesto: | K8: Trebišov | AK8: Dátum: | AN8: 6. 11. 2019 | BS8: 0,001
BS9: 0,001
D10: Objednávateľ: | AK10: IČO: | BS10: 0,001
AK11: IČ DPH: | BS11: 0,001
BS12: 0,001
D13: Zhotoviteľ: | AK13: IČO: | BS13: 0,001
AK14: IČ DPH: | BS14: 0,001
BS15: False
D16: Projektant: | AK16: IČO: | BS16: False
AK17: IČ DPH: | BS17: True
BS18: 0,01
D19: Spracovateľ: | AK19: IČO: | BS19: 0,01
AK20: IČ DPH: | BS20: True
D22: Poznámka:
D26: Cena bez DPH | AK26: =ROUND(AG94,2) -> 0
L28: Sadzba dane | W28: Základ dane | AK28: Výška dane
D29: DPH | F29: základná | L29: 0.2 | W29: =ROUND(AZ94, 2) -> 0 | AK29: =ROUND(AV94, 2) -> 0
F30: znížená | L30: 0.2 | W30: =ROUND(BA94, 2) -> 0 | AK30: =ROUND(AW94, 2) -> 0
F31: zákl. prenesená | L31: 0.2 | W31: =ROUND(BB94, 2) -> 0 | AK31: 0
F32: zníž. prenesená | L32: 0.2 | W32: =ROUND(BC94, 2) -> 0 | AK32: 0
F33: nulová | L33: 0 | W33: =ROUND(BD94, 2) -> 0 | AK33: 0
D35: Cena s DPH | T35: v | X35: EUR | AK35: =SUM(AK26:AK33) -> 0
D49: Projektant | AH49: Spracovateľ
D60: Dátum a podpis: | V60: Pečiatka | AH60: Dátum a podpis: | AM60: Pečiatka
D64: Objednávateľ | AH64: Zhotoviteľ
D75: Dátum a podpis: | V75: Pečiatka | AH75: Dátum a podpis: | AM75: Pečiatka
C82: REKAPITULÁCIA OBJEKTOV STAVBY
C84: Kód: | L84: =K5 -> 13794
C85: Stavba: | L85: =K6 -> Oprava strešnej krytiny - Športova hala
C87: Miesto: | L87: =IF(K8="","",K8) -> Trebišov | AI87: Dátum: | AM87: =IF(AN8= "","",AN8) -> 6. 11. 2019
C89: Objednávateľ: | L89: =IF(E11= "","",E11) | AI89: Projektant: | AM89: =IF(E17="","",E17) | AS89: Informatívne údaje z listov zákaziek
C90: Zhotoviteľ: | L90: =IF(E14="","",E14) | AI90: Spracovateľ: | AM90: =IF(E20="","",E20)
C92: Kód | I92: Popis | AG92: Cena bez DPH [EUR] | AN92: Cena s DPH [EUR] | AQ92: Typ | AS92: z toho Ostat._x000D_ náklady [EUR] | AT92: DPH [EUR] | AU92: Normohodiny [h] | AV92: DPH základná [EUR] | AW92: DPH znížená [EUR] | AX92: DPH základná prenesená_x000D_ [EUR] | AY92: DPH znížená prenesená_x000D_ [EUR] | AZ92: Základňa_x000D_ DPH základná | BA92: Základňa_x000D_ DPH znížená | BB92: Základňa_x000D_ DPH zákl. prenesená | BC92: Základňa_x000D_ DPH zníž. prenesená | BD92: Základňa_x000D_ DPH nulová
C94: Náklady z rozpočtov | AG94: =ROUND(AG95,2) -> 0 | AN94: =SUM(AG94,AT94) -> 0 | AS94: =ROUND(AS95,2) -> 0 | AT94: =ROUND(SUM(AV94:AW94),2) -> 0 | AU94: =ROUND(AU95,5) -> 812.79197 | AV94: =ROUND(AZ94*L29,2) -> 0 | AW94: =ROUND(BA94*L30,2) -> 0 | AX94: =ROUND(BB94*L29,2) -> 0 | AY94: =ROUND(BC94*L30,2) -> 0 | AZ94: =ROUND(AZ95,2) -> 0 | BA94: =ROUND(BA95,2) -> 0 | BB94: =ROUND(BB95,2) -> 0 | BC94: =ROUND(BC95,2) -> 0 | BD94: =ROUND(BD95,2) -> 0 | BS94: D | BT94: 0 | BV94: IMPORT | BW94: {b20950f5-592c-4d2a-a8a9-150ca6a7448e} | BX94: {00000000-0000-0000-0000-000000000000}
A95: / | D95: 13794 | J95: Oprava strešnej krytiny - Športova hala | AG95: ='13794 - Oprava strešnej k...'!J28 -> 0 | AN95: =SUM(AG95,AT95) -> 0 | AQ95: STA | AS95: 0 | AT95: =ROUND(SUM(AV95:AW95),2) -> 0 | AU95: ='13794 - Oprava strešnej k...'!P119 -> 812.79197 | AV95: ='13794 - Oprava strešnej k...'!J31 -> 0 | AW95: ='13794 - Oprava strešnej k...'!J32 -> 0 | AX95: ='13794 - Oprava strešnej k...'!J33 -> 0 | AY95: ='13794 - Oprava strešnej k...'!J34 -> 0 | AZ95: ='13794 - Oprava strešnej k...'!F31 -> 0 | BA95: ='13794 - Oprava strešnej k...'!F32 -> 0 | BB95: ='13794 - Oprava strešnej k...'!F33 -> 0 | BC95: ='13794 - Oprava strešnej k...'!F34 -> 0 | BD95: ='13794 - Oprava strešnej k...'!F35 -> 0 | BT95: 1 | BU95: ###NOINSERT### | BV95: IMPORT | BW95: {b20950f5-592c-4d2a-a8a9-150ca6a7448e} | BX95: {00000000-0000-0000-0000-000000000000}

Sheet 13794 - Oprava strešnej k...
L2: >> skryté stĺpce << | AT2: {b20950f5-592c-4d2a-a8a9-150ca6a7448e}
AT3: 0
D4: KRYCÍ LIST ROZPOČTU | M4: v --- nižšie sa nachádzajú doplnkové a pomocné údaje k zostavám --- v | AT4: False
D6: Stavba:
E7: Oprava strešnej krytiny - Športova hala
D9: JKSO: | I9: KS:
D10: Miesto: | F10: Trebišov | I10: Dátum: | J10: 43775
D12: Objednávateľ: | I12: IČO: | J12: =IF('Rekapitulácia stavby'!AN10="","",'Rekapitulácia stavby'!AN10)
E13: =IF('Rekapitulácia stavby'!E11="","",'Rekapitulácia stavby'!E11) | I13: IČ DPH: | J13: =IF('Rekapitulácia stavby'!AN11="","",'Rekapitulácia stavby'!AN11)
D15: Zhotoviteľ: | I15: IČO: | J15: ='Rekapitulácia stavby'!AN13
E16: ='Rekapitulácia stavby'!E14 | I16: IČ DPH: | J16: ='Rekapitulácia stavby'!AN14
D18: Projektant: | I18: IČO: | J18: =IF('Rekapitulácia stavby'!AN16="","",'Rekapitulácia stavby'!AN16)
E19: =IF('Rekapitulácia stavby'!E17="","",'Rekapitulácia stavby'!E17) | I19: IČ DPH: | J19: =IF('Rekapitulácia stavby'!AN17="","",'Rekapitulácia stavby'!AN17)
D21: Spracovateľ: | I21: IČO: | J21: =IF('Rekapitulácia stavby'!AN19="","",'Rekapitulácia stavby'!AN19)
E22: =IF('Rekapitulácia stavby'!E20="","",'Rekapitulácia stavby'!E20) | I22: IČ DPH: | J22: =IF('Rekapitulácia stavby'!AN20="","",'Rekapitulácia stavby'!AN20)
D24: Poznámka:
D28: Cena bez DPH
F30: Základ dane | I30: Sadzba dane | J30: Výška dane
D31: DPH | E31: základná | F31: =ROUND((SUM(BE119:BE160)), 2) -> 0 | I31: 0.2 | J31: =ROUND(((SUM(BE119:BE160))*I31), 2) -> 0
E32: znížená | I32: 0.2
E33: zákl. prenesená | F33: =ROUND((SUM(BG119:BG160)), 2) -> 0 | I33: 0.2 | J33: =0 -> 0
E34: zníž. prenesená | F34: =ROUND((SUM(BH119:BH160)), 2) -> 0 | I34: 0.2 | J34: =0 -> 0
E35: nulová | F35: =ROUND((SUM(BI119:BI160)), 2) -> 0 | I35: 0 | J35: =0 -> 0
D37: Cena s DPH | G37: v | H37: EUR | J37: =SUM(J28:J35) -> 0
D50: Projektant | G50: Spracovateľ
D61: Dátum a podpis: | F61: Pečiatka | G61: Dátum a podpis: | J61: Pečiatka
D65: Objednávateľ | G65: Zhotoviteľ
D76: Dátum a podpis: | F76: Pečiatka | G76: Dátum a podpis: | J76: Pečiatka
C82: REKAPITULÁCIA ROZPOČTU
C84: Stavba:
E85: =E7 -> Oprava strešnej krytiny - Športova hala
C87: Miesto: | F87: =F10 -> Trebišov | I87: Dátum: | J87: 43775
C89: Objednávateľ: | F89: =E13 | I89: Projektant: | J89: =E19
C90: Zhotoviteľ: | F90: =IF(E16="","",E16) | I90: Spracovateľ: | J90: =E22
C92: Kód dielu - Popis | J92: Cena celkom [EUR]
C94: Náklady z rozpočtu | AU94: -1
D95: PSV - Práce a dodávky PSV
D96: 712 - Izolácie striech
D97: 713 - Izolácie tepelné
D98: 764 - Konštrukcie klampiarske
D99: 767 - Konštrukcie doplnkové kovové
D100: M - Práce a dodávky M
D101: 21-M - Elektromontáže
C108: ROZPOČET
C110: Stavba:
E111: =E7 -> Oprava strešnej krytiny - Športova hala
C113: Miesto: | F113: =F10 -> Trebišov | I113: Dátum: | J113: =IF(J10="","",J10) -> 43775
C115: Objednávateľ: | F115: =E13 | I115: Projektant: | J115: =E19
C116: Zhotoviteľ: | F116: =IF(E16="","",E16) | I116: Spracovateľ: | J116: =E22
C118: PČ | D118: Typ | E118: Kód | F118: Popis | G118: MJ | H118: Množstvo | I118: J.cena [EUR] | J118: Cena celkom [EUR] | K118: Cenová sústava | N118: DPH | O118: J. Nh [h] | P118: Nh celkom [h] | Q118: J. hmotnosť [t] | R118: Hmotnosť celkom [t] | S118: J. suť [t] | T118: Suť Celkom [t]
C119: Náklady z rozpočtu | P119: =P120+P155 -> 812.79197 | R119: =R120+R155 -> 4.6949681 | T119: =T120+T155 -> 8.351833 | AT119: D | AU119: -1 | BK119: =BK120+BK155 -> 0
D120: D | E120: PSV | F120: Práce a dodávky PSV | P120: =P121+P135+P147+P151 -> 796.63697 | R120: =R121+R135+R147+R151 -> 4.6864181 | T120: =T121+T135+T147+T151 -> 8.351833 | AR120: 2 | AT120: D | AU120: 0 | AY120: ROZPOCET | BK120: =BK121+BK135+BK147+BK151 -> 0
D121: D | E121: 712 | F121: Izolácie striech | P121: =SUM(P122:P134) -> 233.12263 | R121: =SUM(R122:R134) -> 2.1859799 | T121: =SUM(T122:T134) -> 0 | AR121: 2 | AT121: D | AU121: 1 | AY121: ROZPOCET | BK121: =SUM(BK122:BK134) -> 0
C122: 1 | D122: K | E122: 712370070 | F122: Zhotovenie povlakovej krytiny striech plochých do 10° PVC-P fóliou upevnenou prikotvením so zvarením spoju | G122: m2 | H122: 489.825 | N122: znížená | O122: 0.244 | P122: =O122*H122 -> 119.5173 | Q122: 0 | R122: =Q122*H122 -> 0 | S122: 0 | T122: =S122*H122 -> 0 | AR122: 16 | AT122: K | AU122: 2 | AY122: ROZPOCET | BE122: =IF(N122="základná",J122,0) -> 0 | BF122: =IF(N122="znížená",J122,0) -> 0 | BG122: =IF(N122="zákl. prenesená",J122,0) -> 0 | BH122: =IF(N122="zníž. prenesená",J122,0) -> 0 | BI122: =IF(N122="nulová",J122,0) -> 0 | BJ122: 2 | BK122: =ROUND(I122*H122,3) -> 0 | BL122: 16 | BM122: 1705182158
C123: 2 | D123: M | E123: 283220002700 | F123: Strešná hydroizolačná fólia PVC-P SIKAPLAN 18 G, hr. 1,5 mm, rozmer 2x15 m, vystužená skleným vláknom, pre kotvený systém, farba tmavosivá | G123: m2 | H123: 563.299 | N123: znížená | O123: 0 | P123: =O123*H123 -> 0 | Q123: 0.0022 | R123: =Q123*H123 -> 1.2392578 | S123: 0 | T123: =S123*H123 -> 0 | AR123: 32 | AT123: M | AU123: 2 | AY123: ROZPOCET | BE123: =IF(N123="základná",J123,0) -> 0 | BF123: =IF(N123="znížená",J123,0) -> 0 | BG123: =IF(N123="zákl. prenesená",J123,0) -> 0 | BH123: =IF(N123="zníž. prenesená",J123,0) -> 0 | BI123: =IF(N123="nulová",J123,0) -> 0 | BJ123: 2 | BK123: =ROUND(I123*H123,3) -> 0 | BL123: 16 | BM123: 1549186600
C124: 3 | D124: M | E124: 311970001500 | F124: Vrut FATRAFOL SK-RB Power do dĺžky 150 mm na upevnenie do dosiek POLSID a HERAKLID, FATRA IZOLFA | G124: ks | H124: 1959.3 | N124: znížená | O124: 0 | P124: =O124*H124 -> 0 | Q124: 0.00015 | R124: =Q124*H124 -> 0.293895 | S124: 0 | T124: =S124*H124 -> 0 | AR124: 32 | AT124: M | AU124: 2 | AY124: ROZPOCET | BE124: =IF(N124="základná",J124,0) -> 0 | BF124: =IF(N124="znížená",J124,0) -> 0 | BG124: =IF(N124="zákl. prenesená",J124,0) -> 0 | BH124: =IF(N124="zníž. prenesená",J124,0) -> 0 | BI124: =IF(N124="nulová",J124,0) -> 0 | BJ124: 2 | BK124: =ROUND(I124*H124,3) -> 0 | BL124: 16 | BM124: -1808574216
D125: VV | F125: 489,825*4 'Přepočítané koeficientom množstva | H125: 1959.3 | AT125: VV | AU125: 2 | AV125: 2 | AW125: False | AX125: 1 | AY125: ROZPOCET
C126: 4 | D126: K | E126: 712391175 | F126: Pripevnenie povlakovej krytiny na plochých strechách do 10° kotviacimi pásikmi, uholníkmi | G126: m | H126: 562.5 | N126: znížená | O126: 0.17036 | P126: =O126*H126 -> 95.8275 | Q126: 2e-05 | R126: =Q126*H126 -> 0.01125 | S126: 0 | T126: =S126*H126 -> 0 | AR126: 16 | AT126: K | AU126: 2 | AY126: ROZPOCET | BE126: =IF(N126="základná",J126,0) -> 0 | BF126: =IF(N126="znížená",J126,0) -> 0 | BG126: =IF(N126="zákl. prenesená",J126,0) -> 0 | BH126: =IF(N126="zníž. prenesená",J126,0) -> 0 | BI126: =IF(N126="nulová",J126,0) -> 0 | BJ126: 2 | BK126: =ROUND(I126*H126,3) -> 0 | BL126: 16 | BM126: -1963678058
C127: 5 | D127: M | E127: 311990008400 | F127: Kotviaci profil Sarnabar 6/15 z galvanizovanej ocele na mechanickú fixáciu vodonepriepustných fólií, SIKA | G127: m | H127: 590.625 | N127: znížená | O127: 0 | P127: =O127*H127 -> 0 | Q127: 0.0007 | R127: =Q127*H127 -> 0.4134375 | S127: 0 | T127: =S127*H127 -> 0 | AR127: 32 | AT127: M | AU127: 2 | AY127: ROZPOCET | BE127: =IF(N127="základná",J127,0) -> 0 | BF127: =IF(N127="znížená",J127,0) -> 0 | BG127: =IF(N127="zákl. prenesená",J127,0) -> 0 | BH127: =IF(N127="zníž. prenesená",J127,0) -> 0 | BI127: =IF(N127="nulová",J127,0) -> 0 | BJ127: 2 | BK127: =ROUND(I127*H127,3) -> 0 | BL127: 16 | BM127: -598066205
D128: VV | F128: 562,5*1,05 'Přepočítané koeficientom množstva | H128: 590.625 | AT128: VV | AU128: 2 | AV128: 2 | AW128: False | AX128: 1 | AY128: ROZPOCET
C129: 6 | D129: K | E129: 712960010 | F129: Osadenie hotovej strešnej vpuste na streche | G129: ks | H129: 2 | N129: znížená | O129: 0.23862 | P129: =O129*H129 -> 0.47724 | Q129: 7e-05 | R129: =Q129*H129 -> 0.00014 | S129: 0 | T129: =S129*H129 -> 0 | AR129: 16 | AT129: K | AU129: 2 | AY129: ROZPOCET | BE129: =IF(N129="základná",J129,0) -> 0 | BF129: =IF(N129="znížená",J129,0) -> 0 | BG129: =IF(N129="zákl. prenesená",J129,0) -> 0 | BH129: =IF(N129="zníž. prenesená",J129,0) -> 0 | BI129: =IF(N129="nulová",J129,0) -> 0 | BJ129: 2 | BK129: =ROUND(I129*H129,3) -> 0 | BL129: 16 | BM129: 1816370787
C130: 7 | D130: M | E130: 2866301007 | F130: TOPVET prvky na opracovanie zvislých prestupov cez strešný plašť | G130: ks | H130: 2 | N130: znížená | O130: 0 | P130: =O130*H130 -> 0 | Q130: 0.00134 | R130: =Q130*H130 -> 0.00268 | S130: 0 | T130: =S130*H130 -> 0 | AR130: 32 | AT130: M | AU130: 2 | AY130: ROZPOCET | BE130: =IF(N130="základná",J130,0) -> 0 | BF130: =IF(N130="znížená",J130,0) -> 0 | BG130: =IF(N130="zákl. prenesená",J130,0) -> 0 | BH130: =IF(N130="zníž. prenesená",J130,0) -> 0 | BI130: =IF(N130="nulová",J130,0) -> 0 | BJ130: 2 | BK130: =ROUND(I130*H130,3) -> 0 | BL130: 16 | BM130: -126590178
C131: 8 | D131: K | E131: 712990040 | F131: Položenie geotextílie vodorovne alebo zvislo na strechy ploché do 10° | G131: m2 | H131: 489.825 | N131: znížená | O131: 0.02805 | P131: =O131*H131 -> 13.739591 | Q131: 0 | R131: =Q131*H131 -> 0 | S131: 0 | T131: =S131*H131 -> 0 | AR131: 16 | AT131: K | AU131: 2 | AY131: ROZPOCET | BE131: =IF(N131="základná",J131,0) -> 0 | BF131: =IF(N131="znížená",J131,0) -> 0 | BG131: =IF(N131="zákl. prenesená",J131,0) -> 0 | BH131: =IF(N131="zníž. prenesená",J131,0) -> 0 | BI131: =IF(N131="nulová",J131,0) -> 0 | BJ131: 2 | BK131: =ROUND(I131*H131,3) -> 0 | BL131: 16 | BM131: 46567063
C132: 9 | D132: M | E132: 693110001200 | F132: Geotextília polypropylénová Tatratex GTX N PP 300, šírka 1,75-3,5 m, dĺžka 90 m, hrúbka 2,7 mm, netkaná, MIVA | G132: m2 | H132: 563.299 | N132: znížená | O132: 0 | P132: =O132*H132 -> 0 | Q132: 0.0004 | R132: =Q132*H132 -> 0.2253196 | S132: 0 | T132: =S132*H132 -> 0 | AR132: 32 | AT132: M | AU132: 2 | AY132: ROZPOCET | BE132: =IF(N132="základná",J132,0) -> 0 | BF132: =IF(N132="znížená",J132,0) -> 0 | BG132: =IF(N132="zákl. prenesená",J132,0) -> 0 | BH132: =IF(N132="zníž. prenesená",J132,0) -> 0 | BI132: =IF(N132="nulová",J132,0) -> 0 | BJ132: 2 | BK132: =ROUND(I132*H132,3) -> 0 | BL132: 16 | BM132: -1069014791
D133: VV | F133: 489,825*1,15 'Přepočítané koeficientom množstva | H133: 563.299 | AT133: VV | AU133: 2 | AV133: 2 | AW133: False | AX133: 1 | AY133: ROZPOCET
C134: 10 | D134: K | E134: 998712102 | F134: Presun hmôt pre izoláciu povlakovej krytiny v objektoch výšky nad 6 do 12 m | G134: t | H134: 2.186 | N134: znížená | O134: 1.629 | P134: =O134*H134 -> 3.560994 | Q134: 0 | R134: =Q134*H134 -> 0 | S134: 0 | T134: =S134*H134 -> 0 | AR134: 16 | AT134: K | AU134: 2 | AY134: ROZPOCET | BE134: =IF(N134="základná",J134,0) -> 0 | BF134: =IF(N134="znížená",J134,0) -> 0 | BG134: =IF(N134="zákl. prenesená",J134,0) -> 0 | BH134: =IF(N134="zníž. prenesená",J134,0) -> 0 | BI134: =IF(N134="nulová",J134,0) -> 0 | BJ134: 2 | BK134: =ROUND(I134*H134,3) -> 0 | BL134: 16 | BM134: 1236012708
D135: D | E135: 713 | F135: Izolácie tepelné | P135: =SUM(P136:P146) -> 56.139551 | R135: =SUM(R136:R146) -> 1.8147122 | T135: =SUM(T136:T146) -> 0 | AR135: 2 | AT135: D | AU135: 1 | AY135: ROZPOCET | BK135: =SUM(BK136:BK146) -> 0
C136: 11 | D136: K | E136: 713112111 | F136: Montáž tepelnej izolácie stropov polystyrénom, vrchom kladenou voľne | G136: m2 | H136: 363.085 | N136: znížená | O136: 0.0991116 | P136: =O136*H136 -> 35.985935 | Q136: 0 | R136: =Q136*H136 -> 0 | S136: 0 | T136: =S136*H136 -> 0 | AR136: 16 | AT136: K | AU136: 2 | AY136: ROZPOCET | BE136: =IF(N136="základná",J136,0) -> 0 | BF136: =IF(N136="znížená",J136,0) -> 0 | BG136: =IF(N136="zákl. prenesená",J136,0) -> 0 | BH136: =IF(N136="zníž. prenesená",J136,0) -> 0 | BI136: =IF(N136="nulová",J136,0) -> 0 | BJ136: 2 | BK136: =ROUND(I136*H136,3) -> 0 | BL136: 16 | BM136: 1106995465
C137: 12 | D137: M | E137: 283720001200 | F137: Podlahový polystyrén EPS 150 S, hr. 80 mm, PCI | G137: m2 | H137: 370.347 | N137: znížená | O137: 0 | P137: =O137*H137 -> 0 | Q137: 0.00212 | R137: =Q137*H137 -> 0.78513564 | S137: 0 | T137: =S137*H137 -> 0 | AR137: 32 | AT137: M | AU137: 2 | AY137: ROZPOCET | BE137: =IF(N137="základná",J137,0) -> 0 | BF137: =IF(N137="znížená",J137,0) -> 0 | BG137: =IF(N137="zákl. prenesená",J137,0) -> 0 | BH137: =IF(N137="zníž. prenesená",J137,0) -> 0 | BI137: =IF(N137="nulová",J137,0) -> 0 | BJ137: 2 | BK137: =ROUND(I137*H137,3) -> 0 | BL137: 16 | BM137: 1166632952
D138: VV | F138: 363,085*1,02 'Přepočítané koeficientom množstva | H138: 370.347 | AT138: VV | AU138: 2 | AV138: 2 | AW138: False | AX138: 1 | AY138: ROZPOCET
C139: 13 | D139: M | E139: 283720001000 | F139: Podlahový polystyrén EPS 150 S, hr. 60 mm, PCI | G139: m2 | H139: 370.347 | N139: znížená | O139: 0 | P139: =O139*H139 -> 0 | Q139: 0.00159 | R139: =Q139*H139 -> 0.58885173 | S139: 0 | T139: =S139*H139 -> 0 | AR139: 32 | AT139: M | AU139: 2 | AY139: ROZPOCET | BE139: =IF(N139="základná",J139,0) -> 0 | BF139: =IF(N139="znížená",J139,0) -> 0 | BG139: =IF(N139="zákl. prenesená",J139,0) -> 0 | BH139: =IF(N139="zníž. prenesená",J139,0) -> 0 | BI139: =IF(N139="nulová",J139,0) -> 0 | BJ139: 2 | BK139: =ROUND(I139*H139,3) -> 0 | BL139: 16 | BM139: -305252853
D140: VV | F140: 363,085*1,02 'Přepočítané koeficientom množstva | H140: 370.347 | AT140: VV | AU140: 2 | AV140: 2 | AW140: False | AX140: 1 | AY140: ROZPOCET
C141: 14 | D141: K | E141: 713132132 | F141: Montáž tepelnej izolácie stien polystyrénom, celoplošným prilepením | G141: m2 | H141: 70.2 | N141: znížená | O141: 0.231253 | P141: =O141*H141 -> 16.233961 | Q141: 0.005 | R141: =Q141*H141 -> 0.351 | S141: 0 | T141: =S141*H141 -> 0 | AR141: 16 | AT141: K | AU141: 2 | AY141: ROZPOCET | BE141: =IF(N141="základná",J141,0) -> 0 | BF141: =IF(N141="znížená",J141,0) -> 0 | BG141: =IF(N141="zákl. prenesená",J141,0) -> 0 | BH141: =IF(N141="zníž. prenesená",J141,0) -> 0 | BI141: =IF(N141="nulová",J141,0) -> 0 | BJ141: 2 | BK141: =ROUND(I141*H141,3) -> 0 | BL141: 16 | BM141: 554676351
C142: 15 | D142: M | E142: 283750000600 | F142: Doska XPS STYRODUR 2800 C hr. 40 mm, zateplenie soklov, suterénov, podláh, ISOVER | G142: m2 | H142: 71.604 | N142: znížená | O142: 0 | P142: =O142*H142 -> 0 | Q142: 0.0012 | R142: =Q142*H142 -> 0.0859248 | S142: 0 | T142: =S142*H142 -> 0 | AR142: 32 | AT142: M | AU142: 2 | AY142: ROZPOCET | BE142: =IF(N142="základná",J142,0) -> 0 | BF142: =IF(N142="znížená",J142,0) -> 0 | BG142: =IF(N142="zákl. prenesená",J142,0) -> 0 | BH142: =IF(N142="zníž. prenesená",J142,0) -> 0 | BI142: =IF(N142="nulová",J142,0) -> 0 | BJ142: 2 | BK142: =ROUND(I142*H142,3) -> 0 | BL142: 16 | BM142: -1211129155
D143: VV | F143: 70,2*1,02 'Přepočítané koeficientom množstva | H143: 71.604 | AT143: VV | AU143: 2 | AV143: 2 | AW143: False | AX143: 1 | AY143: ROZPOCET
C144: 16 | D144: K | E144: 713191321 | F144: Montáž izolácie tepelnej striech, osadenie odvetrávacích komínikov | G144: ks | H144: 10 | N144: znížená | O144: 0.05129 | P144: =O144*H144 -> 0.5129 | Q144: 0 | R144: =Q144*H144 -> 0 | S144: 0 | T144: =S144*H144 -> 0 | AR144: 16 | AT144: K | AU144: 2 | AY144: ROZPOCET | BE144: =IF(N144="základná",J144,0) -> 0 | BF144: =IF(N144="znížená",J144,0) -> 0 | BG144: =IF(N144="zákl. prenesená",J144,0) -> 0 | BH144: =IF(N144="zníž. prenesená",J144,0) -> 0 | BI144: =IF(N144="nulová",J144,0) -> 0 | BJ144: 2 | BK144: =ROUND(I144*H144,3) -> 0 | BL144: 16 | BM144: 1332611327
C145: 17 | D145: M | E145: 283770006700 | F145: Odvetrávací komín výška 400 mm, priemer 75 mm, FATRA IZOLFA | G145: ks | H145: 10 | N145: znížená | O145: 0 | P145: =O145*H145 -> 0 | Q145: 0.00038 | R145: =Q145*H145 -> 0.0038 | S145: 0 | T145: =S145*H145 -> 0 | AR145: 32 | AT145: M | AU145: 2 | AY145: ROZPOCET | BE145: =IF(N145="základná",J145,0) -> 0 | BF145: =IF(N145="znížená",J145,0) -> 0 | BG145: =IF(N145="zákl. prenesená",J145,0) -> 0 | BH145: =IF(N145="zníž. prenesená",J145,0) -> 0 | BI145: =IF(N145="nulová",J145,0) -> 0 | BJ145: 2 | BK145: =ROUND(I145*H145,3) -> 0 | BL145: 16 | BM145: -77768053
C146: 18 | D146: K | E146: 998713102 | F146: Presun hmôt pre izolácie tepelné v objektoch výšky nad 6 m do 12 m | G146: t | H146: 1.815 | N146: znížená | O146: 1.877 | P146: =O146*H146 -> 3.406755 | Q146: 0 | R146: =Q146*H146 -> 0 | S146: 0 | T146: =S146*H146 -> 0 | AR146: 16 | AT146: K | AU146: 2 | AY146: ROZPOCET | BE146: =IF(N146="základná",J146,0) -> 0 | BF146: =IF(N146="znížená",J146,0) -> 0 | BG146: =IF(N146="zákl. prenesená",J146,0) -> 0 | BH146: =IF(N146="zníž. prenesená",J146,0) -> 0 | BI146: =IF(N146="nulová",J146,0) -> 0 | BJ146: 2 | BK146: =ROUND(I146*H146,3) -> 0 | BL146: 16 | BM146: 537499040
D147: D | E147: 764 | F147: Konštrukcie klampiarske | P147: =SUM(P148:P150) -> 48.901321 | R147: =SUM(R148:R150) -> 0.293776 | T147: =SUM(T148:T150) -> 0.161833 | AR147: 2 | AT147: D | AU147: 1 | AY147: ROZPOCET | BK147: =SUM(BK148:BK150) -> 0
C148: 19 | D148: K | E148: 764171879 | F148: Napojenie plechu krycia lišta na Feal | G148: m | H148: 42.7 | N148: znížená | O148: 0.1009 | P148: =O148*H148 -> 4.30843 | Q148: 0.0004 | R148: =Q148*H148 -> 0.01708 | S148: 0 | T148: =S148*H148 -> 0 | AR148: 16 | AT148: K | AU148: 2 | AY148: ROZPOCET | BE148: =IF(N148="základná",J148,0) -> 0 | BF148: =IF(N148="znížená",J148,0) -> 0 | BG148: =IF(N148="zákl. prenesená",J148,0) -> 0 | BH148: =IF(N148="zníž. prenesená",J148,0) -> 0 | BI148: =IF(N148="nulová",J148,0) -> 0 | BJ148: 2 | BK148: =ROUND(I148*H148,3) -> 0 | BL148: 16 | BM148: 1990703965
C149: 20 | D149: K | E149: 764332860 | F149: Demontáž lemovania múrov na strechách s tvrdou kryt. vrátane kryc. plechu do 30° rš 500, 660mm, -0,00379t | G149: m | H149: 42.7 | N149: znížená | O149: 0.075 | P149: =O149*H149 -> 3.2025 | Q149: 0 | R149: =Q149*H149 -> 0 | S149: 0.00379 | T149: =S149*H149 -> 0.161833 | AR149: 16 | AT149: K | AU149: 2 | AY149: ROZPOCET | BE149: =IF(N149="základná",J149,0) -> 0 | BF149: =IF(N149="znížená",J149,0) -> 0 | BG149: =IF(N149="zákl. prenesená",J149,0) -> 0 | BH149: =IF(N149="zníž. prenesená",J149,0) -> 0 | BI149: =IF(N149="nulová",J149,0) -> 0 | BJ149: 2 | BK149: =ROUND(I149*H149,3) -> 0 | BL149: 16 | BM149: -1398487598
C150: 21 | D150: K | E150: 764731116 | F150: Oplechovanie múrov, atík, nadmuroviek z plechov LINDAB rš. 600 mm | G150: m | H150: 42.7 | N150: znížená | O150: 0.96933 | P150: =O150*H150 -> 41.390391 | Q150: 0.00648 | R150: =Q150*H150 -> 0.276696 | S150: 0 | T150: =S150*H150 -> 0 | AR150: 16 | AT150: K | AU150: 2 | AY150: ROZPOCET | BE150: =IF(N150="základná",J150,0) -> 0 | BF150: =IF(N150="znížená",J150,0) -> 0 | BG150: =IF(N150="zákl. prenesená",J150,0) -> 0 | BH150: =IF(N150="zníž. prenesená",J150,0) -> 0 | BI150: =IF(N150="nulová",J150,0) -> 0 | BJ150: 2 | BK150: =ROUND(I150*H150,3) -> 0 | BL150: 16 | BM150: -604924247
D151: D | E151: 767 | F151: Konštrukcie doplnkové kovové | P151: =SUM(P152:P154) -> 458.47347 | R151: =SUM(R152:R154) -> 0.39195 | T151: =SUM(T152:T154) -> 8.19 | AR151: 2 | AT151: D | AU151: 1 | AY151: ROZPOCET | BK151: =SUM(BK152:BK154) -> 0
C152: 22 | D152: K | E152: 767310010 | F152: Montáž strešného svetlíka neotváravého do plochej strechy | G152: ks | H152: 39 | N152: znížená | O152: 11.30873 | P152: =O152*H152 -> 441.04047 | Q152: 5e-05 | R152: =Q152*H152 -> 0.00195 | S152: 0 | T152: =S152*H152 -> 0 | AR152: 16 | AT152: K | AU152: 2 | AY152: ROZPOCET | BE152: =IF(N152="základná",J152,0) -> 0 | BF152: =IF(N152="znížená",J152,0) -> 0 | BG152: =IF(N152="zákl. prenesená",J152,0) -> 0 | BH152: =IF(N152="zníž. prenesená",J152,0) -> 0 | BI152: =IF(N152="nulová",J152,0) -> 0 | BJ152: 2 | BK152: =ROUND(I152*H152,3) -> 0 | BL152: 16 | BM152: 898867127
C153: 23 | D153: M | E153: 611340006200 | F153: Bodový strešný svetlík, svetlosť 800x800 mm, strešný otvor 1000x1000 mm, štvorcový tvar, kupola 2-vrstvová, TOPIX | G153: ks | H153: 39 | N153: znížená | O153: 0 | P153: =O153*H153 -> 0 | Q153: 0.01 | R153: =Q153*H153 -> 0.39 | S153: 0 | T153: =S153*H153 -> 0 | AR153: 32 | AT153: M | AU153: 2 | AY153: ROZPOCET | BE153: =IF(N153="základná",J153,0) -> 0 | BF153: =IF(N153="znížená",J153,0) -> 0 | BG153: =IF(N153="zákl. prenesená",J153,0) -> 0 | BH153: =IF(N153="zníž. prenesená",J153,0) -> 0 | BI153: =IF(N153="nulová",J153,0) -> 0 | BJ153: 2 | BK153: =ROUND(I153*H153,3) -> 0 | BL153: 16 | BM153: 1902882506
C154: 24 | D154: K | E154: 767311810 | F154: Demontáž svetlíkov všetkých typov, vrátane zasklenia, -0,21000t | G154: m2 | H154: 39 | N154: znížená | O154: 0.447 | P154: =O154*H154 -> 17.433 | Q154: 0 | R154: =Q154*H154 -> 0 | S154: 0.21 | T154: =S154*H154 -> 8.19 | AR154: 16 | AT154: K | AU154: 2 | AY154: ROZPOCET | BE154: =IF(N154="základná",J154,0) -> 0 | BF154: =IF(N154="znížená",J154,0) -> 0 | BG154: =IF(N154="zákl. prenesená",J154,0) -> 0 | BH154: =IF(N154="zníž. prenesená",J154,0) -> 0 | BI154: =IF(N154="nulová",J154,0) -> 0 | BJ154: 2 | BK154: =ROUND(I154*H154,3) -> 0 | BL154: 16 | BM154: -1362197946
D155: D | E155: M | F155: Práce a dodávky M | P155: =P156 -> 16.155 | R155: =R156 -> 0.00855 | T155: =T156 -> 0 | AR155: 3 | AT155: D | AU155: 0 | AY155: ROZPOCET | BK155: =BK156 -> 0
D156: D | E156: 21-M | F156: Elektromontáže | P156: =SUM(P157:P160) -> 16.155 | R156: =SUM(R157:R160) -> 0.00855 | T156: =SUM(T157:T160) -> 0 | AR156: 3 | AT156: D | AU156: 1 | AY156: ROZPOCET | BK156: =SUM(BK157:BK160) -> 0
C157: 25 | D157: K | E157: 210220001 | F157: Uzemňovacie vedenie na povrchu FeZn | G157: m | H157: 79.2 | N157: znížená | O157: 0.15 | P157: =O157*H157 -> 11.88 | Q157: 0 | R157: =Q157*H157 -> 0 | S157: 0 | T157: =S157*H157 -> 0 | AR157: 64 | AT157: K | AU157: 2 | AY157: ROZPOCET | BE157: =IF(N157="základná",J157,0) -> 0 | BF157: =IF(N157="znížená",J157,0) -> 0 | BG157: =IF(N157="zákl. prenesená",J157,0) -> 0 | BH157: =IF(N157="zníž. prenesená",J157,0) -> 0 | BI157: =IF(N157="nulová",J157,0) -> 0 | BJ157: 2 | BK157: =ROUND(I157*H157,3) -> 0 | BL157: 64 | BM157: 1826551005
D158: VV | F158: 20,5*2+38,2 | H158: 79.2 | AT158: VV | AU158: 2 | AV158: 2 | AW158: True | AX158: 1 | AY158: ROZPOCET
C159: 26 | D159: K | E159: 210220101 | F159: Podpery vedenia FeZn na plochú strechu PV21 | G159: ks | H159: 85.5 | N159: znížená | O159: 0.05 | P159: =O159*H159 -> 4.275 | Q159: 0 | R159: =Q159*H159 -> 0 | S159: 0 | T159: =S159*H159 -> 0 | AR159: 64 | AT159: K | AU159: 2 | AY159: ROZPOCET | BE159: =IF(N159="základná",J159,0) -> 0 | BF159: =IF(N159="znížená",J159,0) -> 0 | BG159: =IF(N159="zákl. prenesená",J159,0) -> 0 | BH159: =IF(N159="zníž. prenesená",J159,0) -> 0 | BI159: =IF(N159="nulová",J159,0) -> 0 | BJ159: 2 | BK159: =ROUND(I159*H159,3) -> 0 | BL159: 64 | BM159: -1104708186
C160: 27 | D160: M | E160: 3544217900 | F160: Podložka k podpere vedenia plastová označenie podložka k PV 21 | G160: ks | H160: 85.5 | N160: znížená | O160: 0 | P160: =O160*H160 -> 0 | Q160: 0.0001 | R160: =Q160*H160 -> 0.00855 | S160: 0 | T160: =S160*H160 -> 0 | AR160: 128 | AT160: M | AU160: 2 | AY160: ROZPOCET | BE160: =IF(N160="základná",J160,0) -> 0 | BF160: =IF(N160="znížená",J160,0) -> 0 | BG160: =IF(N160="zákl. prenesená",J160,0) -> 0 | BH160: =IF(N160="zníž. prenesená",J160,0) -> 0 | BI160: =IF(N160="nulová",J160,0) -> 0 | BJ160: 2 | BK160: =ROUND(I160*H160,3) -> 0 | BL160: 128 | BM160: 1271950317
