Workbook

Sheet Rekapitulácia stavby
A1: Export Komplet | BA1: 2.0 | BT1: False | BU1: False | BV1: {d8ca56f0-f774-43b1-8349-453d2b39ffbc}
AR2: >> skryté stĺpce << | BS2: 0,01 | BT2: 20
BS3: 0,01 | BT3: 20
D4: REKAPITULÁCIA STAVBY | AS4: v --- nižšie sa nachádzajú doplnkové a pomocné údaje k zostavám --- v | BS4: 0,001
D5: Kód: | K5: 06/2020 | BS5: 0,01
D6: Stavba: | K6: Multifunkčné ihrisko Juh | BS6: 0,01
D7: JKSO: | AK7: KS: | BS7: 0,01
D8: Miesto: | AK8: Dátum: | AN8: 06/2020 | BS8: 0,01
BS9: 0,01
D10: Objednávateľ: | AK10: IČO: | BS10: 0,01
AK11: IČ DPH: | BS11: 0,01
BS12: 0,01
D13: Zhotoviteľ: | AK13: IČO: | BS13: 0,01
AK14: IČ DPH: | BS14: 0,01
BS15: False
D16: Projektant: | AK16: IČO: | BS16: False
AK17: IČ DPH: | BS17: True
BS18: 0,01
D19: Spracovateľ: | AK19: IČO: | BS19: 0,01
AK20: IČ DPH: | BS20: True
D22: Poznámka:
D26: Cena bez DPH | AK26: =ROUND(AG94,2) -> 0
L28: Sadzba dane | W28: Základ dane | AK28: Výška dane
D29: DPH | F29: základná | L29: 0.2 | W29: =ROUND(AZ94, 2) -> 0 | AK29: =ROUND(AV94, 2) -> 0
F30: znížená | L30: 0.2 | W30: =ROUND(BA94, 2) -> 0 | AK30: =ROUND(AW94, 2) -> 0
F31: zákl. prenesená | L31: 0.2 | W31: =ROUND(BB94, 2) -> 0 | AK31: 0
F32: zníž. prenesená | L32: 0.2 | W32: =ROUND(BC94, 2) -> 0 | AK32: 0
F33: nulová | L33: 0 | W33: =ROUND(BD94, 2) -> 0 | AK33: 0
D35: Cena s DPH | T35: v | X35: EUR | AK35: =SUM(AK26:AK33) -> 0
D49: Projektant | AH49: Spracovateľ
D60: Dátum a podpis: | V60: Pečiatka | AH60: Dátum a podpis: | AM60: Pečiatka
D64: Objednávateľ | AH64: Zhotoviteľ
D75: Dátum a podpis: | V75: Pečiatka | AH75: Dátum a podpis: | AM75: Pečiatka
C82: REKAPITULÁCIA OBJEKTOV STAVBY
C84: Kód: | L84: =K5 -> 06/2020
C85: Stavba: | L85: =K6 -> Multifunkčné ihrisko Juh
C87: Miesto: | L87: =IF(K8="","",K8) | AI87: Dátum: | AM87: =IF(AN8= "","",AN8) -> 06/2020
C89: Objednávateľ: | L89: =IF(E11= "","",E11) | AI89: Projektant: | AM89: =IF(E17="","",E17) | AS89: Informatívne údaje z listov zákaziek
C90: Zhotoviteľ: | L90: =IF(E14="","",E14) | AI90: Spracovateľ: | AM90: =IF(E20="","",E20)
C92: Kód | I92: Popis | AG92: Cena bez DPH [EUR] | AN92: Cena s DPH [EUR] | AQ92: Typ | AS92: z toho Ostat._x000D_ náklady [EUR] | AT92: DPH [EUR] | AU92: Normohodiny [h] | AV92: DPH základná [EUR] | AW92: DPH znížená [EUR] | AX92: DPH základná prenesená_x000D_ [EUR] | AY92: DPH znížená prenesená_x000D_ [EUR] | AZ92: Základňa_x000D_ DPH základná | BA92: Základňa_x000D_ DPH znížená | BB92: Základňa_x000D_ DPH zákl. prenesená | BC92: Základňa_x000D_ DPH zníž. prenesená | BD92: Základňa_x000D_ DPH nulová
C94: Náklady z rozpočtov | AG94: =ROUND(AG95,2) -> 0 | AN94: =SUM(AG94,AT94) -> 0 | AS94: =ROUND(AS95,2) -> 0 | AT94: =ROUND(SUM(AV94:AW94),2) -> 0 | AU94: =ROUND(AU95,5) -> 56.2044 | AV94: =ROUND(AZ94*L29,2) -> 0 | AW94: =ROUND(BA94*L30,2) -> 0 | AX94: =ROUND(BB94*L29,2) -> 0 | AY94: =ROUND(BC94*L30,2) -> 0 | AZ94: =ROUND(AZ95,2) -> 0 | BA94: =ROUND(BA95,2) -> 0 | BB94: =ROUND(BB95,2) -> 0 | BC94: =ROUND(BC95,2) -> 0 | BD94: =ROUND(BD95,2) -> 0 | BS94: D | BT94: 0 | BU94: ###NOIMPORT### | BV94: IMPORT | BW94: {d8ca56f0-f774-43b1-8349-453d2b39ffbc} | BX94: {00000000-0000-0000-0000-000000000000}
A95: / | D95: Objekt2 | J95: Športovo oddychový areál | AG95: ='Objekt2 - Športovo oddych...'!J30 -> 0 | AN95: =SUM(AG95,AT95) -> 0 | AQ95: STA | AS95: 0 | AT95: =ROUND(SUM(AV95:AW95),2) -> 0 | AU95: ='Objekt2 - Športovo oddych...'!P122 -> 56.2044 | AV95: ='Objekt2 - Športovo oddych...'!J33 -> 0 | AW95: ='Objekt2 - Športovo oddych...'!J34 -> 0 | AX95: ='Objekt2 - Športovo oddych...'!J35 -> 0 | AY95: ='Objekt2 - Športovo oddych...'!J36 -> 0 | AZ95: ='Objekt2 - Športovo oddych...'!F33 -> 0 | BA95: ='Objekt2 - Športovo oddych...'!F34 -> 0 | BB95: ='Objekt2 - Športovo oddych...'!F35 -> 0 | BC95: ='Objekt2 - Športovo oddych...'!F36 -> 0 | BD95: ='Objekt2 - Športovo oddych...'!F37 -> 0 | BT95: 1 | BV95: IMPORT | BW95: {27bbd766-0c94-44e5-a1b8-6215ec860b3b} | BX95: {d8ca56f0-f774-43b1-8349-453d2b39ffbc} | CM95: 0

Sheet Objekt2 - Športovo oddych...
L2: >> skryté stĺpce << | AT2: {27bbd766-0c94-44e5-a1b8-6215ec860b3b}
AT3: 0
D4: KRYCÍ LIST ROZPOČTU | M4: v --- nižšie sa nachádzajú doplnkové a pomocné údaje k zostavám --- v | AT4: False
D6: Stavba:
E7: ='Rekapitulácia stavby'!K6 -> Multifunkčné ihrisko Juh
D8: Objekt:
E9: Športovo oddychový areál
D11: JKSO: | I11: KS:
D12: Miesto: | I12: Dátum: | J12: 06/2020
D14: Objednávateľ: | I14: IČO: | J14: =IF('Rekapitulácia stavby'!AN10="","",'Rekapitulácia stavby'!AN10)
E15: =IF('Rekapitulácia stavby'!E11="","",'Rekapitulácia stavby'!E11) | I15: IČ DPH: | J15: =IF('Rekapitulácia stavby'!AN11="","",'Rekapitulácia stavby'!AN11)
D17: Zhotoviteľ: | I17: IČO:
I18: IČ DPH:
D20: Projektant: | I20: IČO: | J20: =IF('Rekapitulácia stavby'!AN16="","",'Rekapitulácia stavby'!AN16)
E21: =IF('Rekapitulácia stavby'!E17="","",'Rekapitulácia stavby'!E17) | I21: IČ DPH: | J21: =IF('Rekapitulácia stavby'!AN17="","",'Rekapitulácia stavby'!AN17)
D23: Spracovateľ: | I23: IČO: | J23: =IF('Rekapitulácia stavby'!AN19="","",'Rekapitulácia stavby'!AN19)
E24: =IF('Rekapitulácia stavby'!E20="","",'Rekapitulácia stavby'!E20) | I24: IČ DPH: | J24: =IF('Rekapitulácia stavby'!AN20="","",'Rekapitulácia stavby'!AN20)
D26: Poznámka:
D30: Cena bez DPH | J30: =ROUND(J122, 2) -> 0
F32: Základ dane | I32: Sadzba dane | J32: Výška dane
D33: DPH | E33: základná | F33: =ROUND((SUM(BE122:BE178)), 2) -> 0 | I33: 0.2 | J33: =ROUND(((SUM(BE122:BE178))*I33), 2) -> 0
E34: znížená | F34: =ROUND((SUM(BF122:BF178)), 2) -> 0 | I34: 0.2 | J34: =ROUND(((SUM(BF122:BF178))*I34), 2) -> 0
E35: zákl. prenesená | F35: =ROUND((SUM(BG122:BG178)), 2) -> 0 | I35: 0.2 | J35: =0 -> 0
E36: zníž. prenesená | F36: =ROUND((SUM(BH122:BH178)), 2) -> 0 | I36: 0.2 | J36: =0 -> 0
E37: nulová | F37: =ROUND((SUM(BI122:BI178)), 2) -> 0 | I37: 0 | J37: =0 -> 0
D39: Cena s DPH | G39: v | H39: EUR | J39: =SUM(J30:J37) -> 0
D50: Projektant | G50: Spracovateľ
D61: Dátum a podpis: | F61: Pečiatka | G61: Dátum a podpis: | J61: Pečiatka
D65: Objednávateľ | G65: Zhotoviteľ
D76: Dátum a podpis: | F76: Pečiatka | G76: Dátum a podpis: | J76: Pečiatka
C82: REKAPITULÁCIA ROZPOČTU
C84: Stavba:
E85: =E7 -> Multifunkčné ihrisko Juh
C86: Objekt:
E87: =E9 -> Športovo oddychový areál
C89: Miesto: | F89: =F12 | I89: Dátum: | J89: 06/2020
C91: Objednávateľ: | F91: =E15 | I91: Projektant: | J91: =E21
C92: Zhotoviteľ: | F92: =IF(E18="","",E18) | I92: Spracovateľ: | J92: =E24
C94: Kód dielu - Popis | J94: Cena celkom [EUR]
C96: Náklady z rozpočtu | J96: =J122 -> 0 | AU96: -1
D97: 1 - Zemné práce | J97: =J123 -> 0
D98: 2 - Zakladanie | J98: =J138 -> 0
D99: 3 - Zvislé a kompletné konštrukcie | J99: =J148 -> 0
D100: 4 - Komunikácie | J100: =J159 -> 0
D101: 5 - Vodorovné Konštrukcie | J101: =J166 -> 0
D102: 6 - Ostatné konštrukcie a práce-búranie | J102: =J168 -> 0
C109: ROZPOČET
C111: Stavba:
E112: =E7 -> Multifunkčné ihrisko Juh
C113: Objekt:
E114: =E9 -> Športovo oddychový areál
C116: Miesto: | F116: =F12 | I116: Dátum: | J116: 06/2020
C118: Objednávateľ: | F118: =E15 | I118: Projektant: | J118: =E21
C119: Zhotoviteľ: | F119: =IF(E18="","",E18) | I119: Spracovateľ: | J119: =E24
C121: PČ | D121: Typ | E121: Kód | F121: Popis | G121: MJ | H121: Množstvo | I121: J.cena [EUR] | J121: Cena celkom [EUR] | K121: Cenová sústava | N121: DPH | O121: J. Nh [h] | P121: Nh celkom [h] | Q121: J. hmotnosť [t] | R121: Hmotnosť celkom [t] | S121: J. suť [t] | T121: Suť Celkom [t]
C122: Náklady z rozpočtu | J122: =BK122 -> 0 | P122: =P123+P138+P148+P159+P166+P168 -> 56.2044 | R122: =R123+R138+R148+R159+R166+R168 -> 395.67696 | T122: =T123+T138+T148+T159+T166+T168 -> 0 | AT122: D | AU122: -1 | BK122: =BK123+BK138+BK148+BK159+BK166+BK168 -> 0
D123: D | E123: 1 | F123: Zemné práce | J123: =SUM(J124:J137) -> 0 | P123: =SUM(P124:P137) -> 0 | R123: =SUM(R124:R137) -> 0.010395 | T123: =SUM(T124:T137) -> 0 | AR123: 1 | AT123: D | AU123: 0 | AY123: ROZPOCET | BK123: =SUM(BK124:BK137) -> 0
C124: 1 | D124: K | E124: 13220-1101 | F124: Hĺbenie rýh šírka do 60 cm v horn. tr. 3 do 100 m3 - trativod | G124: m3 | H124: 52.349 | I124: 0 | J124: =ROUND(I124*H124,2) -> 0 | N124: znížená | O124: 0 | P124: =O124*H124 -> 0 | Q124: 0 | R124: =Q124*H124 -> 0 | S124: 0 | T124: =S124*H124 -> 0 | AR124: 4 | AT124: K | AU124: 1 | AY124: ROZPOCET | BE124: =IF(N124="základná",J124,0) -> 0 | BF124: =IF(N124="znížená",J124,0) -> 0 | BG124: =IF(N124="zákl. prenesená",J124,0) -> 0 | BH124: =IF(N124="zníž. prenesená",J124,0) -> 0 | BI124: =IF(N124="nulová",J124,0) -> 0 | BJ124: 2 | BK124: =ROUND(I124*H124,2) -> 0 | BL124: 4 | BM124: 2
C125: 2 | D125: K | E125: 13220-1109 | F125: Príplatok za lepivosť horniny tr. 3 v rýhach š. do 60 cm | G125: m3 | H125: 52.349 | I125: 0 | J125: =ROUND(I125*H125,2) -> 0 | N125: znížená | O125: 0 | P125: =O125*H125 -> 0 | Q125: 0 | R125: =Q125*H125 -> 0 | S125: 0 | T125: =S125*H125 -> 0 | AR125: 4 | AT125: K | AU125: 1 | AY125: ROZPOCET | BE125: =IF(N125="základná",J125,0) -> 0 | BF125: =IF(N125="znížená",J125,0) -> 0 | BG125: =IF(N125="zákl. prenesená",J125,0) -> 0 | BH125: =IF(N125="zníž. prenesená",J125,0) -> 0 | BI125: =IF(N125="nulová",J125,0) -> 0 | BJ125: 2 | BK125: =ROUND(I125*H125,2) -> 0 | BL125: 4 | BM125: 4
C126: 3 | D126: K | E126: 13220-1201 | F126: Hĺbenie rýh šírka do 2 m v horn. tr. 3 do 100 m3 - kan. príp. | G126: m3 | H126: 27.6 | I126: 0 | J126: =ROUND(I126*H126,2) -> 0 | N126: znížená | O126: 0 | P126: =O126*H126 -> 0 | Q126: 0 | R126: =Q126*H126 -> 0 | S126: 0 | T126: =S126*H126 -> 0 | AR126: 4 | AT126: K | AU126: 1 | AY126: ROZPOCET | BE126: =IF(N126="základná",J126,0) -> 0 | BF126: =IF(N126="znížená",J126,0) -> 0 | BG126: =IF(N126="zákl. prenesená",J126,0) -> 0 | BH126: =IF(N126="zníž. prenesená",J126,0) -> 0 | BI126: =IF(N126="nulová",J126,0) -> 0 | BJ126: 2 | BK126: =ROUND(I126*H126,2) -> 0 | BL126: 4 | BM126: 6
C127: 4 | D127: K | E127: 13220-1209 | F127: Príplatok za lepivosť horniny tr.3 v rýhach š. do 200 cm | G127: m3 | H127: 27.6 | I127: 0 | J127: =ROUND(I127*H127,2) -> 0 | N127: znížená | O127: 0 | P127: =O127*H127 -> 0 | Q127: 0 | R127: =Q127*H127 -> 0 | S127: 0 | T127: =S127*H127 -> 0 | AR127: 4 | AT127: K | AU127: 1 | AY127: ROZPOCET | BE127: =IF(N127="základná",J127,0) -> 0 | BF127: =IF(N127="znížená",J127,0) -> 0 | BG127: =IF(N127="zákl. prenesená",J127,0) -> 0 | BH127: =IF(N127="zníž. prenesená",J127,0) -> 0 | BI127: =IF(N127="nulová",J127,0) -> 0 | BJ127: 2 | BK127: =ROUND(I127*H127,2) -> 0 | BL127: 4 | BM127: 8
C128: 5 | D128: K | E128: 13320-1101 | F128: Hĺbenie šachiet v horn. tr. 3 do 100 m3 - stlpy mantinel, basketbal, púzdra, | G128: m3 | H128: 20.69 | I128: 0 | J128: =ROUND(I128*H128,2) -> 0 | N128: znížená | O128: 0 | P128: =O128*H128 -> 0 | Q128: 0 | R128: =Q128*H128 -> 0 | S128: 0 | T128: =S128*H128 -> 0 | AR128: 4 | AT128: K | AU128: 1 | AY128: ROZPOCET | BE128: =IF(N128="základná",J128,0) -> 0 | BF128: =IF(N128="znížená",J128,0) -> 0 | BG128: =IF(N128="zákl. prenesená",J128,0) -> 0 | BH128: =IF(N128="zníž. prenesená",J128,0) -> 0 | BI128: =IF(N128="nulová",J128,0) -> 0 | BJ128: 2 | BK128: =ROUND(I128*H128,2) -> 0 | BL128: 4 | BM128: 10
C129: 6 | D129: K | E129: 13320-1109 | F129: Príplatok za lepivosť horniny tr.3 z hlbenia šachiet | G129: m3 | H129: 20.69 | I129: 0 | J129: =ROUND(I129*H129,2) -> 0 | N129: znížená | O129: 0 | P129: =O129*H129 -> 0 | Q129: 0 | R129: =Q129*H129 -> 0 | S129: 0 | T129: =S129*H129 -> 0 | AR129: 4 | AT129: K | AU129: 1 | AY129: ROZPOCET | BE129: =IF(N129="základná",J129,0) -> 0 | BF129: =IF(N129="znížená",J129,0) -> 0 | BG129: =IF(N129="zákl. prenesená",J129,0) -> 0 | BH129: =IF(N129="zníž. prenesená",J129,0) -> 0 | BI129: =IF(N129="nulová",J129,0) -> 0 | BJ129: 2 | BK129: =ROUND(I129*H129,2) -> 0 | BL129: 4 | BM129: 12
C130: 7 | D130: K | E130: 16230-1102 | F130: Vodorovné premiestnenie výkopu do 1000 m horn. tr. 1-4 | G130: m3 | H130: 100.639 | I130: 0 | J130: =ROUND(I130*H130,2) -> 0 | N130: znížená | O130: 0 | P130: =O130*H130 -> 0 | Q130: 0 | R130: =Q130*H130 -> 0 | S130: 0 | T130: =S130*H130 -> 0 | AR130: 4 | AT130: K | AU130: 1 | AY130: ROZPOCET | BE130: =IF(N130="základná",J130,0) -> 0 | BF130: =IF(N130="znížená",J130,0) -> 0 | BG130: =IF(N130="zákl. prenesená",J130,0) -> 0 | BH130: =IF(N130="zníž. prenesená",J130,0) -> 0 | BI130: =IF(N130="nulová",J130,0) -> 0 | BJ130: 2 | BK130: =ROUND(I130*H130,2) -> 0 | BL130: 4 | BM130: 14
C131: 8 | D131: K | E131: 16710-1101 | F131: Nakladanie výkopku do 100 m3 v horn. tr. 1-4 | G131: m3 | H131: 100.639 | I131: 0 | J131: =ROUND(I131*H131,2) -> 0 | N131: znížená | O131: 0 | P131: =O131*H131 -> 0 | Q131: 0 | R131: =Q131*H131 -> 0 | S131: 0 | T131: =S131*H131 -> 0 | AR131: 4 | AT131: K | AU131: 1 | AY131: ROZPOCET | BE131: =IF(N131="základná",J131,0) -> 0 | BF131: =IF(N131="znížená",J131,0) -> 0 | BG131: =IF(N131="zákl. prenesená",J131,0) -> 0 | BH131: =IF(N131="zníž. prenesená",J131,0) -> 0 | BI131: =IF(N131="nulová",J131,0) -> 0 | BJ131: 2 | BK131: =ROUND(I131*H131,2) -> 0 | BL131: 4 | BM131: 16
C132: 9 | D132: K | E132: 17120-1201 | F132: Uloženie sypaniny na skládku | G132: m3 | H132: 100.639 | I132: 0 | J132: =ROUND(I132*H132,2) -> 0 | N132: znížená | O132: 0 | P132: =O132*H132 -> 0 | Q132: 0 | R132: =Q132*H132 -> 0 | S132: 0 | T132: =S132*H132 -> 0 | AR132: 4 | AT132: K | AU132: 1 | AY132: ROZPOCET | BE132: =IF(N132="základná",J132,0) -> 0 | BF132: =IF(N132="znížená",J132,0) -> 0 | BG132: =IF(N132="zákl. prenesená",J132,0) -> 0 | BH132: =IF(N132="zníž. prenesená",J132,0) -> 0 | BI132: =IF(N132="nulová",J132,0) -> 0 | BJ132: 2 | BK132: =ROUND(I132*H132,2) -> 0 | BL132: 4 | BM132: 18
C133: 10 | D133: K | E133: 17410-1001 | F133: Zásyp zhutnený jám, šachiet, rýh, zárezov alebo okolo objektov do 100 m3 | G133: m3 | H133: 18 | I133: 0 | J133: =ROUND(I133*H133,2) -> 0 | N133: znížená | O133: 0 | P133: =O133*H133 -> 0 | Q133: 0 | R133: =Q133*H133 -> 0 | S133: 0 | T133: =S133*H133 -> 0 | AR133: 4 | AT133: K | AU133: 1 | AY133: ROZPOCET | BE133: =IF(N133="základná",J133,0) -> 0 | BF133: =IF(N133="znížená",J133,0) -> 0 | BG133: =IF(N133="zákl. prenesená",J133,0) -> 0 | BH133: =IF(N133="zníž. prenesená",J133,0) -> 0 | BI133: =IF(N133="nulová",J133,0) -> 0 | BJ133: 2 | BK133: =ROUND(I133*H133,2) -> 0 | BL133: 4 | BM133: 22
C134: 11 | D134: K | E134: 18040-2111 | F134: Založenie parkového trávnika výsevom v rovine | G134: m2 | H134: 330 | I134: 0 | J134: =ROUND(I134*H134,2) -> 0 | N134: znížená | O134: 0 | P134: =O134*H134 -> 0 | Q134: 0 | R134: =Q134*H134 -> 0 | S134: 0 | T134: =S134*H134 -> 0 | AR134: 4 | AT134: K | AU134: 1 | AY134: ROZPOCET | BE134: =IF(N134="základná",J134,0) -> 0 | BF134: =IF(N134="znížená",J134,0) -> 0 | BG134: =IF(N134="zákl. prenesená",J134,0) -> 0 | BH134: =IF(N134="zníž. prenesená",J134,0) -> 0 | BI134: =IF(N134="nulová",J134,0) -> 0 | BJ134: 2 | BK134: =ROUND(I134*H134,2) -> 0 | BL134: 4 | BM134: 24
C135: 12 | D135: K | E135: 18110-1101 | F135: Úprava pláne -očistenie od nánosu,urovnanie povrchu | G135: m2 | H135: 660 | I135: 0 | J135: =ROUND(I135*H135,2) -> 0 | N135: znížená | O135: 0 | P135: =O135*H135 -> 0 | Q135: 0 | R135: =Q135*H135 -> 0 | S135: 0 | T135: =S135*H135 -> 0 | AR135: 4 | AT135: K | AU135: 1 | AY135: ROZPOCET | BE135: =IF(N135="základná",J135,0) -> 0 | BF135: =IF(N135="znížená",J135,0) -> 0 | BG135: =IF(N135="zákl. prenesená",J135,0) -> 0 | BH135: =IF(N135="zníž. prenesená",J135,0) -> 0 | BI135: =IF(N135="nulová",J135,0) -> 0 | BJ135: 2 | BK135: =ROUND(I135*H135,2) -> 0 | BL135: 4 | BM135: 26
C136: 13 | D136: K | E136: 18130-1101 | F136: Rozprestretie ornice, sklon do 1:5 do 500 m2 hr. do 10 cm | G136: m2 | H136: 330 | I136: 0 | J136: =ROUND(I136*H136,2) -> 0 | N136: znížená | O136: 0 | P136: =O136*H136 -> 0 | Q136: 0 | R136: =Q136*H136 -> 0 | S136: 0 | T136: =S136*H136 -> 0 | AR136: 4 | AT136: K | AU136: 1 | AY136: ROZPOCET | BE136: =IF(N136="základná",J136,0) -> 0 | BF136: =IF(N136="znížená",J136,0) -> 0 | BG136: =IF(N136="zákl. prenesená",J136,0) -> 0 | BH136: =IF(N136="zníž. prenesená",J136,0) -> 0 | BI136: =IF(N136="nulová",J136,0) -> 0 | BJ136: 2 | BK136: =ROUND(I136*H136,2) -> 0 | BL136: 4 | BM136: 28
C137: 14 | D137: M | E137: 005 721200 | F137: Trávové semeno | G137: kg | H137: 10.395 | I137: 0 | J137: =ROUND(I137*H137,2) -> 0 | N137: znížená | O137: 0 | P137: =O137*H137 -> 0 | Q137: 0.001 | R137: =Q137*H137 -> 0.010395 | S137: 0 | T137: =S137*H137 -> 0 | AR137: 8 | AT137: M | AU137: 1 | AY137: ROZPOCET | BE137: =IF(N137="základná",J137,0) -> 0 | BF137: =IF(N137="znížená",J137,0) -> 0 | BG137: =IF(N137="zákl. prenesená",J137,0) -> 0 | BH137: =IF(N137="zníž. prenesená",J137,0) -> 0 | BI137: =IF(N137="nulová",J137,0) -> 0 | BJ137: 2 | BK137: =ROUND(I137*H137,2) -> 0 | BL137: 4 | BM137: 30
D138: D | E138: 2 | F138: Zakladanie | J138: =SUM(J139:J147) -> 0 | P138: =SUM(P139:P147) -> 2.7354 | R138: =SUM(R139:R147) -> 154.27362 | T138: =SUM(T139:T147) -> 0 | AR138: 1 | AT138: D | AU138: 0 | AY138: ROZPOCET | BK138: =SUM(BK139:BK147) -> 0
C139: 15 | D139: K | E139: 21157-1111 | F139: Výplň odvodňovacích rebier štrkopieskom triedeným | G139: m3 | H139: 50.5 | I139: 0 | J139: =ROUND(I139*H139,2) -> 0 | N139: znížená | O139: 0 | P139: =O139*H139 -> 0 | Q139: 1.9205 | R139: =Q139*H139 -> 96.98525 | S139: 0 | T139: =S139*H139 -> 0 | AR139: 4 | AT139: K | AU139: 1 | AY139: ROZPOCET | BE139: =IF(N139="základná",J139,0) -> 0 | BF139: =IF(N139="znížená",J139,0) -> 0 | BG139: =IF(N139="zákl. prenesená",J139,0) -> 0 | BH139: =IF(N139="zníž. prenesená",J139,0) -> 0 | BI139: =IF(N139="nulová",J139,0) -> 0 | BJ139: 2 | BK139: =ROUND(I139*H139,2) -> 0 | BL139: 4 | BM139: 32
C140: 16 | D140: K | E140: 21257-2111 | F140: Lôžko pre trativod zo štrkopiesku triedeného | G140: m3 | H140: 2.35 | I140: 0 | J140: =ROUND(I140*H140,2) -> 0 | N140: znížená | O140: 1.164 | P140: =O140*H140 -> 2.7354 | Q140: 1.9205 | R140: =Q140*H140 -> 4.513175 | S140: 0 | T140: =S140*H140 -> 0 | AR140: 4 | AT140: K | AU140: 1 | AY140: ROZPOCET | BE140: =IF(N140="základná",J140,0) -> 0 | BF140: =IF(N140="znížená",J140,0) -> 0 | BG140: =IF(N140="zákl. prenesená",J140,0) -> 0 | BH140: =IF(N140="zníž. prenesená",J140,0) -> 0 | BI140: =IF(N140="nulová",J140,0) -> 0 | BJ140: 2 | BK140: =ROUND(I140*H140,2) -> 0 | BL140: 4 | BM140: 34
C141: 17 | D141: K | E141: 21275-5113 | F141: Trativody z drenážnych rúrok sv. 80 mm | G141: m | H141: 90 | I141: 0 | J141: =ROUND(I141*H141,2) -> 0 | N141: znížená | O141: 0 | P141: =O141*H141 -> 0 | Q141: 0.00775 | R141: =Q141*H141 -> 0.6975 | S141: 0 | T141: =S141*H141 -> 0 | AR141: 4 | AT141: K | AU141: 1 | AY141: ROZPOCET | BE141: =IF(N141="základná",J141,0) -> 0 | BF141: =IF(N141="znížená",J141,0) -> 0 | BG141: =IF(N141="zákl. prenesená",J141,0) -> 0 | BH141: =IF(N141="zníž. prenesená",J141,0) -> 0 | BI141: =IF(N141="nulová",J141,0) -> 0 | BJ141: 2 | BK141: =ROUND(I141*H141,2) -> 0 | BL141: 4 | BM141: 36
C142: 18 | D142: K | E142: 21275-5115 | F142: Trativody z drenážnych rúrok sv. 130 mm | G142: m | H142: 45 | I142: 0 | J142: =ROUND(I142*H142,2) -> 0 | N142: znížená | O142: 0 | P142: =O142*H142 -> 0 | Q142: 0.01364 | R142: =Q142*H142 -> 0.6138 | S142: 0 | T142: =S142*H142 -> 0 | AR142: 4 | AT142: K | AU142: 1 | AY142: ROZPOCET | BE142: =IF(N142="základná",J142,0) -> 0 | BF142: =IF(N142="znížená",J142,0) -> 0 | BG142: =IF(N142="zákl. prenesená",J142,0) -> 0 | BH142: =IF(N142="zníž. prenesená",J142,0) -> 0 | BI142: =IF(N142="nulová",J142,0) -> 0 | BJ142: 2 | BK142: =ROUND(I142*H142,2) -> 0 | BL142: 4 | BM142: 38
C143: 19 | D143: K | E143: 21590-1101 | F143: Zhutnenie podložia - štrk.podklad ihriska | G143: m2 | H143: 610 | I143: 0 | J143: =ROUND(I143*H143,2) -> 0 | N143: znížená | O143: 0 | P143: =O143*H143 -> 0 | Q143: 0 | R143: =Q143*H143 -> 0 | S143: 0 | T143: =S143*H143 -> 0 | AR143: 4 | AT143: K | AU143: 1 | AY143: ROZPOCET | BE143: =IF(N143="základná",J143,0) -> 0 | BF143: =IF(N143="znížená",J143,0) -> 0 | BG143: =IF(N143="zákl. prenesená",J143,0) -> 0 | BH143: =IF(N143="zníž. prenesená",J143,0) -> 0 | BI143: =IF(N143="nulová",J143,0) -> 0 | BJ143: 2 | BK143: =ROUND(I143*H143,2) -> 0 | BL143: 4 | BM143: 40
C144: 20 | D144: K | E144: 27152-1111 | F144: Vankúš pod základy z kameniva hrubého drveného 63-125 mm - bránky | G144: m3 | H144: 5.5 | I144: 0 | J144: =ROUND(I144*H144,2) -> 0 | N144: znížená | O144: 0 | P144: =O144*H144 -> 0 | Q144: 1.818 | R144: =Q144*H144 -> 9.999 | S144: 0 | T144: =S144*H144 -> 0 | AR144: 4 | AT144: K | AU144: 1 | AY144: ROZPOCET | BE144: =IF(N144="základná",J144,0) -> 0 | BF144: =IF(N144="znížená",J144,0) -> 0 | BG144: =IF(N144="zákl. prenesená",J144,0) -> 0 | BH144: =IF(N144="zníž. prenesená",J144,0) -> 0 | BI144: =IF(N144="nulová",J144,0) -> 0 | BJ144: 2 | BK144: =ROUND(I144*H144,2) -> 0 | BL144: 4 | BM144: 42
C145: 21 | D145: K | E145: 27531-3612 | F145: Základové pätky z betónu prostého tr. C20/25 | G145: m3 | H145: 17.5 | I145: 0 | J145: =ROUND(I145*H145,2) -> 0 | N145: znížená | O145: 0 | P145: =O145*H145 -> 0 | Q145: 2.35745 | R145: =Q145*H145 -> 41.255375 | S145: 0 | T145: =S145*H145 -> 0 | AR145: 4 | AT145: K | AU145: 1 | AY145: ROZPOCET | BE145: =IF(N145="základná",J145,0) -> 0 | BF145: =IF(N145="znížená",J145,0) -> 0 | BG145: =IF(N145="zákl. prenesená",J145,0) -> 0 | BH145: =IF(N145="zníž. prenesená",J145,0) -> 0 | BI145: =IF(N145="nulová",J145,0) -> 0 | BJ145: 2 | BK145: =ROUND(I145*H145,2) -> 0 | BL145: 4 | BM145: 44
C146: 22 | D146: K | E146: 27535-1217 | F146: Debnenie základových pätiek drevené tradičné, zhotovenie | G146: kus | H146: 54 | I146: 0 | J146: =ROUND(I146*H146,2) -> 0 | N146: znížená | O146: 0 | P146: =O146*H146 -> 0 | Q146: 0.00388 | R146: =Q146*H146 -> 0.20952 | S146: 0 | T146: =S146*H146 -> 0 | AR146: 4 | AT146: K | AU146: 1 | AY146: ROZPOCET | BE146: =IF(N146="základná",J146,0) -> 0 | BF146: =IF(N146="znížená",J146,0) -> 0 | BG146: =IF(N146="zákl. prenesená",J146,0) -> 0 | BH146: =IF(N146="zníž. prenesená",J146,0) -> 0 | BI146: =IF(N146="nulová",J146,0) -> 0 | BJ146: 2 | BK146: =ROUND(I146*H146,2) -> 0 | BL146: 4 | BM146: 46
C147: 23 | D147: K | E147: 27535-1218 | F147: Debnenie základových pätiek drevené tradičné, odstránenie | G147: kus | H147: 54 | I147: 0 | J147: =ROUND(I147*H147,2) -> 0 | N147: znížená | O147: 0 | P147: =O147*H147 -> 0 | Q147: 0 | R147: =Q147*H147 -> 0 | S147: 0 | T147: =S147*H147 -> 0 | AR147: 4 | AT147: K | AU147: 1 | AY147: ROZPOCET | BE147: =IF(N147="základná",J147,0) -> 0 | BF147: =IF(N147="znížená",J147,0) -> 0 | BG147: =IF(N147="zákl. prenesená",J147,0) -> 0 | BH147: =IF(N147="zníž. prenesená",J147,0) -> 0 | BI147: =IF(N147="nulová",J147,0) -> 0 | BJ147: 2 | BK147: =ROUND(I147*H147,2) -> 0 | BL147: 4 | BM147: 48
D148: D | E148: 3 | F148: Zvislé a kompletné konštrukcie | J148: =SUM(J149:J158) -> 0 | P148: =SUM(P149:P158) -> 0 | R148: =SUM(R149:R158) -> 12.151543 | T148: =SUM(T149:T158) -> 0 | AR148: 1 | AT148: D | AU148: 0 | AY148: ROZPOCET | BK148: =SUM(BK149:BK158) -> 0
C149: 24 | D149: K | E149: 31127-2203 | F149: Murivo z betónových tvárnic 300mm s výplňou C16/20 - bránky | G149: m3 | H149: 4.08 | I149: 0 | J149: =ROUND(I149*H149,2) -> 0 | N149: znížená | O149: 0 | P149: =O149*H149 -> 0 | Q149: 2.28255 | R149: =Q149*H149 -> 9.312804 | S149: 0 | T149: =S149*H149 -> 0 | AR149: 4 | AT149: K | AU149: 1 | AY149: ROZPOCET | BE149: =IF(N149="základná",J149,0) -> 0 | BF149: =IF(N149="znížená",J149,0) -> 0 | BG149: =IF(N149="zákl. prenesená",J149,0) -> 0 | BH149: =IF(N149="zníž. prenesená",J149,0) -> 0 | BI149: =IF(N149="nulová",J149,0) -> 0 | BJ149: 2 | BK149: =ROUND(I149*H149,2) -> 0 | BL149: 4 | BM149: 50
C150: 25 | D150: K | E150: 31136-1112 | F150: Vystuženie muriva z ocele 10425 | G150: t | H150: 0.055 | I150: 0 | J150: =ROUND(I150*H150,2) -> 0 | N150: znížená | O150: 0 | P150: =O150*H150 -> 0 | Q150: 1.06798 | R150: =Q150*H150 -> 0.0587389 | S150: 0 | T150: =S150*H150 -> 0 | AR150: 4 | AT150: K | AU150: 1 | AY150: ROZPOCET | BE150: =IF(N150="základná",J150,0) -> 0 | BF150: =IF(N150="znížená",J150,0) -> 0 | BG150: =IF(N150="zákl. prenesená",J150,0) -> 0 | BH150: =IF(N150="zníž. prenesená",J150,0) -> 0 | BI150: =IF(N150="nulová",J150,0) -> 0 | BJ150: 2 | BK150: =ROUND(I150*H150,2) -> 0 | BL150: 4 | BM150: 52
C151: 26 | D151: M | E151: 55346301001 | F151: Nohejbalová sada / púzdra s krytkami , stĺpiky, sieť , sada na nap.siete/ | G151: sada | H151: 1 | I151: 0 | J151: =ROUND(I151*H151,2) -> 0 | N151: znížená | O151: 0 | P151: =O151*H151 -> 0 | Q151: 0.06 | R151: =Q151*H151 -> 0.06 | S151: 0 | T151: =S151*H151 -> 0 | AR151: 8 | AT151: M | AU151: 1 | AY151: ROZPOCET | BE151: =IF(N151="základná",J151,0) -> 0 | BF151: =IF(N151="znížená",J151,0) -> 0 | BG151: =IF(N151="zákl. prenesená",J151,0) -> 0 | BH151: =IF(N151="zníž. prenesená",J151,0) -> 0 | BI151: =IF(N151="nulová",J151,0) -> 0 | BJ151: 2 | BK151: =ROUND(I151*H151,2) -> 0 | BL151: 4 | BM151: 54
C152: 27 | D152: M | E152: 55346838001 | F152: Tenisová sada / púzdra s krytkami , stĺpiky, sieť s predlženým oceľ.lankom , sada na nap.siete/ | G152: sada | H152: 1 | I152: 0 | J152: =ROUND(I152*H152,2) -> 0 | N152: znížená | O152: 0 | P152: =O152*H152 -> 0 | Q152: 0.08 | R152: =Q152*H152 -> 0.08 | S152: 0 | T152: =S152*H152 -> 0 | AR152: 8 | AT152: M | AU152: 1 | AY152: ROZPOCET | BE152: =IF(N152="základná",J152,0) -> 0 | BF152: =IF(N152="znížená",J152,0) -> 0 | BG152: =IF(N152="zákl. prenesená",J152,0) -> 0 | BH152: =IF(N152="zníž. prenesená",J152,0) -> 0 | BI152: =IF(N152="nulová",J152,0) -> 0 | BJ152: 2 | BK152: =ROUND(I152*H152,2) -> 0 | BL152: 4 | BM152: 56
C153: 28 | D153: M | E153: 55346537001 | F153: Dodávka a montáž basketbalovej sady / stĺpy s kotviacim košom, vodovzdorná doska 1200/900 mm, sklopná obruč oceľová vystužená_ červená , biela sieťka s 4 mm PP. Osadenej do betonovej pätky-základu /do premŕzacej hĺbky/ štyrma kotevnými púzdrami a skrutkami | G153: sada | H153: 2 | I153: 0 | J153: =ROUND(I153*H153,2) -> 0 | N153: znížená | O153: 0 | P153: =O153*H153 -> 0 | Q153: 0.2 | R153: =Q153*H153 -> 0.4 | S153: 0 | T153: =S153*H153 -> 0 | AR153: 8 | AT153: M | AU153: 1 | AY153: ROZPOCET | BE153: =IF(N153="základná",J153,0) -> 0 | BF153: =IF(N153="znížená",J153,0) -> 0 | BG153: =IF(N153="zákl. prenesená",J153,0) -> 0 | BH153: =IF(N153="zníž. prenesená",J153,0) -> 0 | BI153: =IF(N153="nulová",J153,0) -> 0 | BJ153: 2 | BK153: =ROUND(I153*H153,2) -> 0 | BL153: 4 | BM153: 58
C154: 29 | D154: M | E154: 55343702001 | F154: Celozvarovaná futbalová brána z Al profilu min 100/3 mm rozmeru 4,0x2,0 m pevne zabudovaná do mantinelového systému + PP sieť s okom 50/50/4 mm. | G154: ks | H154: 2 | I154: 0 | J154: =ROUND(I154*H154,2) -> 0 | N154: znížená | O154: 0 | P154: =O154*H154 -> 0 | Q154: 0.055 | R154: =Q154*H154 -> 0.11 | S154: 0 | T154: =S154*H154 -> 0 | AR154: 8 | AT154: M | AU154: 1 | AY154: ROZPOCET | BE154: =IF(N154="základná",J154,0) -> 0 | BF154: =IF(N154="znížená",J154,0) -> 0 | BG154: =IF(N154="zákl. prenesená",J154,0) -> 0 | BH154: =IF(N154="zníž. prenesená",J154,0) -> 0 | BI154: =IF(N154="nulová",J154,0) -> 0 | BJ154: 2 | BK154: =ROUND(I154*H154,2) -> 0 | BL154: 4 | BM154: 60
C155: 30 | D155: M | E155: 56249105201 | F155: Mantinelový systém z celozvarovaných a následne pozinkovaných oceľových modulov s výškou základného mantinelu - podľa parametrov v technickej správe 1,0 m a dlžkou 2,0 m s min. hrúbkou profilu 3 mm, spájaných skrutkovaním bez dodatočného zvárania, | G155: m | H155: 102 | I155: 0 | J155: =ROUND(I155*H155,2) -> 0 | N155: znížená | O155: 0 | P155: =O155*H155 -> 0 | Q155: 0.015 | R155: =Q155*H155 -> 1.53 | S155: 0 | T155: =S155*H155 -> 0 | AR155: 8 | AT155: M | AU155: 1 | AY155: ROZPOCET | BE155: =IF(N155="základná",J155,0) -> 0 | BF155: =IF(N155="znížená",J155,0) -> 0 | BG155: =IF(N155="zákl. prenesená",J155,0) -> 0 | BH155: =IF(N155="zníž. prenesená",J155,0) -> 0 | BI155: =IF(N155="nulová",J155,0) -> 0 | BJ155: 2 | BK155: =ROUND(I155*H155,2) -> 0 | BL155: 4 | BM155: 62
C156: 31 | D156: M | E156: 56249105202 | F156: Vstupná jednokrídlová bezbarierová bránička z pozinkovanej oceľovej konštrukcie rozmeru 1 000x2 200 mm s rovnakou plastovou PP výplňou a Al madlom. Bránička je s uzamykateľnou závorou | G156: ks | H156: 2 | I156: 0 | J156: =ROUND(I156*H156,2) -> 0 | N156: znížená | O156: 0 | P156: =O156*H156 -> 0 | Q156: 0.045 | R156: =Q156*H156 -> 0.09 | S156: 0 | T156: =S156*H156 -> 0 | AR156: 8 | AT156: M | AU156: 1 | AY156: ROZPOCET | BE156: =IF(N156="základná",J156,0) -> 0 | BF156: =IF(N156="znížená",J156,0) -> 0 | BG156: =IF(N156="zákl. prenesená",J156,0) -> 0 | BH156: =IF(N156="zníž. prenesená",J156,0) -> 0 | BI156: =IF(N156="nulová",J156,0) -> 0 | BJ156: 2 | BK156: =ROUND(I156*H156,2) -> 0 | BL156: 4 | BM156: 64
C157: 32 | D157: M | E157: 56249105202.1 | F157: Nadstavba základného mantinelového systému z pozink. oceľovej konštrukcie s min. hrúbkou profilu 3 mm vrátane PP ochranných sietí s okom 45/45/4 mm do výšky 3 m nad mantinelom po celom obvode ihriska. Montáž riešiť len skrutkovými spojmi. | G157: m | H157: 102 | I157: 0 | J157: =ROUND(I157*H157,2) -> 0 | N157: znížená | O157: 0 | P157: =O157*H157 -> 0 | Q157: 0.005 | R157: =Q157*H157 -> 0.51 | S157: 0 | T157: =S157*H157 -> 0 | AR157: 8 | AT157: M | AU157: 1 | AY157: ROZPOCET | BE157: =IF(N157="základná",J157,0) -> 0 | BF157: =IF(N157="znížená",J157,0) -> 0 | BG157: =IF(N157="zákl. prenesená",J157,0) -> 0 | BH157: =IF(N157="zníž. prenesená",J157,0) -> 0 | BI157: =IF(N157="nulová",J157,0) -> 0 | BJ157: 2 | BK157: =ROUND(I157*H157,2) -> 0 | BL157: 4 | BM157: 66
C158: 33 | D158: M | E158: 56249206205 | F158: Dopravné a manipulačné náklady na komponenty mantinelového systému a športovej výbavy. | G158: komplet | H158: 1 | I158: 0 | J158: =ROUND(I158*H158,2) -> 0 | N158: znížená | O158: 0 | P158: =O158*H158 -> 0 | Q158: 0 | R158: =Q158*H158 -> 0 | S158: 0 | T158: =S158*H158 -> 0 | AR158: 8 | AT158: M | AU158: 1 | AY158: ROZPOCET | BE158: =IF(N158="základná",J158,0) -> 0 | BF158: =IF(N158="znížená",J158,0) -> 0 | BG158: =IF(N158="zákl. prenesená",J158,0) -> 0 | BH158: =IF(N158="zníž. prenesená",J158,0) -> 0 | BI158: =IF(N158="nulová",J158,0) -> 0 | BJ158: 2 | BK158: =ROUND(I158*H158,2) -> 0 | BL158: 4 | BM158: 68
D159: D | E159: 4 | F159: Komunikácie | J159: =SUM(J160:J165) -> 0 | P159: =SUM(P160:P165) -> 0 | R159: =SUM(R160:R165) -> 206.0883 | T159: =SUM(T160:T165) -> 0 | AR159: 1 | AT159: D | AU159: 0 | AY159: ROZPOCET | BK159: =SUM(BK160:BK165) -> 0
C160: 34 | D160: K | E160: 564761111 | F160: Podklad alebo kryt z kameniva hrubého drveného veľ. 32-63 mm s rozprestretím a zhutn.hr.220 mm | G160: m2 | H160: 610 | I160: 0 | J160: =ROUND(I160*H160,2) -> 0 | N160: znížená | O160: 0 | P160: =O160*H160 -> 0 | Q160: 0.08096 | R160: =Q160*H160 -> 49.3856 | S160: 0 | T160: =S160*H160 -> 0 | AR160: 4 | AT160: K | AU160: 1 | AY160: ROZPOCET | BE160: =IF(N160="základná",J160,0) -> 0 | BF160: =IF(N160="znížená",J160,0) -> 0 | BG160: =IF(N160="zákl. prenesená",J160,0) -> 0 | BH160: =IF(N160="zníž. prenesená",J160,0) -> 0 | BI160: =IF(N160="nulová",J160,0) -> 0 | BJ160: 2 | BK160: =ROUND(I160*H160,2) -> 0 | BL160: 4 | BM160: 70
C161: 35 | D161: K | E161: 564831111 | F161: Podklad zo štrkodrviny s rozprestrením a zhutnením,fr. 8-16 mm hr.po zhutnení 100 mm | G161: m2 | H161: 610 | I161: 0 | J161: =ROUND(I161*H161,2) -> 0 | N161: znížená | O161: 0 | P161: =O161*H161 -> 0 | Q161: 0.15272 | R161: =Q161*H161 -> 93.1592 | S161: 0 | T161: =S161*H161 -> 0 | AR161: 4 | AT161: K | AU161: 1 | AY161: ROZPOCET | BE161: =IF(N161="základná",J161,0) -> 0 | BF161: =IF(N161="znížená",J161,0) -> 0 | BG161: =IF(N161="zákl. prenesená",J161,0) -> 0 | BH161: =IF(N161="zníž. prenesená",J161,0) -> 0 | BI161: =IF(N161="nulová",J161,0) -> 0 | BJ161: 2 | BK161: =ROUND(I161*H161,2) -> 0 | BL161: 4 | BM161: 72
C162: 36 | D162: M | E162: 564201111 | F162: Podklad alebo podsyp zo štrkopiesku s rozprestretím, vlhčením a zhutnením fr. 0-4 mm po zhutnení hr.20 mm | G162: t | H162: 45 | I162: 0 | J162: =ROUND(I162*H162,2) -> 0 | N162: znížená | O162: 0 | P162: =O162*H162 -> 0 | Q162: 1 | R162: =Q162*H162 -> 45 | S162: 0 | T162: =S162*H162 -> 0 | AR162: 8 | AT162: M | AU162: 1 | AY162: ROZPOCET | BE162: =IF(N162="základná",J162,0) -> 0 | BF162: =IF(N162="znížená",J162,0) -> 0 | BG162: =IF(N162="zákl. prenesená",J162,0) -> 0 | BH162: =IF(N162="zníž. prenesená",J162,0) -> 0 | BI162: =IF(N162="nulová",J162,0) -> 0 | BJ162: 2 | BK162: =ROUND(I162*H162,2) -> 0 | BL162: 4 | BM162: 74
C163: 37 | D163: M | E163: 25192010001 | F163: Umelý trávnik - výška vlasu 20 mm , jemnosť vlákna min. Dtex min 7 000, počet vpichov min. 25 000 /m2, širka vlasu min 10 mm a hrúbka vlasu min 70 mikrometrov, pieskovanie suš. kremičitým pieskom, čiarovanie - biela futbal a tenis , žltá volejbal, modrá basketbal. | G163: m2 | H163: 610 | I163: 0 | J163: =ROUND(I163*H163,2) -> 0 | N163: znížená | O163: 0 | P163: =O163*H163 -> 0 | Q163: 0.00225 | R163: =Q163*H163 -> 1.3725 | S163: 0 | T163: =S163*H163 -> 0 | AR163: 8 | AT163: M | AU163: 1 | AY163: ROZPOCET | BE163: =IF(N163="základná",J163,0) -> 0 | BF163: =IF(N163="znížená",J163,0) -> 0 | BG163: =IF(N163="zákl. prenesená",J163,0) -> 0 | BH163: =IF(N163="zníž. prenesená",J163,0) -> 0 | BI163: =IF(N163="nulová",J163,0) -> 0 | BJ163: 2 | BK163: =ROUND(I163*H163,2) -> 0 | BL163: 4 | BM163: 78
C164: 38 | D164: M | E164: 25192010002 | F164: Llepidlo dvojzložkové | G164: ks | H164: 10 | I164: 0 | J164: =ROUND(I164*H164,2) -> 0 | N164: znížená | O164: 0 | P164: =O164*H164 -> 0 | Q164: 0.0171 | R164: =Q164*H164 -> 0.171 | S164: 0 | T164: =S164*H164 -> 0 | AR164: 8 | AT164: M | AU164: 1 | AY164: ROZPOCET | BE164: =IF(N164="základná",J164,0) -> 0 | BF164: =IF(N164="znížená",J164,0) -> 0 | BG164: =IF(N164="zákl. prenesená",J164,0) -> 0 | BH164: =IF(N164="zníž. prenesená",J164,0) -> 0 | BI164: =IF(N164="nulová",J164,0) -> 0 | BJ164: 2 | BK164: =ROUND(I164*H164,2) -> 0 | BL164: 4 | BM164: 80
C165: 39 | D165: M | E165: 25192010003 | F165: Sušený kremičitý piesok 27,0 kg/m2 | G165: ton | H165: 17 | I165: 0 | J165: =ROUND(I165*H165,2) -> 0 | N165: znížená | O165: 0 | P165: =O165*H165 -> 0 | Q165: 1 | R165: =Q165*H165 -> 17 | S165: 0 | T165: =S165*H165 -> 0 | AR165: 8 | AT165: M | AU165: 1 | AY165: ROZPOCET | BE165: =IF(N165="základná",J165,0) -> 0 | BF165: =IF(N165="znížená",J165,0) -> 0 | BG165: =IF(N165="zákl. prenesená",J165,0) -> 0 | BH165: =IF(N165="zníž. prenesená",J165,0) -> 0 | BI165: =IF(N165="nulová",J165,0) -> 0 | BJ165: 2 | BK165: =ROUND(I165*H165,2) -> 0 | BL165: 4 | BM165: 82
D166: D | E166: 5 | F166: VODOROVNÉ KONŠTRUKCIE | J166: =SUM(J167:J167) -> 0 | P166: =SUM(P167:P167) -> 0 | R166: =SUM(R167:R167) -> 0 | T166: =SUM(T167:T167) -> 0 | AR166: 1 | AT166: D | AU166: 0 | AY166: ROZPOCET | BK166: =SUM(BK167:BK167) -> 0
...
