Workbook

Sheet Rekapitulácia stavby
A1: Export Komplet | BA1: 2.0 | BT1: False | BU1: False | BV1: {55faa3a3-8ba4-4031-a0e3-a6b7e00d533d}
AR2: >> skryté stĺpce << | BS2: 0,001 | BT2: 20
BS3: 0,001 | BT3: 20
D4: REKAPITULÁCIA STAVBY | AS4: v --- nižšie sa nachádzajú doplnkové a pomocné údaje k zostavám --- v | BE4: Návod na vyplnenie | BS4: 0,001
D5: Kód: | K5: 14560 | BE5: Meniť je možné iba bunky so žltým podfarbením!_x000D_ _x000D_ 1) na prvom liste Rekapitulácie stavby vyplňte v zostave_x000D_ _x000D_ a) Rekapitulácia stavby_x000D_ - údaje o Zhotoviteľovi_x000D_ (prenesú sa do ostatných zostáv aj v iných listoch)_x000D_ _x000D_ b) Rekapitulácia objektov stavby_x000D_ - potrebné Ostatné náklady_x000D_ _x000D_ 2) na vybraných listoch vyplňte v zostave_x000D_ _x000D_ a) Krycí list_x000D_ - údaje o Zhotoviteľovi, pokiaľ sa líšia od údajov o Zhotoviteľovi na Rekapitulácii stavby_x000D_ (údaje se prenesú do ostatných zostav v danom liste)_x000D_ _x000D_ b) Rekapitulácia rozpočtu_x000D_ - potrebné Ostatné náklady_x000D_ _x000D_ c) Celkové náklady za stavbu_x000D_ - ceny na položkách_x000D_ - množstvo, pokiaľ má žlté podfarbenie_x000D_ - a v prípade potreby poznámku (tá je v skrytom stĺpci) | BS5: 0,001
D6: Stavba: | K6: Rekonštrukcia mestských chodníkov a spevnených plôch | BS6: 0,001
D7: JKSO: | AK7: KS: | BS7: 0,001
D8: Miesto: | K8: Trebišov | AK8: Dátum: | AN8: 13. 8. 2020 | BS8: 0,001
BS9: 0,001
D10: Objednávateľ: | AK10: IČO: | BS10: 0,001
E11: Mesto Trebišov | AK11: IČ DPH: | BS11: 0,001
BS12: 0,001
D13: Zhotoviteľ: | AK13: IČO: | AN13: Vyplň údaj | BS13: 0,001
E14: Vyplň údaj | AK14: IČ DPH: | AN14: Vyplň údaj | BS14: 0,001
BS15: False
D16: Projektant: | AK16: IČO: | BS16: False
AK17: IČ DPH: | BS17: True
BS18: 0,01
D19: Spracovateľ: | AK19: IČO: | BS19: 0,01
AK20: IČ DPH: | BS20: True
D22: Poznámka:
D26: Cena bez DPH | AK26: =ROUND(AG94,2) -> 0
L28: Sadzba dane | W28: Základ dane | AK28: Výška dane
D29: DPH | F29: základná | L29: 0.2 | W29: =ROUND(AZ94, 2) -> 0 | AK29: =ROUND(AV94, 2) -> 0
F30: znížená | L30: 0.2 | W30: =ROUND(BA94, 2) -> 0 | AK30: =ROUND(AW94, 2) -> 0
F31: zákl. prenesená | L31: 0.2 | W31: =ROUND(BB94, 2) -> 0 | AK31: 0
F32: zníž. prenesená | L32: 0.2 | W32: =ROUND(BC94, 2) -> 0 | AK32: 0
F33: nulová | L33: 0 | W33: =ROUND(BD94, 2) -> 0 | AK33: 0
D35: Cena s DPH | T35: v | X35: EUR | AK35: =SUM(AK26:AK33) -> 0
D49: Projektant | AH49: Spracovateľ
D60: Dátum a podpis: | V60: Pečiatka | AH60: Dátum a podpis: | AM60: Pečiatka
D64: Objednávateľ | AH64: Zhotoviteľ
D75: Dátum a podpis: | V75: Pečiatka | AH75: Dátum a podpis: | AM75: Pečiatka
C82: REKAPITULÁCIA OBJEKTOV STAVBY
C84: Kód: | L84: =K5 -> 14560
C85: Stavba: | L85: =K6 -> Rekonštrukcia mestských chodníkov a spevnených plôch
C87: Miesto: | L87: =IF(K8="","",K8) -> Trebišov | AI87: Dátum: | AM87: =IF(AN8= "","",AN8) -> 13. 8. 2020
C89: Objednávateľ: | L89: =IF(E11= "","",E11) -> Mesto Trebišov | AI89: Projektant: | AM89: =IF(E17="","",E17) | AS89: Informatívne údaje z listov zákaziek
C90: Zhotoviteľ: | L90: =IF(E14= "Vyplň údaj","",E14) | AI90: Spracovateľ: | AM90: =IF(E20="","",E20)
C92: Kód | I92: Popis | AG92: Cena bez DPH [EUR] | AN92: Cena s DPH [EUR] | AQ92: Typ | AS92: z toho Ostat._x000D_ náklady [EUR] | AT92: DPH [EUR] | AU92: Normohodiny [h] | AV92: DPH základná [EUR] | AW92: DPH znížená [EUR] | AX92: DPH základná prenesená_x000D_ [EUR] | AY92: DPH znížená prenesená_x000D_ [EUR] | AZ92: Základňa_x000D_ DPH základná | BA92: Základňa_x000D_ DPH znížená | BB92: Základňa_x000D_ DPH zákl. prenesená | BC92: Základňa_x000D_ DPH zníž. prenesená | BD92: Základňa_x000D_ DPH nulová
C94: Náklady z rozpočtov | AG94: =ROUND(SUM(AG95:AG104),2) -> 0 | AN94: =SUM(AG94,AT94) -> 0 | AS94: =ROUND(SUM(AS95:AS104),2) -> 0 | AT94: =ROUND(SUM(AV94:AW94),2) -> 0 | AU94: =ROUND(SUM(AU95:AU104),5) -> 0 | AV94: =ROUND(AZ94*L29,2) -> 0 | AW94: =ROUND(BA94*L30,2) -> 0 | AX94: =ROUND(BB94*L29,2) -> 0 | AY94: =ROUND(BC94*L30,2) -> 0 | AZ94: =ROUND(SUM(AZ95:AZ104),2) -> 0 | BA94: =ROUND(SUM(BA95:BA104),2) -> 0 | BB94: =ROUND(SUM(BB95:BB104),2) -> 0 | BC94: =ROUND(SUM(BC95:BC104),2) -> 0 | BD94: =ROUND(SUM(BD95:BD104),2) -> 0 | BS94: D | BT94: 0 | BU94: ###NOIMPORT### | BV94: IMPORT | BW94: {55faa3a3-8ba4-4031-a0e3-a6b7e00d533d} | BX94: {00000000-0000-0000-0000-000000000000}
A95: / | D95: 01 | J95: Rekonštrukcia spevnených plôch v areáli Mestskej plavarne (plocha 760 m2) | AG95: ='01 - Rekonštrukcia spevn...'!J32 -> 0 | AN95: =SUM(AG95,AT95) -> 0 | AQ95: STA | AS95: 0 | AT95: =ROUND(SUM(AV95:AW95),2) -> 0 | AU95: ='01 - Rekonštrukcia spevn...'!P132 -> 0 | AV95: ='01 - Rekonštrukcia spevn...'!J35 -> 0 | AW95: ='01 - Rekonštrukcia spevn...'!J36 -> 0 | AX95: ='01 - Rekonštrukcia spevn...'!J37 -> 0 | AY95: ='01 - Rekonštrukcia spevn...'!J38 -> 0 | AZ95: ='01 - Rekonštrukcia spevn...'!F35 -> 0 | BA95: ='01 - Rekonštrukcia spevn...'!F36 -> 0 | BB95: ='01 - Rekonštrukcia spevn...'!F37 -> 0 | BC95: ='01 - Rekonštrukcia spevn...'!F38 -> 0 | BD95: ='01 - Rekonštrukcia spevn...'!F39 -> 0 | BT95: 1 | BV95: IMPORT | BW95: {3c245447-eb45-4f06-85c1-442a6df8385e} | BX95: {55faa3a3-8ba4-4031-a0e3-a6b7e00d533d} | CM95: 0
A96: / | D96: 02 | J96: Rekonštrukcia chodníkov a spevnených plôch v areáli MŠ pri polícii (plocha 512 m2) | AG96: ='02 - Rekonštrukcia chodn...'!J32 -> 0 | AN96: =SUM(AG96,AT96) -> 0 | AQ96: STA | AS96: 0 | AT96: =ROUND(SUM(AV96:AW96),2) -> 0 | AU96: ='02 - Rekonštrukcia chodn...'!P133 -> 0 | AV96: ='02 - Rekonštrukcia chodn...'!J35 -> 0 | AW96: ='02 - Rekonštrukcia chodn...'!J36 -> 0 | AX96: ='02 - Rekonštrukcia chodn...'!J37 -> 0 | AY96: ='02 - Rekonštrukcia chodn...'!J38 -> 0 | AZ96: ='02 - Rekonštrukcia chodn...'!F35 -> 0 | BA96: ='02 - Rekonštrukcia chodn...'!F36 -> 0 | BB96: ='02 - Rekonštrukcia chodn...'!F37 -> 0 | BC96: ='02 - Rekonštrukcia chodn...'!F38 -> 0 | BD96: ='02 - Rekonštrukcia chodn...'!F39 -> 0 | BT96: 1 | BV96: IMPORT | BW96: {453f9a15-afc8-4551-8d76-b216b9dcce02} | BX96: {55faa3a3-8ba4-4031-a0e3-a6b7e00d533d} | CM96: 0
A97: / | D97: 03 | J97: Ulica Kukučínova - južny chodnik od ulice Lúčnej po ulicu Košickú ( plocha 280m2) | AG97: ='03 - Ulica Kukučínova - ...'!J32 -> 0 | AN97: =SUM(AG97,AT97) -> 0 | AQ97: STA | AS97: 0 | AT97: =ROUND(SUM(AV97:AW97),2) -> 0 | AU97: ='03 - Ulica Kukučínova - ...'!P132 -> 0 | AV97: ='03 - Ulica Kukučínova - ...'!J35 -> 0 | AW97: ='03 - Ulica Kukučínova - ...'!J36 -> 0 | AX97: ='03 - Ulica Kukučínova - ...'!J37 -> 0 | AY97: ='03 - Ulica Kukučínova - ...'!J38 -> 0 | AZ97: ='03 - Ulica Kukučínova - ...'!F35 -> 0 | BA97: ='03 - Ulica Kukučínova - ...'!F36 -> 0 | BB97: ='03 - Ulica Kukučínova - ...'!F37 -> 0 | BC97: ='03 - Ulica Kukučínova - ...'!F38 -> 0 | BD97: ='03 - Ulica Kukučínova - ...'!F39 -> 0 | BT97: 1 | BV97: IMPORT | BW97: {9a875dfa-f1de-4f16-93b3-21f44f12d6d3} | BX97: {55faa3a3-8ba4-4031-a0e3-a6b7e00d533d} | CM97: 0
A98: / | D98: 04 | J98: Ulica Košicka - chodnik od ulice Kukučínovej (plocha 160m2) | AG98: ='04 - Ulica Košicka - cho...'!J32 -> 0 | AN98: =SUM(AG98,AT98) -> 0 | AQ98: STA | AS98: 0 | AT98: =ROUND(SUM(AV98:AW98),2) -> 0 | AU98: ='04 - Ulica Košicka - cho...'!P132 -> 0 | AV98: ='04 - Ulica Košicka - cho...'!J35 -> 0 | AW98: ='04 - Ulica Košicka - cho...'!J36 -> 0 | AX98: ='04 - Ulica Košicka - cho...'!J37 -> 0 | AY98: ='04 - Ulica Košicka - cho...'!J38 -> 0 | AZ98: ='04 - Ulica Košicka - cho...'!F35 -> 0 | BA98: ='04 - Ulica Košicka - cho...'!F36 -> 0 | BB98: ='04 - Ulica Košicka - cho...'!F37 -> 0 | BC98: ='04 - Ulica Košicka - cho...'!F38 -> 0 | BD98: ='04 - Ulica Košicka - cho...'!F39 -> 0 | BT98: 1 | BV98: IMPORT | BW98: {9d245e2e-8a2b-4524-bf32-ae20a20a8c23} | BX98: {55faa3a3-8ba4-4031-a0e3-a6b7e00d533d} | CM98: 0
A99: / | D99: 05 | J99: Ulica Košicka - chodnik od ulice Športovej po ulicu Parkovú (plocha 176m2) | AG99: ='05 - Ulica Košicka - cho...'!J32 -> 0 | AN99: =SUM(AG99,AT99) -> 0 | AQ99: STA | AS99: 0 | AT99: =ROUND(SUM(AV99:AW99),2) -> 0 | AU99: ='05 - Ulica Košicka - cho...'!P131 -> 0 | AV99: ='05 - Ulica Košicka - cho...'!J35 -> 0 | AW99: ='05 - Ulica Košicka - cho...'!J36 -> 0 | AX99: ='05 - Ulica Košicka - cho...'!J37 -> 0 | AY99: ='05 - Ulica Košicka - cho...'!J38 -> 0 | AZ99: ='05 - Ulica Košicka - cho...'!F35 -> 0 | BA99: ='05 - Ulica Košicka - cho...'!F36 -> 0 | BB99: ='05 - Ulica Košicka - cho...'!F37 -> 0 | BC99: ='05 - Ulica Košicka - cho...'!F38 -> 0 | BD99: ='05 - Ulica Košicka - cho...'!F39 -> 0 | BT99: 1 | BV99: IMPORT | BW99: {68788ed5-887a-47f4-a43a-d0e665232533} | BX99: {55faa3a3-8ba4-4031-a0e3-a6b7e00d533d} | CM99: 0
A100: / | D100: 06 | J100: Ulica Parkova - chodnik od ulice Košickej po ulicu Lúčnu ( plocha 118m2) | AG100: ='06 - Ulica Parkova - cho...'!J32 -> 0 | AN100: =SUM(AG100,AT100) -> 0 | AQ100: STA | AS100: 0 | AT100: =ROUND(SUM(AV100:AW100),2) -> 0 | AU100: ='06 - Ulica Parkova - cho...'!P132 -> 0 | AV100: ='06 - Ulica Parkova - cho...'!J35 -> 0 | AW100: ='06 - Ulica Parkova - cho...'!J36 -> 0 | AX100: ='06 - Ulica Parkova - cho...'!J37 -> 0 | AY100: ='06 - Ulica Parkova - cho...'!J38 -> 0 | AZ100: ='06 - Ulica Parkova - cho...'!F35 -> 0 | BA100: ='06 - Ulica Parkova - cho...'!F36 -> 0 | BB100: ='06 - Ulica Parkova - cho...'!F37 -> 0 | BC100: ='06 - Ulica Parkova - cho...'!F38 -> 0 | BD100: ='06 - Ulica Parkova - cho...'!F39 -> 0 | BT100: 1 | BV100: IMPORT | BW100: {b04c22df-1934-43a1-8c4b-1c8050c7de89} | BX100: {55faa3a3-8ba4-4031-a0e3-a6b7e00d533d} | CM100: 0
A101: / | D101: 07 | J101: Ulica Parkova - chodnik od ulice Lúčnej po ulicu Varichovskú ( plocha 266m2) | AG101: ='07 - Ulica Parkova - ch...'!J32 -> 0 | AN101: =SUM(AG101,AT101) -> 0 | AQ101: STA | AS101: 0 | AT101: =ROUND(SUM(AV101:AW101),2) -> 0 | AU101: ='07 - Ulica Parkova - ch...'!P132 -> 0 | AV101: ='07 - Ulica Parkova - ch...'!J35 -> 0 | AW101: ='07 - Ulica Parkova - ch...'!J36 -> 0 | AX101: ='07 - Ulica Parkova - ch...'!J37 -> 0 | AY101: ='07 - Ulica Parkova - ch...'!J38 -> 0 | AZ101: ='07 - Ulica Parkova - ch...'!F35 -> 0 | BA101: ='07 - Ulica Parkova - ch...'!F36 -> 0 | BB101: ='07 - Ulica Parkova - ch...'!F37 -> 0 | BC101: ='07 - Ulica Parkova - ch...'!F38 -> 0 | BD101: ='07 - Ulica Parkova - ch...'!F39 -> 0 | BT101: 1 | BV101: IMPORT | BW101: {4ee1f34b-bf13-4c72-993b-e9cb8222e053} | BX101: {55faa3a3-8ba4-4031-a0e3-a6b7e00d533d} | CM101: 0
A102: / | D102: 08 | J102: Rekonštrukcia chodníka vedľa zdravotníckeho zariadenia - Námestie mieru i (plocha 58 m2) | AG102: ='08 - Rekonštrukcia chodn...'!J32 -> 0 | AN102: =SUM(AG102,AT102) -> 0 | AQ102: STA | AS102: 0 | AT102: =ROUND(SUM(AV102:AW102),2) -> 0 | AU102: ='08 - Rekonštrukcia chodn...'!P130 -> 0 | AV102: ='08 - Rekonštrukcia chodn...'!J35 -> 0 | AW102: ='08 - Rekonštrukcia chodn...'!J36 -> 0 | AX102: ='08 - Rekonštrukcia chodn...'!J37 -> 0 | AY102: ='08 - Rekonštrukcia chodn...'!J38 -> 0 | AZ102: ='08 - Rekonštrukcia chodn...'!F35 -> 0 | BA102: ='08 - Rekonštrukcia chodn...'!F36 -> 0 | BB102: ='08 - Rekonštrukcia chodn...'!F37 -> 0 | BC102: ='08 - Rekonštrukcia chodn...'!F38 -> 0 | BD102: ='08 - Rekonštrukcia chodn...'!F39 -> 0 | BT102: 1 | BV102: IMPORT | BW102: {b9de30e3-775c-4c9d-9c8c-3de204e2f8d8} | BX102: {55faa3a3-8ba4-4031-a0e3-a6b7e00d533d} | CM102: 0
A103: / | D103: 09 | J103: Ulica Berehovská - rekonštrukcia chodníkov, nové odstavné plochy (plocha 1125 m2) | AG103: ='09 - Ulica Berehovská - r...'!J32 -> 0 | AN103: =SUM(AG103,AT103) -> 0 | AQ103: STA | AS103: 0 | AT103: =ROUND(SUM(AV103:AW103),2) -> 0 | AU103: ='09 - Ulica Berehovská - r...'!P131 -> 0 | AV103: ='09 - Ulica Berehovská - r...'!J35 -> 0 | AW103: ='09 - Ulica Berehovská - r...'!J36 -> 0 | AX103: ='09 - Ulica Berehovská - r...'!J37 -> 0 | AY103: ='09 - Ulica Berehovská - r...'!J38 -> 0 | AZ103: ='09 - Ulica Berehovská - r...'!F35 -> 0 | BA103: ='09 - Ulica Berehovská - r...'!F36 -> 0 | BB103: ='09 - Ulica Berehovská - r...'!F37 -> 0 | BC103: ='09 - Ulica Berehovská - r...'!F38 -> 0 | BD103: ='09 - Ulica Berehovská - r...'!F39 -> 0 | BT103: 1 | BV103: IMPORT | BW103: {257cf229-a098-4101-8532-e274247b95a6} | BX103: {55faa3a3-8ba4-4031-a0e3-a6b7e00d533d} | CM103: 0
A104: / | D104: 10 | J104: Ulica Kutnohorská - rekonštrukcia chodníkov, odstavných pôôch a cestnej komunikácie | AG104: ='10 - Ulica Kutnohorská - ...'!J32 -> 0 | AN104: =SUM(AG104,AT104) -> 0 | AQ104: STA | AS104: 0 | AT104: =ROUND(SUM(AV104:AW104),2) -> 0 | AU104: ='10 - Ulica Kutnohorská - ...'!P132 -> 0 | AV104: ='10 - Ulica Kutnohorská - ...'!J35 -> 0 | AW104: ='10 - Ulica Kutnohorská - ...'!J36 -> 0 | AX104: ='10 - Ulica Kutnohorská - ...'!J37 -> 0 | AY104: ='10 - Ulica Kutnohorská - ...'!J38 -> 0 | AZ104: ='10 - Ulica Kutnohorská - ...'!F35 -> 0 | BA104: ='10 - Ulica Kutnohorská - ...'!F36 -> 0 | BB104: ='10 - Ulica Kutnohorská - ...'!F37 -> 0 | BC104: ='10 - Ulica Kutnohorská - ...'!F38 -> 0 | BD104: ='10 - Ulica Kutnohorská - ...'!F39 -> 0 | BT104: 1 | BV104: IMPORT | BW104: {2922caad-c3c7-49f4-9e6b-95b64ae4e749} | BX104: {55faa3a3-8ba4-4031-a0e3-a6b7e00d533d} | CM104: 0

Sheet 01 - Rekonštrukcia  spevn...
L2: >> skryté stĺpce << | AT2: {3c245447-eb45-4f06-85c1-442a6df8385e}
AT3: 0
D4: KRYCÍ LIST ROZPOČTU | M4: v --- nižšie sa nachádzajú doplnkové a pomocné údaje k zostavám --- v | AT4: False
D6: Stavba:
E7: ='Rekapitulácia stavby'!K6 -> Rekonštrukcia mestských chodníkov a spevnených plôch
D8: Objekt:
E9: 01 - Rekonštrukcia spevnených plôch v areáli Mestskej plavarne (plocha 760 m2)
D11: JKSO: | I11: KS:
D12: Miesto: | F12: Trebišov | I12: Dátum: | J12: ='Rekapitulácia stavby'!AN8 -> 13. 8. 2020
D14: Objednávateľ: | I14: IČO:
E15: Mesto Trebišov | I15: IČ DPH:
D17: Zhotoviteľ: | I17: IČO: | J17: ='Rekapitulácia stavby'!AN13 -> Vyplň údaj
E18: ='Rekapitulácia stavby'!E14 -> Vyplň údaj | I18: IČ DPH: | J18: ='Rekapitulácia stavby'!AN14 -> Vyplň údaj
D20: Projektant: | I20: IČO: | J20: =IF('Rekapitulácia stavby'!AN16="","",'Rekapitulácia stavby'!AN16)
E21: =IF('Rekapitulácia stavby'!E17="","",'Rekapitulácia stavby'!E17) | I21: IČ DPH: | J21: =IF('Rekapitulácia stavby'!AN17="","",'Rekapitulácia stavby'!AN17)
D23: Spracovateľ: | I23: IČO: | J23: =IF('Rekapitulácia stavby'!AN19="","",'Rekapitulácia stavby'!AN19)
E24: =IF('Rekapitulácia stavby'!E20="","",'Rekapitulácia stavby'!E20) | I24: IČ DPH: | J24: =IF('Rekapitulácia stavby'!AN20="","",'Rekapitulácia stavby'!AN20)
D26: Poznámka:
D30: Náklady z rozpočtu | J30: =J96 -> 0
D31: Ostatné náklady | J31: =J105 -> 0
D32: Cena bez DPH | J32: =ROUND(J30 + J31, 2) -> 0
F34: Základ dane | I34: Sadzba dane | J34: Výška dane
D35: DPH | E35: základná | F35: =ROUND((SUM(BE105:BE112) + SUM(BE132:BE155)), 2) -> 0 | I35: 0.2 | J35: =ROUND(((SUM(BE105:BE112) + SUM(BE132:BE155))*I35), 2) -> 0
E36: znížená | F36: =ROUND((SUM(BF105:BF112) + SUM(BF132:BF155)), 2) -> 0 | I36: 0.2 | J36: =ROUND(((SUM(BF105:BF112) + SUM(BF132:BF155))*I36), 2) -> 0
E37: zákl. prenesená | F37: =ROUND((SUM(BG105:BG112) + SUM(BG132:BG155)), 2) -> 0 | I37: 0.2 | J37: =0 -> 0
E38: zníž. prenesená | F38: =ROUND((SUM(BH105:BH112) + SUM(BH132:BH155)), 2) -> 0 | I38: 0.2 | J38: =0 -> 0
E39: nulová | F39: =ROUND((SUM(BI105:BI112) + SUM(BI132:BI155)), 2) -> 0 | I39: 0 | J39: =0 -> 0
D41: Cena s DPH | G41: v | H41: EUR | J41: =SUM(J32:J39) -> 0
D50: Projektant | G50: Spracovateľ
D61: Dátum a podpis: | F61: Pečiatka | G61: Dátum a podpis: | J61: Pečiatka
D65: Objednávateľ | G65: Zhotoviteľ
D76: Dátum a podpis: | F76: Pečiatka | G76: Dátum a podpis: | J76: Pečiatka
C82: REKAPITULÁCIA ROZPOČTU
C84: Stavba:
E85: =E7 -> Rekonštrukcia mestských chodníkov a spevnených plôch
C86: Objekt:
E87: =E9 -> 01 - Rekonštrukcia spevnených plôch v areáli Mestskej plavarne (plocha 760 m2)
C89: Miesto: | F89: =F12 -> Trebišov | I89: Dátum: | J89: =IF(J12="","",J12) -> 13. 8. 2020
C91: Objednávateľ: | F91: =E15 -> Mesto Trebišov | I91: Projektant: | J91: =E21
C92: Zhotoviteľ: | F92: =IF(E18="","",E18) -> Vyplň údaj | I92: Spracovateľ: | J92: =E24
C94: Kód dielu - Popis | J94: Cena celkom [EUR]
C96: 1) Náklady z rozpočtu | J96: =J132 -> 0 | AU96: -1
D97: HSV - Práce a dodávky HSV | J97: =J133 -> 0
D98: 1 - Zemné práce | J98: =J134 -> 0
D99: 2 - Zakladanie | J99: =J140 -> 0
D100: 5 - Komunikácie | J100: =J142 -> 0
D101: 9 - Ostatné konštrukcie a práce-búranie | J101: =J146 -> 0
D102: 99 - Presun hmôt HSV | J102: =J154 -> 0
C105: 2) Ostatné náklady | J105: =ROUND(J106 + J107 + J108 + J109 + J110 + J111,2) -> 0 | N105: DPH
D106: Zariad. staveniska | J106: 0 | N106: znížená | AY106: VRN | BE106: =IF(N106="základná",J106,0) -> 0 | BF106: =IF(N106="znížená",J106,0) -> 0 | BG106: =IF(N106="zákl. prenesená",J106,0) -> 0 | BH106: =IF(N106="zníž. prenesená",J106,0) -> 0 | BI106: =IF(N106="nulová",J106,0) -> 0 | BJ106: 2
D107: Mimostav. doprava | J107: 0 | N107: znížená | AY107: VRN | BE107: =IF(N107="základná",J107,0) -> 0 | BF107: =IF(N107="znížená",J107,0) -> 0 | BG107: =IF(N107="zákl. prenesená",J107,0) -> 0 | BH107: =IF(N107="zníž. prenesená",J107,0) -> 0 | BI107: =IF(N107="nulová",J107,0) -> 0 | BJ107: 2
D108: Územné vplyvy | J108: 0 | N108: znížená | AY108: VRN | BE108: =IF(N108="základná",J108,0) -> 0 | BF108: =IF(N108="znížená",J108,0) -> 0 | BG108: =IF(N108="zákl. prenesená",J108,0) -> 0 | BH108: =IF(N108="zníž. prenesená",J108,0) -> 0 | BI108: =IF(N108="nulová",J108,0) -> 0 | BJ108: 2
D109: Prevádzkové vplyvy | J109: 0 | N109: znížená | AY109: VRN | BE109: =IF(N109="základná",J109,0) -> 0 | BF109: =IF(N109="znížená",J109,0) -> 0 | BG109: =IF(N109="zákl. prenesená",J109,0) -> 0 | BH109: =IF(N109="zníž. prenesená",J109,0) -> 0 | BI109: =IF(N109="nulová",J109,0) -> 0 | BJ109: 2
D110: Ostatné | J110: 0 | N110: znížená | AY110: VRN | BE110: =IF(N110="základná",J110,0) -> 0 | BF110: =IF(N110="znížená",J110,0) -> 0 | BG110: =IF(N110="zákl. prenesená",J110,0) -> 0 | BH110: =IF(N110="zníž. prenesená",J110,0) -> 0 | BI110: =IF(N110="nulová",J110,0) -> 0 | BJ110: 2
D111: Kompletačná činnosť | J111: =ROUND(J30*T111,2) -> 0 | N111: znížená | AY111: KOMPLETACNA | BE111: =IF(N111="základná",J111,0) -> 0 | BF111: =IF(N111="znížená",J111,0) -> 0 | BG111: =IF(N111="zákl. prenesená",J111,0) -> 0 | BH111: =IF(N111="zníž. prenesená",J111,0) -> 0 | BI111: =IF(N111="nulová",J111,0) -> 0 | BJ111: 2
C113: Celkové náklady za stavbu 1) + 2) | J113: =ROUND(J96+J105,2) -> 0
C119: ROZPOČET
C121: Stavba:
E122: =E7 -> Rekonštrukcia mestských chodníkov a spevnených plôch
C123: Objekt:
E124: =E9 -> 01 - Rekonštrukcia spevnených plôch v areáli Mestskej plavarne (plocha 760 m2)
C126: Miesto: | F126: =F12 -> Trebišov | I126: Dátum: | J126: =IF(J12="","",J12) -> 13. 8. 2020
C128: Objednávateľ: | F128: =E15 -> Mesto Trebišov | I128: Projektant: | J128: =E21
C129: Zhotoviteľ: | F129: =IF(E18="","",E18) -> Vyplň údaj | I129: Spracovateľ: | J129: =E24
C131: PČ | D131: Typ | E131: Kód | F131: Popis | G131: MJ | H131: Množstvo | I131: J.cena [EUR] | J131: Cena celkom [EUR] | K131: Cenová sústava | N131: DPH | O131: J. Nh [h] | P131: Nh celkom [h] | Q131: J. hmotnosť [t] | R131: Hmotnosť celkom [t] | S131: J. suť [t] | T131: Suť Celkom [t]
C132: Náklady z rozpočtu | J132: =BK132 -> 0 | P132: =P133 -> 0 | R132: =R133 -> 105.32146 | T132: =T133 -> 74.48 | AT132: D | AU132: -1 | BK132: =BK133 -> 0
D133: D | E133: HSV | F133: Práce a dodávky HSV | J133: =BK133 -> 0 | P133: =P134+P140+P142+P146+P154 -> 0 | R133: =R134+R140+R142+R146+R154 -> 105.32146 | T133: =T134+T140+T142+T146+T154 -> 74.48 | AR133: 1 | AT133: D | AU133: 0 | AY133: ROZPOCET | BK133: =BK134+BK140+BK142+BK146+BK154 -> 0
D134: D | E134: 1 | F134: Zemné práce | J134: =BK134 -> 0 | P134: =SUM(P135:P139) -> 0 | R134: =SUM(R135:R139) -> 0 | T134: =SUM(T135:T139) -> 74.48 | AR134: 1 | AT134: D | AU134: 1 | AY134: ROZPOCET | BK134: =SUM(BK135:BK139) -> 0
C135: 1 | D135: K | E135: 113107141.S | F135: Odstránenie krytu v ploche do 200 m2 asfaltového, hr. vrstvy do 50 mm, -0,09800t | G135: m2 | H135: 760 | J135: =ROUND(I135*H135,3) -> 0 | N135: znížená | P135: =O135*H135 -> 0 | Q135: 0 | R135: =Q135*H135 -> 0 | S135: 0.098 | T135: =S135*H135 -> 74.48 | AR135: 4 | AT135: K | AU135: 2 | AY135: ROZPOCET | BE135: =IF(N135="základná",J135,0) -> 0 | BF135: =IF(N135="znížená",J135,0) -> 0 | BG135: =IF(N135="zákl. prenesená",J135,0) -> 0 | BH135: =IF(N135="zníž. prenesená",J135,0) -> 0 | BI135: =IF(N135="nulová",J135,0) -> 0 | BJ135: 2 | BK135: =ROUND(I135*H135,3) -> 0 | BL135: 4 | BM135: -778424684
C136: 2 | D136: K | E136: 132201101.S | F136: Výkop ryhy do šírky 600 mm v horn.3 do 100 m3 | G136: m3 | H136: 0.4 | J136: =ROUND(I136*H136,3) -> 0 | N136: znížená | P136: =O136*H136 -> 0 | Q136: 0 | R136: =Q136*H136 -> 0 | S136: 0 | T136: =S136*H136 -> 0 | AR136: 4 | AT136: K | AU136: 2 | AY136: ROZPOCET | BE136: =IF(N136="základná",J136,0) -> 0 | BF136: =IF(N136="znížená",J136,0) -> 0 | BG136: =IF(N136="zákl. prenesená",J136,0) -> 0 | BH136: =IF(N136="zníž. prenesená",J136,0) -> 0 | BI136: =IF(N136="nulová",J136,0) -> 0 | BJ136: 2 | BK136: =ROUND(I136*H136,3) -> 0 | BL136: 4 | BM136: -1662113927
C137: 3 | D137: K | E137: 132201109.S | F137: Príplatok k cene za lepivosť pri hĺbení rýh šírky do 600 mm zapažených i nezapažených s urovnaním dna v hornine 3 | G137: m3 | H137: 0.4 | J137: =ROUND(I137*H137,3) -> 0 | N137: znížená | P137: =O137*H137 -> 0 | Q137: 0 | R137: =Q137*H137 -> 0 | S137: 0 | T137: =S137*H137 -> 0 | AR137: 4 | AT137: K | AU137: 2 | AY137: ROZPOCET | BE137: =IF(N137="základná",J137,0) -> 0 | BF137: =IF(N137="znížená",J137,0) -> 0 | BG137: =IF(N137="zákl. prenesená",J137,0) -> 0 | BH137: =IF(N137="zníž. prenesená",J137,0) -> 0 | BI137: =IF(N137="nulová",J137,0) -> 0 | BJ137: 2 | BK137: =ROUND(I137*H137,3) -> 0 | BL137: 4 | BM137: -1624403578
C138: 4 | D138: K | E138: 162501102.S | F138: Vodorovné premiestnenie výkopku po spevnenej ceste z horniny tr.1-4, do 100 m3 na vzdialenosť do 3000 m | G138: m3 | H138: 0.4 | J138: =ROUND(I138*H138,3) -> 0 | N138: znížená | P138: =O138*H138 -> 0 | Q138: 0 | R138: =Q138*H138 -> 0 | S138: 0 | T138: =S138*H138 -> 0 | AR138: 4 | AT138: K | AU138: 2 | AY138: ROZPOCET | BE138: =IF(N138="základná",J138,0) -> 0 | BF138: =IF(N138="znížená",J138,0) -> 0 | BG138: =IF(N138="zákl. prenesená",J138,0) -> 0 | BH138: =IF(N138="zníž. prenesená",J138,0) -> 0 | BI138: =IF(N138="nulová",J138,0) -> 0 | BJ138: 2 | BK138: =ROUND(I138*H138,3) -> 0 | BL138: 4 | BM138: -1541220273
C139: 5 | D139: K | E139: 167101101.S | F139: Nakladanie neuľahnutého výkopku z hornín tr.1-4 do 100 m3 | G139: m3 | H139: 0.4 | J139: =ROUND(I139*H139,3) -> 0 | N139: znížená | P139: =O139*H139 -> 0 | Q139: 0 | R139: =Q139*H139 -> 0 | S139: 0 | T139: =S139*H139 -> 0 | AR139: 4 | AT139: K | AU139: 2 | AY139: ROZPOCET | BE139: =IF(N139="základná",J139,0) -> 0 | BF139: =IF(N139="znížená",J139,0) -> 0 | BG139: =IF(N139="zákl. prenesená",J139,0) -> 0 | BH139: =IF(N139="zníž. prenesená",J139,0) -> 0 | BI139: =IF(N139="nulová",J139,0) -> 0 | BJ139: 2 | BK139: =ROUND(I139*H139,3) -> 0 | BL139: 4 | BM139: -1166981896
D140: D | E140: 2 | F140: Zakladanie | J140: =BK140 -> 0 | P140: =P141 -> 0 | R140: =R141 -> 0.3312 | T140: =T141 -> 0 | AR140: 1 | AT140: D | AU140: 1 | AY140: ROZPOCET | BK140: =BK141 -> 0
C141: 6 | D141: K | E141: 271573001.S | F141: Násyp pod obrubniky so zhutnením zo štrkopiesku fr.0-32 mm | G141: m3 | H141: 0.16 | J141: =ROUND(I141*H141,3) -> 0 | N141: znížená | P141: =O141*H141 -> 0 | Q141: 2.07 | R141: =Q141*H141 -> 0.3312 | S141: 0 | T141: =S141*H141 -> 0 | AR141: 4 | AT141: K | AU141: 2 | AY141: ROZPOCET | BE141: =IF(N141="základná",J141,0) -> 0 | BF141: =IF(N141="znížená",J141,0) -> 0 | BG141: =IF(N141="zákl. prenesená",J141,0) -> 0 | BH141: =IF(N141="zníž. prenesená",J141,0) -> 0 | BI141: =IF(N141="nulová",J141,0) -> 0 | BJ141: 2 | BK141: =ROUND(I141*H141,3) -> 0 | BL141: 4 | BM141: -888500876
D142: D | E142: 5 | F142: Komunikácie | J142: =BK142 -> 0 | P142: =SUM(P143:P145) -> 0 | R142: =SUM(R143:R145) -> 102.93592 | T142: =SUM(T143:T145) -> 0 | AR142: 1 | AT142: D | AU142: 1 | AY142: ROZPOCET | BK142: =SUM(BK143:BK145) -> 0
C143: 7 | D143: K | E143: 572754111.S | F143: Vyrovnanie povrchu doterajších krytov asfaltovým betónom AC hr. od 20 do 40 mm | G143: m2 | H143: 228 | J143: =ROUND(I143*H143,3) -> 0 | N143: znížená | P143: =O143*H143 -> 0 | Q143: 0.10434 | R143: =Q143*H143 -> 23.78952 | S143: 0 | T143: =S143*H143 -> 0 | AR143: 4 | AT143: K | AU143: 2 | AY143: ROZPOCET | BE143: =IF(N143="základná",J143,0) -> 0 | BF143: =IF(N143="znížená",J143,0) -> 0 | BG143: =IF(N143="zákl. prenesená",J143,0) -> 0 | BH143: =IF(N143="zníž. prenesená",J143,0) -> 0 | BI143: =IF(N143="nulová",J143,0) -> 0 | BJ143: 2 | BK143: =ROUND(I143*H143,3) -> 0 | BL143: 4 | BM143: 386765646
C144: 8 | D144: K | E144: 573211107.S | F144: Postrek asfaltový spojovací bez posypu kamenivom z asfaltu cestného v množstve 0,40 kg/m2 | G144: m2 | H144: 760 | J144: =ROUND(I144*H144,3) -> 0 | N144: znížená | P144: =O144*H144 -> 0 | Q144: 0.00041 | R144: =Q144*H144 -> 0.3116 | S144: 0 | T144: =S144*H144 -> 0 | AR144: 4 | AT144: K | AU144: 2 | AY144: ROZPOCET | BE144: =IF(N144="základná",J144,0) -> 0 | BF144: =IF(N144="znížená",J144,0) -> 0 | BG144: =IF(N144="zákl. prenesená",J144,0) -> 0 | BH144: =IF(N144="zníž. prenesená",J144,0) -> 0 | BI144: =IF(N144="nulová",J144,0) -> 0 | BJ144: 2 | BK144: =ROUND(I144*H144,3) -> 0 | BL144: 4 | BM144: -783603378
C145: 9 | D145: K | E145: 577134111.S | F145: Asfaltový betón vrstva obrusná AC 8 O v pruhu š. do 3 m z nemodifik. asfaltu tr. II, po zhutnení hr. 40 mm | G145: m2 | H145: 760 | J145: =ROUND(I145*H145,3) -> 0 | N145: znížená | P145: =O145*H145 -> 0 | Q145: 0.10373 | R145: =Q145*H145 -> 78.8348 | S145: 0 | T145: =S145*H145 -> 0 | AR145: 4 | AT145: K | AU145: 2 | AY145: ROZPOCET | BE145: =IF(N145="základná",J145,0) -> 0 | BF145: =IF(N145="znížená",J145,0) -> 0 | BG145: =IF(N145="zákl. prenesená",J145,0) -> 0 | BH145: =IF(N145="zníž. prenesená",J145,0) -> 0 | BI145: =IF(N145="nulová",J145,0) -> 0 | BJ145: 2 | BK145: =ROUND(I145*H145,3) -> 0 | BL145: 4 | BM145: 2006318086
D146: D | E146: 9 | F146: Ostatné konštrukcie a práce-búranie | J146: =BK146 -> 0 | P146: =SUM(P147:P153) -> 0 | R146: =SUM(R147:R153) -> 2.0543408 | T146: =SUM(T147:T153) -> 0 | AR146: 1 | AT146: D | AU146: 1 | AY146: ROZPOCET | BK146: =SUM(BK147:BK153) -> 0
C147: 10 | D147: K | E147: 917762111.S | F147: Osadenie chodník. obrubníka betónového ležatého do lôžka z betónu prosteho tr. C 12/15 s bočnou oporou | G147: m | H147: 8 | J147: =ROUND(I147*H147,3) -> 0 | N147: znížená | P147: =O147*H147 -> 0 | Q147: 0.16401 | R147: =Q147*H147 -> 1.31208 | S147: 0 | T147: =S147*H147 -> 0 | AR147: 4 | AT147: K | AU147: 2 | AY147: ROZPOCET | BE147: =IF(N147="základná",J147,0) -> 0 | BF147: =IF(N147="znížená",J147,0) -> 0 | BG147: =IF(N147="zákl. prenesená",J147,0) -> 0 | BH147: =IF(N147="zníž. prenesená",J147,0) -> 0 | BI147: =IF(N147="nulová",J147,0) -> 0 | BJ147: 2 | BK147: =ROUND(I147*H147,3) -> 0 | BL147: 4 | BM147: 41801385
C148: 11 | D148: M | E148: 592170003500.S | F148: Obrubník rovný, lxšxv 1000x100x200 mm, prírodný | G148: ks | H148: 8.08 | J148: =ROUND(I148*H148,3) -> 0 | N148: znížená | P148: =O148*H148 -> 0 | Q148: 0.048 | R148: =Q148*H148 -> 0.38784 | S148: 0 | T148: =S148*H148 -> 0 | AR148: 8 | AT148: M | AU148: 2 | AY148: ROZPOCET | BE148: =IF(N148="základná",J148,0) -> 0 | BF148: =IF(N148="znížená",J148,0) -> 0 | BG148: =IF(N148="zákl. prenesená",J148,0) -> 0 | BH148: =IF(N148="zníž. prenesená",J148,0) -> 0 | BI148: =IF(N148="nulová",J148,0) -> 0 | BJ148: 2 | BK148: =ROUND(I148*H148,3) -> 0 | BL148: 4 | BM148: -1668643516
C149: 12 | D149: K | E149: 918101112.S | F149: Lôžko pod obrubníky, krajníky alebo obruby z dlažobných kociek z betónu prostého tr. C 16/20 | G149: m3 | H149: 0.16 | J149: =ROUND(I149*H149,3) -> 0 | N149: znížená | P149: =O149*H149 -> 0 | Q149: 2.21513 | R149: =Q149*H149 -> 0.3544208 | S149: 0 | T149: =S149*H149 -> 0 | AR149: 4 | AT149: K | AU149: 2 | AY149: ROZPOCET | BE149: =IF(N149="základná",J149,0) -> 0 | BF149: =IF(N149="znížená",J149,0) -> 0 | BG149: =IF(N149="zákl. prenesená",J149,0) -> 0 | BH149: =IF(N149="zníž. prenesená",J149,0) -> 0 | BI149: =IF(N149="nulová",J149,0) -> 0 | BJ149: 2 | BK149: =ROUND(I149*H149,3) -> 0 | BL149: 4 | BM149: -1001087756
C150: 13 | D150: K | E150: 938909315.S | F150: Odstránenie blata, prachu alebo hlineného nánosu, z povrchu podkladu alebo krytu bet. alebo asfalt. zametacou kefou | G150: m2 | H150: 760 | J150: =ROUND(I150*H150,3) -> 0 | N150: znížená | P150: =O150*H150 -> 0 | Q150: 0 | R150: =Q150*H150 -> 0 | S150: 0 | T150: =S150*H150 -> 0 | AR150: 4 | AT150: K | AU150: 2 | AY150: ROZPOCET | BE150: =IF(N150="základná",J150,0) -> 0 | BF150: =IF(N150="znížená",J150,0) -> 0 | BG150: =IF(N150="zákl. prenesená",J150,0) -> 0 | BH150: =IF(N150="zníž. prenesená",J150,0) -> 0 | BI150: =IF(N150="nulová",J150,0) -> 0 | BJ150: 2 | BK150: =ROUND(I150*H150,3) -> 0 | BL150: 4 | BM150: -298434631
C151: 14 | D151: K | E151: 979084215.S | F151: Vodorovná doprava vybúraných hmôt po suchu bez naloženia, ale so zložením na vzdialenosť do 3 km | G151: t | H151: 74.48 | J151: =ROUND(I151*H151,3) -> 0 | N151: znížená | P151: =O151*H151 -> 0 | Q151: 0 | R151: =Q151*H151 -> 0 | S151: 0 | T151: =S151*H151 -> 0 | AR151: 4 | AT151: K | AU151: 2 | AY151: ROZPOCET | BE151: =IF(N151="základná",J151,0) -> 0 | BF151: =IF(N151="znížená",J151,0) -> 0 | BG151: =IF(N151="zákl. prenesená",J151,0) -> 0 | BH151: =IF(N151="zníž. prenesená",J151,0) -> 0 | BI151: =IF(N151="nulová",J151,0) -> 0 | BJ151: 2 | BK151: =ROUND(I151*H151,3) -> 0 | BL151: 4 | BM151: -1733717729
C152: 15 | D152: K | E152: 979087212.S | F152: Nakladanie na dopravné prostriedky pre vodorovnú dopravu sutiny | G152: t | H152: 74.48 | J152: =ROUND(I152*H152,3) -> 0 | N152: znížená | P152: =O152*H152 -> 0 | Q152: 0 | R152: =Q152*H152 -> 0 | S152: 0 | T152: =S152*H152 -> 0 | AR152: 4 | AT152: K | AU152: 2 | AY152: ROZPOCET | BE152: =IF(N152="základná",J152,0) -> 0 | BF152: =IF(N152="znížená",J152,0) -> 0 | BG152: =IF(N152="zákl. prenesená",J152,0) -> 0 | BH152: =IF(N152="zníž. prenesená",J152,0) -> 0 | BI152: =IF(N152="nulová",J152,0) -> 0 | BJ152: 2 | BK152: =ROUND(I152*H152,3) -> 0 | BL152: 4 | BM152: 1946969391
C153: 16 | D153: K | E153: 979089212.S | F153: Poplatok za skladovanie - bitúmenové zmesi, uholný decht, dechtové výrobky (17 03 ), ostatné | G153: t | H153: 74.48 | J153: =ROUND(I153*H153,3) -> 0 | N153: znížená | P153: =O153*H153 -> 0 | Q153: 0 | R153: =Q153*H153 -> 0 | S153: 0 | T153: =S153*H153 -> 0 | AR153: 4 | AT153: K | AU153: 2 | AY153: ROZPOCET | BE153: =IF(N153="základná",J153,0) -> 0 | BF153: =IF(N153="znížená",J153,0) -> 0 | BG153: =IF(N153="zákl. prenesená",J153,0) -> 0 | BH153: =IF(N153="zníž. prenesená",J153,0) -> 0 | BI153: =IF(N153="nulová",J153,0) -> 0 | BJ153: 2 | BK153: =ROUND(I153*H153,3) -> 0 | BL153: 4 | BM153: 801295468
D154: D | E154: 99 | F154: Presun hmôt HSV | J154: =BK154 -> 0 | P154: =P155 -> 0 | R154: =R155 -> 0 | T154: =T155 -> 0 | AR154: 1 | AT154: D | AU154: 1 | AY154: ROZPOCET | BK154: =BK155 -> 0
C155: 17 | D155: K | E155: 998225111.S | F155: Presun hmôt pre pozemnú komunikáciu a letisko s krytom asfaltovým akejkoľvek dĺžky objektu | G155: t | H155: 105.321 | J155: =ROUND(I155*H155,3) -> 0 | N155: znížená | P155: =O155*H155 -> 0 | Q155: 0 | R155: =Q155*H155 -> 0 | S155: 0 | T155: =S155*H155 -> 0 | AR155: 4 | AT155: K | AU155: 2 | AY155: ROZPOCET | BE155: =IF(N155="základná",J155,0) -> 0 | BF155: =IF(N155="znížená",J155,0) -> 0 | BG155: =IF(N155="zákl. prenesená",J155,0) -> 0 | BH155: =IF(N155="zníž. prenesená",J155,0) -> 0 | BI155: =IF(N155="nulová",J155,0) -> 0 | BJ155: 2 | BK155: =ROUND(I155*H155,3) -> 0 | BL155: 4 | BM155: -1132659196

Sheet 02 - Rekonštrukcia  chodn...
L2: >> skryté stĺpce << | AT2: {453f9a15-afc8-4551-8d76-b216b9dcce02}
AT3: 0
D4: KRYCÍ LIST ROZPOČTU | M4: v --- nižšie sa nachádzajú doplnkové a pomocné údaje k zostavám --- v | AT4: False
D6: Stavba:
E7: ='Rekapitulácia stavby'!K6 -> Rekonštrukcia mestských chodníkov a spevnených plôch
D8: Objekt:
E9: 02 - Rekonštrukcia chodníkov a spevnených plôch v areáli MŠ pri polícii (plocha 512 m2)
D11: JKSO: | I11: KS:
D12: Miesto: | F12: Trebišov | I12: Dátum: | J12: ='Rekapitulácia stavby'!AN8 -> 13. 8. 2020
D14: Objednávateľ: | I14: IČO:
E15: Mesto Trebišov | I15: IČ DPH:
D17: Zhotoviteľ: | I17: IČO: | J17: ='Rekapitulácia stavby'!AN13 -> Vyplň údaj
E18: ='Rekapitulácia stavby'!E14 -> Vyplň údaj | I18: IČ DPH: | J18: ='Rekapitulácia stavby'!AN14 -> Vyplň údaj
D20: Projektant: | I20: IČO: | J20: =IF('Rekapitulácia stavby'!AN16="","",'Rekapitulácia stavby'!AN16)
E21: =IF('Rekapitulácia stavby'!E17="","",'Rekapitulácia stavby'!E17) | I21: IČ DPH: | J21: =IF('Rekapitulácia stavby'!AN17="","",'Rekapitulácia stavby'!AN17)
D23: Spracovateľ: | I23: IČO: | J23: =IF('Rekapitulácia stavby'!AN19="","",'Rekapitulácia stavby'!AN19)
E24: =IF('Rekapitulácia stavby'!E20="","",'Rekapitulácia stavby'!E20) | I24: IČ DPH: | J24: =IF('Rekapitulácia stavby'!AN20="","",'Rekapitulácia stavby'!AN20)
D26: Poznámka:
D30: Náklady z rozpočtu | J30: =J96 -> 0
D31: Ostatné náklady | J31: =J106 -> 0
D32: Cena bez DPH | J32: =ROUND(J30 + J31, 2) -> 0
F34: Základ dane | I34: Sadzba dane | J34: Výška dane
D35: DPH | E35: základná | F35: =ROUND((SUM(BE106:BE113) + SUM(BE133:BE168)), 2) -> 0 | I35: 0.2 | J35: =ROUND(((SUM(BE106:BE113) + SUM(BE133:BE168))*I35), 2) -> 0
E36: znížená | F36: =ROUND((SUM(BF106:BF113) + SUM(BF133:BF168)), 2) -> 0 | I36: 0.2 | J36: =ROUND(((SUM(BF106:BF113) + SUM(BF133:BF168))*I36), 2) -> 0
E37: zákl. prenesená | F37: =ROUND((SUM(BG106:BG113) + SUM(BG133:BG168)), 2) -> 0 | I37: 0.2 | J37: =0 -> 0
E38: zníž. prenesená | F38: =ROUND((SUM(BH106:BH113) + SUM(BH133:BH168)), 2) -> 0 | I38: 0.2 | J38: =0 -> 0
E39: nulová | F39: =ROUND((SUM(BI106:BI113) + SUM(BI133:BI168)), 2) -> 0 | I39: 0 | J39: =0 -> 0
D41: Cena s DPH | G41: v | H41: EUR | J41: =SUM(J32:J39) -> 0
D50: Projektant | G50: Spracovateľ
D61: Dátum a podpis: | F61: Pečiatka | G61: Dátum a podpis: | J61: Pečiatka
D65: Objednávateľ | G65: Zhotoviteľ
D76: Dátum a podpis: | F76: Pečiatka | G76: Dátum a podpis: | J76: Pečiatka
C82: REKAPITULÁCIA ROZPOČTU
C84: Stavba:
E85: =E7 -> Rekonštrukcia mestských chodníkov a spevnených plôch
C86: Objekt:
E87: =E9 -> 02 - Rekonštrukcia chodníkov a spevnených plôch v areáli MŠ pri polícii (plocha 512 m2)
C89: Miesto: | F89: =F12 -> Trebišov | I89: Dátum: | J89: =IF(J12="","",J12) -> 13. 8. 2020
C91: Objednávateľ: | F91: =E15 -> Mesto Trebišov | I91: Projektant: | J91: =E21
C92: Zhotoviteľ: | F92: =IF(E18="","",E18) -> Vyplň údaj | I92: Spracovateľ: | J92: =E24
C94: Kód dielu - Popis | J94: Cena celkom [EUR]
C96: 1) Náklady z rozpočtu | J96: =J133 -> 0 | AU96: -1
D97: HSV - Práce a dodávky HSV | J97: =J134 -> 0
D98: 1 - Zemné práce | J98: =J135 -> 0
D99: 2 - Zakladanie | J99: =J145 -> 0
D100: 5 - Komunikácie | J100: =J147 -> 0
D101: 8 - Rúrové vedenie | J101: =J156 -> 0
D102: 9 - Ostatné konštrukcie a práce-búranie | J102: =J158 -> 0
D103: 99 - Presun hmôt HSV | J103: =J167 -> 0
C106: 2) Ostatné náklady | J106: =ROUND(J107 + J108 + J109 + J110 + J111 + J112,2) -> 0 | N106: DPH
D107: Zariad. staveniska | J107: 0 | N107: znížená | AY107: VRN | BE107: =IF(N107="základná",J107,0) -> 0 | BF107: =IF(N107="znížená",J107,0) -> 0 | BG107: =IF(N107="zákl. prenesená",J107,0) -> 0 | BH107: =IF(N107="zníž. prenesená",J107,0) -> 0 | BI107: =IF(N107="nulová",J107,0) -> 0 | BJ107: 2
D108: Mimostav. doprava | J108: 0 | N108: znížená | AY108: VRN | BE108: =IF(N108="základná",J108,0) -> 0 | BF108: =IF(N108="znížená",J108,0) -> 0 | BG108: =IF(N108="zákl. prenesená",J108,0) -> 0 | BH108: =IF(N108="zníž. prenesená",J108,0) -> 0 | BI108: =IF(N108="nulová",J108,0) -> 0 | BJ108: 2
D109: Územné vplyvy | J109: 0 | N109: znížená | AY109: VRN | BE109: =IF(N109="základná",J109,0) -> 0 | BF109: =IF(N109="znížená",J109,0) -> 0 | BG109: =IF(N109="zákl. prenesená",J109,0) -> 0 | BH109: =IF(N109="zníž. prenesená",J109,0) -> 0 | BI109: =IF(N109="nulová",J109,0) -> 0 | BJ109: 2
D110: Prevádzkové vplyvy | J110: 0 | N110: znížená | AY110: VRN | BE110: =IF(N110="základná",J110,0) -> 0 | BF110: =IF(N110="znížená",J110,0) -> 0 | BG110: =IF(N110="zákl. prenesená",J110,0) -> 0 | BH110: =IF(N110="zníž. prenesená",J110,0) -> 0 | BI110: =IF(N110="nulová",J110,0) -> 0 | BJ110: 2
D111: Ostatné | J111: 0 | N111: znížená | AY111: VRN | BE111: =IF(N111="základná",J111,0) -> 0 | BF111: =IF(N111="znížená",J111,0) -> 0 | BG111: =IF(N111="zákl. prenesená",J111,0) -> 0 | BH111: =IF(N111="zníž. prenesená",J111,0) -> 0 | BI111: =IF(N111="nulová",J111,0) -> 0 | BJ111: 2
D112: Kompletačná činnosť | J112: =ROUND(J30*T112,2) -> 0 | N112: znížená | AY112: KOMPLETACNA | BE112: =IF(N112="základná",J112,0) -> 0 | BF112: =IF(N112="znížená",J112,0) -> 0 | BG112: =IF(N112="zákl. prenesená",J112,0) -> 0 | BH112: =IF(N112="zníž. prenesená",J112,0) -> 0 | BI112: =IF(N112="nulová",J112,0) -> 0 | BJ112: 2
C114: Celkové náklady za stavbu 1) + 2) | J114: =ROUND(J96+J106,2) -> 0
C120: ROZPOČET
C122: Stavba:
E123: =E7 -> Rekonštrukcia mestských chodníkov a spevnených plôch
C124: Objekt:
E125: =E9 -> 02 - Rekonštrukcia chodníkov a spevnených plôch v areáli MŠ pri polícii (plocha 512 m2)
C127: Miesto: | F127: =F12 -> Trebišov | I127: Dátum: | J127: =IF(J12="","",J12) -> 13. 8. 2020
C129: Objednávateľ: | F129: =E15 -> Mesto Trebišov | I129: Projektant: | J129: =E21
C130: Zhotoviteľ: | F130: =IF(E18="","",E18) -> Vyplň údaj | I130: Spracovateľ: | J130: =E24
C132: PČ | D132: Typ | E132: Kód | F132: Popis | G132: MJ | H132: Množstvo | I132: J.cena [EUR] | J132: Cena celkom [EUR] | K132: Cenová sústava | N132: DPH | O132: J. Nh [h] | P132: Nh celkom [h] | Q132: J. hmotnosť [t] | R132: Hmotnosť celkom [t] | S132: J. suť [t] | T132: Suť Celkom [t]
C133: Náklady z rozpočtu | J133: =BK133 -> 0 | P133: =P134 -> 0 | R133: =R134 -> 161.26228 | T133: =T134 -> 13.691 | AT133: D | AU133: -1 | BK133: =BK134 -> 0
D134: D | E134: HSV | F134: Práce a dodávky HSV | J134: =BK134 -> 0 | P134: =P135+P145+P147+P156+P158+P167 -> 0 | R134: =R135+R145+R147+R156+R158+R167 -> 161.26228 | T134: =T135+T145+T147+T156+T158+T167 -> 13.691 | AR134: 1 | AT134: D | AU134: 0 | AY134: ROZPOCET | BK134: =BK135+BK145+BK147+BK156+BK158+BK167 -> 0
D135: D | E135: 1 | F135: Zemné práce | J135: =BK135 -> 0 | P135: =SUM(P136:P144) -> 0 | R135: =SUM(R136:R144) -> 0.0014 | T135: =SUM(T136:T144) -> 13.691 | AR135: 1 | AT135: D | AU135: 1 | AY135: ROZPOCET | BK135: =SUM(BK136:BK144) -> 0
C136: 1 | D136: K | E136: 113107131.S | F136: Odstránenie krytu v ploche do 200 m2 z betónu prostého, hr. vrstvy do 150 mm, -0,22500t | G136: m2 | H136: 3 | J136: =ROUND(I136*H136,3) -> 0 | N136: znížená | P136: =O136*H136 -> 0 | Q136: 0 | R136: =Q136*H136 -> 0 | S136: 0.225 | T136: =S136*H136 -> 0.675 | AR136: 4 | AT136: K | AU136: 2 | AY136: ROZPOCET | BE136: =IF(N136="základná",J136,0) -> 0 | BF136: =IF(N136="znížená",J136,0) -> 0 | BG136: =IF(N136="zákl. prenesená",J136,0) -> 0 | BH136: =IF(N136="zníž. prenesená",J136,0) -> 0 | BI136: =IF(N136="nulová",J136,0) -> 0 | BJ136: 2 | BK136: =ROUND(I136*H136,3) -> 0 | BL136: 4 | BM136: -931357287
C137: 2 | D137: K | E137: 113107141.S | F137: Odstránenie krytu v ploche do 200 m2 asfaltového, hr. vrstvy do 50 mm, -0,09800t | G137: m2 | H137: 112 | J137: =ROUND(I137*H137,3) -> 0 | N137: znížená | P137: =O137*H137 -> 0 | Q137: 0 | R137: =Q137*H137 -> 0 | S137: 0.098 | T137: =S137*H137 -> 10.976 | AR137: 4 | AT137: K | AU137: 2 | AY137: ROZPOCET | BE137: =IF(N137="základná",J137,0) -> 0 | BF137: =IF(N137="znížená",J137,0) -> 0 | BG137: =IF(N137="zákl. prenesená",J137,0) -> 0 | BH137: =IF(N137="zníž. prenesená",J137,0) -> 0 | BI137: =IF(N137="nulová",J137,0) -> 0 | BJ137: 2 | BK137: =ROUND(I137*H137,3) -> 0 | BL137: 4 | BM137: 1390724994
C138: 3 | D138: K | E138: 113152120.S | F138: Frézovanie asf. podkladu alebo krytu bez prek., plochy do 500 m2, pruh š. do 0,5 m, hr. 40 mm 0,102 t | G138: m2 | H138: 20 | J138: =ROUND(I138*H138,3) -> 0 | N138: znížená | P138: =O138*H138 -> 0 | Q138: 7e-05 | R138: =Q138*H138 -> 0.0014 | S138: 0.102 | T138: =S138*H138 -> 2.04 | AR138: 4 | AT138: K | AU138: 2 | AY138: ROZPOCET | BE138: =IF(N138="základná",J138,0) -> 0 | BF138: =IF(N138="znížená",J138,0) -> 0 | BG138: =IF(N138="zákl. prenesená",J138,0) -> 0 | BH138: =IF(N138="zníž. prenesená",J138,0) -> 0 | BI138: =IF(N138="nulová",J138,0) -> 0 | BJ138: 2 | BK138: =ROUND(I138*H138,3) -> 0 | BL138: 4 | BM138: -1130366336
C139: 4 | D139: K | E139: 122201101.S | F139: Odkopávka a prekopávka nezapažená v hornine 3, do 100 m3 | G139: m3 | H139: 10.3 | J139: =ROUND(I139*H139,3) -> 0 | N139: znížená | P139: =O139*H139 -> 0 | Q139: 0 | R139: =Q139*H139 -> 0 | S139: 0 | T139: =S139*H139 -> 0 | AR139: 4 | AT139: K | AU139: 2 | AY139: ROZPOCET | BE139: =IF(N139="základná",J139,0) -> 0 | BF139: =IF(N139="znížená",J139,0) -> 0 | BG139: =IF(N139="zákl. prenesená",J139,0) -> 0 | BH139: =IF(N139="zníž. prenesená",J139,0) -> 0 | BI139: =IF(N139="nulová",J139,0) -> 0 | BJ139: 2 | BK139: =ROUND(I139*H139,3) -> 0 | BL139: 4 | BM139: 1267190151
C140: 5 | D140: K | E140: 122201109.S | F140: Odkopávky a prekopávky nezapažené. Príplatok k cenám za lepivosť horniny 3 | G140: m3 | H140: 10.3 | J140: =ROUND(I140*H140,3) -> 0 | N140: znížená | P140: =O140*H140 -> 0 | Q140: 0 | R140: =Q140*H140 -> 0 | S140: 0 | T140: =S140*H140 -> 0 | AR140: 4 | AT140: K | AU140: 2 | AY140: ROZPOCET | BE140: =IF(N140="základná",J140,0) -> 0 | BF140: =IF(N140="znížená",J140,0) -> 0 | BG140: =IF(N140="zákl. prenesená",J140,0) -> 0 | BH140: =IF(N140="zníž. prenesená",J140,0) -> 0 | BI140: =IF(N140="nulová",J140,0) -> 0 | BJ140: 2 | BK140: =ROUND(I140*H140,3) -> 0 | BL140: 4 | BM140: -432041505
C141: 6 | D141: K | E141: 132201101.S | F141: Výkop ryhy do šírky 600 mm v horn.3 do 100 m3 | G141: m3 | H141: 9.1 | J141: =ROUND(I141*H141,3) -> 0 | N141: znížená | P141: =O141*H141 -> 0 | Q141: 0 | R141: =Q141*H141 -> 0 | S141: 0 | T141: =S141*H141 -> 0 | AR141: 4 | AT141: K | AU141: 2 | AY141: ROZPOCET | BE141: =IF(N141="základná",J141,0) -> 0 | BF141: =IF(N141="znížená",J141,0) -> 0 | BG141: =IF(N141="zákl. prenesená",J141,0) -> 0 | BH141: =IF(N141="zníž. prenesená",J141,0) -> 0 | BI141: =IF(N141="nulová",J141,0) -> 0 | BJ141: 2 | BK141: =ROUND(I141*H141,3) -> 0 | BL141: 4 | BM141: 1382957112
C142: 7 | D142: K | E142: 132201109.S | F142: Príplatok k cene za lepivosť pri hĺbení rýh šírky do 600 mm zapažených i nezapažených s urovnaním dna v hornine 3 | G142: m3 | H142: 9.1 | J142: =ROUND(I142*H142,3) -> 0 | N142: znížená | P142: =O142*H142 -> 0 | Q142: 0 | R142: =Q142*H142 -> 0 | S142: 0 | T142: =S142*H142 -> 0 | AR142: 4 | AT142: K | AU142: 2 | AY142: ROZPOCET | BE142: =IF(N142="základná",J142,0) -> 0 | BF142: =IF(N142="znížená",J142,0) -> 0 | BG142: =IF(N142="zákl. prenesená",J142,0) -> 0 | BH142: =IF(N142="zníž. prenesená",J142,0) -> 0 | BI142: =IF(N142="nulová",J142,0) -> 0 | BJ142: 2 | BK142: =ROUND(I142*H142,3) -> 0 | BL142: 4 | BM142: 1244228557
C143: 8 | D143: K | E143: 162501102.S | F143: Vodorovné premiestnenie výkopku po spevnenej ceste z horniny tr.1-4, do 100 m3 na vzdialenosť do 3000 m | G143: m3 | H143: 19.4 | J143: =ROUND(I143*H143,3) -> 0 | N143: znížená | P143: =O143*H143 -> 0 | Q143: 0 | R143: =Q143*H143 -> 0 | S143: 0 | T143: =S143*H143 -> 0 | AR143: 4 | AT143: K | AU143: 2 | AY143: ROZPOCET | BE143: =IF(N143="základná",J143,0) -> 0 | BF143: =IF(N143="znížená",J143,0) -> 0 | BG143: =IF(N143="zákl. prenesená",J143,0) -> 0 | BH143: =IF(N143="zníž. prenesená",J143,0) -> 0 | BI143: =IF(N143="nulová",J143,0) -> 0 | BJ143: 2 | BK143: =ROUND(I143*H143,3) -> 0 | BL143: 4 | BM143: 1166445651
C144: 9 | D144: K | E144: 167101101.S | F144: Nakladanie neuľahnutého výkopku z hornín tr.1-4 do 100 m3 | G144: m3 | H144: 19.4 | J144: =ROUND(I144*H144,3) -> 0 | N144: znížená | P144: =O144*H144 -> 0 | Q144: 0 | R144: =Q144*H144 -> 0 | S144: 0 | T144: =S144*H144 -> 0 | AR144: 4 | AT144: K | AU144: 2 | AY144: ROZPOCET | BE144: =IF(N144="základná",J144,0) -> 0 | BF144: =IF(N144="znížená",J144,0) -> 0 | BG144: =IF(N144="zákl. prenesená",J144,0) -> 0 | BH144: =IF(N144="zníž. prenesená",J144,0) -> 0 | BI144: =IF(N144="nulová",J144,0) -> 0 | BJ144: 2 | BK144: =ROUND(I144*H144,3) -> 0 | BL144: 4 | BM144: 1282475653
D145: D | E145: 2 | F145: Zakladanie | J145: =BK145 -> 0 | P145: =P146 -> 0 | R145: =R146 -> 7.5348 | T145: =T146 -> 0 | AR145: 1 | AT145: D | AU145: 1 | AY145: ROZPOCET | BK145: =BK146 -> 0
C146: 10 | D146: K | E146: 271573001.S | F146: Násyp pod obrubniky so zhutnením zo štrkopiesku fr.0-32 mm | G146: m3 | H146: 3.64 | J146: =ROUND(I146*H146,3) -> 0 | N146: znížená | P146: =O146*H146 -> 0 | Q146: 2.07 | R146: =Q146*H146 -> 7.5348 | S146: 0 | T146: =S146*H146 -> 0 | AR146: 4 | AT146: K | AU146: 2 | AY146: ROZPOCET | BE146: =IF(N146="základná",J146,0) -> 0 | BF146: =IF(N146="znížená",J146,0) -> 0 | BG146: =IF(N146="zákl. prenesená",J146,0) -> 0 | BH146: =IF(N146="zníž. prenesená",J146,0) -> 0 | BI146: =IF(N146="nulová",J146,0) -> 0 | BJ146: 2 | BK146: =ROUND(I146*H146,3) -> 0 | BL146: 4 | BM146: -290335980
D147: D | E147: 5 | F147: Komunikácie | J147: =BK147 -> 0 | P147: =SUM(P148:P155) -> 0 | R147: =SUM(R148:R155) -> 106.66273 | T147: =SUM(T148:T155) -> 0 | AR147: 1 | AT147: D | AU147: 1 | AY147: ROZPOCET | BK147: =SUM(BK148:BK155) -> 0
C148: 11 | D148: K | E148: 564730211.S | F148: Podklad alebo kryt z kameniva hrubého drveného veľ. 16-32 mm s rozprestretím a zhutnením hr. 100 mm | G148: m2 | H148: 54.5 | J148: =ROUND(I148*H148,3) -> 0 | N148: znížená | P148: =O148*H148 -> 0 | Q148: 0.199 | R148: =Q148*H148 -> 10.8455 | S148: 0 | T148: =S148*H148 -> 0 | AR148: 4 | AT148: K | AU148: 2 | AY148: ROZPOCET | BE148: =IF(N148="základná",J148,0) -> 0 | BF148: =IF(N148="znížená",J148,0) -> 0 | BG148: =IF(N148="zákl. prenesená",J148,0) -> 0 | BH148: =IF(N148="zníž. prenesená",J148,0) -> 0 | BI148: =IF(N148="nulová",J148,0) -> 0 | BJ148: 2 | BK148: =ROUND(I148*H148,3) -> 0 | BL148: 4 | BM148: 2141863982
C149: 12 | D149: K | E149: 566902162.S | F149: Vyspravenie podkladu po prekopoch plochy do 15 m2 podkladovým betónom PB I tr. C 20/25 hr. 150 mm | G149: m2 | H149: 5 | J149: =ROUND(I149*H149,3) -> 0 | N149: znížená | P149: =O149*H149 -> 0 | Q149: 0.34131 | R149: =Q149*H149 -> 1.70655 | S149: 0 | T149: =S149*H149 -> 0 | AR149: 4 | AT149: K | AU149: 2 | AY149: ROZPOCET | BE149: =IF(N149="základná",J149,0) -> 0 | BF149: =IF(N149="znížená",J149,0) -> 0 | BG149: =IF(N149="zákl. prenesená",J149,0) -> 0 | BH149: =IF(N149="zníž. prenesená",J149,0) -> 0 | BI149: =IF(N149="nulová",J149,0) -> 0 | BJ149: 2 | BK149: =ROUND(I149*H149,3) -> 0 | BL149: 4 | BM149: -2018114469
C150: 13 | D150: K | E150: 566902262.S | F150: Vyspravenie podkladu po prekopoch plochy nad 15 m2 podkladovým betónom PB I tr. C 20/25 hr. 150 mm | G150: m2 | H150: 16 | J150: =ROUND(I150*H150,3) -> 0 | N150: znížená | P150: =O150*H150 -> 0 | Q150: 0.34131 | R150: =Q150*H150 -> 5.46096 | S150: 0 | T150: =S150*H150 -> 0 | AR150: 4 | AT150: K | AU150: 2 | AY150: ROZPOCET | BE150: =IF(N150="základná",J150,0) -> 0 | BF150: =IF(N150="znížená",J150,0) -> 0 | BG150: =IF(N150="zákl. prenesená",J150,0) -> 0 | BH150: =IF(N150="zníž. prenesená",J150,0) -> 0 | BI150: =IF(N150="nulová",J150,0) -> 0 | BJ150: 2 | BK150: =ROUND(I150*H150,3) -> 0 | BL150: 4 | BM150: -1951903712
C151: 14 | D151: K | E151: 567114311.S | F151: Podklad z podkladového betónu PB III tr. C 12/15 hr. 100 mm | G151: m2 | H151: 44 | J151: =ROUND(I151*H151,3) -> 0 | N151: znížená | P151: =O151*H151 -> 0 | Q151: 0.22796 | R151: =Q151*H151 -> 10.03024 | S151: 0 | T151: =S151*H151 -> 0 | AR151: 4 | AT151: K | AU151: 2 | AY151: ROZPOCET | BE151: =IF(N151="základná",J151,0) -> 0 | BF151: =IF(N151="znížená",J151,0) -> 0 | BG151: =IF(N151="zákl. prenesená",J151,0) -> 0 | BH151: =IF(N151="zníž. prenesená",J151,0) -> 0 | BI151: =IF(N151="nulová",J151,0) -> 0 | BJ151: 2 | BK151: =ROUND(I151*H151,3) -> 0 | BL151: 4 | BM151: -1653869960
C152: 15 | D152: K | E152: 567124315.S | F152: Podklad z podkladového betónu PB III tr. C 12/15 hr. 150 mm | G152: m2 | H152: 16 | J152: =ROUND(I152*H152,3) -> 0 | N152: znížená | P152: =O152*H152 -> 0 | Q152: 0.3422 | R152: =Q152*H152 -> 5.4752 | S152: 0 | T152: =S152*H152 -> 0 | AR152: 4 | AT152: K | AU152: 2 | AY152: ROZPOCET | BE152: =IF(N152="základná",J152,0) -> 0 | BF152: =IF(N152="znížená",J152,0) -> 0 | BG152: =IF(N152="zákl. prenesená",J152,0) -> 0 | BH152: =IF(N152="zníž. prenesená",J152,0) -> 0 | BI152: =IF(N152="nulová",J152,0) -> 0 | BJ152: 2 | BK152: =ROUND(I152*H152,3) -> 0 | BL152: 4 | BM152: -2122643659
C153: 16 | D153: K | E153: 572754111.S | F153: Vyrovnanie povrchu doterajších krytov asfaltovým betónom AC hr. od 20 do 40 mm | G153: m2 | H153: 190 | J153: =ROUND(I153*H153,3) -> 0 | N153: znížená | P153: =O153*H153 -> 0 | Q153: 0.10434 | R153: =Q153*H153 -> 19.8246 | S153: 0 | T153: =S153*H153 -> 0 | AR153: 4 | AT153: K | AU153: 2 | AY153: ROZPOCET | BE153: =IF(N153="základná",J153,0) -> 0 | BF153: =IF(N153="znížená",J153,0) -> 0 | BG153: =IF(N153="zákl. prenesená",J153,0) -> 0 | BH153: =IF(N153="zníž. prenesená",J153,0) -> 0 | BI153: =IF(N153="nulová",J153,0) -> 0 | BJ153: 2 | BK153: =ROUND(I153*H153,3) -> 0 | BL153: 4 | BM153: 226146162
C154: 17 | D154: K | E154: 573211107.S | F154: Postrek asfaltový spojovací bez posypu kamenivom z asfaltu cestného v množstve 0,40 kg/m2 | G154: m2 | H154: 512 | J154: =ROUND(I154*H154,3) -> 0 | N154: znížená | P154: =O154*H154 -> 0 | Q154: 0.00041 | R154: =Q154*H154 -> 0.20992 | S154: 0 | T154: =S154*H154 -> 0 | AR154: 4 | AT154: K | AU154: 2 | AY154: ROZPOCET | BE154: =IF(N154="základná",J154,0) -> 0 | BF154: =IF(N154="znížená",J154,0) -> 0 | BG154: =IF(N154="zákl. prenesená",J154,0) -> 0 | BH154: =IF(N154="zníž. prenesená",J154,0) -> 0 | BI154: =IF(N154="nulová",J154,0) -> 0 | BJ154: 2 | BK154: =ROUND(I154*H154,3) -> 0 | BL154: 4 | BM154: 231872487
C155: 18 | D155: K | E155: 577134111.S | F155: Asfaltový betón vrstva obrusná AC 8 O v pruhu š. do 3 m z nemodifik. asfaltu tr. II, po zhutnení hr. 40 mm | G155: m2 | H155: 512 | J155: =ROUND(I155*H155,3) -> 0 | N155: znížená | P155: =O155*H155 -> 0 | Q155: 0.10373 | R155: =Q155*H155 -> 53.10976 | S155: 0 | T155: =S155*H155 -> 0 | AR155: 4 | AT155: K | AU155: 2 | AY155: ROZPOCET | BE155: =IF(N155="základná",J155,0) -> 0 | BF155: =IF(N155="znížená",J155,0) -> 0 | BG155: =IF(N155="zákl. prenesená",J155,0) -> 0 | BH155: =IF(N155="zníž. prenesená",J155,0) -> 0 | BI155: =IF(N155="nulová",J155,0) -> 0 | BJ155: 2 | BK155: =ROUND(I155*H155,3) -> 0 | BL155: 4 | BM155: -609935026
D156: D | E156: 8 | F156: Rúrové vedenie | J156: =BK156 -> 0 | P156: =P157 -> 0 | R156: =R157 -> 0.3271 | T156: =T157 -> 0 | AR156: 1 | AT156: D | AU156: 1 | AY156: ROZPOCET | BK156: =BK157 -> 0
C157: 19 | D157: K | E157: 899332111.S | F157: Výšková úprava uličného vstupu alebo vpuste do 200 mm znížením poklopu | G157: ks | H157: 1 | J157: =ROUND(I157*H157,3) -> 0 | N157: znížená | P157: =O157*H157 -> 0 | Q157: 0.3271 | R157: =Q157*H157 -> 0.3271 | S157: 0 | T157: =S157*H157 -> 0 | AR157: 4 | AT157: K | AU157: 2 | AY157: ROZPOCET | BE157: =IF(N157="základná",J157,0) -> 0 | BF157: =IF(N157="znížená",J157,0) -> 0 | BG157: =IF(N157="zákl. prenesená",J157,0) -> 0 | BH157: =IF(N157="zníž. prenesená",J157,0) -> 0 | BI157: =IF(N157="nulová",J157,0) -> 0 | BJ157: 2 | BK157: =ROUND(I157*H157,3) -> 0 | BL157: 4 | BM157: 738699813
D158: D | E158: 9 | F158: Ostatné konštrukcie a práce-búranie | J158: =BK158 -> 0 | P158: =SUM(P159:P166) -> 0 | R158: =SUM(R159:R166) -> 46.736253 | T158: =SUM(T159:T166) -> 0 | AR158: 1 | AT158: D | AU158: 1 | AY158: ROZPOCET | BK158: =SUM(BK159:BK166) -> 0
C159: 20 | D159: K | E159: 917762111.S | F159: Osadenie chodník. obrubníka betónového ležatého do lôžka z betónu prosteho tr. C 12/15 s bočnou oporou | G159: m | H159: 182 | J159: =ROUND(I159*H159,3) -> 0 | N159: znížená | P159: =O159*H159 -> 0 | Q159: 0.16401 | R159: =Q159*H159 -> 29.84982 | S159: 0 | T159: =S159*H159 -> 0 | AR159: 4 | AT159: K | AU159: 2 | AY159: ROZPOCET | BE159: =IF(N159="základná",J159,0) -> 0 | BF159: =IF(N159="znížená",J159,0) -> 0 | BG159: =IF(N159="zákl. prenesená",J159,0) -> 0 | BH159: =IF(N159="zníž. prenesená",J159,0) -> 0 | BI159: =IF(N159="nulová",J159,0) -> 0 | BJ159: 2 | BK159: =ROUND(I159*H159,3) -> 0 | BL159: 4 | BM159: 578166059
C160: 21 | D160: M | E160: 592170003500.S | F160: Obrubník rovný, lxšxv 1000x100x200 mm, prírodný | G160: ks | H160: 183.82 | J160: =ROUND(I160*H160,3) -> 0 | N160: znížená | P160: =O160*H160 -> 0 | Q160: 0.048 | R160: =Q160*H160 -> 8.82336 | S160: 0 | T160: =S160*H160 -> 0 | AR160: 8 | AT160: M | AU160: 2 | AY160: ROZPOCET | BE160: =IF(N160="základná",J160,0) -> 0 | BF160: =IF(N160="znížená",J160,0) -> 0 | BG160: =IF(N160="zákl. prenesená",J160,0) -> 0 | BH160: =IF(N160="zníž. prenesená",J160,0) -> 0 | BI160: =IF(N160="nulová",J160,0) -> 0 | BJ160: 2 | BK160: =ROUND(I160*H160,3) -> 0 | BL160: 4 | BM160: -1292317736
C161: 22 | D161: K | E161: 918101112.S | F161: Lôžko pod obrubníky, krajníky alebo obruby z dlažobných kociek z betónu prostého tr. C 16/20 | G161: m3 | H161: 3.64 | J161: =ROUND(I161*H161,3) -> 0 | N161: znížená | P161: =O161*H161 -> 0 | Q161: 2.21513 | R161: =Q161*H161 -> 8.0630732 | S161: 0 | T161: =S161*H161 -> 0 | AR161: 4 | AT161: K | AU161: 2 | AY161: ROZPOCET | BE161: =IF(N161="základná",J161,0) -> 0 | BF161: =IF(N161="znížená",J161,0) -> 0 | BG161: =IF(N161="zákl. prenesená",J161,0) -> 0 | BH161: =IF(N161="zníž. prenesená",J161,0) -> 0 | BI161: =IF(N161="nulová",J161,0) -> 0 | BJ161: 2 | BK161: =ROUND(I161*H161,3) -> 0 | BL161: 4 | BM161: 2040805942
C162: 23 | D162: K | E162: 919735111.S | F162: Rezanie existujúceho asfaltového krytu alebo podkladu hĺbky do 50 mm | G162: m | H162: 14 | J162: =ROUND(I162*H162,3) -> 0 | N162: znížená | P162: =O162*H162 -> 0 | Q162: 0 | R162: =Q162*H162 -> 0 | S162: 0 | T162: =S162*H162 -> 0 | AR162: 4 | AT162: K | AU162: 2 | AY162: ROZPOCET | BE162: =IF(N162="základná",J162,0) -> 0 | BF162: =IF(N162="znížená",J162,0) -> 0 | BG162: =IF(N162="zákl. prenesená",J162,0) -> 0 | BH162: =IF(N162="zníž. prenesená",J162,0) -> 0 | BI162: =IF(N162="nulová",J162,0) -> 0 | BJ162: 2 | BK162: =ROUND(I162*H162,3) -> 0 | BL162: 4 | BM162: 1736507938
C163: 24 | D163: K | E163: 938909311.S | F163: Odstránenie blata, prachu alebo hlineného nánosu, z povrchu podkladu alebo krytu bet. alebo asfalt. | G163: m2 | H163: 512 | J163: =ROUND(I163*H163,3) -> 0 | N163: znížená | P163: =O163*H163 -> 0 | Q163: 0 | R163: =Q163*H163 -> 0 | S163: 0 | T163: =S163*H163 -> 0 | AR163: 4 | AT163: K | AU163: 2 | AY163: ROZPOCET | BE163: =IF(N163="základná",J163,0) -> 0 | BF163: =IF(N163="znížená",J163,0) -> 0 | BG163: =IF(N163="zákl. prenesená",J163,0) -> 0 | BH163: =IF(N163="zníž. prenesená",J163,0) -> 0 | BI163: =IF(N163="nulová",J163,0) -> 0 | BJ163: 2 | BK163: =ROUND(I163*H163,3) -> 0 | BL163: 4 | BM163: -310085603
C164: 25 | D164: K | E164: 979084215.S | F164: Vodorovná doprava vybúraných hmôt po suchu bez naloženia, ale so zložením na vzdialenosť do 3 km | G164: t | H164: 13.691 | J164: =ROUND(I164*H164,3) -> 0 | N164: znížená | P164: =O164*H164 -> 0 | Q164: 0 | R164: =Q164*H164 -> 0 | S164: 0 | T164: =S164*H164 -> 0 | AR164: 4 | AT164: K | AU164: 2 | AY164: ROZPOCET | BE164: =IF(N164="základná",J164,0) -> 0 | BF164: =IF(N164="znížená",J164,0) -> 0 | BG164: =IF(N164="zákl. prenesená",J164,0) -> 0 | BH164: =IF(N164="zníž. prenesená",J164,0) -> 0 | BI164: =IF(N164="nulová",J164,0) -> 0 | BJ164: 2 | BK164: =ROUND(I164*H164,3) -> 0 | BL164: 4 | BM164: -211347672
C165: 26 | D165: K | E165: 979087212.S | F165: Nakladanie na dopravné prostriedky pre vodorovnú dopravu sutiny | G165: t | H165: 13.691 | J165: =ROUND(I165*H165,3) -> 0 | N165: znížená | P165: =O165*H165 -> 0 | Q165: 0 | R165: =Q165*H165 -> 0 | S165: 0 | T165: =S165*H165 -> 0 | AR165: 4 | AT165: K | AU165: 2 | AY165: ROZPOCET | BE165: =IF(N165="základná",J165,0) -> 0 | BF165: =IF(N165="znížená",J165,0) -> 0 | BG165: =IF(N165="zákl. prenesená",J165,0) -> 0 | BH165: =IF(N165="zníž. prenesená",J165,0) -> 0 | BI165: =IF(N165="nulová",J165,0) -> 0 | BJ165: 2 | BK165: =ROUND(I165*H165,3) -> 0 | BL165: 4 | BM165: -1432619928
C166: 27 | D166: K | E166: 979089212.S | F166: Poplatok za skladovanie - bitúmenové zmesi, uholný decht, dechtové výrobky (17 03 ), ostatné | G166: t | H166: 13.691 | J166: =ROUND(I166*H166,3) -> 0 | N166: znížená | P166: =O166*H166 -> 0 | Q166: 0 | R166: =Q166*H166 -> 0 | S166: 0 | T166: =S166*H166 -> 0 | AR166: 4 | AT166: K | AU166: 2 | AY166: ROZPOCET | BE166: =IF(N166="základná",J166,0) -> 0 | BF166: =IF(N166="znížená",J166,0) -> 0 | BG166: =IF(N166="zákl. prenesená",J166,0) -> 0 | BH166: =IF(N166="zníž. prenesená",J166,0) -> 0 | BI166: =IF(N166="nulová",J166,0) -> 0 | BJ166: 2 | BK166: =ROUND(I166*H166,3) -> 0 | BL166: 4 | BM166: 107998759
...

Sheet 03 - Ulica Kukučínova -  ...
L2: >> skryté stĺpce << | AT2: {9a875dfa-f1de-4f16-93b3-21f44f12d6d3}
AT3: 0
D4: KRYCÍ LIST ROZPOČTU | M4: v --- nižšie sa nachádzajú doplnkové a pomocné údaje k zostavám --- v | AT4: False
D6: Stavba:
E7: ='Rekapitulácia stavby'!K6 -> Rekonštrukcia mestských chodníkov a spevnených plôch
D8: Objekt:
E9: 03 - Ulica Kukučínova - južny chodnik od ulice Lúčnej po ulicu Košickú ( plocha 280m2)
D11: JKSO: | I11: KS:
D12: Miesto: | F12: Trebišov | I12: Dátum: | J12: ='Rekapitulácia stavby'!AN8 -> 13. 8. 2020
D14: Objednávateľ: | I14: IČO:
E15: Mesto Trebišov | I15: IČ DPH:
D17: Zhotoviteľ: | I17: IČO: | J17: ='Rekapitulácia stavby'!AN13 -> Vyplň údaj
E18: ='Rekapitulácia stavby'!E14 -> Vyplň údaj | I18: IČ DPH: | J18: ='Rekapitulácia stavby'!AN14 -> Vyplň údaj
D20: Projektant: | I20: IČO: | J20: =IF('Rekapitulácia stavby'!AN16="","",'Rekapitulácia stavby'!AN16)
E21: =IF('Rekapitulácia stavby'!E17="","",'Rekapitulácia stavby'!E17) | I21: IČ DPH: | J21: =IF('Rekapitulácia stavby'!AN17="","",'Rekapitulácia stavby'!AN17)
D23: Spracovateľ: | I23: IČO: | J23: =IF('Rekapitulácia stavby'!AN19="","",'Rekapitulácia stavby'!AN19)
E24: =IF('Rekapitulácia stavby'!E20="","",'Rekapitulácia stavby'!E20) | I24: IČ DPH: | J24: =IF('Rekapitulácia stavby'!AN20="","",'Rekapitulácia stavby'!AN20)
D26: Poznámka:
D30: Náklady z rozpočtu | J30: =J96 -> 0
D31: Ostatné náklady | J31: =J105 -> 0
D32: Cena bez DPH | J32: =ROUND(J30 + J31, 2) -> 0
F34: Základ dane | I34: Sadzba dane | J34: Výška dane
D35: DPH | E35: základná | F35: =ROUND((SUM(BE105:BE112) + SUM(BE132:BE164)), 2) -> 0 | I35: 0.2 | J35: =ROUND(((SUM(BE105:BE112) + SUM(BE132:BE164))*I35), 2) -> 0
E36: znížená | F36: =ROUND((SUM(BF105:BF112) + SUM(BF132:BF164)), 2) -> 0 | I36: 0.2 | J36: =ROUND(((SUM(BF105:BF112) + SUM(BF132:BF164))*I36), 2) -> 0
E37: zákl. prenesená | F37: =ROUND((SUM(BG105:BG112) + SUM(BG132:BG164)), 2) -> 0 | I37: 0.2 | J37: =0 -> 0
E38: zníž. prenesená | F38: =ROUND((SUM(BH105:BH112) + SUM(BH132:BH164)), 2) -> 0 | I38: 0.2 | J38: =0 -> 0
E39: nulová | F39: =ROUND((SUM(BI105:BI112) + SUM(BI132:BI164)), 2) -> 0 | I39: 0 | J39: =0 -> 0
D41: Cena s DPH | G41: v | H41: EUR | J41: =SUM(J32:J39) -> 0
D50: Projektant | G50: Spracovateľ
D61: Dátum a podpis: | F61: Pečiatka | G61: Dátum a podpis: | J61: Pečiatka
D65: Objednávateľ | G65: Zhotoviteľ
D76: Dátum a podpis: | F76: Pečiatka | G76: Dátum a podpis: | J76: Pečiatka
C82: REKAPITULÁCIA ROZPOČTU
C84: Stavba:
E85: =E7 -> Rekonštrukcia mestských chodníkov a spevnených plôch
C86: Objekt:
E87: =E9 -> 03 - Ulica Kukučínova - južny chodnik od ulice Lúčnej po ulicu Košickú ( plocha 280m2)
C89: Miesto: | F89: =F12 -> Trebišov | I89: Dátum: | J89: =IF(J12="","",J12) -> 13. 8. 2020
C91: Objednávateľ: | F91: =E15 -> Mesto Trebišov | I91: Projektant: | J91: =E21
C92: Zhotoviteľ: | F92: =IF(E18="","",E18) -> Vyplň údaj | I92: Spracovateľ: | J92: =E24
C94: Kód dielu - Popis | J94: Cena celkom [EUR]
C96: 1) Náklady z rozpočtu | J96: =J132 -> 0 | AU96: -1
D97: HSV - Práce a dodávky HSV | J97: =J133 -> 0
D98: 1 - Zemné práce | J98: =J134 -> 0
D99: 2 - Zakladanie | J99: =J140 -> 0
D100: 5 - Komunikácie | J100: =J142 -> 0
D101: 9 - Ostatné konštrukcie a práce-búranie | J101: =J153 -> 0
D102: 99 - Presun hmôt HSV | J102: =J163 -> 0
C105: 2) Ostatné náklady | J105: =ROUND(J106 + J107 + J108 + J109 + J110 + J111,2) -> 0 | N105: DPH
D106: Zariad. staveniska | J106: 0 | N106: znížená | AY106: VRN | BE106: =IF(N106="základná",J106,0) -> 0 | BF106: =IF(N106="znížená",J106,0) -> 0 | BG106: =IF(N106="zákl. prenesená",J106,0) -> 0 | BH106: =IF(N106="zníž. prenesená",J106,0) -> 0 | BI106: =IF(N106="nulová",J106,0) -> 0 | BJ106: 2
D107: Mimostav. doprava | J107: 0 | N107: znížená | AY107: VRN | BE107: =IF(N107="základná",J107,0) -> 0 | BF107: =IF(N107="znížená",J107,0) -> 0 | BG107: =IF(N107="zákl. prenesená",J107,0) -> 0 | BH107: =IF(N107="zníž. prenesená",J107,0) -> 0 | BI107: =IF(N107="nulová",J107,0) -> 0 | BJ107: 2
D108: Územné vplyvy | J108: 0 | N108: znížená | AY108: VRN | BE108: =IF(N108="základná",J108,0) -> 0 | BF108: =IF(N108="znížená",J108,0) -> 0 | BG108: =IF(N108="zákl. prenesená",J108,0) -> 0 | BH108: =IF(N108="zníž. prenesená",J108,0) -> 0 | BI108: =IF(N108="nulová",J108,0) -> 0 | BJ108: 2
D109: Prevádzkové vplyvy | J109: 0 | N109: znížená | AY109: VRN | BE109: =IF(N109="základná",J109,0) -> 0 | BF109: =IF(N109="znížená",J109,0) -> 0 | BG109: =IF(N109="zákl. prenesená",J109,0) -> 0 | BH109: =IF(N109="zníž. prenesená",J109,0) -> 0 | BI109: =IF(N109="nulová",J109,0) -> 0 | BJ109: 2
D110: Ostatné | J110: 0 | N110: znížená | AY110: VRN | BE110: =IF(N110="základná",J110,0) -> 0 | BF110: =IF(N110="znížená",J110,0) -> 0 | BG110: =IF(N110="zákl. prenesená",J110,0) -> 0 | BH110: =IF(N110="zníž. prenesená",J110,0) -> 0 | BI110: =IF(N110="nulová",J110,0) -> 0 | BJ110: 2
D111: Kompletačná činnosť | J111: =ROUND(J30*T111,2) -> 0 | N111: znížená | AY111: KOMPLETACNA | BE111: =IF(N111="základná",J111,0) -> 0 | BF111: =IF(N111="znížená",J111,0) -> 0 | BG111: =IF(N111="zákl. prenesená",J111,0) -> 0 | BH111: =IF(N111="zníž. prenesená",J111,0) -> 0 | BI111: =IF(N111="nulová",J111,0) -> 0 | BJ111: 2
C113: Celkové náklady za stavbu 1) + 2) | J113: =ROUND(J96+J105,2) -> 0
C119: ROZPOČET
C121: Stavba:
E122: =E7 -> Rekonštrukcia mestských chodníkov a spevnených plôch
C123: Objekt:
E124: =E9 -> 03 - Ulica Kukučínova - južny chodnik od ulice Lúčnej po ulicu Košickú ( plocha 280m2)
C126: Miesto: | F126: =F12 -> Trebišov | I126: Dátum: | J126: =IF(J12="","",J12) -> 13. 8. 2020
C128: Objednávateľ: | F128: =E15 -> Mesto Trebišov | I128: Projektant: | J128: =E21
C129: Zhotoviteľ: | F129: =IF(E18="","",E18) -> Vyplň údaj | I129: Spracovateľ: | J129: =E24
C131: PČ | D131: Typ | E131: Kód | F131: Popis | G131: MJ | H131: Množstvo | I131: J.cena [EUR] | J131: Cena celkom [EUR] | K131: Cenová sústava | N131: DPH | O131: J. Nh [h] | P131: Nh celkom [h] | Q131: J. hmotnosť [t] | R131: Hmotnosť celkom [t] | S131: J. suť [t] | T131: Suť Celkom [t]
C132: Náklady z rozpočtu | J132: =BK132 -> 0 | P132: =P133 -> 0 | R132: =R133 -> 76.471017 | T132: =T133 -> 57.88 | AT132: D | AU132: -1 | BK132: =BK133 -> 0
D133: D | E133: HSV | F133: Práce a dodávky HSV | J133: =BK133 -> 0 | P133: =P134+P140+P142+P153+P163 -> 0 | R133: =R134+R140+R142+R153+R163 -> 76.471017 | T133: =T134+T140+T142+T153+T163 -> 57.88 | AR133: 1 | AT133: D | AU133: 0 | AY133: ROZPOCET | BK133: =BK134+BK140+BK142+BK153+BK163 -> 0
D134: D | E134: 1 | F134: Zemné práce | J134: =BK134 -> 0 | P134: =SUM(P135:P139) -> 0 | R134: =SUM(R135:R139) -> 0 | T134: =SUM(T135:T139) -> 57.88 | AR134: 1 | AT134: D | AU134: 1 | AY134: ROZPOCET | BK134: =SUM(BK135:BK139) -> 0
C135: 1 | D135: K | E135: 113107122.S | F135: Odstránenie krytu v ploche do 200 m2 z kameniva hrubého drveného, hr.100 do 200 mm, -0,23500t | G135: m2 | H135: 12 | J135: =ROUND(I135*H135,3) -> 0 | N135: znížená | P135: =O135*H135 -> 0 | Q135: 0 | R135: =Q135*H135 -> 0 | S135: 0.235 | T135: =S135*H135 -> 2.82 | AR135: 4 | AT135: K | AU135: 2 | AY135: ROZPOCET | BE135: =IF(N135="základná",J135,0) -> 0 | BF135: =IF(N135="znížená",J135,0) -> 0 | BG135: =IF(N135="zákl. prenesená",J135,0) -> 0 | BH135: =IF(N135="zníž. prenesená",J135,0) -> 0 | BI135: =IF(N135="nulová",J135,0) -> 0 | BJ135: 2 | BK135: =ROUND(I135*H135,3) -> 0 | BL135: 4 | BM135: 857898922
C136: 2 | D136: K | E136: 113107131.S | F136: Odstránenie krytu v ploche do 200 m2 z betónu prostého, hr. vrstvy do 150 mm, -0,22500t | G136: m2 | H136: 12 | J136: =ROUND(I136*H136,3) -> 0 | N136: znížená | P136: =O136*H136 -> 0 | Q136: 0 | R136: =Q136*H136 -> 0 | S136: 0.225 | T136: =S136*H136 -> 2.7 | AR136: 4 | AT136: K | AU136: 2 | AY136: ROZPOCET | BE136: =IF(N136="základná",J136,0) -> 0 | BF136: =IF(N136="znížená",J136,0) -> 0 | BG136: =IF(N136="zákl. prenesená",J136,0) -> 0 | BH136: =IF(N136="zníž. prenesená",J136,0) -> 0 | BI136: =IF(N136="nulová",J136,0) -> 0 | BJ136: 2 | BK136: =ROUND(I136*H136,3) -> 0 | BL136: 4 | BM136: -141880653
C137: 3 | D137: K | E137: 113107141.S | F137: Odstránenie krytu v ploche do 200 m2 asfaltového, hr. vrstvy do 50 mm, -0,09800t | G137: m2 | H137: 280 | J137: =ROUND(I137*H137,3) -> 0 | N137: znížená | P137: =O137*H137 -> 0 | Q137: 0 | R137: =Q137*H137 -> 0 | S137: 0.098 | T137: =S137*H137 -> 27.44 | AR137: 4 | AT137: K | AU137: 2 | AY137: ROZPOCET | BE137: =IF(N137="základná",J137,0) -> 0 | BF137: =IF(N137="znížená",J137,0) -> 0 | BG137: =IF(N137="zákl. prenesená",J137,0) -> 0 | BH137: =IF(N137="zníž. prenesená",J137,0) -> 0 | BI137: =IF(N137="nulová",J137,0) -> 0 | BJ137: 2 | BK137: =ROUND(I137*H137,3) -> 0 | BL137: 4 | BM137: 1390724994
C138: 4 | D138: K | E138: 113205111.S | F138: Vytrhanie obrúb betónových, chodníkových ležatých, -0,23000t | G138: m | H138: 10 | J138: =ROUND(I138*H138,3) -> 0 | N138: znížená | P138: =O138*H138 -> 0 | Q138: 0 | R138: =Q138*H138 -> 0 | S138: 0.23 | T138: =S138*H138 -> 2.3 | AR138: 4 | AT138: K | AU138: 2 | AY138: ROZPOCET | BE138: =IF(N138="základná",J138,0) -> 0 | BF138: =IF(N138="znížená",J138,0) -> 0 | BG138: =IF(N138="zákl. prenesená",J138,0) -> 0 | BH138: =IF(N138="zníž. prenesená",J138,0) -> 0 | BI138: =IF(N138="nulová",J138,0) -> 0 | BJ138: 2 | BK138: =ROUND(I138*H138,3) -> 0 | BL138: 4 | BM138: 787660637
C139: 5 | D139: K | E139: 113205121.S | F139: Vytrhanie obrúb betónových, cestných ležatých, -0,29000t | G139: m | H139: 78 | J139: =ROUND(I139*H139,3) -> 0 | N139: znížená | P139: =O139*H139 -> 0 | Q139: 0 | R139: =Q139*H139 -> 0 | S139: 0.29 | T139: =S139*H139 -> 22.62 | AR139: 4 | AT139: K | AU139: 2 | AY139: ROZPOCET | BE139: =IF(N139="základná",J139,0) -> 0 | BF139: =IF(N139="znížená",J139,0) -> 0 | BG139: =IF(N139="zákl. prenesená",J139,0) -> 0 | BH139: =IF(N139="zníž. prenesená",J139,0) -> 0 | BI139: =IF(N139="nulová",J139,0) -> 0 | BJ139: 2 | BK139: =ROUND(I139*H139,3) -> 0 | BL139: 4 | BM139: 770638065
D140: D | E140: 2 | F140: Zakladanie | J140: =BK140 -> 0 | P140: =P141 -> 0 | R140: =R141 -> 3.2292 | T140: =T141 -> 0 | AR140: 1 | AT140: D | AU140: 1 | AY140: ROZPOCET | BK140: =BK141 -> 0
C141: 6 | D141: K | E141: 271573001.S | F141: Násyp pod obrubniky so zhutnením zo štrkopiesku fr.0-32 mm | G141: m3 | H141: 1.56 | J141: =ROUND(I141*H141,3) -> 0 | N141: znížená | P141: =O141*H141 -> 0 | Q141: 2.07 | R141: =Q141*H141 -> 3.2292 | S141: 0 | T141: =S141*H141 -> 0 | AR141: 4 | AT141: K | AU141: 2 | AY141: ROZPOCET | BE141: =IF(N141="základná",J141,0) -> 0 | BF141: =IF(N141="znížená",J141,0) -> 0 | BG141: =IF(N141="zákl. prenesená",J141,0) -> 0 | BH141: =IF(N141="zníž. prenesená",J141,0) -> 0 | BI141: =IF(N141="nulová",J141,0) -> 0 | BJ141: 2 | BK141: =ROUND(I141*H141,3) -> 0 | BL141: 4 | BM141: -290335980
D142: D | E142: 5 | F142: Komunikácie | J142: =BK142 -> 0 | P142: =SUM(P143:P152) -> 0 | R142: =SUM(R143:R152) -> 52.748854 | T142: =SUM(T143:T152) -> 0 | AR142: 1 | AT142: D | AU142: 1 | AY142: ROZPOCET | BK142: =SUM(BK143:BK152) -> 0
C143: 7 | D143: K | E143: 564730211.S | F143: Podklad alebo kryt z kameniva hrubého drveného veľ. 16-32 mm s rozprestretím a zhutnením hr. 100 mm | G143: m2 | H143: 12 | J143: =ROUND(I143*H143,3) -> 0 | N143: znížená | P143: =O143*H143 -> 0 | Q143: 0.199 | R143: =Q143*H143 -> 2.388 | S143: 0 | T143: =S143*H143 -> 0 | AR143: 4 | AT143: K | AU143: 2 | AY143: ROZPOCET | BE143: =IF(N143="základná",J143,0) -> 0 | BF143: =IF(N143="znížená",J143,0) -> 0 | BG143: =IF(N143="zákl. prenesená",J143,0) -> 0 | BH143: =IF(N143="zníž. prenesená",J143,0) -> 0 | BI143: =IF(N143="nulová",J143,0) -> 0 | BJ143: 2 | BK143: =ROUND(I143*H143,3) -> 0 | BL143: 4 | BM143: 2141863982
C144: 8 | D144: K | E144: 566902162.S | F144: Vyspravenie podkladu po prekopoch plochy do 15 m2 podkladovým betónom PB I tr. C 20/25 hr. 150 mm | G144: m2 | H144: 18 | J144: =ROUND(I144*H144,3) -> 0 | N144: znížená | P144: =O144*H144 -> 0 | Q144: 0.34131 | R144: =Q144*H144 -> 6.14358 | S144: 0 | T144: =S144*H144 -> 0 | AR144: 4 | AT144: K | AU144: 2 | AY144: ROZPOCET | BE144: =IF(N144="základná",J144,0) -> 0 | BF144: =IF(N144="znížená",J144,0) -> 0 | BG144: =IF(N144="zákl. prenesená",J144,0) -> 0 | BH144: =IF(N144="zníž. prenesená",J144,0) -> 0 | BI144: =IF(N144="nulová",J144,0) -> 0 | BJ144: 2 | BK144: =ROUND(I144*H144,3) -> 0 | BL144: 4 | BM144: -2018114469
C145: 9 | D145: K | E145: 567114211.S | F145: Podklad z podkladového betónu PB II tr. C 16/20 hr. 100 mm | G145: m2 | H145: 6 | J145: =ROUND(I145*H145,3) -> 0 | N145: znížená | P145: =O145*H145 -> 0 | Q145: 0.22377 | R145: =Q145*H145 -> 1.34262 | S145: 0 | T145: =S145*H145 -> 0 | AR145: 4 | AT145: K | AU145: 2 | AY145: ROZPOCET | BE145: =IF(N145="základná",J145,0) -> 0 | BF145: =IF(N145="znížená",J145,0) -> 0 | BG145: =IF(N145="zákl. prenesená",J145,0) -> 0 | BH145: =IF(N145="zníž. prenesená",J145,0) -> 0 | BI145: =IF(N145="nulová",J145,0) -> 0 | BJ145: 2 | BK145: =ROUND(I145*H145,3) -> 0 | BL145: 4 | BM145: -1286999929
C146: 10 | D146: K | E146: 567114311.S | F146: Podklad z podkladového betónu PB III tr. C 12/15 hr. 100 mm | G146: m2 | H146: 12 | J146: =ROUND(I146*H146,3) -> 0 | N146: znížená | P146: =O146*H146 -> 0 | Q146: 0.22796 | R146: =Q146*H146 -> 2.73552 | S146: 0 | T146: =S146*H146 -> 0 | AR146: 4 | AT146: K | AU146: 2 | AY146: ROZPOCET | BE146: =IF(N146="základná",J146,0) -> 0 | BF146: =IF(N146="znížená",J146,0) -> 0 | BG146: =IF(N146="zákl. prenesená",J146,0) -> 0 | BH146: =IF(N146="zníž. prenesená",J146,0) -> 0 | BI146: =IF(N146="nulová",J146,0) -> 0 | BJ146: 2 | BK146: =ROUND(I146*H146,3) -> 0 | BL146: 4 | BM146: -1653869960
C147: 11 | D147: K | E147: 572754111.S | F147: Vyrovnanie povrchu doterajších krytov asfaltovým betónom AC hr. od 20 do 40 mm | G147: m2 | H147: 100 | J147: =ROUND(I147*H147,3) -> 0 | N147: znížená | P147: =O147*H147 -> 0 | Q147: 0.10434 | R147: =Q147*H147 -> 10.434 | S147: 0 | T147: =S147*H147 -> 0 | AR147: 4 | AT147: K | AU147: 2 | AY147: ROZPOCET | BE147: =IF(N147="základná",J147,0) -> 0 | BF147: =IF(N147="znížená",J147,0) -> 0 | BG147: =IF(N147="zákl. prenesená",J147,0) -> 0 | BH147: =IF(N147="zníž. prenesená",J147,0) -> 0 | BI147: =IF(N147="nulová",J147,0) -> 0 | BJ147: 2 | BK147: =ROUND(I147*H147,3) -> 0 | BL147: 4 | BM147: 226146162
C148: 12 | D148: K | E148: 573211107.S | F148: Postrek asfaltový spojovací bez posypu kamenivom z asfaltu cestného v množstve 0,40 kg/m2 | G148: m2 | H148: 280 | J148: =ROUND(I148*H148,3) -> 0 | N148: znížená | P148: =O148*H148 -> 0 | Q148: 0.00041 | R148: =Q148*H148 -> 0.1148 | S148: 0 | T148: =S148*H148 -> 0 | AR148: 4 | AT148: K | AU148: 2 | AY148: ROZPOCET | BE148: =IF(N148="základná",J148,0) -> 0 | BF148: =IF(N148="znížená",J148,0) -> 0 | BG148: =IF(N148="zákl. prenesená",J148,0) -> 0 | BH148: =IF(N148="zníž. prenesená",J148,0) -> 0 | BI148: =IF(N148="nulová",J148,0) -> 0 | BJ148: 2 | BK148: =ROUND(I148*H148,3) -> 0 | BL148: 4 | BM148: 231872487
C149: 13 | D149: K | E149: 577134111.S | F149: Asfaltový betón vrstva obrusná AC 8 O v pruhu š. do 3 m z nemodifik. asfaltu tr. II, po zhutnení hr. 40 mm | G149: m2 | H149: 280 | J149: =ROUND(I149*H149,3) -> 0 | N149: znížená | P149: =O149*H149 -> 0 | Q149: 0.10373 | R149: =Q149*H149 -> 29.0444 | S149: 0 | T149: =S149*H149 -> 0 | AR149: 4 | AT149: K | AU149: 2 | AY149: ROZPOCET | BE149: =IF(N149="základná",J149,0) -> 0 | BF149: =IF(N149="znížená",J149,0) -> 0 | BG149: =IF(N149="zákl. prenesená",J149,0) -> 0 | BH149: =IF(N149="zníž. prenesená",J149,0) -> 0 | BI149: =IF(N149="nulová",J149,0) -> 0 | BJ149: 2 | BK149: =ROUND(I149*H149,3) -> 0 | BL149: 4 | BM149: -609935026
C150: 14 | D150: K | E150: 596911331.S | F150: Kladenie dlažby pre nevidiacich hr. 60 mm do lôžka z kameniva ťaženého s vyplnením škár | G150: m2 | H150: 2.16 | J150: =ROUND(I150*H150,3) -> 0 | N150: znížená | P150: =O150*H150 -> 0 | Q150: 0.112 | R150: =Q150*H150 -> 0.24192 | S150: 0 | T150: =S150*H150 -> 0 | AR150: 4 | AT150: K | AU150: 2 | AY150: ROZPOCET | BE150: =IF(N150="základná",J150,0) -> 0 | BF150: =IF(N150="znížená",J150,0) -> 0 | BG150: =IF(N150="zákl. prenesená",J150,0) -> 0 | BH150: =IF(N150="zníž. prenesená",J150,0) -> 0 | BI150: =IF(N150="nulová",J150,0) -> 0 | BJ150: 2 | BK150: =ROUND(I150*H150,3) -> 0 | BL150: 4 | BM150: 1829213412
C151: 15 | D151: M | E151: 592460007000 | F151: Dlažba betónová Low value PREMAC Dlažba betónová pre nevidiacich drážková, rozmer 200x200x60 mm, sivá | G151: m2 | H151: 0.653 | J151: =ROUND(I151*H151,3) -> 0 | N151: znížená | P151: =O151*H151 -> 0 | Q151: 0.138 | R151: =Q151*H151 -> 0.090114 | S151: 0 | T151: =S151*H151 -> 0 | AR151: 8 | AT151: M | AU151: 2 | AY151: ROZPOCET | BE151: =IF(N151="základná",J151,0) -> 0 | BF151: =IF(N151="znížená",J151,0) -> 0 | BG151: =IF(N151="zákl. prenesená",J151,0) -> 0 | BH151: =IF(N151="zníž. prenesená",J151,0) -> 0 | BI151: =IF(N151="nulová",J151,0) -> 0 | BJ151: 2 | BK151: =ROUND(I151*H151,3) -> 0 | BL151: 4 | BM151: -930795702
C152: 16 | D152: M | E152: 592460007200 | F152: Dlažba betónová Low value PREMAC Dlažba betónová pre nevidiacich, nopková, rozmer 200x200x60 mm, sivá | G152: m2 | H152: 1.55 | J152: =ROUND(I152*H152,3) -> 0 | N152: znížená | P152: =O152*H152 -> 0 | Q152: 0.138 | R152: =Q152*H152 -> 0.2139 | S152: 0 | T152: =S152*H152 -> 0 | AR152: 8 | AT152: M | AU152: 2 | AY152: ROZPOCET | BE152: =IF(N152="základná",J152,0) -> 0 | BF152: =IF(N152="znížená",J152,0) -> 0 | BG152: =IF(N152="zákl. prenesená",J152,0) -> 0 | BH152: =IF(N152="zníž. prenesená",J152,0) -> 0 | BI152: =IF(N152="nulová",J152,0) -> 0 | BJ152: 2 | BK152: =ROUND(I152*H152,3) -> 0 | BL152: 4 | BM152: -1965864586
D153: D | E153: 9 | F153: Ostatné konštrukcie a práce-búranie | J153: =BK153 -> 0 | P153: =SUM(P154:P162) -> 0 | R153: =SUM(R154:R162) -> 20.492963 | T153: =SUM(T154:T162) -> 0 | AR153: 1 | AT153: D | AU153: 1 | AY153: ROZPOCET | BK153: =SUM(BK154:BK162) -> 0
C154: 17 | D154: K | E154: 917762111.S | F154: Osadenie chodník. obrubníka betónového ležatého do lôžka z betónu prosteho tr. C 12/15 s bočnou oporou | G154: m | H154: 88 | J154: =ROUND(I154*H154,3) -> 0 | N154: znížená | P154: =O154*H154 -> 0 | Q154: 0.16401 | R154: =Q154*H154 -> 14.43288 | S154: 0 | T154: =S154*H154 -> 0 | AR154: 4 | AT154: K | AU154: 2 | AY154: ROZPOCET | BE154: =IF(N154="základná",J154,0) -> 0 | BF154: =IF(N154="znížená",J154,0) -> 0 | BG154: =IF(N154="zákl. prenesená",J154,0) -> 0 | BH154: =IF(N154="zníž. prenesená",J154,0) -> 0 | BI154: =IF(N154="nulová",J154,0) -> 0 | BJ154: 2 | BK154: =ROUND(I154*H154,3) -> 0 | BL154: 4 | BM154: 578166059
C155: 18 | D155: M | E155: 592170001800.S | F155: Obrubník parkový, lxšxv 1000x50x200 mm, prírodný | G155: ks | H155: 78 | J155: =ROUND(I155*H155,3) -> 0 | N155: znížená | P155: =O155*H155 -> 0 | Q155: 0.023 | R155: =Q155*H155 -> 1.794 | S155: 0 | T155: =S155*H155 -> 0 | AR155: 8 | AT155: M | AU155: 2 | AY155: ROZPOCET | BE155: =IF(N155="základná",J155,0) -> 0 | BF155: =IF(N155="znížená",J155,0) -> 0 | BG155: =IF(N155="zákl. prenesená",J155,0) -> 0 | BH155: =IF(N155="zníž. prenesená",J155,0) -> 0 | BI155: =IF(N155="nulová",J155,0) -> 0 | BJ155: 2 | BK155: =ROUND(I155*H155,3) -> 0 | BL155: 4 | BM155: 100652834
C156: 19 | D156: M | E156: 592170003800.S | F156: Obrubník cestný so skosením, lxšxv 1000x150x250 mm, prírodný | G156: ks | H156: 10 | J156: =ROUND(I156*H156,3) -> 0 | N156: znížená | P156: =O156*H156 -> 0 | Q156: 0.081 | R156: =Q156*H156 -> 0.81 | S156: 0 | T156: =S156*H156 -> 0 | AR156: 8 | AT156: M | AU156: 2 | AY156: ROZPOCET | BE156: =IF(N156="základná",J156,0) -> 0 | BF156: =IF(N156="znížená",J156,0) -> 0 | BG156: =IF(N156="zákl. prenesená",J156,0) -> 0 | BH156: =IF(N156="zníž. prenesená",J156,0) -> 0 | BI156: =IF(N156="nulová",J156,0) -> 0 | BJ156: 2 | BK156: =ROUND(I156*H156,3) -> 0 | BL156: 4 | BM156: -1161144799
C157: 20 | D157: K | E157: 918101112.S | F157: Lôžko pod obrubníky, krajníky alebo obruby z dlažobných kociek z betónu prostého tr. C 16/20 | G157: m3 | H157: 1.56 | J157: =ROUND(I157*H157,3) -> 0 | N157: znížená | P157: =O157*H157 -> 0 | Q157: 2.21513 | R157: =Q157*H157 -> 3.4556028 | S157: 0 | T157: =S157*H157 -> 0 | AR157: 4 | AT157: K | AU157: 2 | AY157: ROZPOCET | BE157: =IF(N157="základná",J157,0) -> 0 | BF157: =IF(N157="znížená",J157,0) -> 0 | BG157: =IF(N157="zákl. prenesená",J157,0) -> 0 | BH157: =IF(N157="zníž. prenesená",J157,0) -> 0 | BI157: =IF(N157="nulová",J157,0) -> 0 | BJ157: 2 | BK157: =ROUND(I157*H157,3) -> 0 | BL157: 4 | BM157: 2040805942
C158: 21 | D158: K | E158: 919735122.S | F158: Rezanie existujúceho betónového krytu alebo podkladu hĺbky nad 50 do 100 mm | G158: m | H158: 12 | J158: =ROUND(I158*H158,3) -> 0 | N158: znížená | P158: =O158*H158 -> 0 | Q158: 4e-05 | R158: =Q158*H158 -> 0.00048 | S158: 0 | T158: =S158*H158 -> 0 | AR158: 4 | AT158: K | AU158: 2 | AY158: ROZPOCET | BE158: =IF(N158="základná",J158,0) -> 0 | BF158: =IF(N158="znížená",J158,0) -> 0 | BG158: =IF(N158="zákl. prenesená",J158,0) -> 0 | BH158: =IF(N158="zníž. prenesená",J158,0) -> 0 | BI158: =IF(N158="nulová",J158,0) -> 0 | BJ158: 2 | BK158: =ROUND(I158*H158,3) -> 0 | BL158: 4 | BM158: 800537444
C159: 22 | D159: K | E159: 938909311.S | F159: Odstránenie blata, prachu alebo hlineného nánosu, z povrchu podkladu alebo krytu bet. alebo asfalt. | G159: m2 | H159: 280 | J159: =ROUND(I159*H159,3) -> 0 | N159: znížená | P159: =O159*H159 -> 0 | Q159: 0 | R159: =Q159*H159 -> 0 | S159: 0 | T159: =S159*H159 -> 0 | AR159: 4 | AT159: K | AU159: 2 | AY159: ROZPOCET | BE159: =IF(N159="základná",J159,0) -> 0 | BF159: =IF(N159="znížená",J159,0) -> 0 | BG159: =IF(N159="zákl. prenesená",J159,0) -> 0 | BH159: =IF(N159="zníž. prenesená",J159,0) -> 0 | BI159: =IF(N159="nulová",J159,0) -> 0 | BJ159: 2 | BK159: =ROUND(I159*H159,3) -> 0 | BL159: 4 | BM159: -310085603
C160: 23 | D160: K | E160: 979084215.S | F160: Vodorovná doprava vybúraných hmôt po suchu bez naloženia, ale so zložením na vzdialenosť do 3 km | G160: t | H160: 57.88 | J160: =ROUND(I160*H160,3) -> 0 | N160: znížená | P160: =O160*H160 -> 0 | Q160: 0 | R160: =Q160*H160 -> 0 | S160: 0 | T160: =S160*H160 -> 0 | AR160: 4 | AT160: K | AU160: 2 | AY160: ROZPOCET | BE160: =IF(N160="základná",J160,0) -> 0 | BF160: =IF(N160="znížená",J160,0) -> 0 | BG160: =IF(N160="zákl. prenesená",J160,0) -> 0 | BH160: =IF(N160="zníž. prenesená",J160,0) -> 0 | BI160: =IF(N160="nulová",J160,0) -> 0 | BJ160: 2 | BK160: =ROUND(I160*H160,3) -> 0 | BL160: 4 | BM160: -211347672
C161: 24 | D161: K | E161: 979087212.S | F161: Nakladanie na dopravné prostriedky pre vodorovnú dopravu sutiny | G161: t | H161: 57.88 | J161: =ROUND(I161*H161,3) -> 0 | N161: znížená | P161: =O161*H161 -> 0 | Q161: 0 | R161: =Q161*H161 -> 0 | S161: 0 | T161: =S161*H161 -> 0 | AR161: 4 | AT161: K | AU161: 2 | AY161: ROZPOCET | BE161: =IF(N161="základná",J161,0) -> 0 | BF161: =IF(N161="znížená",J161,0) -> 0 | BG161: =IF(N161="zákl. prenesená",J161,0) -> 0 | BH161: =IF(N161="zníž. prenesená",J161,0) -> 0 | BI161: =IF(N161="nulová",J161,0) -> 0 | BJ161: 2 | BK161: =ROUND(I161*H161,3) -> 0 | BL161: 4 | BM161: -1432619928
C162: 25 | D162: K | E162: 979089212.S | F162: Poplatok za skladovanie - bitúmenové zmesi, uholný decht, dechtové výrobky (17 03 ), ostatné | G162: t | H162: 57.88 | J162: =ROUND(I162*H162,3) -> 0 | N162: znížená | P162: =O162*H162 -> 0 | Q162: 0 | R162: =Q162*H162 -> 0 | S162: 0 | T162: =S162*H162 -> 0 | AR162: 4 | AT162: K | AU162: 2 | AY162: ROZPOCET | BE162: =IF(N162="základná",J162,0) -> 0 | BF162: =IF(N162="znížená",J162,0) -> 0 | BG162: =IF(N162="zákl. prenesená",J162,0) -> 0 | BH162: =IF(N162="zníž. prenesená",J162,0) -> 0 | BI162: =IF(N162="nulová",J162,0) -> 0 | BJ162: 2 | BK162: =ROUND(I162*H162,3) -> 0 | BL162: 4 | BM162: 107998759
D163: D | E163: 99 | F163: Presun hmôt HSV | J163: =BK163 -> 0 | P163: =P164 -> 0 | R163: =R164 -> 0 | T163: =T164 -> 0 | AR163: 1 | AT163: D | AU163: 1 | AY163: ROZPOCET | BK163: =BK164 -> 0
C164: 26 | D164: K | E164: 998225111.S | F164: Presun hmôt pre pozemnú komunikáciu a letisko s krytom asfaltovým akejkoľvek dĺžky objektu | G164: t | H164: 76.471 | J164: =ROUND(I164*H164,3) -> 0 | N164: znížená | P164: =O164*H164 -> 0 | Q164: 0 | R164: =Q164*H164 -> 0 | S164: 0 | T164: =S164*H164 -> 0 | AR164: 4 | AT164: K | AU164: 2 | AY164: ROZPOCET | BE164: =IF(N164="základná",J164,0) -> 0 | BF164: =IF(N164="znížená",J164,0) -> 0 | BG164: =IF(N164="zákl. prenesená",J164,0) -> 0 | BH164: =IF(N164="zníž. prenesená",J164,0) -> 0 | BI164: =IF(N164="nulová",J164,0) -> 0 | BJ164: 2 | BK164: =ROUND(I164*H164,3) -> 0 | BL164: 4 | BM164: 714941160

Sheet 04 - Ulica Košicka -  cho...
L2: >> skryté stĺpce << | AT2: {9d245e2e-8a2b-4524-bf32-ae20a20a8c23}
AT3: 0
D4: KRYCÍ LIST ROZPOČTU | M4: v --- nižšie sa nachádzajú doplnkové a pomocné údaje k zostavám --- v | AT4: False
D6: Stavba:
E7: ='Rekapitulácia stavby'!K6 -> Rekonštrukcia mestských chodníkov a spevnených plôch
D8: Objekt:
E9: 04 - Ulica Košicka - chodnik od ulice Kukučínovej (plocha 160m2)
D11: JKSO: | I11: KS:
D12: Miesto: | F12: Trebišov | I12: Dátum: | J12: ='Rekapitulácia stavby'!AN8 -> 13. 8. 2020
D14: Objednávateľ: | I14: IČO:
E15: Mesto Trebišov | I15: IČ DPH:
D17: Zhotoviteľ: | I17: IČO: | J17: ='Rekapitulácia stavby'!AN13 -> Vyplň údaj
E18: ='Rekapitulácia stavby'!E14 -> Vyplň údaj | I18: IČ DPH: | J18: ='Rekapitulácia stavby'!AN14 -> Vyplň údaj
D20: Projektant: | I20: IČO: | J20: =IF('Rekapitulácia stavby'!AN16="","",'Rekapitulácia stavby'!AN16)
E21: =IF('Rekapitulácia stavby'!E17="","",'Rekapitulácia stavby'!E17) | I21: IČ DPH: | J21: =IF('Rekapitulácia stavby'!AN17="","",'Rekapitulácia stavby'!AN17)
D23: Spracovateľ: | I23: IČO: | J23: =IF('Rekapitulácia stavby'!AN19="","",'Rekapitulácia stavby'!AN19)
E24: =IF('Rekapitulácia stavby'!E20="","",'Rekapitulácia stavby'!E20) | I24: IČ DPH: | J24: =IF('Rekapitulácia stavby'!AN20="","",'Rekapitulácia stavby'!AN20)
D26: Poznámka:
D30: Náklady z rozpočtu | J30: =J96 -> 0
D31: Ostatné náklady | J31: =J105 -> 0
D32: Cena bez DPH | J32: =ROUND(J30 + J31, 2) -> 0
F34: Základ dane | I34: Sadzba dane | J34: Výška dane
D35: DPH | E35: základná | F35: =ROUND((SUM(BE105:BE112) + SUM(BE132:BE155)), 2) -> 0 | I35: 0.2 | J35: =ROUND(((SUM(BE105:BE112) + SUM(BE132:BE155))*I35), 2) -> 0
E36: znížená | F36: =ROUND((SUM(BF105:BF112) + SUM(BF132:BF155)), 2) -> 0 | I36: 0.2 | J36: =ROUND(((SUM(BF105:BF112) + SUM(BF132:BF155))*I36), 2) -> 0
E37: zákl. prenesená | F37: =ROUND((SUM(BG105:BG112) + SUM(BG132:BG155)), 2) -> 0 | I37: 0.2 | J37: =0 -> 0
E38: zníž. prenesená | F38: =ROUND((SUM(BH105:BH112) + SUM(BH132:BH155)), 2) -> 0 | I38: 0.2 | J38: =0 -> 0
E39: nulová | F39: =ROUND((SUM(BI105:BI112) + SUM(BI132:BI155)), 2) -> 0 | I39: 0 | J39: =0 -> 0
D41: Cena s DPH | G41: v | H41: EUR | J41: =SUM(J32:J39) -> 0
D50: Projektant | G50: Spracovateľ
D61: Dátum a podpis: | F61: Pečiatka | G61: Dátum a podpis: | J61: Pečiatka
D65: Objednávateľ | G65: Zhotoviteľ
D76: Dátum a podpis: | F76: Pečiatka | G76: Dátum a podpis: | J76: Pečiatka
C82: REKAPITULÁCIA ROZPOČTU
C84: Stavba:
E85: =E7 -> Rekonštrukcia mestských chodníkov a spevnených plôch
C86: Objekt:
E87: =E9 -> 04 - Ulica Košicka - chodnik od ulice Kukučínovej (plocha 160m2)
C89: Miesto: | F89: =F12 -> Trebišov | I89: Dátum: | J89: =IF(J12="","",J12) -> 13. 8. 2020
C91: Objednávateľ: | F91: =E15 -> Mesto Trebišov | I91: Projektant: | J91: =E21
C92: Zhotoviteľ: | F92: =IF(E18="","",E18) -> Vyplň údaj | I92: Spracovateľ: | J92: =E24
C94: Kód dielu - Popis | J94: Cena celkom [EUR]
C96: 1) Náklady z rozpočtu | J96: =J132 -> 0 | AU96: -1
D97: HSV - Práce a dodávky HSV | J97: =J133 -> 0
D98: 1 - Zemné práce | J98: =J134 -> 0
D99: 2 - Zakladanie | J99: =J137 -> 0
D100: 5 - Komunikácie | J100: =J139 -> 0
D101: 9 - Ostatné konštrukcie a práce-búranie | J101: =J146 -> 0
D102: 99 - Presun hmôt HSV | J102: =J154 -> 0
C105: 2) Ostatné náklady | J105: =ROUND(J106 + J107 + J108 + J109 + J110 + J111,2) -> 0 | N105: DPH
D106: Zariad. staveniska | J106: 0 | N106: znížená | AY106: VRN | BE106: =IF(N106="základná",J106,0) -> 0 | BF106: =IF(N106="znížená",J106,0) -> 0 | BG106: =IF(N106="zákl. prenesená",J106,0) -> 0 | BH106: =IF(N106="zníž. prenesená",J106,0) -> 0 | BI106: =IF(N106="nulová",J106,0) -> 0 | BJ106: 2
D107: Mimostav. doprava | J107: 0 | N107: znížená | AY107: VRN | BE107: =IF(N107="základná",J107,0) -> 0 | BF107: =IF(N107="znížená",J107,0) -> 0 | BG107: =IF(N107="zákl. prenesená",J107,0) -> 0 | BH107: =IF(N107="zníž. prenesená",J107,0) -> 0 | BI107: =IF(N107="nulová",J107,0) -> 0 | BJ107: 2
D108: Územné vplyvy | J108: 0 | N108: znížená | AY108: VRN | BE108: =IF(N108="základná",J108,0) -> 0 | BF108: =IF(N108="znížená",J108,0) -> 0 | BG108: =IF(N108="zákl. prenesená",J108,0) -> 0 | BH108: =IF(N108="zníž. prenesená",J108,0) -> 0 | BI108: =IF(N108="nulová",J108,0) -> 0 | BJ108: 2
D109: Prevádzkové vplyvy | J109: 0 | N109: znížená | AY109: VRN | BE109: =IF(N109="základná",J109,0) -> 0 | BF109: =IF(N109="znížená",J109,0) -> 0 | BG109: =IF(N109="zákl. prenesená",J109,0) -> 0 | BH109: =IF(N109="zníž. prenesená",J109,0) -> 0 | BI109: =IF(N109="nulová",J109,0) -> 0 | BJ109: 2
D110: Ostatné | J110: 0 | N110: znížená | AY110: VRN | BE110: =IF(N110="základná",J110,0) -> 0 | BF110: =IF(N110="znížená",J110,0) -> 0 | BG110: =IF(N110="zákl. prenesená",J110,0) -> 0 | BH110: =IF(N110="zníž. prenesená",J110,0) -> 0 | BI110: =IF(N110="nulová",J110,0) -> 0 | BJ110: 2
D111: Kompletačná činnosť | J111: =ROUND(J30*T111,2) -> 0 | N111: znížená | AY111: KOMPLETACNA | BE111: =IF(N111="základná",J111,0) -> 0 | BF111: =IF(N111="znížená",J111,0) -> 0 | BG111: =IF(N111="zákl. prenesená",J111,0) -> 0 | BH111: =IF(N111="zníž. prenesená",J111,0) -> 0 | BI111: =IF(N111="nulová",J111,0) -> 0 | BJ111: 2
C113: Celkové náklady za stavbu 1) + 2) | J113: =ROUND(J96+J105,2) -> 0
C119: ROZPOČET
C121: Stavba:
E122: =E7 -> Rekonštrukcia mestských chodníkov a spevnených plôch
C123: Objekt:
E124: =E9 -> 04 - Ulica Košicka - chodnik od ulice Kukučínovej (plocha 160m2)
C126: Miesto: | F126: =F12 -> Trebišov | I126: Dátum: | J126: =IF(J12="","",J12) -> 13. 8. 2020
C128: Objednávateľ: | F128: =E15 -> Mesto Trebišov | I128: Projektant: | J128: =E21
C129: Zhotoviteľ: | F129: =IF(E18="","",E18) -> Vyplň údaj | I129: Spracovateľ: | J129: =E24
C131: PČ | D131: Typ | E131: Kód | F131: Popis | G131: MJ | H131: Množstvo | I131: J.cena [EUR] | J131: Cena celkom [EUR] | K131: Cenová sústava | N131: DPH | O131: J. Nh [h] | P131: Nh celkom [h] | Q131: J. hmotnosť [t] | R131: Hmotnosť celkom [t] | S131: J. suť [t] | T131: Suť Celkom [t]
C132: Náklady z rozpočtu | J132: =BK132 -> 0 | P132: =P133 -> 0 | R132: =R133 -> 45.070812 | T132: =T133 -> 34.82 | AT132: D | AU132: -1 | BK132: =BK133 -> 0
D133: D | E133: HSV | F133: Práce a dodávky HSV | J133: =BK133 -> 0 | P133: =P134+P137+P139+P146+P154 -> 0 | R133: =R134+R137+R139+R146+R154 -> 45.070812 | T133: =T134+T137+T139+T146+T154 -> 34.82 | AR133: 1 | AT133: D | AU133: 0 | AY133: ROZPOCET | BK133: =BK134+BK137+BK139+BK146+BK154 -> 0
D134: D | E134: 1 | F134: Zemné práce | J134: =BK134 -> 0 | P134: =SUM(P135:P136) -> 0 | R134: =SUM(R135:R136) -> 0 | T134: =SUM(T135:T136) -> 34.82 | AR134: 1 | AT134: D | AU134: 1 | AY134: ROZPOCET | BK134: =SUM(BK135:BK136) -> 0
C135: 1 | D135: K | E135: 113107141.S | F135: Odstránenie krytu v ploche do 200 m2 asfaltového, hr. vrstvy do 50 mm, -0,09800t | G135: m2 | H135: 160 | J135: =ROUND(I135*H135,3) -> 0 | N135: znížená | P135: =O135*H135 -> 0 | Q135: 0 | R135: =Q135*H135 -> 0 | S135: 0.098 | T135: =S135*H135 -> 15.68 | AR135: 4 | AT135: K | AU135: 2 | AY135: ROZPOCET | BE135: =IF(N135="základná",J135,0) -> 0 | BF135: =IF(N135="znížená",J135,0) -> 0 | BG135: =IF(N135="zákl. prenesená",J135,0) -> 0 | BH135: =IF(N135="zníž. prenesená",J135,0) -> 0 | BI135: =IF(N135="nulová",J135,0) -> 0 | BJ135: 2 | BK135: =ROUND(I135*H135,3) -> 0 | BL135: 4 | BM135: 1390724994
C136: 2 | D136: K | E136: 113205121.S | F136: Vytrhanie obrúb betónových, cestných ležatých, -0,29000t | G136: m | H136: 66 | J136: =ROUND(I136*H136,3) -> 0 | N136: znížená | P136: =O136*H136 -> 0 | Q136: 0 | R136: =Q136*H136 -> 0 | S136: 0.29 | T136: =S136*H136 -> 19.14 | AR136: 4 | AT136: K | AU136: 2 | AY136: ROZPOCET | BE136: =IF(N136="základná",J136,0) -> 0 | BF136: =IF(N136="znížená",J136,0) -> 0 | BG136: =IF(N136="zákl. prenesená",J136,0) -> 0 | BH136: =IF(N136="zníž. prenesená",J136,0) -> 0 | BI136: =IF(N136="nulová",J136,0) -> 0 | BJ136: 2 | BK136: =ROUND(I136*H136,3) -> 0 | BL136: 4 | BM136: 770638065
D137: D | E137: 2 | F137: Zakladanie | J137: =BK137 -> 0 | P137: =P138 -> 0 | R137: =R138 -> 2.7324 | T137: =T138 -> 0 | AR137: 1 | AT137: D | AU137: 1 | AY137: ROZPOCET | BK137: =BK138 -> 0
C138: 3 | D138: K | E138: 271573001.S | F138: Násyp pod obrubniky so zhutnením zo štrkopiesku fr.0-32 mm | G138: m3 | H138: 1.32 | J138: =ROUND(I138*H138,3) -> 0 | N138: znížená | P138: =O138*H138 -> 0 | Q138: 2.07 | R138: =Q138*H138 -> 2.7324 | S138: 0 | T138: =S138*H138 -> 0 | AR138: 4 | AT138: K | AU138: 2 | AY138: ROZPOCET | BE138: =IF(N138="základná",J138,0) -> 0 | BF138: =IF(N138="znížená",J138,0) -> 0 | BG138: =IF(N138="zákl. prenesená",J138,0) -> 0 | BH138: =IF(N138="zníž. prenesená",J138,0) -> 0 | BI138: =IF(N138="nulová",J138,0) -> 0 | BJ138: 2 | BK138: =ROUND(I138*H138,3) -> 0 | BL138: 4 | BM138: -290335980
D139: D | E139: 5 | F139: Komunikácie | J139: =BK139 -> 0 | P139: =SUM(P140:P145) -> 0 | R139: =SUM(R140:R145) -> 27.07178 | T139: =SUM(T140:T145) -> 0 | AR139: 1 | AT139: D | AU139: 1 | AY139: ROZPOCET | BK139: =SUM(BK140:BK145) -> 0
C140: 4 | D140: K | E140: 564730211.S | F140: Podklad alebo kryt z kameniva hrubého drveného veľ. 16-32 mm s rozprestretím a zhutnením hr. 100 mm | G140: m2 | H140: 6 | J140: =ROUND(I140*H140,3) -> 0 | N140: znížená | P140: =O140*H140 -> 0 | Q140: 0.199 | R140: =Q140*H140 -> 1.194 | S140: 0 | T140: =S140*H140 -> 0 | AR140: 4 | AT140: K | AU140: 2 | AY140: ROZPOCET | BE140: =IF(N140="základná",J140,0) -> 0 | BF140: =IF(N140="znížená",J140,0) -> 0 | BG140: =IF(N140="zákl. prenesená",J140,0) -> 0 | BH140: =IF(N140="zníž. prenesená",J140,0) -> 0 | BI140: =IF(N140="nulová",J140,0) -> 0 | BJ140: 2 | BK140: =ROUND(I140*H140,3) -> 0 | BL140: 4 | BM140: 2141863982
C141: 5 | D141: K | E141: 566902161.S | F141: Vyspravenie podkladu po prekopoch inžinierskych sietí plochy do 15 m2 podkladovým betónom PB I tr. C 20/25 hr. 40 mm | G141: m2 | H141: 8 | J141: =ROUND(I141*H141,3) -> 0 | N141: znížená | P141: =O141*H141 -> 0 | Q141: 0.22763 | R141: =Q141*H141 -> 1.82104 | S141: 0 | T141: =S141*H141 -> 0 | AR141: 4 | AT141: K | AU141: 2 | AY141: ROZPOCET | BE141: =IF(N141="základná",J141,0) -> 0 | BF141: =IF(N141="znížená",J141,0) -> 0 | BG141: =IF(N141="zákl. prenesená",J141,0) -> 0 | BH141: =IF(N141="zníž. prenesená",J141,0) -> 0 | BI141: =IF(N141="nulová",J141,0) -> 0 | BJ141: 2 | BK141: =ROUND(I141*H141,3) -> 0 | BL141: 4 | BM141: -442872391
C142: 6 | D142: K | E142: 567114211.S | F142: Podklad z podkladového betónu PB II tr. C 16/20 hr. 100 mm | G142: m2 | H142: 6 | J142: =ROUND(I142*H142,3) -> 0 | N142: znížená | P142: =O142*H142 -> 0 | Q142: 0.22377 | R142: =Q142*H142 -> 1.34262 | S142: 0 | T142: =S142*H142 -> 0 | AR142: 4 | AT142: K | AU142: 2 | AY142: ROZPOCET | BE142: =IF(N142="základná",J142,0) -> 0 | BF142: =IF(N142="znížená",J142,0) -> 0 | BG142: =IF(N142="zákl. prenesená",J142,0) -> 0 | BH142: =IF(N142="zníž. prenesená",J142,0) -> 0 | BI142: =IF(N142="nulová",J142,0) -> 0 | BJ142: 2 | BK142: =ROUND(I142*H142,3) -> 0 | BL142: 4 | BM142: -1286999929
C143: 7 | D143: K | E143: 572754111.S | F143: Vyrovnanie povrchu doterajších krytov asfaltovým betónom AC hr. od 20 do 40 mm | G143: m2 | H143: 58 | J143: =ROUND(I143*H143,3) -> 0 | N143: znížená | P143: =O143*H143 -> 0 | Q143: 0.10434 | R143: =Q143*H143 -> 6.05172 | S143: 0 | T143: =S143*H143 -> 0 | AR143: 4 | AT143: K | AU143: 2 | AY143: ROZPOCET | BE143: =IF(N143="základná",J143,0) -> 0 | BF143: =IF(N143="znížená",J143,0) -> 0 | BG143: =IF(N143="zákl. prenesená",J143,0) -> 0 | BH143: =IF(N143="zníž. prenesená",J143,0) -> 0 | BI143: =IF(N143="nulová",J143,0) -> 0 | BJ143: 2 | BK143: =ROUND(I143*H143,3) -> 0 | BL143: 4 | BM143: 226146162
C144: 8 | D144: K | E144: 573211107.S | F144: Postrek asfaltový spojovací bez posypu kamenivom z asfaltu cestného v množstve 0,40 kg/m2 | G144: m2 | H144: 160 | J144: =ROUND(I144*H144,3) -> 0 | N144: znížená | P144: =O144*H144 -> 0 | Q144: 0.00041 | R144: =Q144*H144 -> 0.0656 | S144: 0 | T144: =S144*H144 -> 0 | AR144: 4 | AT144: K | AU144: 2 | AY144: ROZPOCET | BE144: =IF(N144="základná",J144,0) -> 0 | BF144: =IF(N144="znížená",J144,0) -> 0 | BG144: =IF(N144="zákl. prenesená",J144,0) -> 0 | BH144: =IF(N144="zníž. prenesená",J144,0) -> 0 | BI144: =IF(N144="nulová",J144,0) -> 0 | BJ144: 2 | BK144: =ROUND(I144*H144,3) -> 0 | BL144: 4 | BM144: 231872487
C145: 9 | D145: K | E145: 577134111.S | F145: Asfaltový betón vrstva obrusná AC 8 O v pruhu š. do 3 m z nemodifik. asfaltu tr. II, po zhutnení hr. 40 mm | G145: m2 | H145: 160 | J145: =ROUND(I145*H145,3) -> 0 | N145: znížená | P145: =O145*H145 -> 0 | Q145: 0.10373 | R145: =Q145*H145 -> 16.5968 | S145: 0 | T145: =S145*H145 -> 0 | AR145: 4 | AT145: K | AU145: 2 | AY145: ROZPOCET | BE145: =IF(N145="základná",J145,0) -> 0 | BF145: =IF(N145="znížená",J145,0) -> 0 | BG145: =IF(N145="zákl. prenesená",J145,0) -> 0 | BH145: =IF(N145="zníž. prenesená",J145,0) -> 0 | BI145: =IF(N145="nulová",J145,0) -> 0 | BJ145: 2 | BK145: =ROUND(I145*H145,3) -> 0 | BL145: 4 | BM145: -609935026
D146: D | E146: 9 | F146: Ostatné konštrukcie a práce-búranie | J146: =BK146 -> 0 | P146: =SUM(P147:P153) -> 0 | R146: =SUM(R147:R153) -> 15.266632 | T146: =SUM(T147:T153) -> 0 | AR146: 1 | AT146: D | AU146: 1 | AY146: ROZPOCET | BK146: =SUM(BK147:BK153) -> 0
C147: 10 | D147: K | E147: 917762111.S | F147: Osadenie chodník. obrubníka betónového ležatého do lôžka z betónu prosteho tr. C 12/15 s bočnou oporou | G147: m | H147: 66 | J147: =ROUND(I147*H147,3) -> 0 | N147: znížená | P147: =O147*H147 -> 0 | Q147: 0.16401 | R147: =Q147*H147 -> 10.82466 | S147: 0 | T147: =S147*H147 -> 0 | AR147: 4 | AT147: K | AU147: 2 | AY147: ROZPOCET | BE147: =IF(N147="základná",J147,0) -> 0 | BF147: =IF(N147="znížená",J147,0) -> 0 | BG147: =IF(N147="zákl. prenesená",J147,0) -> 0 | BH147: =IF(N147="zníž. prenesená",J147,0) -> 0 | BI147: =IF(N147="nulová",J147,0) -> 0 | BJ147: 2 | BK147: =ROUND(I147*H147,3) -> 0 | BL147: 4 | BM147: 578166059
C148: 11 | D148: M | E148: 592170001800.S | F148: Obrubník parkový, lxšxv 1000x50x200 mm, prírodný | G148: ks | H148: 66 | J148: =ROUND(I148*H148,3) -> 0 | N148: znížená | P148: =O148*H148 -> 0 | Q148: 0.023 | R148: =Q148*H148 -> 1.518 | S148: 0 | T148: =S148*H148 -> 0 | AR148: 8 | AT148: M | AU148: 2 | AY148: ROZPOCET | BE148: =IF(N148="základná",J148,0) -> 0 | BF148: =IF(N148="znížená",J148,0) -> 0 | BG148: =IF(N148="zákl. prenesená",J148,0) -> 0 | BH148: =IF(N148="zníž. prenesená",J148,0) -> 0 | BI148: =IF(N148="nulová",J148,0) -> 0 | BJ148: 2 | BK148: =ROUND(I148*H148,3) -> 0 | BL148: 4 | BM148: 100652834
C149: 12 | D149: K | E149: 918101112.S | F149: Lôžko pod obrubníky, krajníky alebo obruby z dlažobných kociek z betónu prostého tr. C 16/20 | G149: m3 | H149: 1.32 | J149: =ROUND(I149*H149,3) -> 0 | N149: znížená | P149: =O149*H149 -> 0 | Q149: 2.21513 | R149: =Q149*H149 -> 2.9239716 | S149: 0 | T149: =S149*H149 -> 0 | AR149: 4 | AT149: K | AU149: 2 | AY149: ROZPOCET | BE149: =IF(N149="základná",J149,0) -> 0 | BF149: =IF(N149="znížená",J149,0) -> 0 | BG149: =IF(N149="zákl. prenesená",J149,0) -> 0 | BH149: =IF(N149="zníž. prenesená",J149,0) -> 0 | BI149: =IF(N149="nulová",J149,0) -> 0 | BJ149: 2 | BK149: =ROUND(I149*H149,3) -> 0 | BL149: 4 | BM149: 2040805942
C150: 13 | D150: K | E150: 938909311.S | F150: Odstránenie blata, prachu alebo hlineného nánosu, z povrchu podkladu alebo krytu bet. alebo asfalt. | G150: m2 | H150: 160 | J150: =ROUND(I150*H150,3) -> 0 | N150: znížená | P150: =O150*H150 -> 0 | Q150: 0 | R150: =Q150*H150 -> 0 | S150: 0 | T150: =S150*H150 -> 0 | AR150: 4 | AT150: K | AU150: 2 | AY150: ROZPOCET | BE150: =IF(N150="základná",J150,0) -> 0 | BF150: =IF(N150="znížená",J150,0) -> 0 | BG150: =IF(N150="zákl. prenesená",J150,0) -> 0 | BH150: =IF(N150="zníž. prenesená",J150,0) -> 0 | BI150: =IF(N150="nulová",J150,0) -> 0 | BJ150: 2 | BK150: =ROUND(I150*H150,3) -> 0 | BL150: 4 | BM150: -310085603
C151: 14 | D151: K | E151: 979084215.S | F151: Vodorovná doprava vybúraných hmôt po suchu bez naloženia, ale so zložením na vzdialenosť do 3 km | G151: t | H151: 34.82 | J151: =ROUND(I151*H151,3) -> 0 | N151: znížená | P151: =O151*H151 -> 0 | Q151: 0 | R151: =Q151*H151 -> 0 | S151: 0 | T151: =S151*H151 -> 0 | AR151: 4 | AT151: K | AU151: 2 | AY151: ROZPOCET | BE151: =IF(N151="základná",J151,0) -> 0 | BF151: =IF(N151="znížená",J151,0) -> 0 | BG151: =IF(N151="zákl. prenesená",J151,0) -> 0 | BH151: =IF(N151="zníž. prenesená",J151,0) -> 0 | BI151: =IF(N151="nulová",J151,0) -> 0 | BJ151: 2 | BK151: =ROUND(I151*H151,3) -> 0 | BL151: 4 | BM151: -211347672
C152: 15 | D152: K | E152: 979087212.S | F152: Nakladanie na dopravné prostriedky pre vodorovnú dopravu sutiny | G152: t | H152: 34.82 | J152: =ROUND(I152*H152,3) -> 0 | N152: znížená | P152: =O152*H152 -> 0 | Q152: 0 | R152: =Q152*H152 -> 0 | S152: 0 | T152: =S152*H152 -> 0 | AR152: 4 | AT152: K | AU152: 2 | AY152: ROZPOCET | BE152: =IF(N152="základná",J152,0) -> 0 | BF152: =IF(N152="znížená",J152,0) -> 0 | BG152: =IF(N152="zákl. prenesená",J152,0) -> 0 | BH152: =IF(N152="zníž. prenesená",J152,0) -> 0 | BI152: =IF(N152="nulová",J152,0) -> 0 | BJ152: 2 | BK152: =ROUND(I152*H152,3) -> 0 | BL152: 4 | BM152: -1432619928
C153: 16 | D153: K | E153: 979089212.S | F153: Poplatok za skladovanie - bitúmenové zmesi, uholný decht, dechtové výrobky (17 03 ), ostatné | G153: t | H153: 34.82 | J153: =ROUND(I153*H153,3) -> 0 | N153: znížená | P153: =O153*H153 -> 0 | Q153: 0 | R153: =Q153*H153 -> 0 | S153: 0 | T153: =S153*H153 -> 0 | AR153: 4 | AT153: K | AU153: 2 | AY153: ROZPOCET | BE153: =IF(N153="základná",J153,0) -> 0 | BF153: =IF(N153="znížená",J153,0) -> 0 | BG153: =IF(N153="zákl. prenesená",J153,0) -> 0 | BH153: =IF(N153="zníž. prenesená",J153,0) -> 0 | BI153: =IF(N153="nulová",J153,0) -> 0 | BJ153: 2 | BK153: =ROUND(I153*H153,3) -> 0 | BL153: 4 | BM153: 107998759
D154: D | E154: 99 | F154: Presun hmôt HSV | J154: =BK154 -> 0 | P154: =P155 -> 0 | R154: =R155 -> 0 | T154: =T155 -> 0 | AR154: 1 | AT154: D | AU154: 1 | AY154: ROZPOCET | BK154: =BK155 -> 0
C155: 17 | D155: K | E155: 998225111.S | F155: Presun hmôt pre pozemnú komunikáciu a letisko s krytom asfaltovým akejkoľvek dĺžky objektu | G155: t | H155: 45.071 | J155: =ROUND(I155*H155,3) -> 0 | N155: znížená | P155: =O155*H155 -> 0 | Q155: 0 | R155: =Q155*H155 -> 0 | S155: 0 | T155: =S155*H155 -> 0 | AR155: 4 | AT155: K | AU155: 2 | AY155: ROZPOCET | BE155: =IF(N155="základná",J155,0) -> 0 | BF155: =IF(N155="znížená",J155,0) -> 0 | BG155: =IF(N155="zákl. prenesená",J155,0) -> 0 | BH155: =IF(N155="zníž. prenesená",J155,0) -> 0 | BI155: =IF(N155="nulová",J155,0) -> 0 | BJ155: 2 | BK155: =ROUND(I155*H155,3) -> 0 | BL155: 4 | BM155: 714941160

Sheet 05 - Ulica Košicka -  cho...
L2: >> skryté stĺpce << | AT2: {68788ed5-887a-47f4-a43a-d0e665232533}
AT3: 0
D4: KRYCÍ LIST ROZPOČTU | M4: v --- nižšie sa nachádzajú doplnkové a pomocné údaje k zostavám --- v | AT4: False
D6: Stavba:
E7: ='Rekapitulácia stavby'!K6 -> Rekonštrukcia mestských chodníkov a spevnených plôch
D8: Objekt:
E9: 05 - Ulica Košicka - chodnik od ulice Športovej po ulicu Parkovú (plocha 176m2)
D11: JKSO: | I11: KS:
D12: Miesto: | F12: Trebišov | I12: Dátum: | J12: ='Rekapitulácia stavby'!AN8 -> 13. 8. 2020
D14: Objednávateľ: | I14: IČO:
E15: Mesto Trebišov | I15: IČ DPH:
D17: Zhotoviteľ: | I17: IČO: | J17: ='Rekapitulácia stavby'!AN13 -> Vyplň údaj
E18: ='Rekapitulácia stavby'!E14 -> Vyplň údaj | I18: IČ DPH: | J18: ='Rekapitulácia stavby'!AN14 -> Vyplň údaj
D20: Projektant: | I20: IČO: | J20: =IF('Rekapitulácia stavby'!AN16="","",'Rekapitulácia stavby'!AN16)
E21: =IF('Rekapitulácia stavby'!E17="","",'Rekapitulácia stavby'!E17) | I21: IČ DPH: | J21: =IF('Rekapitulácia stavby'!AN17="","",'Rekapitulácia stavby'!AN17)
D23: Spracovateľ: | I23: IČO: | J23: =IF('Rekapitulácia stavby'!AN19="","",'Rekapitulácia stavby'!AN19)
E24: =IF('Rekapitulácia stavby'!E20="","",'Rekapitulácia stavby'!E20) | I24: IČ DPH: | J24: =IF('Rekapitulácia stavby'!AN20="","",'Rekapitulácia stavby'!AN20)
D26: Poznámka:
D30: Náklady z rozpočtu | J30: =J96 -> 0
D31: Ostatné náklady | J31: =J104 -> 0
D32: Cena bez DPH | J32: =ROUND(J30 + J31, 2) -> 0
F34: Základ dane | I34: Sadzba dane | J34: Výška dane
D35: DPH | E35: základná | F35: =ROUND((SUM(BE104:BE111) + SUM(BE131:BE146)), 2) -> 0 | I35: 0.2 | J35: =ROUND(((SUM(BE104:BE111) + SUM(BE131:BE146))*I35), 2) -> 0
E36: znížená | F36: =ROUND((SUM(BF104:BF111) + SUM(BF131:BF146)), 2) -> 0 | I36: 0.2 | J36: =ROUND(((SUM(BF104:BF111) + SUM(BF131:BF146))*I36), 2) -> 0
E37: zákl. prenesená | F37: =ROUND((SUM(BG104:BG111) + SUM(BG131:BG146)), 2) -> 0 | I37: 0.2 | J37: =0 -> 0
E38: zníž. prenesená | F38: =ROUND((SUM(BH104:BH111) + SUM(BH131:BH146)), 2) -> 0 | I38: 0.2 | J38: =0 -> 0
E39: nulová | F39: =ROUND((SUM(BI104:BI111) + SUM(BI131:BI146)), 2) -> 0 | I39: 0 | J39: =0 -> 0
D41: Cena s DPH | G41: v | H41: EUR | J41: =SUM(J32:J39) -> 0
D50: Projektant | G50: Spracovateľ
D61: Dátum a podpis: | F61: Pečiatka | G61: Dátum a podpis: | J61: Pečiatka
D65: Objednávateľ | G65: Zhotoviteľ
D76: Dátum a podpis: | F76: Pečiatka | G76: Dátum a podpis: | J76: Pečiatka
C82: REKAPITULÁCIA ROZPOČTU
C84: Stavba:
E85: =E7 -> Rekonštrukcia mestských chodníkov a spevnených plôch
C86: Objekt:
E87: =E9 -> 05 - Ulica Košicka - chodnik od ulice Športovej po ulicu Parkovú (plocha 176m2)
C89: Miesto: | F89: =F12 -> Trebišov | I89: Dátum: | J89: =IF(J12="","",J12) -> 13. 8. 2020
C91: Objednávateľ: | F91: =E15 -> Mesto Trebišov | I91: Projektant: | J91: =E21
C92: Zhotoviteľ: | F92: =IF(E18="","",E18) -> Vyplň údaj | I92: Spracovateľ: | J92: =E24
C94: Kód dielu - Popis | J94: Cena celkom [EUR]
C96: 1) Náklady z rozpočtu | J96: =J131 -> 0 | AU96: -1
D97: HSV - Práce a dodávky HSV | J97: =J132 -> 0
D98: 1 - Zemné práce | J98: =J133 -> 0
D99: 5 - Komunikácie | J99: =J135 -> 0
D100: 9 - Ostatné konštrukcie a práce-búranie | J100: =J140 -> 0
D101: 99 - Presun hmôt HSV | J101: =J145 -> 0
C104: 2) Ostatné náklady | J104: =ROUND(J105 + J106 + J107 + J108 + J109 + J110,2) -> 0 | N104: DPH
D105: Zariad. staveniska | J105: 0 | N105: znížená | AY105: VRN | BE105: =IF(N105="základná",J105,0) -> 0 | BF105: =IF(N105="znížená",J105,0) -> 0 | BG105: =IF(N105="zákl. prenesená",J105,0) -> 0 | BH105: =IF(N105="zníž. prenesená",J105,0) -> 0 | BI105: =IF(N105="nulová",J105,0) -> 0 | BJ105: 2
D106: Mimostav. doprava | J106: 0 | N106: znížená | AY106: VRN | BE106: =IF(N106="základná",J106,0) -> 0 | BF106: =IF(N106="znížená",J106,0) -> 0 | BG106: =IF(N106="zákl. prenesená",J106,0) -> 0 | BH106: =IF(N106="zníž. prenesená",J106,0) -> 0 | BI106: =IF(N106="nulová",J106,0) -> 0 | BJ106: 2
D107: Územné vplyvy | J107: 0 | N107: znížená | AY107: VRN | BE107: =IF(N107="základná",J107,0) -> 0 | BF107: =IF(N107="znížená",J107,0) -> 0 | BG107: =IF(N107="zákl. prenesená",J107,0) -> 0 | BH107: =IF(N107="zníž. prenesená",J107,0) -> 0 | BI107: =IF(N107="nulová",J107,0) -> 0 | BJ107: 2
D108: Prevádzkové vplyvy | J108: 0 | N108: znížená | AY108: VRN | BE108: =IF(N108="základná",J108,0) -> 0 | BF108: =IF(N108="znížená",J108,0) -> 0 | BG108: =IF(N108="zákl. prenesená",J108,0) -> 0 | BH108: =IF(N108="zníž. prenesená",J108,0) -> 0 | BI108: =IF(N108="nulová",J108,0) -> 0 | BJ108: 2
D109: Ostatné | J109: 0 | N109: znížená | AY109: VRN | BE109: =IF(N109="základná",J109,0) -> 0 | BF109: =IF(N109="znížená",J109,0) -> 0 | BG109: =IF(N109="zákl. prenesená",J109,0) -> 0 | BH109: =IF(N109="zníž. prenesená",J109,0) -> 0 | BI109: =IF(N109="nulová",J109,0) -> 0 | BJ109: 2
D110: Kompletačná činnosť | J110: =ROUND(J30*T110,2) -> 0 | N110: znížená | AY110: KOMPLETACNA | BE110: =IF(N110="základná",J110,0) -> 0 | BF110: =IF(N110="znížená",J110,0) -> 0 | BG110: =IF(N110="zákl. prenesená",J110,0) -> 0 | BH110: =IF(N110="zníž. prenesená",J110,0) -> 0 | BI110: =IF(N110="nulová",J110,0) -> 0 | BJ110: 2
C112: Celkové náklady za stavbu 1) + 2) | J112: =ROUND(J96+J104,2) -> 0
C118: ROZPOČET
C120: Stavba:
E121: =E7 -> Rekonštrukcia mestských chodníkov a spevnených plôch
C122: Objekt:
E123: =E9 -> 05 - Ulica Košicka - chodnik od ulice Športovej po ulicu Parkovú (plocha 176m2)
C125: Miesto: | F125: =F12 -> Trebišov | I125: Dátum: | J125: =IF(J12="","",J12) -> 13. 8. 2020
C127: Objednávateľ: | F127: =E15 -> Mesto Trebišov | I127: Projektant: | J127: =E21
C128: Zhotoviteľ: | F128: =IF(E18="","",E18) -> Vyplň údaj | I128: Spracovateľ: | J128: =E24
C130: PČ | D130: Typ | E130: Kód | F130: Popis | G130: MJ | H130: Množstvo | I130: J.cena [EUR] | J130: Cena celkom [EUR] | K130: Cenová sústava | N130: DPH | O130: J. Nh [h] | P130: Nh celkom [h] | Q130: J. hmotnosť [t] | R130: Hmotnosť celkom [t] | S130: J. suť [t] | T130: Suť Celkom [t]
C131: Náklady z rozpočtu | J131: =BK131 -> 0 | P131: =P132 -> 0 | R131: =R132 -> 26.78954 | T131: =T132 -> 16.072 | AT131: D | AU131: -1 | BK131: =BK132 -> 0
D132: D | E132: HSV | F132: Práce a dodávky HSV | J132: =BK132 -> 0 | P132: =P133+P135+P140+P145 -> 0 | R132: =R133+R135+R140+R145 -> 26.78954 | T132: =T133+T135+T140+T145 -> 16.072 | AR132: 1 | AT132: D | AU132: 0 | AY132: ROZPOCET | BK132: =BK133+BK135+BK140+BK145 -> 0
D133: D | E133: 1 | F133: Zemné práce | J133: =BK133 -> 0 | P133: =P134 -> 0 | R133: =R134 -> 0 | T133: =T134 -> 16.072 | AR133: 1 | AT133: D | AU133: 1 | AY133: ROZPOCET | BK133: =BK134 -> 0
C134: 1 | D134: K | E134: 113107141.S | F134: Odstránenie krytu v ploche do 200 m2 asfaltového, hr. vrstvy do 50 mm, -0,09800t | G134: m2 | H134: 164 | J134: =ROUND(I134*H134,3) -> 0 | N134: znížená | P134: =O134*H134 -> 0 | Q134: 0 | R134: =Q134*H134 -> 0 | S134: 0.098 | T134: =S134*H134 -> 16.072 | AR134: 4 | AT134: K | AU134: 2 | AY134: ROZPOCET | BE134: =IF(N134="základná",J134,0) -> 0 | BF134: =IF(N134="znížená",J134,0) -> 0 | BG134: =IF(N134="zákl. prenesená",J134,0) -> 0 | BH134: =IF(N134="zníž. prenesená",J134,0) -> 0 | BI134: =IF(N134="nulová",J134,0) -> 0 | BJ134: 2 | BK134: =ROUND(I134*H134,3) -> 0 | BL134: 4 | BM134: 1390724994
D135: D | E135: 5 | F135: Komunikácie | J135: =BK135 -> 0 | P135: =SUM(P136:P139) -> 0 | R135: =SUM(R136:R139) -> 26.78954 | T135: =SUM(T136:T139) -> 0 | AR135: 1 | AT135: D | AU135: 1 | AY135: ROZPOCET | BK135: =SUM(BK136:BK139) -> 0
C136: 2 | D136: K | E136: 566902161.S | F136: Vyspravenie podkladu po prekopoch inžinierskych sietí plochy do 15 m2 podkladovým betónom PB I tr. C 20/25 hr. 40 mm | G136: m2 | H136: 6 | J136: =ROUND(I136*H136,3) -> 0 | N136: znížená | P136: =O136*H136 -> 0 | Q136: 0.22763 | R136: =Q136*H136 -> 1.36578 | S136: 0 | T136: =S136*H136 -> 0 | AR136: 4 | AT136: K | AU136: 2 | AY136: ROZPOCET | BE136: =IF(N136="základná",J136,0) -> 0 | BF136: =IF(N136="znížená",J136,0) -> 0 | BG136: =IF(N136="zákl. prenesená",J136,0) -> 0 | BH136: =IF(N136="zníž. prenesená",J136,0) -> 0 | BI136: =IF(N136="nulová",J136,0) -> 0 | BJ136: 2 | BK136: =ROUND(I136*H136,3) -> 0 | BL136: 4 | BM136: -442872391
C137: 3 | D137: K | E137: 572754111.S | F137: Vyrovnanie povrchu doterajších krytov asfaltovým betónom AC hr. od 20 do 40 mm | G137: m2 | H137: 68 | J137: =ROUND(I137*H137,3) -> 0 | N137: znížená | P137: =O137*H137 -> 0 | Q137: 0.10434 | R137: =Q137*H137 -> 7.09512 | S137: 0 | T137: =S137*H137 -> 0 | AR137: 4 | AT137: K | AU137: 2 | AY137: ROZPOCET | BE137: =IF(N137="základná",J137,0) -> 0 | BF137: =IF(N137="znížená",J137,0) -> 0 | BG137: =IF(N137="zákl. prenesená",J137,0) -> 0 | BH137: =IF(N137="zníž. prenesená",J137,0) -> 0 | BI137: =IF(N137="nulová",J137,0) -> 0 | BJ137: 2 | BK137: =ROUND(I137*H137,3) -> 0 | BL137: 4 | BM137: 226146162
C138: 4 | D138: K | E138: 573211107.S | F138: Postrek asfaltový spojovací bez posypu kamenivom z asfaltu cestného v množstve 0,40 kg/m2 | G138: m2 | H138: 176 | J138: =ROUND(I138*H138,3) -> 0 | N138: znížená | P138: =O138*H138 -> 0 | Q138: 0.00041 | R138: =Q138*H138 -> 0.07216 | S138: 0 | T138: =S138*H138 -> 0 | AR138: 4 | AT138: K | AU138: 2 | AY138: ROZPOCET | BE138: =IF(N138="základná",J138,0) -> 0 | BF138: =IF(N138="znížená",J138,0) -> 0 | BG138: =IF(N138="zákl. prenesená",J138,0) -> 0 | BH138: =IF(N138="zníž. prenesená",J138,0) -> 0 | BI138: =IF(N138="nulová",J138,0) -> 0 | BJ138: 2 | BK138: =ROUND(I138*H138,3) -> 0 | BL138: 4 | BM138: 231872487
C139: 5 | D139: K | E139: 577134111.S | F139: Asfaltový betón vrstva obrusná AC 8 O v pruhu š. do 3 m z nemodifik. asfaltu tr. II, po zhutnení hr. 40 mm | G139: m2 | H139: 176 | J139: =ROUND(I139*H139,3) -> 0 | N139: znížená | P139: =O139*H139 -> 0 | Q139: 0.10373 | R139: =Q139*H139 -> 18.25648 | S139: 0 | T139: =S139*H139 -> 0 | AR139: 4 | AT139: K | AU139: 2 | AY139: ROZPOCET | BE139: =IF(N139="základná",J139,0) -> 0 | BF139: =IF(N139="znížená",J139,0) -> 0 | BG139: =IF(N139="zákl. prenesená",J139,0) -> 0 | BH139: =IF(N139="zníž. prenesená",J139,0) -> 0 | BI139: =IF(N139="nulová",J139,0) -> 0 | BJ139: 2 | BK139: =ROUND(I139*H139,3) -> 0 | BL139: 4 | BM139: -609935026
D140: D | E140: 9 | F140: Ostatné konštrukcie a práce-búranie | J140: =BK140 -> 0 | P140: =SUM(P141:P144) -> 0 | R140: =SUM(R141:R144) -> 0 | T140: =SUM(T141:T144) -> 0 | AR140: 1 | AT140: D | AU140: 1 | AY140: ROZPOCET | BK140: =SUM(BK141:BK144) -> 0
C141: 6 | D141: K | E141: 938909311.S | F141: Odstránenie blata, prachu alebo hlineného nánosu, z povrchu podkladu alebo krytu bet. alebo asfalt. | G141: m2 | H141: 176 | J141: =ROUND(I141*H141,3) -> 0 | N141: znížená | P141: =O141*H141 -> 0 | Q141: 0 | R141: =Q141*H141 -> 0 | S141: 0 | T141: =S141*H141 -> 0 | AR141: 4 | AT141: K | AU141: 2 | AY141: ROZPOCET | BE141: =IF(N141="základná",J141,0) -> 0 | BF141: =IF(N141="znížená",J141,0) -> 0 | BG141: =IF(N141="zákl. prenesená",J141,0) -> 0 | BH141: =IF(N141="zníž. prenesená",J141,0) -> 0 | BI141: =IF(N141="nulová",J141,0) -> 0 | BJ141: 2 | BK141: =ROUND(I141*H141,3) -> 0 | BL141: 4 | BM141: -310085603
C142: 7 | D142: K | E142: 979084215.S | F142: Vodorovná doprava vybúraných hmôt po suchu bez naloženia, ale so zložením na vzdialenosť do 3 km | G142: t | H142: 16.072 | J142: =ROUND(I142*H142,3) -> 0 | N142: znížená | P142: =O142*H142 -> 0 | Q142: 0 | R142: =Q142*H142 -> 0 | S142: 0 | T142: =S142*H142 -> 0 | AR142: 4 | AT142: K | AU142: 2 | AY142: ROZPOCET | BE142: =IF(N142="základná",J142,0) -> 0 | BF142: =IF(N142="znížená",J142,0) -> 0 | BG142: =IF(N142="zákl. prenesená",J142,0) -> 0 | BH142: =IF(N142="zníž. prenesená",J142,0) -> 0 | BI142: =IF(N142="nulová",J142,0) -> 0 | BJ142: 2 | BK142: =ROUND(I142*H142,3) -> 0 | BL142: 4 | BM142: -1565565160
C143: 8 | D143: K | E143: 979087212.S | F143: Nakladanie na dopravné prostriedky pre vodorovnú dopravu sutiny | G143: t | H143: 16.072 | J143: =ROUND(I143*H143,3) -> 0 | N143: znížená | P143: =O143*H143 -> 0 | Q143: 0 | R143: =Q143*H143 -> 0 | S143: 0 | T143: =S143*H143 -> 0 | AR143: 4 | AT143: K | AU143: 2 | AY143: ROZPOCET | BE143: =IF(N143="základná",J143,0) -> 0 | BF143: =IF(N143="znížená",J143,0) -> 0 | BG143: =IF(N143="zákl. prenesená",J143,0) -> 0 | BH143: =IF(N143="zníž. prenesená",J143,0) -> 0 | BI143: =IF(N143="nulová",J143,0) -> 0 | BJ143: 2 | BK143: =ROUND(I143*H143,3) -> 0 | BL143: 4 | BM143: -671434828
C144: 9 | D144: K | E144: 979089212.S | F144: Poplatok za skladovanie - bitúmenové zmesi, uholný decht, dechtové výrobky (17 03 ), ostatné | G144: t | H144: 16.072 | J144: =ROUND(I144*H144,3) -> 0 | N144: znížená | P144: =O144*H144 -> 0 | Q144: 0 | R144: =Q144*H144 -> 0 | S144: 0 | T144: =S144*H144 -> 0 | AR144: 4 | AT144: K | AU144: 2 | AY144: ROZPOCET | BE144: =IF(N144="základná",J144,0) -> 0 | BF144: =IF(N144="znížená",J144,0) -> 0 | BG144: =IF(N144="zákl. prenesená",J144,0) -> 0 | BH144: =IF(N144="zníž. prenesená",J144,0) -> 0 | BI144: =IF(N144="nulová",J144,0) -> 0 | BJ144: 2 | BK144: =ROUND(I144*H144,3) -> 0 | BL144: 4 | BM144: -669420999
D145: D | E145: 99 | F145: Presun hmôt HSV | J145: =BK145 -> 0 | P145: =P146 -> 0 | R145: =R146 -> 0 | T145: =T146 -> 0 | AR145: 1 | AT145: D | AU145: 1 | AY145: ROZPOCET | BK145: =BK146 -> 0
C146: 10 | D146: K | E146: 998225111.S | F146: Presun hmôt pre pozemnú komunikáciu a letisko s krytom asfaltovým akejkoľvek dĺžky objektu | G146: t | H146: 26.79 | J146: =ROUND(I146*H146,3) -> 0 | N146: znížená | P146: =O146*H146 -> 0 | Q146: 0 | R146: =Q146*H146 -> 0 | S146: 0 | T146: =S146*H146 -> 0 | AR146: 4 | AT146: K | AU146: 2 | AY146: ROZPOCET | BE146: =IF(N146="základná",J146,0) -> 0 | BF146: =IF(N146="znížená",J146,0) -> 0 | BG146: =IF(N146="zákl. prenesená",J146,0) -> 0 | BH146: =IF(N146="zníž. prenesená",J146,0) -> 0 | BI146: =IF(N146="nulová",J146,0) -> 0 | BJ146: 2 | BK146: =ROUND(I146*H146,3) -> 0 | BL146: 4 | BM146: 714941160

Sheet 06 - Ulica Parkova -  cho...
L2: >> skryté stĺpce << | AT2: {b04c22df-1934-43a1-8c4b-1c8050c7de89}
AT3: 0
D4: KRYCÍ LIST ROZPOČTU | M4: v --- nižšie sa nachádzajú doplnkové a pomocné údaje k zostavám --- v | AT4: False
D6: Stavba:
E7: ='Rekapitulácia stavby'!K6 -> Rekonštrukcia mestských chodníkov a spevnených plôch
D8: Objekt:
E9: 06 - Ulica Parkova - chodnik od ulice Košickej po ulicu Lúčnu ( plocha 118m2)
D11: JKSO: | I11: KS:
D12: Miesto: | F12: Trebišov | I12: Dátum: | J12: ='Rekapitulácia stavby'!AN8 -> 13. 8. 2020
D14: Objednávateľ: | I14: IČO:
E15: Mesto Trebišov | I15: IČ DPH:
D17: Zhotoviteľ: | I17: IČO: | J17: ='Rekapitulácia stavby'!AN13 -> Vyplň údaj
E18: ='Rekapitulácia stavby'!E14 -> Vyplň údaj | I18: IČ DPH: | J18: ='Rekapitulácia stavby'!AN14 -> Vyplň údaj
D20: Projektant: | I20: IČO: | J20: =IF('Rekapitulácia stavby'!AN16="","",'Rekapitulácia stavby'!AN16)
E21: =IF('Rekapitulácia stavby'!E17="","",'Rekapitulácia stavby'!E17) | I21: IČ DPH: | J21: =IF('Rekapitulácia stavby'!AN17="","",'Rekapitulácia stavby'!AN17)
D23: Spracovateľ: | I23: IČO: | J23: =IF('Rekapitulácia stavby'!AN19="","",'Rekapitulácia stavby'!AN19)
E24: =IF('Rekapitulácia stavby'!E20="","",'Rekapitulácia stavby'!E20) | I24: IČ DPH: | J24: =IF('Rekapitulácia stavby'!AN20="","",'Rekapitulácia stavby'!AN20)
D26: Poznámka:
D30: Náklady z rozpočtu | J30: =J96 -> 0
D31: Ostatné náklady | J31: =J105 -> 0
D32: Cena bez DPH | J32: =ROUND(J30 + J31, 2) -> 0
F34: Základ dane | I34: Sadzba dane | J34: Výška dane
D35: DPH | E35: základná | F35: =ROUND((SUM(BE105:BE112) + SUM(BE132:BE158)), 2) -> 0 | I35: 0.2 | J35: =ROUND(((SUM(BE105:BE112) + SUM(BE132:BE158))*I35), 2) -> 0
E36: znížená | F36: =ROUND((SUM(BF105:BF112) + SUM(BF132:BF158)), 2) -> 0 | I36: 0.2 | J36: =ROUND(((SUM(BF105:BF112) + SUM(BF132:BF158))*I36), 2) -> 0
E37: zákl. prenesená | F37: =ROUND((SUM(BG105:BG112) + SUM(BG132:BG158)), 2) -> 0 | I37: 0.2 | J37: =0 -> 0
E38: zníž. prenesená | F38: =ROUND((SUM(BH105:BH112) + SUM(BH132:BH158)), 2) -> 0 | I38: 0.2 | J38: =0 -> 0
E39: nulová | F39: =ROUND((SUM(BI105:BI112) + SUM(BI132:BI158)), 2) -> 0 | I39: 0 | J39: =0 -> 0
D41: Cena s DPH | G41: v | H41: EUR | J41: =SUM(J32:J39) -> 0
D50: Projektant | G50: Spracovateľ
D61: Dátum a podpis: | F61: Pečiatka | G61: Dátum a podpis: | J61: Pečiatka
D65: Objednávateľ | G65: Zhotoviteľ
D76: Dátum a podpis: | F76: Pečiatka | G76: Dátum a podpis: | J76: Pečiatka
C82: REKAPITULÁCIA ROZPOČTU
C84: Stavba:
E85: =E7 -> Rekonštrukcia mestských chodníkov a spevnených plôch
C86: Objekt:
E87: =E9 -> 06 - Ulica Parkova - chodnik od ulice Košickej po ulicu Lúčnu ( plocha 118m2)
C89: Miesto: | F89: =F12 -> Trebišov | I89: Dátum: | J89: =IF(J12="","",J12) -> 13. 8. 2020
C91: Objednávateľ: | F91: =E15 -> Mesto Trebišov | I91: Projektant: | J91: =E21
C92: Zhotoviteľ: | F92: =IF(E18="","",E18) -> Vyplň údaj | I92: Spracovateľ: | J92: =E24
C94: Kód dielu - Popis | J94: Cena celkom [EUR]
C96: 1) Náklady z rozpočtu | J96: =J132 -> 0 | AU96: -1
D97: HSV - Práce a dodávky HSV | J97: =J133 -> 0
D98: 1 - Zemné práce | J98: =J134 -> 0
D99: 2 - Zakladanie | J99: =J139 -> 0
D100: 5 - Komunikácie | J100: =J141 -> 0
D101: 9 - Ostatné konštrukcie a práce-búranie | J101: =J148 -> 0
D102: 99 - Presun hmôt HSV | J102: =J157 -> 0
C105: 2) Ostatné náklady | J105: =ROUND(J106 + J107 + J108 + J109 + J110 + J111,2) -> 0 | N105: DPH
D106: Zariad. staveniska | J106: 0 | N106: znížená | AY106: VRN | BE106: =IF(N106="základná",J106,0) -> 0 | BF106: =IF(N106="znížená",J106,0) -> 0 | BG106: =IF(N106="zákl. prenesená",J106,0) -> 0 | BH106: =IF(N106="zníž. prenesená",J106,0) -> 0 | BI106: =IF(N106="nulová",J106,0) -> 0 | BJ106: 2
D107: Mimostav. doprava | J107: 0 | N107: znížená | AY107: VRN | BE107: =IF(N107="základná",J107,0) -> 0 | BF107: =IF(N107="znížená",J107,0) -> 0 | BG107: =IF(N107="zákl. prenesená",J107,0) -> 0 | BH107: =IF(N107="zníž. prenesená",J107,0) -> 0 | BI107: =IF(N107="nulová",J107,0) -> 0 | BJ107: 2
D108: Územné vplyvy | J108: 0 | N108: znížená | AY108: VRN | BE108: =IF(N108="základná",J108,0) -> 0 | BF108: =IF(N108="znížená",J108,0) -> 0 | BG108: =IF(N108="zákl. prenesená",J108,0) -> 0 | BH108: =IF(N108="zníž. prenesená",J108,0) -> 0 | BI108: =IF(N108="nulová",J108,0) -> 0 | BJ108: 2
D109: Prevádzkové vplyvy | J109: 0 | N109: znížená | AY109: VRN | BE109: =IF(N109="základná",J109,0) -> 0 | BF109: =IF(N109="znížená",J109,0) -> 0 | BG109: =IF(N109="zákl. prenesená",J109,0) -> 0 | BH109: =IF(N109="zníž. prenesená",J109,0) -> 0 | BI109: =IF(N109="nulová",J109,0) -> 0 | BJ109: 2
D110: Ostatné | J110: 0 | N110: znížená | AY110: VRN | BE110: =IF(N110="základná",J110,0) -> 0 | BF110: =IF(N110="znížená",J110,0) -> 0 | BG110: =IF(N110="zákl. prenesená",J110,0) -> 0 | BH110: =IF(N110="zníž. prenesená",J110,0) -> 0 | BI110: =IF(N110="nulová",J110,0) -> 0 | BJ110: 2
D111: Kompletačná činnosť | J111: =ROUND(J30*T111,2) -> 0 | N111: znížená | AY111: KOMPLETACNA | BE111: =IF(N111="základná",J111,0) -> 0 | BF111: =IF(N111="znížená",J111,0) -> 0 | BG111: =IF(N111="zákl. prenesená",J111,0) -> 0 | BH111: =IF(N111="zníž. prenesená",J111,0) -> 0 | BI111: =IF(N111="nulová",J111,0) -> 0 | BJ111: 2
C113: Celkové náklady za stavbu 1) + 2) | J113: =ROUND(J96+J105,2) -> 0
C119: ROZPOČET
C121: Stavba:
E122: =E7 -> Rekonštrukcia mestských chodníkov a spevnených plôch
C123: Objekt:
E124: =E9 -> 06 - Ulica Parkova - chodnik od ulice Košickej po ulicu Lúčnu ( plocha 118m2)
C126: Miesto: | F126: =F12 -> Trebišov | I126: Dátum: | J126: =IF(J12="","",J12) -> 13. 8. 2020
C128: Objednávateľ: | F128: =E15 -> Mesto Trebišov | I128: Projektant: | J128: =E21
C129: Zhotoviteľ: | F129: =IF(E18="","",E18) -> Vyplň údaj | I129: Spracovateľ: | J129: =E24
C131: PČ | D131: Typ | E131: Kód | F131: Popis | G131: MJ | H131: Množstvo | I131: J.cena [EUR] | J131: Cena celkom [EUR] | K131: Cenová sústava | N131: DPH | O131: J. Nh [h] | P131: Nh celkom [h] | Q131: J. hmotnosť [t] | R131: Hmotnosť celkom [t] | S131: J. suť [t] | T131: Suť Celkom [t]
C132: Náklady z rozpočtu | J132: =BK132 -> 0 | P132: =P133 -> 0 | R132: =R133 -> 14.015227 | T132: =T133 -> 3.802 | AT132: D | AU132: -1 | BK132: =BK133 -> 0
D133: D | E133: HSV | F133: Práce a dodávky HSV | J133: =BK133 -> 0 | P133: =P134+P139+P141+P148+P157 -> 0 | R133: =R134+R139+R141+R148+R157 -> 14.015227 | T133: =T134+T139+T141+T148+T157 -> 3.802 | AR133: 1 | AT133: D | AU133: 0 | AY133: ROZPOCET | BK133: =BK134+BK139+BK141+BK148+BK157 -> 0
D134: D | E134: 1 | F134: Zemné práce | J134: =BK134 -> 0 | P134: =SUM(P135:P138) -> 0 | R134: =SUM(R135:R138) -> 0.00072 | T134: =SUM(T135:T138) -> 3.802 | AR134: 1 | AT134: D | AU134: 1 | AY134: ROZPOCET | BK134: =SUM(BK135:BK138) -> 0
C135: 1 | D135: K | E135: 113107131.S | F135: Odstránenie krytu v ploche do 200 m2 z betónu prostého, hr. vrstvy do 150 mm, -0,22500t | G135: m2 | H135: 2.24 | J135: =ROUND(I135*H135,3) -> 0 | N135: znížená | P135: =O135*H135 -> 0 | Q135: 0 | R135: =Q135*H135 -> 0 | S135: 0.225 | T135: =S135*H135 -> 0.504 | AR135: 4 | AT135: K | AU135: 2 | AY135: ROZPOCET | BE135: =IF(N135="základná",J135,0) -> 0 | BF135: =IF(N135="znížená",J135,0) -> 0 | BG135: =IF(N135="zákl. prenesená",J135,0) -> 0 | BH135: =IF(N135="zníž. prenesená",J135,0) -> 0 | BI135: =IF(N135="nulová",J135,0) -> 0 | BJ135: 2 | BK135: =ROUND(I135*H135,3) -> 0 | BL135: 4 | BM135: -141880653
C136: 2 | D136: K | E136: 113107141.S | F136: Odstránenie krytu v ploche do 200 m2 asfaltového, hr. vrstvy do 50 mm, -0,09800t | G136: m2 | H136: 17 | J136: =ROUND(I136*H136,3) -> 0 | N136: znížená | P136: =O136*H136 -> 0 | Q136: 0 | R136: =Q136*H136 -> 0 | S136: 0.098 | T136: =S136*H136 -> 1.666 | AR136: 4 | AT136: K | AU136: 2 | AY136: ROZPOCET | BE136: =IF(N136="základná",J136,0) -> 0 | BF136: =IF(N136="znížená",J136,0) -> 0 | BG136: =IF(N136="zákl. prenesená",J136,0) -> 0 | BH136: =IF(N136="zníž. prenesená",J136,0) -> 0 | BI136: =IF(N136="nulová",J136,0) -> 0 | BJ136: 2 | BK136: =ROUND(I136*H136,3) -> 0 | BL136: 4 | BM136: 1390724994
C137: 3 | D137: K | E137: 113154130.S | F137: Frézovanie bet. podkladu alebo krytu bez prek., plochy do 500 m2, pruh š. do 0,5 m, hr. 50 mm 0,127 t | G137: m2 | H137: 6 | J137: =ROUND(I137*H137,3) -> 0 | N137: znížená | P137: =O137*H137 -> 0 | Q137: 0.00012 | R137: =Q137*H137 -> 0.00072 | S137: 0.127 | T137: =S137*H137 -> 0.762 | AR137: 4 | AT137: K | AU137: 2 | AY137: ROZPOCET | BE137: =IF(N137="základná",J137,0) -> 0 | BF137: =IF(N137="znížená",J137,0) -> 0 | BG137: =IF(N137="zákl. prenesená",J137,0) -> 0 | BH137: =IF(N137="zníž. prenesená",J137,0) -> 0 | BI137: =IF(N137="nulová",J137,0) -> 0 | BJ137: 2 | BK137: =ROUND(I137*H137,3) -> 0 | BL137: 4 | BM137: 1217510268
C138: 4 | D138: K | E138: 113205121.S | F138: Vytrhanie obrúb betónových, cestných ležatých, -0,29000t | G138: m | H138: 3 | J138: =ROUND(I138*H138,3) -> 0 | N138: znížená | P138: =O138*H138 -> 0 | Q138: 0 | R138: =Q138*H138 -> 0 | S138: 0.29 | T138: =S138*H138 -> 0.87 | AR138: 4 | AT138: K | AU138: 2 | AY138: ROZPOCET | BE138: =IF(N138="základná",J138,0) -> 0 | BF138: =IF(N138="znížená",J138,0) -> 0 | BG138: =IF(N138="zákl. prenesená",J138,0) -> 0 | BH138: =IF(N138="zníž. prenesená",J138,0) -> 0 | BI138: =IF(N138="nulová",J138,0) -> 0 | BJ138: 2 | BK138: =ROUND(I138*H138,3) -> 0 | BL138: 4 | BM138: 770638065
D139: D | E139: 2 | F139: Zakladanie | J139: =BK139 -> 0 | P139: =P140 -> 0 | R139: =R140 -> 0.1242 | T139: =T140 -> 0 | AR139: 1 | AT139: D | AU139: 1 | AY139: ROZPOCET | BK139: =BK140 -> 0
C140: 5 | D140: K | E140: 271573001.S | F140: Násyp pod obrubniky so zhutnením zo štrkopiesku fr.0-32 mm | G140: m3 | H140: 0.06 | J140: =ROUND(I140*H140,3) -> 0 | N140: znížená | P140: =O140*H140 -> 0 | Q140: 2.07 | R140: =Q140*H140 -> 0.1242 | S140: 0 | T140: =S140*H140 -> 0 | AR140: 4 | AT140: K | AU140: 2 | AY140: ROZPOCET | BE140: =IF(N140="základná",J140,0) -> 0 | BF140: =IF(N140="znížená",J140,0) -> 0 | BG140: =IF(N140="zákl. prenesená",J140,0) -> 0 | BH140: =IF(N140="zníž. prenesená",J140,0) -> 0 | BI140: =IF(N140="nulová",J140,0) -> 0 | BJ140: 2 | BK140: =ROUND(I140*H140,3) -> 0 | BL140: 4 | BM140: -290335980
D141: D | E141: 5 | F141: Komunikácie | J141: =BK141 -> 0 | P141: =SUM(P142:P147) -> 0 | R141: =SUM(R142:R147) -> 13.022249 | T141: =SUM(T142:T147) -> 0 | AR141: 1 | AT141: D | AU141: 1 | AY141: ROZPOCET | BK141: =SUM(BK142:BK147) -> 0
C142: 6 | D142: K | E142: 567114211.S | F142: Podklad z podkladového betónu PB II tr. C 16/20 hr. 100 mm | G142: m2 | H142: 2.24 | J142: =ROUND(I142*H142,3) -> 0 | N142: znížená | P142: =O142*H142 -> 0 | Q142: 0.22377 | R142: =Q142*H142 -> 0.5012448 | S142: 0 | T142: =S142*H142 -> 0 | AR142: 4 | AT142: K | AU142: 2 | AY142: ROZPOCET | BE142: =IF(N142="základná",J142,0) -> 0 | BF142: =IF(N142="znížená",J142,0) -> 0 | BG142: =IF(N142="zákl. prenesená",J142,0) -> 0 | BH142: =IF(N142="zníž. prenesená",J142,0) -> 0 | BI142: =IF(N142="nulová",J142,0) -> 0 | BJ142: 2 | BK142: =ROUND(I142*H142,3) -> 0 | BL142: 4 | BM142: -1286999929
C143: 7 | D143: K | E143: 573211107.S | F143: Postrek asfaltový spojovací bez posypu kamenivom z asfaltu cestného v množstve 0,40 kg/m2 | G143: m2 | H143: 118 | J143: =ROUND(I143*H143,3) -> 0 | N143: znížená | P143: =O143*H143 -> 0 | Q143: 0.00041 | R143: =Q143*H143 -> 0.04838 | S143: 0 | T143: =S143*H143 -> 0 | AR143: 4 | AT143: K | AU143: 2 | AY143: ROZPOCET | BE143: =IF(N143="základná",J143,0) -> 0 | BF143: =IF(N143="znížená",J143,0) -> 0 | BG143: =IF(N143="zákl. prenesená",J143,0) -> 0 | BH143: =IF(N143="zníž. prenesená",J143,0) -> 0 | BI143: =IF(N143="nulová",J143,0) -> 0 | BJ143: 2 | BK143: =ROUND(I143*H143,3) -> 0 | BL143: 4 | BM143: 231872487
C144: 8 | D144: K | E144: 577134111.S | F144: Asfaltový betón vrstva obrusná AC 8 O v pruhu š. do 3 m z nemodifik. asfaltu tr. II, po zhutnení hr. 40 mm | G144: m2 | H144: 118 | J144: =ROUND(I144*H144,3) -> 0 | N144: znížená | P144: =O144*H144 -> 0 | Q144: 0.10373 | R144: =Q144*H144 -> 12.24014 | S144: 0 | T144: =S144*H144 -> 0 | AR144: 4 | AT144: K | AU144: 2 | AY144: ROZPOCET | BE144: =IF(N144="základná",J144,0) -> 0 | BF144: =IF(N144="znížená",J144,0) -> 0 | BG144: =IF(N144="zákl. prenesená",J144,0) -> 0 | BH144: =IF(N144="zníž. prenesená",J144,0) -> 0 | BI144: =IF(N144="nulová",J144,0) -> 0 | BJ144: 2 | BK144: =ROUND(I144*H144,3) -> 0 | BL144: 4 | BM144: -609935026
C145: 9 | D145: K | E145: 596911331.S | F145: Kladenie dlažby pre nevidiacich hr. 60 mm do lôžka z kameniva ťaženého s vyplnením škár | G145: m2 | H145: 0.92 | J145: =ROUND(I145*H145,3) -> 0 | N145: znížená | P145: =O145*H145 -> 0 | Q145: 0.112 | R145: =Q145*H145 -> 0.10304 | S145: 0 | T145: =S145*H145 -> 0 | AR145: 4 | AT145: K | AU145: 2 | AY145: ROZPOCET | BE145: =IF(N145="základná",J145,0) -> 0 | BF145: =IF(N145="znížená",J145,0) -> 0 | BG145: =IF(N145="zákl. prenesená",J145,0) -> 0 | BH145: =IF(N145="zníž. prenesená",J145,0) -> 0 | BI145: =IF(N145="nulová",J145,0) -> 0 | BJ145: 2 | BK145: =ROUND(I145*H145,3) -> 0 | BL145: 4 | BM145: 1829213412
C146: 10 | D146: M | E146: 592460007000 | F146: Dlažba betónová Low value PREMAC Dlažba betónová pre nevidiacich drážková, rozmer 200x200x60 mm, sivá | G146: m2 | H146: 0.326 | J146: =ROUND(I146*H146,3) -> 0 | N146: znížená | P146: =O146*H146 -> 0 | Q146: 0.138 | R146: =Q146*H146 -> 0.044988 | S146: 0 | T146: =S146*H146 -> 0 | AR146: 8 | AT146: M | AU146: 2 | AY146: ROZPOCET | BE146: =IF(N146="základná",J146,0) -> 0 | BF146: =IF(N146="znížená",J146,0) -> 0 | BG146: =IF(N146="zákl. prenesená",J146,0) -> 0 | BH146: =IF(N146="zníž. prenesená",J146,0) -> 0 | BI146: =IF(N146="nulová",J146,0) -> 0 | BJ146: 2 | BK146: =ROUND(I146*H146,3) -> 0 | BL146: 4 | BM146: -930795702
C147: 11 | D147: M | E147: 592460007200 | F147: Dlažba betónová Low value PREMAC Dlažba betónová pre nevidiacich, nopková, rozmer 200x200x60 mm, sivá | G147: m2 | H147: 0.612 | J147: =ROUND(I147*H147,3) -> 0 | N147: znížená | P147: =O147*H147 -> 0 | Q147: 0.138 | R147: =Q147*H147 -> 0.084456 | S147: 0 | T147: =S147*H147 -> 0 | AR147: 8 | AT147: M | AU147: 2 | AY147: ROZPOCET | BE147: =IF(N147="základná",J147,0) -> 0 | BF147: =IF(N147="znížená",J147,0) -> 0 | BG147: =IF(N147="zákl. prenesená",J147,0) -> 0 | BH147: =IF(N147="zníž. prenesená",J147,0) -> 0 | BI147: =IF(N147="nulová",J147,0) -> 0 | BJ147: 2 | BK147: =ROUND(I147*H147,3) -> 0 | BL147: 4 | BM147: -1965864586
D148: D | E148: 9 | F148: Ostatné konštrukcie a práce-búranie | J148: =BK148 -> 0 | P148: =SUM(P149:P156) -> 0 | R148: =SUM(R149:R156) -> 0.8680578 | T148: =SUM(T149:T156) -> 0 | AR148: 1 | AT148: D | AU148: 1 | AY148: ROZPOCET | BK148: =SUM(BK149:BK156) -> 0
C149: 12 | D149: K | E149: 917762111.S | F149: Osadenie chodník. obrubníka betónového ležatého do lôžka z betónu prosteho tr. C 12/15 s bočnou oporou | G149: m | H149: 3 | J149: =ROUND(I149*H149,3) -> 0 | N149: znížená | P149: =O149*H149 -> 0 | Q149: 0.16401 | R149: =Q149*H149 -> 0.49203 | S149: 0 | T149: =S149*H149 -> 0 | AR149: 4 | AT149: K | AU149: 2 | AY149: ROZPOCET | BE149: =IF(N149="základná",J149,0) -> 0 | BF149: =IF(N149="znížená",J149,0) -> 0 | BG149: =IF(N149="zákl. prenesená",J149,0) -> 0 | BH149: =IF(N149="zníž. prenesená",J149,0) -> 0 | BI149: =IF(N149="nulová",J149,0) -> 0 | BJ149: 2 | BK149: =ROUND(I149*H149,3) -> 0 | BL149: 4 | BM149: 578166059
C150: 13 | D150: M | E150: 592170003800.S | F150: Obrubník cestný so skosením, lxšxv 1000x150x250 mm, prírodný | G150: ks | H150: 3 | J150: =ROUND(I150*H150,3) -> 0 | N150: znížená | P150: =O150*H150 -> 0 | Q150: 0.081 | R150: =Q150*H150 -> 0.243 | S150: 0 | T150: =S150*H150 -> 0 | AR150: 8 | AT150: M | AU150: 2 | AY150: ROZPOCET | BE150: =IF(N150="základná",J150,0) -> 0 | BF150: =IF(N150="znížená",J150,0) -> 0 | BG150: =IF(N150="zákl. prenesená",J150,0) -> 0 | BH150: =IF(N150="zníž. prenesená",J150,0) -> 0 | BI150: =IF(N150="nulová",J150,0) -> 0 | BJ150: 2 | BK150: =ROUND(I150*H150,3) -> 0 | BL150: 4 | BM150: -1161144799
C151: 14 | D151: K | E151: 918101112.S | F151: Lôžko pod obrubníky, krajníky alebo obruby z dlažobných kociek z betónu prostého tr. C 16/20 | G151: m3 | H151: 0.06 | J151: =ROUND(I151*H151,3) -> 0 | N151: znížená | P151: =O151*H151 -> 0 | Q151: 2.21513 | R151: =Q151*H151 -> 0.1329078 | S151: 0 | T151: =S151*H151 -> 0 | AR151: 4 | AT151: K | AU151: 2 | AY151: ROZPOCET | BE151: =IF(N151="základná",J151,0) -> 0 | BF151: =IF(N151="znížená",J151,0) -> 0 | BG151: =IF(N151="zákl. prenesená",J151,0) -> 0 | BH151: =IF(N151="zníž. prenesená",J151,0) -> 0 | BI151: =IF(N151="nulová",J151,0) -> 0 | BJ151: 2 | BK151: =ROUND(I151*H151,3) -> 0 | BL151: 4 | BM151: 2040805942
C152: 15 | D152: K | E152: 919735122.S | F152: Rezanie existujúceho betónového krytu alebo podkladu hĺbky nad 50 do 100 mm | G152: m | H152: 3 | J152: =ROUND(I152*H152,3) -> 0 | N152: znížená | P152: =O152*H152 -> 0 | Q152: 4e-05 | R152: =Q152*H152 -> 0.00012 | S152: 0 | T152: =S152*H152 -> 0 | AR152: 4 | AT152: K | AU152: 2 | AY152: ROZPOCET | BE152: =IF(N152="základná",J152,0) -> 0 | BF152: =IF(N152="znížená",J152,0) -> 0 | BG152: =IF(N152="zákl. prenesená",J152,0) -> 0 | BH152: =IF(N152="zníž. prenesená",J152,0) -> 0 | BI152: =IF(N152="nulová",J152,0) -> 0 | BJ152: 2 | BK152: =ROUND(I152*H152,3) -> 0 | BL152: 4 | BM152: 800537444
C153: 16 | D153: K | E153: 938909311.S | F153: Odstránenie blata, prachu alebo hlineného nánosu, z povrchu podkladu alebo krytu bet. alebo asfalt. | G153: m2 | H153: 118 | J153: =ROUND(I153*H153,3) -> 0 | N153: znížená | P153: =O153*H153 -> 0 | Q153: 0 | R153: =Q153*H153 -> 0 | S153: 0 | T153: =S153*H153 -> 0 | AR153: 4 | AT153: K | AU153: 2 | AY153: ROZPOCET | BE153: =IF(N153="základná",J153,0) -> 0 | BF153: =IF(N153="znížená",J153,0) -> 0 | BG153: =IF(N153="zákl. prenesená",J153,0) -> 0 | BH153: =IF(N153="zníž. prenesená",J153,0) -> 0 | BI153: =IF(N153="nulová",J153,0) -> 0 | BJ153: 2 | BK153: =ROUND(I153*H153,3) -> 0 | BL153: 4 | BM153: -310085603
C154: 17 | D154: K | E154: 979084215.S | F154: Vodorovná doprava vybúraných hmôt po suchu bez naloženia, ale so zložením na vzdialenosť do 3 km | G154: t | H154: 3.802 | J154: =ROUND(I154*H154,3) -> 0 | N154: znížená | P154: =O154*H154 -> 0 | Q154: 0 | R154: =Q154*H154 -> 0 | S154: 0 | T154: =S154*H154 -> 0 | AR154: 4 | AT154: K | AU154: 2 | AY154: ROZPOCET | BE154: =IF(N154="základná",J154,0) -> 0 | BF154: =IF(N154="znížená",J154,0) -> 0 | BG154: =IF(N154="zákl. prenesená",J154,0) -> 0 | BH154: =IF(N154="zníž. prenesená",J154,0) -> 0 | BI154: =IF(N154="nulová",J154,0) -> 0 | BJ154: 2 | BK154: =ROUND(I154*H154,3) -> 0 | BL154: 4 | BM154: -211347672
C155: 18 | D155: K | E155: 979087212.S | F155: Nakladanie na dopravné prostriedky pre vodorovnú dopravu sutiny | G155: t | H155: 3.802 | J155: =ROUND(I155*H155,3) -> 0 | N155: znížená | P155: =O155*H155 -> 0 | Q155: 0 | R155: =Q155*H155 -> 0 | S155: 0 | T155: =S155*H155 -> 0 | AR155: 4 | AT155: K | AU155: 2 | AY155: ROZPOCET | BE155: =IF(N155="základná",J155,0) -> 0 | BF155: =IF(N155="znížená",J155,0) -> 0 | BG155: =IF(N155="zákl. prenesená",J155,0) -> 0 | BH155: =IF(N155="zníž. prenesená",J155,0) -> 0 | BI155: =IF(N155="nulová",J155,0) -> 0 | BJ155: 2 | BK155: =ROUND(I155*H155,3) -> 0 | BL155: 4 | BM155: -1432619928
C156: 19 | D156: K | E156: 979089212.S | F156: Poplatok za skladovanie - bitúmenové zmesi, uholný decht, dechtové výrobky (17 03 ), ostatné | G156: t | H156: 3.802 | J156: =ROUND(I156*H156,3) -> 0 | N156: znížená | P156: =O156*H156 -> 0 | Q156: 0 | R156: =Q156*H156 -> 0 | S156: 0 | T156: =S156*H156 -> 0 | AR156: 4 | AT156: K | AU156: 2 | AY156: ROZPOCET | BE156: =IF(N156="základná",J156,0) -> 0 | BF156: =IF(N156="znížená",J156,0) -> 0 | BG156: =IF(N156="zákl. prenesená",J156,0) -> 0 | BH156: =IF(N156="zníž. prenesená",J156,0) -> 0 | BI156: =IF(N156="nulová",J156,0) -> 0 | BJ156: 2 | BK156: =ROUND(I156*H156,3) -> 0 | BL156: 4 | BM156: 107998759
D157: D | E157: 99 | F157: Presun hmôt HSV | J157: =BK157 -> 0 | P157: =P158 -> 0 | R157: =R158 -> 0 | T157: =T158 -> 0 | AR157: 1 | AT157: D | AU157: 1 | AY157: ROZPOCET | BK157: =BK158 -> 0
C158: 20 | D158: K | E158: 998225111.S | F158: Presun hmôt pre pozemnú komunikáciu a letisko s krytom asfaltovým akejkoľvek dĺžky objektu | G158: t | H158: 14.015 | J158: =ROUND(I158*H158,3) -> 0 | N158: znížená | P158: =O158*H158 -> 0 | Q158: 0 | R158: =Q158*H158 -> 0 | S158: 0 | T158: =S158*H158 -> 0 | AR158: 4 | AT158: K | AU158: 2 | AY158: ROZPOCET | BE158: =IF(N158="základná",J158,0) -> 0 | BF158: =IF(N158="znížená",J158,0) -> 0 | BG158: =IF(N158="zákl. prenesená",J158,0) -> 0 | BH158: =IF(N158="zníž. prenesená",J158,0) -> 0 | BI158: =IF(N158="nulová",J158,0) -> 0 | BJ158: 2 | BK158: =ROUND(I158*H158,3) -> 0 | BL158: 4 | BM158: 714941160

Sheet 07 - Ulica Parkova  -  ch...
L2: >> skryté stĺpce << | AT2: {4ee1f34b-bf13-4c72-993b-e9cb8222e053}
AT3: 0
D4: KRYCÍ LIST ROZPOČTU | M4: v --- nižšie sa nachádzajú doplnkové a pomocné údaje k zostavám --- v | AT4: False
D6: Stavba:
E7: ='Rekapitulácia stavby'!K6 -> Rekonštrukcia mestských chodníkov a spevnených plôch
D8: Objekt:
E9: 07 - Ulica Parkova - chodnik od ulice Lúčnej po ulicu Varichovskú ( plocha 266m2)
D11: JKSO: | I11: KS:
D12: Miesto: | F12: Trebišov | I12: Dátum: | J12: ='Rekapitulácia stavby'!AN8 -> 13. 8. 2020
D14: Objednávateľ: | I14: IČO:
E15: Mesto Trebišov | I15: IČ DPH:
D17: Zhotoviteľ: | I17: IČO: | J17: ='Rekapitulácia stavby'!AN13 -> Vyplň údaj
E18: ='Rekapitulácia stavby'!E14 -> Vyplň údaj | I18: IČ DPH: | J18: ='Rekapitulácia stavby'!AN14 -> Vyplň údaj
D20: Projektant: | I20: IČO: | J20: =IF('Rekapitulácia stavby'!AN16="","",'Rekapitulácia stavby'!AN16)
E21: =IF('Rekapitulácia stavby'!E17="","",'Rekapitulácia stavby'!E17) | I21: IČ DPH: | J21: =IF('Rekapitulácia stavby'!AN17="","",'Rekapitulácia stavby'!AN17)
D23: Spracovateľ: | I23: IČO: | J23: =IF('Rekapitulácia stavby'!AN19="","",'Rekapitulácia stavby'!AN19)
E24: =IF('Rekapitulácia stavby'!E20="","",'Rekapitulácia stavby'!E20) | I24: IČ DPH: | J24: =IF('Rekapitulácia stavby'!AN20="","",'Rekapitulácia stavby'!AN20)
D26: Poznámka:
D30: Náklady z rozpočtu | J30: =J96 -> 0
D31: Ostatné náklady | J31: =J105 -> 0
D32: Cena bez DPH | J32: =ROUND(J30 + J31, 2) -> 0
F34: Základ dane | I34: Sadzba dane | J34: Výška dane
D35: DPH | E35: základná | F35: =ROUND((SUM(BE105:BE112) + SUM(BE132:BE168)), 2) -> 0 | I35: 0.2 | J35: =ROUND(((SUM(BE105:BE112) + SUM(BE132:BE168))*I35), 2) -> 0
E36: znížená | F36: =ROUND((SUM(BF105:BF112) + SUM(BF132:BF168)), 2) -> 0 | I36: 0.2 | J36: =ROUND(((SUM(BF105:BF112) + SUM(BF132:BF168))*I36), 2) -> 0
E37: zákl. prenesená | F37: =ROUND((SUM(BG105:BG112) + SUM(BG132:BG168)), 2) -> 0 | I37: 0.2 | J37: =0 -> 0
E38: zníž. prenesená | F38: =ROUND((SUM(BH105:BH112) + SUM(BH132:BH168)), 2) -> 0 | I38: 0.2 | J38: =0 -> 0
E39: nulová | F39: =ROUND((SUM(BI105:BI112) + SUM(BI132:BI168)), 2) -> 0 | I39: 0 | J39: =0 -> 0
D41: Cena s DPH | G41: v | H41: EUR | J41: =SUM(J32:J39) -> 0
D50: Projektant | G50: Spracovateľ
D61: Dátum a podpis: | F61: Pečiatka | G61: Dátum a podpis: | J61: Pečiatka
D65: Objednávateľ | G65: Zhotoviteľ
D76: Dátum a podpis: | F76: Pečiatka | G76: Dátum a podpis: | J76: Pečiatka
C82: REKAPITULÁCIA ROZPOČTU
C84: Stavba:
E85: =E7 -> Rekonštrukcia mestských chodníkov a spevnených plôch
C86: Objekt:
E87: =E9 -> 07 - Ulica Parkova - chodnik od ulice Lúčnej po ulicu Varichovskú ( plocha 266m2)
C89: Miesto: | F89: =F12 -> Trebišov | I89: Dátum: | J89: =IF(J12="","",J12) -> 13. 8. 2020
C91: Objednávateľ: | F91: =E15 -> Mesto Trebišov | I91: Projektant: | J91: =E21
C92: Zhotoviteľ: | F92: =IF(E18="","",E18) -> Vyplň údaj | I92: Spracovateľ: | J92: =E24
C94: Kód dielu - Popis | J94: Cena celkom [EUR]
C96: 1) Náklady z rozpočtu | J96: =J132 -> 0 | AU96: -1
D97: HSV - Práce a dodávky HSV | J97: =J133 -> 0
D98: 1 - Zemné práce | J98: =J134 -> 0
D99: 2 - Zakladanie | J99: =J144 -> 0
D100: 5 - Komunikácie | J100: =J146 -> 0
D101: 9 - Ostatné konštrukcie a práce-búranie | J101: =J157 -> 0
D102: 99 - Presun hmôt HSV | J102: =J167 -> 0
C105: 2) Ostatné náklady | J105: =ROUND(J106 + J107 + J108 + J109 + J110 + J111,2) -> 0 | N105: DPH
D106: Zariad. staveniska | J106: 0 | N106: znížená | AY106: VRN | BE106: =IF(N106="základná",J106,0) -> 0 | BF106: =IF(N106="znížená",J106,0) -> 0 | BG106: =IF(N106="zákl. prenesená",J106,0) -> 0 | BH106: =IF(N106="zníž. prenesená",J106,0) -> 0 | BI106: =IF(N106="nulová",J106,0) -> 0 | BJ106: 2
D107: Mimostav. doprava | J107: 0 | N107: znížená | AY107: VRN | BE107: =IF(N107="základná",J107,0) -> 0 | BF107: =IF(N107="znížená",J107,0) -> 0 | BG107: =IF(N107="zákl. prenesená",J107,0) -> 0 | BH107: =IF(N107="zníž. prenesená",J107,0) -> 0 | BI107: =IF(N107="nulová",J107,0) -> 0 | BJ107: 2
D108: Územné vplyvy | J108: 0 | N108: znížená | AY108: VRN | BE108: =IF(N108="základná",J108,0) -> 0 | BF108: =IF(N108="znížená",J108,0) -> 0 | BG108: =IF(N108="zákl. prenesená",J108,0) -> 0 | BH108: =IF(N108="zníž. prenesená",J108,0) -> 0 | BI108: =IF(N108="nulová",J108,0) -> 0 | BJ108: 2
D109: Prevádzkové vplyvy | J109: 0 | N109: znížená | AY109: VRN | BE109: =IF(N109="základná",J109,0) -> 0 | BF109: =IF(N109="znížená",J109,0) -> 0 | BG109: =IF(N109="zákl. prenesená",J109,0) -> 0 | BH109: =IF(N109="zníž. prenesená",J109,0) -> 0 | BI109: =IF(N109="nulová",J109,0) -> 0 | BJ109: 2
D110: Ostatné | J110: 0 | N110: znížená | AY110: VRN | BE110: =IF(N110="základná",J110,0) -> 0 | BF110: =IF(N110="znížená",J110,0) -> 0 | BG110: =IF(N110="zákl. prenesená",J110,0) -> 0 | BH110: =IF(N110="zníž. prenesená",J110,0) -> 0 | BI110: =IF(N110="nulová",J110,0) -> 0 | BJ110: 2
D111: Kompletačná činnosť | J111: =ROUND(J30*T111,2) -> 0 | N111: znížená | AY111: KOMPLETACNA | BE111: =IF(N111="základná",J111,0) -> 0 | BF111: =IF(N111="znížená",J111,0) -> 0 | BG111: =IF(N111="zákl. prenesená",J111,0) -> 0 | BH111: =IF(N111="zníž. prenesená",J111,0) -> 0 | BI111: =IF(N111="nulová",J111,0) -> 0 | BJ111: 2
C113: Celkové náklady za stavbu 1) + 2) | J113: =ROUND(J96+J105,2) -> 0
C119: ROZPOČET
C121: Stavba:
E122: =E7 -> Rekonštrukcia mestských chodníkov a spevnených plôch
C123: Objekt:
E124: =E9 -> 07 - Ulica Parkova - chodnik od ulice Lúčnej po ulicu Varichovskú ( plocha 266m2)
C126: Miesto: | F126: =F12 -> Trebišov | I126: Dátum: | J126: =IF(J12="","",J12) -> 13. 8. 2020
C128: Objednávateľ: | F128: =E15 -> Mesto Trebišov | I128: Projektant: | J128: =E21
C129: Zhotoviteľ: | F129: =IF(E18="","",E18) -> Vyplň údaj | I129: Spracovateľ: | J129: =E24
C131: PČ | D131: Typ | E131: Kód | F131: Popis | G131: MJ | H131: Množstvo | I131: J.cena [EUR] | J131: Cena celkom [EUR] | K131: Cenová sústava | N131: DPH | O131: J. Nh [h] | P131: Nh celkom [h] | Q131: J. hmotnosť [t] | R131: Hmotnosť celkom [t] | S131: J. suť [t] | T131: Suť Celkom [t]
C132: Náklady z rozpočtu | J132: =BK132 -> 0 | P132: =P133 -> 0 | R132: =R133 -> 73.628338 | T132: =T133 -> 31.708 | AT132: D | AU132: -1 | BK132: =BK133 -> 0
D133: D | E133: HSV | F133: Práce a dodávky HSV | J133: =BK133 -> 0 | P133: =P134+P144+P146+P157+P167 -> 0 | R133: =R134+R144+R146+R157+R167 -> 73.628338 | T133: =T134+T144+T146+T157+T167 -> 31.708 | AR133: 1 | AT133: D | AU133: 0 | AY133: ROZPOCET | BK133: =BK134+BK144+BK146+BK157+BK167 -> 0
D134: D | E134: 1 | F134: Zemné práce | J134: =BK134 -> 0 | P134: =SUM(P135:P143) -> 0 | R134: =SUM(R135:R143) -> 0 | T134: =SUM(T135:T143) -> 31.708 | AR134: 1 | AT134: D | AU134: 1 | AY134: ROZPOCET | BK134: =SUM(BK135:BK143) -> 0
C135: 1 | D135: K | E135: 113107122.S | F135: Odstránenie krytu v ploche do 200 m2 z zeminy a kameniva hrubého drveného, hr.100 do 200 mm, -0,23500t | G135: m2 | H135: 6 | J135: =ROUND(I135*H135,3) -> 0 | N135: znížená | P135: =O135*H135 -> 0 | Q135: 0 | R135: =Q135*H135 -> 0 | S135: 0.235 | T135: =S135*H135 -> 1.41 | AR135: 4 | AT135: K | AU135: 2 | AY135: ROZPOCET | BE135: =IF(N135="základná",J135,0) -> 0 | BF135: =IF(N135="znížená",J135,0) -> 0 | BG135: =IF(N135="zákl. prenesená",J135,0) -> 0 | BH135: =IF(N135="zníž. prenesená",J135,0) -> 0 | BI135: =IF(N135="nulová",J135,0) -> 0 | BJ135: 2 | BK135: =ROUND(I135*H135,3) -> 0 | BL135: 4 | BM135: 857898922
C136: 2 | D136: K | E136: 113107131.S | F136: Odstránenie krytu v ploche do 200 m2 z betónu prostého, hr. vrstvy do 150 mm, -0,22500t | G136: m2 | H136: 2.4 | J136: =ROUND(I136*H136,3) -> 0 | N136: znížená | P136: =O136*H136 -> 0 | Q136: 0 | R136: =Q136*H136 -> 0 | S136: 0.225 | T136: =S136*H136 -> 0.54 | AR136: 4 | AT136: K | AU136: 2 | AY136: ROZPOCET | BE136: =IF(N136="základná",J136,0) -> 0 | BF136: =IF(N136="znížená",J136,0) -> 0 | BG136: =IF(N136="zákl. prenesená",J136,0) -> 0 | BH136: =IF(N136="zníž. prenesená",J136,0) -> 0 | BI136: =IF(N136="nulová",J136,0) -> 0 | BJ136: 2 | BK136: =ROUND(I136*H136,3) -> 0 | BL136: 4 | BM136: -141880653
C137: 3 | D137: K | E137: 113107141.S | F137: Odstránenie krytu v ploche do 200 m2 asfaltového, hr. vrstvy do 50 mm, -0,09800t | G137: m2 | H137: 266 | J137: =ROUND(I137*H137,3) -> 0 | N137: znížená | P137: =O137*H137 -> 0 | Q137: 0 | R137: =Q137*H137 -> 0 | S137: 0.098 | T137: =S137*H137 -> 26.068 | AR137: 4 | AT137: K | AU137: 2 | AY137: ROZPOCET | BE137: =IF(N137="základná",J137,0) -> 0 | BF137: =IF(N137="znížená",J137,0) -> 0 | BG137: =IF(N137="zákl. prenesená",J137,0) -> 0 | BH137: =IF(N137="zníž. prenesená",J137,0) -> 0 | BI137: =IF(N137="nulová",J137,0) -> 0 | BJ137: 2 | BK137: =ROUND(I137*H137,3) -> 0 | BL137: 4 | BM137: 1390724994
C138: 4 | D138: K | E138: 113205111.S | F138: Vytrhanie obrúb betónových, chodníkových ležatých, -0,23000t | G138: m | H138: 11 | J138: =ROUND(I138*H138,3) -> 0 | N138: znížená | P138: =O138*H138 -> 0 | Q138: 0 | R138: =Q138*H138 -> 0 | S138: 0.23 | T138: =S138*H138 -> 2.53 | AR138: 4 | AT138: K | AU138: 2 | AY138: ROZPOCET | BE138: =IF(N138="základná",J138,0) -> 0 | BF138: =IF(N138="znížená",J138,0) -> 0 | BG138: =IF(N138="zákl. prenesená",J138,0) -> 0 | BH138: =IF(N138="zníž. prenesená",J138,0) -> 0 | BI138: =IF(N138="nulová",J138,0) -> 0 | BJ138: 2 | BK138: =ROUND(I138*H138,3) -> 0 | BL138: 4 | BM138: 787660637
C139: 5 | D139: K | E139: 113205121.S | F139: Vytrhanie obrúb betónových, cestných ležatých, -0,29000t | G139: m | H139: 4 | J139: =ROUND(I139*H139,3) -> 0 | N139: znížená | P139: =O139*H139 -> 0 | Q139: 0 | R139: =Q139*H139 -> 0 | S139: 0.29 | T139: =S139*H139 -> 1.16 | AR139: 4 | AT139: K | AU139: 2 | AY139: ROZPOCET | BE139: =IF(N139="základná",J139,0) -> 0 | BF139: =IF(N139="znížená",J139,0) -> 0 | BG139: =IF(N139="zákl. prenesená",J139,0) -> 0 | BH139: =IF(N139="zníž. prenesená",J139,0) -> 0 | BI139: =IF(N139="nulová",J139,0) -> 0 | BJ139: 2 | BK139: =ROUND(I139*H139,3) -> 0 | BL139: 4 | BM139: 770638065
C140: 6 | D140: K | E140: 132201101.S | F140: Výkop ryhy do šírky 600 mm v horn.3 do 100 m3 | G140: m3 | H140: 6.12 | J140: =ROUND(I140*H140,3) -> 0 | N140: znížená | P140: =O140*H140 -> 0 | Q140: 0 | R140: =Q140*H140 -> 0 | S140: 0 | T140: =S140*H140 -> 0 | AR140: 4 | AT140: K | AU140: 2 | AY140: ROZPOCET | BE140: =IF(N140="základná",J140,0) -> 0 | BF140: =IF(N140="znížená",J140,0) -> 0 | BG140: =IF(N140="zákl. prenesená",J140,0) -> 0 | BH140: =IF(N140="zníž. prenesená",J140,0) -> 0 | BI140: =IF(N140="nulová",J140,0) -> 0 | BJ140: 2 | BK140: =ROUND(I140*H140,3) -> 0 | BL140: 4 | BM140: -326828791
C141: 7 | D141: K | E141: 132201109.S | F141: Príplatok k cene za lepivosť pri hĺbení rýh šírky do 600 mm zapažených i nezapažených s urovnaním dna v hornine 3 | G141: m3 | H141: 6.12 | J141: =ROUND(I141*H141,3) -> 0 | N141: znížená | P141: =O141*H141 -> 0 | Q141: 0 | R141: =Q141*H141 -> 0 | S141: 0 | T141: =S141*H141 -> 0 | AR141: 4 | AT141: K | AU141: 2 | AY141: ROZPOCET | BE141: =IF(N141="základná",J141,0) -> 0 | BF141: =IF(N141="znížená",J141,0) -> 0 | BG141: =IF(N141="zákl. prenesená",J141,0) -> 0 | BH141: =IF(N141="zníž. prenesená",J141,0) -> 0 | BI141: =IF(N141="nulová",J141,0) -> 0 | BJ141: 2 | BK141: =ROUND(I141*H141,3) -> 0 | BL141: 4 | BM141: 716972833
C142: 8 | D142: K | E142: 162501102.S | F142: Vodorovné premiestnenie výkopku po spevnenej ceste z horniny tr.1-4, do 100 m3 na vzdialenosť do 3000 m | G142: m3 | H142: 6.12 | J142: =ROUND(I142*H142,3) -> 0 | N142: znížená | P142: =O142*H142 -> 0 | Q142: 0 | R142: =Q142*H142 -> 0 | S142: 0 | T142: =S142*H142 -> 0 | AR142: 4 | AT142: K | AU142: 2 | AY142: ROZPOCET | BE142: =IF(N142="základná",J142,0) -> 0 | BF142: =IF(N142="znížená",J142,0) -> 0 | BG142: =IF(N142="zákl. prenesená",J142,0) -> 0 | BH142: =IF(N142="zníž. prenesená",J142,0) -> 0 | BI142: =IF(N142="nulová",J142,0) -> 0 | BJ142: 2 | BK142: =ROUND(I142*H142,3) -> 0 | BL142: 4 | BM142: 148236828
C143: 9 | D143: K | E143: 167101101.S | F143: Nakladanie neuľahnutého výkopku z hornín tr.1-4 do 100 m3 | G143: m3 | H143: 6.12 | J143: =ROUND(I143*H143,3) -> 0 | N143: znížená | P143: =O143*H143 -> 0 | Q143: 0 | R143: =Q143*H143 -> 0 | S143: 0 | T143: =S143*H143 -> 0 | AR143: 4 | AT143: K | AU143: 2 | AY143: ROZPOCET | BE143: =IF(N143="základná",J143,0) -> 0 | BF143: =IF(N143="znížená",J143,0) -> 0 | BG143: =IF(N143="zákl. prenesená",J143,0) -> 0 | BH143: =IF(N143="zníž. prenesená",J143,0) -> 0 | BI143: =IF(N143="nulová",J143,0) -> 0 | BJ143: 2 | BK143: =ROUND(I143*H143,3) -> 0 | BL143: 4 | BM143: 1629348054
D144: D | E144: 2 | F144: Zakladanie | J144: =BK144 -> 0 | P144: =P145 -> 0 | R144: =R145 -> 3.4362 | T144: =T145 -> 0 | AR144: 1 | AT144: D | AU144: 1 | AY144: ROZPOCET | BK144: =BK145 -> 0
C145: 10 | D145: K | E145: 271573001.S | F145: Násyp pod obrubniky so zhutnením zo štrkopiesku fr.0-32 mm | G145: m3 | H145: 1.66 | J145: =ROUND(I145*H145,3) -> 0 | N145: znížená | P145: =O145*H145 -> 0 | Q145: 2.07 | R145: =Q145*H145 -> 3.4362 | S145: 0 | T145: =S145*H145 -> 0 | AR145: 4 | AT145: K | AU145: 2 | AY145: ROZPOCET | BE145: =IF(N145="základná",J145,0) -> 0 | BF145: =IF(N145="znížená",J145,0) -> 0 | BG145: =IF(N145="zákl. prenesená",J145,0) -> 0 | BH145: =IF(N145="zníž. prenesená",J145,0) -> 0 | BI145: =IF(N145="nulová",J145,0) -> 0 | BJ145: 2 | BK145: =ROUND(I145*H145,3) -> 0 | BL145: 4 | BM145: -290335980
D146: D | E146: 5 | F146: Komunikácie | J146: =BK146 -> 0 | P146: =SUM(P147:P156) -> 0 | R146: =SUM(R147:R156) -> 50.760952 | T146: =SUM(T147:T156) -> 0 | AR146: 1 | AT146: D | AU146: 1 | AY146: ROZPOCET | BK146: =SUM(BK147:BK156) -> 0
C147: 11 | D147: K | E147: 564730211.S | F147: Podklad alebo kryt z kameniva hrubého drveného veľ. 16-32 mm s rozprestretím a zhutnením hr. 100 mm | G147: m2 | H147: 6 | J147: =ROUND(I147*H147,3) -> 0 | N147: znížená | P147: =O147*H147 -> 0 | Q147: 0.199 | R147: =Q147*H147 -> 1.194 | S147: 0 | T147: =S147*H147 -> 0 | AR147: 4 | AT147: K | AU147: 2 | AY147: ROZPOCET | BE147: =IF(N147="základná",J147,0) -> 0 | BF147: =IF(N147="znížená",J147,0) -> 0 | BG147: =IF(N147="zákl. prenesená",J147,0) -> 0 | BH147: =IF(N147="zníž. prenesená",J147,0) -> 0 | BI147: =IF(N147="nulová",J147,0) -> 0 | BJ147: 2 | BK147: =ROUND(I147*H147,3) -> 0 | BL147: 4 | BM147: 2141863982
C148: 12 | D148: K | E148: 566902161.S | F148: Vyspravenie podkladu po prekopoch inžinierskych sietí plochy do 15 m2 podkladovým betónom PB I tr. C 20/25 hr. 40 mm | G148: m2 | H148: 34 | J148: =ROUND(I148*H148,3) -> 0 | N148: znížená | P148: =O148*H148 -> 0 | Q148: 0.22763 | R148: =Q148*H148 -> 7.73942 | S148: 0 | T148: =S148*H148 -> 0 | AR148: 4 | AT148: K | AU148: 2 | AY148: ROZPOCET | BE148: =IF(N148="základná",J148,0) -> 0 | BF148: =IF(N148="znížená",J148,0) -> 0 | BG148: =IF(N148="zákl. prenesená",J148,0) -> 0 | BH148: =IF(N148="zníž. prenesená",J148,0) -> 0 | BI148: =IF(N148="nulová",J148,0) -> 0 | BJ148: 2 | BK148: =ROUND(I148*H148,3) -> 0 | BL148: 4 | BM148: 950462731
C149: 13 | D149: K | E149: 567114211.S | F149: Podklad z podkladového betónu PB II tr. C 16/20 hr. 100 mm | G149: m2 | H149: 2.4 | J149: =ROUND(I149*H149,3) -> 0 | N149: znížená | P149: =O149*H149 -> 0 | Q149: 0.22377 | R149: =Q149*H149 -> 0.537048 | S149: 0 | T149: =S149*H149 -> 0 | AR149: 4 | AT149: K | AU149: 2 | AY149: ROZPOCET | BE149: =IF(N149="základná",J149,0) -> 0 | BF149: =IF(N149="znížená",J149,0) -> 0 | BG149: =IF(N149="zákl. prenesená",J149,0) -> 0 | BH149: =IF(N149="zníž. prenesená",J149,0) -> 0 | BI149: =IF(N149="nulová",J149,0) -> 0 | BJ149: 2 | BK149: =ROUND(I149*H149,3) -> 0 | BL149: 4 | BM149: -1286999929
C150: 14 | D150: K | E150: 567114311.S | F150: Podklad z podkladového betónu PB III tr. C 12/15 hr. 100 mm | G150: m2 | H150: 6 | J150: =ROUND(I150*H150,3) -> 0 | N150: znížená | P150: =O150*H150 -> 0 | Q150: 0.22796 | R150: =Q150*H150 -> 1.36776 | S150: 0 | T150: =S150*H150 -> 0 | AR150: 4 | AT150: K | AU150: 2 | AY150: ROZPOCET | BE150: =IF(N150="základná",J150,0) -> 0 | BF150: =IF(N150="znížená",J150,0) -> 0 | BG150: =IF(N150="zákl. prenesená",J150,0) -> 0 | BH150: =IF(N150="zníž. prenesená",J150,0) -> 0 | BI150: =IF(N150="nulová",J150,0) -> 0 | BJ150: 2 | BK150: =ROUND(I150*H150,3) -> 0 | BL150: 4 | BM150: -1653869960
C151: 15 | D151: K | E151: 572754111.S | F151: Vyrovnanie povrchu doterajších krytov asfaltovým betónom AC hr. od 20 do 40 mm | G151: m2 | H151: 113 | J151: =ROUND(I151*H151,3) -> 0 | N151: znížená | P151: =O151*H151 -> 0 | Q151: 0.10434 | R151: =Q151*H151 -> 11.79042 | S151: 0 | T151: =S151*H151 -> 0 | AR151: 4 | AT151: K | AU151: 2 | AY151: ROZPOCET | BE151: =IF(N151="základná",J151,0) -> 0 | BF151: =IF(N151="znížená",J151,0) -> 0 | BG151: =IF(N151="zákl. prenesená",J151,0) -> 0 | BH151: =IF(N151="zníž. prenesená",J151,0) -> 0 | BI151: =IF(N151="nulová",J151,0) -> 0 | BJ151: 2 | BK151: =ROUND(I151*H151,3) -> 0 | BL151: 4 | BM151: 226146162
C152: 16 | D152: K | E152: 573211107.S | F152: Postrek asfaltový spojovací bez posypu kamenivom z asfaltu cestného v množstve 0,40 kg/m2 | G152: m2 | H152: 266 | J152: =ROUND(I152*H152,3) -> 0 | N152: znížená | P152: =O152*H152 -> 0 | Q152: 0.00041 | R152: =Q152*H152 -> 0.10906 | S152: 0 | T152: =S152*H152 -> 0 | AR152: 4 | AT152: K | AU152: 2 | AY152: ROZPOCET | BE152: =IF(N152="základná",J152,0) -> 0 | BF152: =IF(N152="znížená",J152,0) -> 0 | BG152: =IF(N152="zákl. prenesená",J152,0) -> 0 | BH152: =IF(N152="zníž. prenesená",J152,0) -> 0 | BI152: =IF(N152="nulová",J152,0) -> 0 | BJ152: 2 | BK152: =ROUND(I152*H152,3) -> 0 | BL152: 4 | BM152: 231872487
C153: 17 | D153: K | E153: 577134111.S | F153: Asfaltový betón vrstva obrusná AC 8 O v pruhu š. do 3 m z nemodifik. asfaltu tr. II, po zhutnení hr. 40 mm | G153: m2 | H153: 266 | J153: =ROUND(I153*H153,3) -> 0 | N153: znížená | P153: =O153*H153 -> 0 | Q153: 0.10373 | R153: =Q153*H153 -> 27.59218 | S153: 0 | T153: =S153*H153 -> 0 | AR153: 4 | AT153: K | AU153: 2 | AY153: ROZPOCET | BE153: =IF(N153="základná",J153,0) -> 0 | BF153: =IF(N153="znížená",J153,0) -> 0 | BG153: =IF(N153="zákl. prenesená",J153,0) -> 0 | BH153: =IF(N153="zníž. prenesená",J153,0) -> 0 | BI153: =IF(N153="nulová",J153,0) -> 0 | BJ153: 2 | BK153: =ROUND(I153*H153,3) -> 0 | BL153: 4 | BM153: -609935026
C154: 18 | D154: K | E154: 596911331.S | F154: Kladenie dlažby pre nevidiacich hr. 60 mm do lôžka z kameniva ťaženého s vyplnením škár | G154: m2 | H154: 2.04 | J154: =ROUND(I154*H154,3) -> 0 | N154: znížená | P154: =O154*H154 -> 0 | Q154: 0.112 | R154: =Q154*H154 -> 0.22848 | S154: 0 | T154: =S154*H154 -> 0 | AR154: 4 | AT154: K | AU154: 2 | AY154: ROZPOCET | BE154: =IF(N154="základná",J154,0) -> 0 | BF154: =IF(N154="znížená",J154,0) -> 0 | BG154: =IF(N154="zákl. prenesená",J154,0) -> 0 | BH154: =IF(N154="zníž. prenesená",J154,0) -> 0 | BI154: =IF(N154="nulová",J154,0) -> 0 | BJ154: 2 | BK154: =ROUND(I154*H154,3) -> 0 | BL154: 4 | BM154: 1829213412
C155: 19 | D155: M | E155: 592460007000 | F155: Dlažba betónová Low value PREMAC Dlažba betónová pre nevidiacich drážková, rozmer 200x200x60 mm, sivá | G155: m2 | H155: 0.326 | J155: =ROUND(I155*H155,3) -> 0 | N155: znížená | P155: =O155*H155 -> 0 | Q155: 0.138 | R155: =Q155*H155 -> 0.044988 | S155: 0 | T155: =S155*H155 -> 0 | AR155: 8 | AT155: M | AU155: 2 | AY155: ROZPOCET | BE155: =IF(N155="základná",J155,0) -> 0 | BF155: =IF(N155="znížená",J155,0) -> 0 | BG155: =IF(N155="zákl. prenesená",J155,0) -> 0 | BH155: =IF(N155="zníž. prenesená",J155,0) -> 0 | BI155: =IF(N155="nulová",J155,0) -> 0 | BJ155: 2 | BK155: =ROUND(I155*H155,3) -> 0 | BL155: 4 | BM155: -930795702
C156: 20 | D156: M | E156: 592460007200 | F156: Dlažba betónová Low value PREMAC Dlažba betónová pre nevidiacich, nopková, rozmer 200x200x60 mm, sivá | G156: m2 | H156: 1.142 | J156: =ROUND(I156*H156,3) -> 0 | N156: znížená | P156: =O156*H156 -> 0 | Q156: 0.138 | R156: =Q156*H156 -> 0.157596 | S156: 0 | T156: =S156*H156 -> 0 | AR156: 8 | AT156: M | AU156: 2 | AY156: ROZPOCET | BE156: =IF(N156="základná",J156,0) -> 0 | BF156: =IF(N156="znížená",J156,0) -> 0 | BG156: =IF(N156="zákl. prenesená",J156,0) -> 0 | BH156: =IF(N156="zníž. prenesená",J156,0) -> 0 | BI156: =IF(N156="nulová",J156,0) -> 0 | BJ156: 2 | BK156: =ROUND(I156*H156,3) -> 0 | BL156: 4 | BM156: -1965864586
D157: D | E157: 9 | F157: Ostatné konštrukcie a práce-búranie | J157: =BK157 -> 0 | P157: =SUM(P158:P166) -> 0 | R157: =SUM(R158:R166) -> 19.431186 | T157: =SUM(T158:T166) -> 0 | AR157: 1 | AT157: D | AU157: 1 | AY157: ROZPOCET | BK157: =SUM(BK158:BK166) -> 0
C158: 21 | D158: K | E158: 917762111.S | F158: Osadenie chodník. obrubníka betónového ležatého do lôžka z betónu prosteho tr. C 12/15 s bočnou oporou | G158: m | H158: 83 | J158: =ROUND(I158*H158,3) -> 0 | N158: znížená | P158: =O158*H158 -> 0 | Q158: 0.16401 | R158: =Q158*H158 -> 13.61283 | S158: 0 | T158: =S158*H158 -> 0 | AR158: 4 | AT158: K | AU158: 2 | AY158: ROZPOCET | BE158: =IF(N158="základná",J158,0) -> 0 | BF158: =IF(N158="znížená",J158,0) -> 0 | BG158: =IF(N158="zákl. prenesená",J158,0) -> 0 | BH158: =IF(N158="zníž. prenesená",J158,0) -> 0 | BI158: =IF(N158="nulová",J158,0) -> 0 | BJ158: 2 | BK158: =ROUND(I158*H158,3) -> 0 | BL158: 4 | BM158: 578166059
C159: 22 | D159: M | E159: 592170001800.S | F159: Obrubník parkový, lxšxv 1000x50x200 mm, prírodný | G159: ks | H159: 79 | J159: =ROUND(I159*H159,3) -> 0 | N159: znížená | P159: =O159*H159 -> 0 | Q159: 0.023 | R159: =Q159*H159 -> 1.817 | S159: 0 | T159: =S159*H159 -> 0 | AR159: 8 | AT159: M | AU159: 2 | AY159: ROZPOCET | BE159: =IF(N159="základná",J159,0) -> 0 | BF159: =IF(N159="znížená",J159,0) -> 0 | BG159: =IF(N159="zákl. prenesená",J159,0) -> 0 | BH159: =IF(N159="zníž. prenesená",J159,0) -> 0 | BI159: =IF(N159="nulová",J159,0) -> 0 | BJ159: 2 | BK159: =ROUND(I159*H159,3) -> 0 | BL159: 4 | BM159: 100652834
C160: 23 | D160: M | E160: 592170003800.S | F160: Obrubník cestný so skosením, lxšxv 1000x150x250 mm, prírodný | G160: ks | H160: 4 | J160: =ROUND(I160*H160,3) -> 0 | N160: znížená | P160: =O160*H160 -> 0 | Q160: 0.081 | R160: =Q160*H160 -> 0.324 | S160: 0 | T160: =S160*H160 -> 0 | AR160: 8 | AT160: M | AU160: 2 | AY160: ROZPOCET | BE160: =IF(N160="základná",J160,0) -> 0 | BF160: =IF(N160="znížená",J160,0) -> 0 | BG160: =IF(N160="zákl. prenesená",J160,0) -> 0 | BH160: =IF(N160="zníž. prenesená",J160,0) -> 0 | BI160: =IF(N160="nulová",J160,0) -> 0 | BJ160: 2 | BK160: =ROUND(I160*H160,3) -> 0 | BL160: 4 | BM160: -1161144799
C161: 24 | D161: K | E161: 918101112.S | F161: Lôžko pod obrubníky, krajníky alebo obruby z dlažobných kociek z betónu prostého tr. C 16/20 | G161: m3 | H161: 1.66 | J161: =ROUND(I161*H161,3) -> 0 | N161: znížená | P161: =O161*H161 -> 0 | Q161: 2.21513 | R161: =Q161*H161 -> 3.6771158 | S161: 0 | T161: =S161*H161 -> 0 | AR161: 4 | AT161: K | AU161: 2 | AY161: ROZPOCET | BE161: =IF(N161="základná",J161,0) -> 0 | BF161: =IF(N161="znížená",J161,0) -> 0 | BG161: =IF(N161="zákl. prenesená",J161,0) -> 0 | BH161: =IF(N161="zníž. prenesená",J161,0) -> 0 | BI161: =IF(N161="nulová",J161,0) -> 0 | BJ161: 2 | BK161: =ROUND(I161*H161,3) -> 0 | BL161: 4 | BM161: 2040805942
C162: 25 | D162: K | E162: 919735122.S | F162: Rezanie existujúceho betónového krytu alebo podkladu hĺbky nad 50 do 100 mm | G162: m | H162: 6 | J162: =ROUND(I162*H162,3) -> 0 | N162: znížená | P162: =O162*H162 -> 0 | Q162: 4e-05 | R162: =Q162*H162 -> 0.00024 | S162: 0 | T162: =S162*H162 -> 0 | AR162: 4 | AT162: K | AU162: 2 | AY162: ROZPOCET | BE162: =IF(N162="základná",J162,0) -> 0 | BF162: =IF(N162="znížená",J162,0) -> 0 | BG162: =IF(N162="zákl. prenesená",J162,0) -> 0 | BH162: =IF(N162="zníž. prenesená",J162,0) -> 0 | BI162: =IF(N162="nulová",J162,0) -> 0 | BJ162: 2 | BK162: =ROUND(I162*H162,3) -> 0 | BL162: 4 | BM162: 800537444
C163: 26 | D163: K | E163: 938909311.S | F163: Odstránenie blata, prachu alebo hlineného nánosu, z povrchu podkladu alebo krytu bet. alebo asfalt. | G163: m2 | H163: 266 | J163: =ROUND(I163*H163,3) -> 0 | N163: znížená | P163: =O163*H163 -> 0 | Q163: 0 | R163: =Q163*H163 -> 0 | S163: 0 | T163: =S163*H163 -> 0 | AR163: 4 | AT163: K | AU163: 2 | AY163: ROZPOCET | BE163: =IF(N163="základná",J163,0) -> 0 | BF163: =IF(N163="znížená",J163,0) -> 0 | BG163: =IF(N163="zákl. prenesená",J163,0) -> 0 | BH163: =IF(N163="zníž. prenesená",J163,0) -> 0 | BI163: =IF(N163="nulová",J163,0) -> 0 | BJ163: 2 | BK163: =ROUND(I163*H163,3) -> 0 | BL163: 4 | BM163: -310085603
C164: 27 | D164: K | E164: 979084215.S | F164: Vodorovná doprava vybúraných hmôt po suchu bez naloženia, ale so zložením na vzdialenosť do 3 km | G164: t | H164: 31.708 | J164: =ROUND(I164*H164,3) -> 0 | N164: znížená | P164: =O164*H164 -> 0 | Q164: 0 | R164: =Q164*H164 -> 0 | S164: 0 | T164: =S164*H164 -> 0 | AR164: 4 | AT164: K | AU164: 2 | AY164: ROZPOCET | BE164: =IF(N164="základná",J164,0) -> 0 | BF164: =IF(N164="znížená",J164,0) -> 0 | BG164: =IF(N164="zákl. prenesená",J164,0) -> 0 | BH164: =IF(N164="zníž. prenesená",J164,0) -> 0 | BI164: =IF(N164="nulová",J164,0) -> 0 | BJ164: 2 | BK164: =ROUND(I164*H164,3) -> 0 | BL164: 4 | BM164: -211347672
C165: 28 | D165: K | E165: 979087212.S | F165: Nakladanie na dopravné prostriedky pre vodorovnú dopravu sutiny | G165: t | H165: 31.708 | J165: =ROUND(I165*H165,3) -> 0 | N165: znížená | P165: =O165*H165 -> 0 | Q165: 0 | R165: =Q165*H165 -> 0 | S165: 0 | T165: =S165*H165 -> 0 | AR165: 4 | AT165: K | AU165: 2 | AY165: ROZPOCET | BE165: =IF(N165="základná",J165,0) -> 0 | BF165: =IF(N165="znížená",J165,0) -> 0 | BG165: =IF(N165="zákl. prenesená",J165,0) -> 0 | BH165: =IF(N165="zníž. prenesená",J165,0) -> 0 | BI165: =IF(N165="nulová",J165,0) -> 0 | BJ165: 2 | BK165: =ROUND(I165*H165,3) -> 0 | BL165: 4 | BM165: -1432619928
C166: 29 | D166: K | E166: 979089212.S | F166: Poplatok za skladovanie - bitúmenové zmesi, uholný decht, dechtové výrobky (17 03 ), ostatné | G166: t | H166: 31.708 | J166: =ROUND(I166*H166,3) -> 0 | N166: znížená | P166: =O166*H166 -> 0 | Q166: 0 | R166: =Q166*H166 -> 0 | S166: 0 | T166: =S166*H166 -> 0 | AR166: 4 | AT166: K | AU166: 2 | AY166: ROZPOCET | BE166: =IF(N166="základná",J166,0) -> 0 | BF166: =IF(N166="znížená",J166,0) -> 0 | BG166: =IF(N166="zákl. prenesená",J166,0) -> 0 | BH166: =IF(N166="zníž. prenesená",J166,0) -> 0 | BI166: =IF(N166="nulová",J166,0) -> 0 | BJ166: 2 | BK166: =ROUND(I166*H166,3) -> 0 | BL166: 4 | BM166: 107998759
...

Sheet 08 - Rekonštrukcia  chodn...
L2: >> skryté stĺpce << | AT2: {b9de30e3-775c-4c9d-9c8c-3de204e2f8d8}
AT3: 0
D4: KRYCÍ LIST ROZPOČTU | M4: v --- nižšie sa nachádzajú doplnkové a pomocné údaje k zostavám --- v | AT4: False
D6: Stavba:
E7: ='Rekapitulácia stavby'!K6 -> Rekonštrukcia mestských chodníkov a spevnených plôch
D8: Objekt:
E9: 08 - Rekonštrukcia chodníka vedľa zdravotníckeho zariadenia - Námestie mieru i (plocha 58 m2)
D11: JKSO: | I11: KS:
D12: Miesto: | F12: Trebišov | I12: Dátum: | J12: ='Rekapitulácia stavby'!AN8 -> 13. 8. 2020
D14: Objednávateľ: | I14: IČO:
E15: Mesto Trebišov | I15: IČ DPH:
D17: Zhotoviteľ: | I17: IČO: | J17: ='Rekapitulácia stavby'!AN13 -> Vyplň údaj
E18: ='Rekapitulácia stavby'!E14 -> Vyplň údaj | I18: IČ DPH: | J18: ='Rekapitulácia stavby'!AN14 -> Vyplň údaj
D20: Projektant: | I20: IČO: | J20: =IF('Rekapitulácia stavby'!AN16="","",'Rekapitulácia stavby'!AN16)
E21: =IF('Rekapitulácia stavby'!E17="","",'Rekapitulácia stavby'!E17) | I21: IČ DPH: | J21: =IF('Rekapitulácia stavby'!AN17="","",'Rekapitulácia stavby'!AN17)
D23: Spracovateľ: | I23: IČO: | J23: =IF('Rekapitulácia stavby'!AN19="","",'Rekapitulácia stavby'!AN19)
E24: =IF('Rekapitulácia stavby'!E20="","",'Rekapitulácia stavby'!E20) | I24: IČ DPH: | J24: =IF('Rekapitulácia stavby'!AN20="","",'Rekapitulácia stavby'!AN20)
D26: Poznámka:
D30: Náklady z rozpočtu | J30: =J96 -> 0
D31: Ostatné náklady | J31: =J103 -> 0
D32: Cena bez DPH | J32: =ROUND(J30 + J31, 2) -> 0
F34: Základ dane | I34: Sadzba dane | J34: Výška dane
D35: DPH | E35: základná | F35: =ROUND((SUM(BE103:BE110) + SUM(BE130:BE138)), 2) -> 0 | I35: 0.2 | J35: =ROUND(((SUM(BE103:BE110) + SUM(BE130:BE138))*I35), 2) -> 0
E36: znížená | F36: =ROUND((SUM(BF103:BF110) + SUM(BF130:BF138)), 2) -> 0 | I36: 0.2 | J36: =ROUND(((SUM(BF103:BF110) + SUM(BF130:BF138))*I36), 2) -> 0
E37: zákl. prenesená | F37: =ROUND((SUM(BG103:BG110) + SUM(BG130:BG138)), 2) -> 0 | I37: 0.2 | J37: =0 -> 0
E38: zníž. prenesená | F38: =ROUND((SUM(BH103:BH110) + SUM(BH130:BH138)), 2) -> 0 | I38: 0.2 | J38: =0 -> 0
E39: nulová | F39: =ROUND((SUM(BI103:BI110) + SUM(BI130:BI138)), 2) -> 0 | I39: 0 | J39: =0 -> 0
D41: Cena s DPH | G41: v | H41: EUR | J41: =SUM(J32:J39) -> 0
D50: Projektant | G50: Spracovateľ
D61: Dátum a podpis: | F61: Pečiatka | G61: Dátum a podpis: | J61: Pečiatka
D65: Objednávateľ | G65: Zhotoviteľ
D76: Dátum a podpis: | F76: Pečiatka | G76: Dátum a podpis: | J76: Pečiatka
C82: REKAPITULÁCIA ROZPOČTU
C84: Stavba:
E85: =E7 -> Rekonštrukcia mestských chodníkov a spevnených plôch
C86: Objekt:
E87: =E9 -> 08 - Rekonštrukcia chodníka vedľa zdravotníckeho zariadenia - Námestie mieru i (plocha 58 m2)
C89: Miesto: | F89: =F12 -> Trebišov | I89: Dátum: | J89: =IF(J12="","",J12) -> 13. 8. 2020
C91: Objednávateľ: | F91: =E15 -> Mesto Trebišov | I91: Projektant: | J91: =E21
C92: Zhotoviteľ: | F92: =IF(E18="","",E18) -> Vyplň údaj | I92: Spracovateľ: | J92: =E24
C94: Kód dielu - Popis | J94: Cena celkom [EUR]
C96: 1) Náklady z rozpočtu | J96: =J130 -> 0 | AU96: -1
D97: HSV - Práce a dodávky HSV | J97: =J131 -> 0
D98: 5 - Komunikácie | J98: =J132 -> 0
D99: 9 - Ostatné konštrukcie a práce-búranie | J99: =J135 -> 0
D100: 99 - Presun hmôt HSV | J100: =J137 -> 0
C103: 2) Ostatné náklady | J103: =ROUND(J104 + J105 + J106 + J107 + J108 + J109,2) -> 0 | N103: DPH
D104: Zariad. staveniska | J104: 0 | N104: znížená | AY104: VRN | BE104: =IF(N104="základná",J104,0) -> 0 | BF104: =IF(N104="znížená",J104,0) -> 0 | BG104: =IF(N104="zákl. prenesená",J104,0) -> 0 | BH104: =IF(N104="zníž. prenesená",J104,0) -> 0 | BI104: =IF(N104="nulová",J104,0) -> 0 | BJ104: 2
D105: Mimostav. doprava | J105: 0 | N105: znížená | AY105: VRN | BE105: =IF(N105="základná",J105,0) -> 0 | BF105: =IF(N105="znížená",J105,0) -> 0 | BG105: =IF(N105="zákl. prenesená",J105,0) -> 0 | BH105: =IF(N105="zníž. prenesená",J105,0) -> 0 | BI105: =IF(N105="nulová",J105,0) -> 0 | BJ105: 2
D106: Územné vplyvy | J106: 0 | N106: znížená | AY106: VRN | BE106: =IF(N106="základná",J106,0) -> 0 | BF106: =IF(N106="znížená",J106,0) -> 0 | BG106: =IF(N106="zákl. prenesená",J106,0) -> 0 | BH106: =IF(N106="zníž. prenesená",J106,0) -> 0 | BI106: =IF(N106="nulová",J106,0) -> 0 | BJ106: 2
D107: Prevádzkové vplyvy | J107: 0 | N107: znížená | AY107: VRN | BE107: =IF(N107="základná",J107,0) -> 0 | BF107: =IF(N107="znížená",J107,0) -> 0 | BG107: =IF(N107="zákl. prenesená",J107,0) -> 0 | BH107: =IF(N107="zníž. prenesená",J107,0) -> 0 | BI107: =IF(N107="nulová",J107,0) -> 0 | BJ107: 2
D108: Ostatné | J108: 0 | N108: znížená | AY108: VRN | BE108: =IF(N108="základná",J108,0) -> 0 | BF108: =IF(N108="znížená",J108,0) -> 0 | BG108: =IF(N108="zákl. prenesená",J108,0) -> 0 | BH108: =IF(N108="zníž. prenesená",J108,0) -> 0 | BI108: =IF(N108="nulová",J108,0) -> 0 | BJ108: 2
D109: Kompletačná činnosť | J109: =ROUND(J30*T109,2) -> 0 | N109: znížená | AY109: KOMPLETACNA | BE109: =IF(N109="základná",J109,0) -> 0 | BF109: =IF(N109="znížená",J109,0) -> 0 | BG109: =IF(N109="zákl. prenesená",J109,0) -> 0 | BH109: =IF(N109="zníž. prenesená",J109,0) -> 0 | BI109: =IF(N109="nulová",J109,0) -> 0 | BJ109: 2
C111: Celkové náklady za stavbu 1) + 2) | J111: =ROUND(J96+J103,2) -> 0
C117: ROZPOČET
C119: Stavba:
E120: =E7 -> Rekonštrukcia mestských chodníkov a spevnených plôch
C121: Objekt:
E122: =E9 -> 08 - Rekonštrukcia chodníka vedľa zdravotníckeho zariadenia - Námestie mieru i (plocha 58 m2)
C124: Miesto: | F124: =F12 -> Trebišov | I124: Dátum: | J124: =IF(J12="","",J12) -> 13. 8. 2020
C126: Objednávateľ: | F126: =E15 -> Mesto Trebišov | I126: Projektant: | J126: =E21
C127: Zhotoviteľ: | F127: =IF(E18="","",E18) -> Vyplň údaj | I127: Spracovateľ: | J127: =E24
C129: PČ | D129: Typ | E129: Kód | F129: Popis | G129: MJ | H129: Množstvo | I129: J.cena [EUR] | J129: Cena celkom [EUR] | K129: Cenová sústava | N129: DPH | O129: J. Nh [h] | P129: Nh celkom [h] | Q129: J. hmotnosť [t] | R129: Hmotnosť celkom [t] | S129: J. suť [t] | T129: Suť Celkom [t]
C130: Náklady z rozpočtu | J130: =BK130 -> 0 | P130: =P131 -> 0 | R130: =R131 -> 4.1656 | T130: =T131 -> 0 | AT130: D | AU130: -1 | BK130: =BK131 -> 0
D131: D | E131: HSV | F131: Práce a dodávky HSV | J131: =BK131 -> 0 | P131: =P132+P135+P137 -> 0 | R131: =R132+R135+R137 -> 4.1656 | T131: =T132+T135+T137 -> 0 | AR131: 1 | AT131: D | AU131: 0 | AY131: ROZPOCET | BK131: =BK132+BK135+BK137 -> 0
D132: D | E132: 5 | F132: Komunikácie | J132: =BK132 -> 0 | P132: =SUM(P133:P134) -> 0 | R132: =SUM(R133:R134) -> 4.1656 | T132: =SUM(T133:T134) -> 0 | AR132: 1 | AT132: D | AU132: 1 | AY132: ROZPOCET | BK132: =SUM(BK133:BK134) -> 0
C133: 1 | D133: K | E133: 573211107.S | F133: Postrek asfaltový spojovací bez posypu kamenivom z asfaltu cestného v množstve 0,40 kg/m2 | G133: m2 | H133: 40 | J133: =ROUND(I133*H133,3) -> 0 | N133: znížená | P133: =O133*H133 -> 0 | Q133: 0.00041 | R133: =Q133*H133 -> 0.0164 | S133: 0 | T133: =S133*H133 -> 0 | AR133: 4 | AT133: K | AU133: 2 | AY133: ROZPOCET | BE133: =IF(N133="základná",J133,0) -> 0 | BF133: =IF(N133="znížená",J133,0) -> 0 | BG133: =IF(N133="zákl. prenesená",J133,0) -> 0 | BH133: =IF(N133="zníž. prenesená",J133,0) -> 0 | BI133: =IF(N133="nulová",J133,0) -> 0 | BJ133: 2 | BK133: =ROUND(I133*H133,3) -> 0 | BL133: 4 | BM133: 231872487
C134: 2 | D134: K | E134: 577134211.S | F134: Asfaltový betón vrstva obrusná AC 11 O v pruhu š. do 3 m z nemodifik. asfaltu tr. I, po zhutnení hr. 40 mm | G134: m2 | H134: 40 | J134: =ROUND(I134*H134,3) -> 0 | N134: znížená | P134: =O134*H134 -> 0 | Q134: 0.10373 | R134: =Q134*H134 -> 4.1492 | S134: 0 | T134: =S134*H134 -> 0 | AR134: 4 | AT134: K | AU134: 2 | AY134: ROZPOCET | BE134: =IF(N134="základná",J134,0) -> 0 | BF134: =IF(N134="znížená",J134,0) -> 0 | BG134: =IF(N134="zákl. prenesená",J134,0) -> 0 | BH134: =IF(N134="zníž. prenesená",J134,0) -> 0 | BI134: =IF(N134="nulová",J134,0) -> 0 | BJ134: 2 | BK134: =ROUND(I134*H134,3) -> 0 | BL134: 4 | BM134: -1753218231
D135: D | E135: 9 | F135: Ostatné konštrukcie a práce-búranie | J135: =BK135 -> 0 | P135: =P136 -> 0 | R135: =R136 -> 0 | T135: =T136 -> 0 | AR135: 1 | AT135: D | AU135: 1 | AY135: ROZPOCET | BK135: =BK136 -> 0
C136: 3 | D136: K | E136: 919735111.S | F136: Rezanie existujúceho asfaltového krytu alebo podkladu hĺbky do 50 mm | G136: m | H136: 4 | J136: =ROUND(I136*H136,3) -> 0 | N136: znížená | P136: =O136*H136 -> 0 | Q136: 0 | R136: =Q136*H136 -> 0 | S136: 0 | T136: =S136*H136 -> 0 | AR136: 4 | AT136: K | AU136: 2 | AY136: ROZPOCET | BE136: =IF(N136="základná",J136,0) -> 0 | BF136: =IF(N136="znížená",J136,0) -> 0 | BG136: =IF(N136="zákl. prenesená",J136,0) -> 0 | BH136: =IF(N136="zníž. prenesená",J136,0) -> 0 | BI136: =IF(N136="nulová",J136,0) -> 0 | BJ136: 2 | BK136: =ROUND(I136*H136,3) -> 0 | BL136: 4 | BM136: 1736507938
D137: D | E137: 99 | F137: Presun hmôt HSV | J137: =BK137 -> 0 | P137: =P138 -> 0 | R137: =R138 -> 0 | T137: =T138 -> 0 | AR137: 1 | AT137: D | AU137: 1 | AY137: ROZPOCET | BK137: =BK138 -> 0
C138: 4 | D138: K | E138: 998225111.S | F138: Presun hmôt pre pozemnú komunikáciu a letisko s krytom asfaltovým akejkoľvek dĺžky objektu | G138: t | H138: 4.166 | J138: =ROUND(I138*H138,3) -> 0 | N138: znížená | P138: =O138*H138 -> 0 | Q138: 0 | R138: =Q138*H138 -> 0 | S138: 0 | T138: =S138*H138 -> 0 | AR138: 4 | AT138: K | AU138: 2 | AY138: ROZPOCET | BE138: =IF(N138="základná",J138,0) -> 0 | BF138: =IF(N138="znížená",J138,0) -> 0 | BG138: =IF(N138="zákl. prenesená",J138,0) -> 0 | BH138: =IF(N138="zníž. prenesená",J138,0) -> 0 | BI138: =IF(N138="nulová",J138,0) -> 0 | BJ138: 2 | BK138: =ROUND(I138*H138,3) -> 0 | BL138: 4 | BM138: 714941160

Sheet 09 - Ulica Berehovská - r...
L2: >> skryté stĺpce << | AT2: {257cf229-a098-4101-8532-e274247b95a6}
AT3: 0
D4: KRYCÍ LIST ROZPOČTU | M4: v --- nižšie sa nachádzajú doplnkové a pomocné údaje k zostavám --- v | AT4: False
D6: Stavba:
E7: ='Rekapitulácia stavby'!K6 -> Rekonštrukcia mestských chodníkov a spevnených plôch
D8: Objekt:
E9: 09 - Ulica Berehovská - rekonštrukcia chodníkov, nové odstavné plochy (plocha 1125 m2)
D11: JKSO: | I11: KS:
D12: Miesto: | F12: Trebišov | I12: Dátum: | J12: ='Rekapitulácia stavby'!AN8 -> 13. 8. 2020
D14: Objednávateľ: | I14: IČO:
E15: Mesto Trebišov | I15: IČ DPH:
D17: Zhotoviteľ: | I17: IČO: | J17: ='Rekapitulácia stavby'!AN13 -> Vyplň údaj
E18: ='Rekapitulácia stavby'!E14 -> Vyplň údaj | I18: IČ DPH: | J18: ='Rekapitulácia stavby'!AN14 -> Vyplň údaj
D20: Projektant: | I20: IČO: | J20: =IF('Rekapitulácia stavby'!AN16="","",'Rekapitulácia stavby'!AN16)
E21: =IF('Rekapitulácia stavby'!E17="","",'Rekapitulácia stavby'!E17) | I21: IČ DPH: | J21: =IF('Rekapitulácia stavby'!AN17="","",'Rekapitulácia stavby'!AN17)
D23: Spracovateľ: | I23: IČO: | J23: =IF('Rekapitulácia stavby'!AN19="","",'Rekapitulácia stavby'!AN19)
E24: =IF('Rekapitulácia stavby'!E20="","",'Rekapitulácia stavby'!E20) | I24: IČ DPH: | J24: =IF('Rekapitulácia stavby'!AN20="","",'Rekapitulácia stavby'!AN20)
D26: Poznámka:
D30: Náklady z rozpočtu | J30: =J96 -> 0
D31: Ostatné náklady | J31: =J104 -> 0
D32: Cena bez DPH | J32: =ROUND(J30 + J31, 2) -> 0
F34: Základ dane | I34: Sadzba dane | J34: Výška dane
D35: DPH | E35: základná | F35: =ROUND((SUM(BE104:BE111) + SUM(BE131:BE153)), 2) -> 0 | I35: 0.2 | J35: =ROUND(((SUM(BE104:BE111) + SUM(BE131:BE153))*I35), 2) -> 0
E36: znížená | F36: =ROUND((SUM(BF104:BF111) + SUM(BF131:BF153)), 2) -> 0 | I36: 0.2 | J36: =ROUND(((SUM(BF104:BF111) + SUM(BF131:BF153))*I36), 2) -> 0
E37: zákl. prenesená | F37: =ROUND((SUM(BG104:BG111) + SUM(BG131:BG153)), 2) -> 0 | I37: 0.2 | J37: =0 -> 0
E38: zníž. prenesená | F38: =ROUND((SUM(BH104:BH111) + SUM(BH131:BH153)), 2) -> 0 | I38: 0.2 | J38: =0 -> 0
E39: nulová | F39: =ROUND((SUM(BI104:BI111) + SUM(BI131:BI153)), 2) -> 0 | I39: 0 | J39: =0 -> 0
D41: Cena s DPH | G41: v | H41: EUR | J41: =SUM(J32:J39) -> 0
D50: Projektant | G50: Spracovateľ
D61: Dátum a podpis: | F61: Pečiatka | G61: Dátum a podpis: | J61: Pečiatka
D65: Objednávateľ | G65: Zhotoviteľ
D76: Dátum a podpis: | F76: Pečiatka | G76: Dátum a podpis: | J76: Pečiatka
C82: REKAPITULÁCIA ROZPOČTU
C84: Stavba:
E85: =E7 -> Rekonštrukcia mestských chodníkov a spevnených plôch
C86: Objekt:
E87: =E9 -> 09 - Ulica Berehovská - rekonštrukcia chodníkov, nové odstavné plochy (plocha 1125 m2)
C89: Miesto: | F89: =F12 -> Trebišov | I89: Dátum: | J89: =IF(J12="","",J12) -> 13. 8. 2020
C91: Objednávateľ: | F91: =E15 -> Mesto Trebišov | I91: Projektant: | J91: =E21
C92: Zhotoviteľ: | F92: =IF(E18="","",E18) -> Vyplň údaj | I92: Spracovateľ: | J92: =E24
C94: Kód dielu - Popis | J94: Cena celkom [EUR]
C96: 1) Náklady z rozpočtu | J96: =J131 -> 0 | AU96: -1
D97: HSV - Práce a dodávky HSV | J97: =J132 -> 0
D98: 1 - Zemné práce | J98: =J133 -> 0
D99: 5 - Komunikácie | J99: =J137 -> 0
D100: 9 - Ostatné konštrukcie a práce-búranie | J100: =J143 -> 0
D101: 99 - Presun hmôt HSV | J101: =J152 -> 0
C104: 2) Ostatné náklady | J104: =ROUND(J105 + J106 + J107 + J108 + J109 + J110,2) -> 0 | N104: DPH
D105: Zariad. staveniska | J105: 0 | N105: znížená | AY105: VRN | BE105: =IF(N105="základná",J105,0) -> 0 | BF105: =IF(N105="znížená",J105,0) -> 0 | BG105: =IF(N105="zákl. prenesená",J105,0) -> 0 | BH105: =IF(N105="zníž. prenesená",J105,0) -> 0 | BI105: =IF(N105="nulová",J105,0) -> 0 | BJ105: 2
D106: Mimostav. doprava | J106: 0 | N106: znížená | AY106: VRN | BE106: =IF(N106="základná",J106,0) -> 0 | BF106: =IF(N106="znížená",J106,0) -> 0 | BG106: =IF(N106="zákl. prenesená",J106,0) -> 0 | BH106: =IF(N106="zníž. prenesená",J106,0) -> 0 | BI106: =IF(N106="nulová",J106,0) -> 0 | BJ106: 2
D107: Územné vplyvy | J107: 0 | N107: znížená | AY107: VRN | BE107: =IF(N107="základná",J107,0) -> 0 | BF107: =IF(N107="znížená",J107,0) -> 0 | BG107: =IF(N107="zákl. prenesená",J107,0) -> 0 | BH107: =IF(N107="zníž. prenesená",J107,0) -> 0 | BI107: =IF(N107="nulová",J107,0) -> 0 | BJ107: 2
D108: Prevádzkové vplyvy | J108: 0 | N108: znížená | AY108: VRN | BE108: =IF(N108="základná",J108,0) -> 0 | BF108: =IF(N108="znížená",J108,0) -> 0 | BG108: =IF(N108="zákl. prenesená",J108,0) -> 0 | BH108: =IF(N108="zníž. prenesená",J108,0) -> 0 | BI108: =IF(N108="nulová",J108,0) -> 0 | BJ108: 2
D109: Ostatné | J109: 0 | N109: znížená | AY109: VRN | BE109: =IF(N109="základná",J109,0) -> 0 | BF109: =IF(N109="znížená",J109,0) -> 0 | BG109: =IF(N109="zákl. prenesená",J109,0) -> 0 | BH109: =IF(N109="zníž. prenesená",J109,0) -> 0 | BI109: =IF(N109="nulová",J109,0) -> 0 | BJ109: 2
D110: Kompletačná činnosť | J110: =ROUND(J30*T110,2) -> 0 | N110: znížená | AY110: KOMPLETACNA | BE110: =IF(N110="základná",J110,0) -> 0 | BF110: =IF(N110="znížená",J110,0) -> 0 | BG110: =IF(N110="zákl. prenesená",J110,0) -> 0 | BH110: =IF(N110="zníž. prenesená",J110,0) -> 0 | BI110: =IF(N110="nulová",J110,0) -> 0 | BJ110: 2
C112: Celkové náklady za stavbu 1) + 2) | J112: =ROUND(J96+J104,2) -> 0
C118: ROZPOČET
C120: Stavba:
E121: =E7 -> Rekonštrukcia mestských chodníkov a spevnených plôch
C122: Objekt:
E123: =E9 -> 09 - Ulica Berehovská - rekonštrukcia chodníkov, nové odstavné plochy (plocha 1125 m2)
C125: Miesto: | F125: =F12 -> Trebišov | I125: Dátum: | J125: =IF(J12="","",J12) -> 13. 8. 2020
C127: Objednávateľ: | F127: =E15 -> Mesto Trebišov | I127: Projektant: | J127: =E21
C128: Zhotoviteľ: | F128: =IF(E18="","",E18) -> Vyplň údaj | I128: Spracovateľ: | J128: =E24
C130: PČ | D130: Typ | E130: Kód | F130: Popis | G130: MJ | H130: Množstvo | I130: J.cena [EUR] | J130: Cena celkom [EUR] | K130: Cenová sústava | N130: DPH | O130: J. Nh [h] | P130: Nh celkom [h] | Q130: J. hmotnosť [t] | R130: Hmotnosť celkom [t] | S130: J. suť [t] | T130: Suť Celkom [t]
C131: Náklady z rozpočtu | J131: =BK131 -> 0 | P131: =P132 -> 0 | R131: =R132 -> 159.49483 | T131: =T132 -> 89.942 | AT131: D | AU131: -1 | BK131: =BK132 -> 0
D132: D | E132: HSV | F132: Práce a dodávky HSV | J132: =BK132 -> 0 | P132: =P133+P137+P143+P152 -> 0 | R132: =R133+R137+R143+R152 -> 159.49483 | T132: =T133+T137+T143+T152 -> 89.942 | AR132: 1 | AT132: D | AU132: 0 | AY132: ROZPOCET | BK132: =BK133+BK137+BK143+BK152 -> 0
D133: D | E133: 1 | F133: Zemné práce | J133: =BK133 -> 0 | P133: =SUM(P134:P136) -> 0 | R133: =SUM(R134:R136) -> 0.00294 | T133: =SUM(T134:T136) -> 89.942 | AR133: 1 | AT133: D | AU133: 1 | AY133: ROZPOCET | BK133: =SUM(BK134:BK136) -> 0
C134: 1 | D134: K | E134: 113107141.S | F134: Odstránenie krytu v ploche do 200 m2 asfaltového, hr. vrstvy do 50 mm, -0,09800t | G134: m2 | H134: 806 | J134: =ROUND(I134*H134,3) -> 0 | N134: znížená | P134: =O134*H134 -> 0 | Q134: 0 | R134: =Q134*H134 -> 0 | S134: 0.098 | T134: =S134*H134 -> 78.988 | AR134: 4 | AT134: K | AU134: 2 | AY134: ROZPOCET | BE134: =IF(N134="základná",J134,0) -> 0 | BF134: =IF(N134="znížená",J134,0) -> 0 | BG134: =IF(N134="zákl. prenesená",J134,0) -> 0 | BH134: =IF(N134="zníž. prenesená",J134,0) -> 0 | BI134: =IF(N134="nulová",J134,0) -> 0 | BJ134: 2 | BK134: =ROUND(I134*H134,3) -> 0 | BL134: 4 | BM134: 1390724994
C135: 2 | D135: K | E135: 113152120.S | F135: Frézovanie asf. podkladu alebo krytu bez prek., plochy do 500 m2, pruh š. do 0,5 m, hr. 40 mm 0,102 t | G135: m2 | H135: 42 | J135: =ROUND(I135*H135,3) -> 0 | N135: znížená | P135: =O135*H135 -> 0 | Q135: 7e-05 | R135: =Q135*H135 -> 0.00294 | S135: 0.102 | T135: =S135*H135 -> 4.284 | AR135: 4 | AT135: K | AU135: 2 | AY135: ROZPOCET | BE135: =IF(N135="základná",J135,0) -> 0 | BF135: =IF(N135="znížená",J135,0) -> 0 | BG135: =IF(N135="zákl. prenesená",J135,0) -> 0 | BH135: =IF(N135="zníž. prenesená",J135,0) -> 0 | BI135: =IF(N135="nulová",J135,0) -> 0 | BJ135: 2 | BK135: =ROUND(I135*H135,3) -> 0 | BL135: 4 | BM135: -935777536
C136: 3 | D136: K | E136: 113205111.S | F136: Vytrhanie obrúb betónových, chodníkových ležatých, -0,23000t | G136: m | H136: 29 | J136: =ROUND(I136*H136,3) -> 0 | N136: znížená | P136: =O136*H136 -> 0 | Q136: 0 | R136: =Q136*H136 -> 0 | S136: 0.23 | T136: =S136*H136 -> 6.67 | AR136: 4 | AT136: K | AU136: 2 | AY136: ROZPOCET | BE136: =IF(N136="základná",J136,0) -> 0 | BF136: =IF(N136="znížená",J136,0) -> 0 | BG136: =IF(N136="zákl. prenesená",J136,0) -> 0 | BH136: =IF(N136="zníž. prenesená",J136,0) -> 0 | BI136: =IF(N136="nulová",J136,0) -> 0 | BJ136: 2 | BK136: =ROUND(I136*H136,3) -> 0 | BL136: 4 | BM136: 1647099979
D137: D | E137: 5 | F137: Komunikácie | J137: =BK137 -> 0 | P137: =SUM(P138:P142) -> 0 | R137: =SUM(R138:R142) -> 152.78383 | T137: =SUM(T138:T142) -> 0 | AR137: 1 | AT137: D | AU137: 1 | AY137: ROZPOCET | BK137: =SUM(BK138:BK142) -> 0
C138: 4 | D138: K | E138: 566902161.S | F138: Vyspravenie podkladu podkladovým betónom PB I tr. C 20/25 hr. 50 mm | G138: m2 | H138: 69 | J138: =ROUND(I138*H138,3) -> 0 | N138: znížená | P138: =O138*H138 -> 0 | Q138: 0.22763 | R138: =Q138*H138 -> 15.70647 | S138: 0 | T138: =S138*H138 -> 0 | AR138: 4 | AT138: K | AU138: 2 | AY138: ROZPOCET | BE138: =IF(N138="základná",J138,0) -> 0 | BF138: =IF(N138="znížená",J138,0) -> 0 | BG138: =IF(N138="zákl. prenesená",J138,0) -> 0 | BH138: =IF(N138="zníž. prenesená",J138,0) -> 0 | BI138: =IF(N138="nulová",J138,0) -> 0 | BJ138: 2 | BK138: =ROUND(I138*H138,3) -> 0 | BL138: 4 | BM138: -993742877
C139: 5 | D139: K | E139: 572754111.S | F139: Vyrovnanie povrchu doterajších krytov asfaltovým betónom AC hr. od 20 do 40 mm | G139: m2 | H139: 142 | J139: =ROUND(I139*H139,3) -> 0 | N139: znížená | P139: =O139*H139 -> 0 | Q139: 0.10434 | R139: =Q139*H139 -> 14.81628 | S139: 0 | T139: =S139*H139 -> 0 | AR139: 4 | AT139: K | AU139: 2 | AY139: ROZPOCET | BE139: =IF(N139="základná",J139,0) -> 0 | BF139: =IF(N139="znížená",J139,0) -> 0 | BG139: =IF(N139="zákl. prenesená",J139,0) -> 0 | BH139: =IF(N139="zníž. prenesená",J139,0) -> 0 | BI139: =IF(N139="nulová",J139,0) -> 0 | BJ139: 2 | BK139: =ROUND(I139*H139,3) -> 0 | BL139: 4 | BM139: 705778608
C140: 6 | D140: K | E140: 573211107.S | F140: Postrek asfaltový spojovací bez posypu kamenivom z asfaltu cestného v množstve 0,40 kg/m2 | G140: m2 | H140: 670 | J140: =ROUND(I140*H140,3) -> 0 | N140: znížená | P140: =O140*H140 -> 0 | Q140: 0.00041 | R140: =Q140*H140 -> 0.2747 | S140: 0 | T140: =S140*H140 -> 0 | AR140: 4 | AT140: K | AU140: 2 | AY140: ROZPOCET | BE140: =IF(N140="základná",J140,0) -> 0 | BF140: =IF(N140="znížená",J140,0) -> 0 | BG140: =IF(N140="zákl. prenesená",J140,0) -> 0 | BH140: =IF(N140="zníž. prenesená",J140,0) -> 0 | BI140: =IF(N140="nulová",J140,0) -> 0 | BJ140: 2 | BK140: =ROUND(I140*H140,3) -> 0 | BL140: 4 | BM140: 231872487
C141: 7 | D141: K | E141: 577134211.S | F141: Asfaltový betón vrstva obrusná AC 11 O v pruhu š. do 3 m z nemodifik. asfaltu tr. I, po zhutnení hr. 40 mm | G141: m2 | H141: 1125 | J141: =ROUND(I141*H141,3) -> 0 | N141: znížená | P141: =O141*H141 -> 0 | Q141: 0.10373 | R141: =Q141*H141 -> 116.69625 | S141: 0 | T141: =S141*H141 -> 0 | AR141: 4 | AT141: K | AU141: 2 | AY141: ROZPOCET | BE141: =IF(N141="základná",J141,0) -> 0 | BF141: =IF(N141="znížená",J141,0) -> 0 | BG141: =IF(N141="zákl. prenesená",J141,0) -> 0 | BH141: =IF(N141="zníž. prenesená",J141,0) -> 0 | BI141: =IF(N141="nulová",J141,0) -> 0 | BJ141: 2 | BK141: =ROUND(I141*H141,3) -> 0 | BL141: 4 | BM141: -1753218231
C142: 8 | D142: K | E142: 577144311.S | F142: Asfaltový betón vrstva podkladná obrusná alebo ložná AC 16 v pruhu š. do 3 m z nemodifik. asfaltu tr. I, po zhutnení hr. 50 mm | G142: m2 | H142: 40.8 | J142: =ROUND(I142*H142,3) -> 0 | N142: znížená | P142: =O142*H142 -> 0 | Q142: 0.12966 | R142: =Q142*H142 -> 5.290128 | S142: 0 | T142: =S142*H142 -> 0 | AR142: 4 | AT142: K | AU142: 2 | AY142: ROZPOCET | BE142: =IF(N142="základná",J142,0) -> 0 | BF142: =IF(N142="znížená",J142,0) -> 0 | BG142: =IF(N142="zákl. prenesená",J142,0) -> 0 | BH142: =IF(N142="zníž. prenesená",J142,0) -> 0 | BI142: =IF(N142="nulová",J142,0) -> 0 | BJ142: 2 | BK142: =ROUND(I142*H142,3) -> 0 | BL142: 4 | BM142: -1262354124
D143: D | E143: 9 | F143: Ostatné konštrukcie a práce-búranie | J143: =BK143 -> 0 | P143: =SUM(P144:P151) -> 0 | R143: =SUM(R144:R151) -> 6.7080654 | T143: =SUM(T144:T151) -> 0 | AR143: 1 | AT143: D | AU143: 1 | AY143: ROZPOCET | BK143: =SUM(BK144:BK151) -> 0
C144: 9 | D144: K | E144: 917762111.S | F144: Osadenie chodník. obrubníka betónového ležatého do lôžka z betónu prosteho tr. C 12/15 s bočnou oporou | G144: m | H144: 29 | J144: =ROUND(I144*H144,3) -> 0 | N144: znížená | P144: =O144*H144 -> 0 | Q144: 0.16401 | R144: =Q144*H144 -> 4.75629 | S144: 0 | T144: =S144*H144 -> 0 | AR144: 4 | AT144: K | AU144: 2 | AY144: ROZPOCET | BE144: =IF(N144="základná",J144,0) -> 0 | BF144: =IF(N144="znížená",J144,0) -> 0 | BG144: =IF(N144="zákl. prenesená",J144,0) -> 0 | BH144: =IF(N144="zníž. prenesená",J144,0) -> 0 | BI144: =IF(N144="nulová",J144,0) -> 0 | BJ144: 2 | BK144: =ROUND(I144*H144,3) -> 0 | BL144: 4 | BM144: -1646502930
C145: 10 | D145: M | E145: 592170001800.S | F145: Obrubník parkový, lxšxv 1000x50x200 mm, prírodný | G145: ks | H145: 29 | J145: =ROUND(I145*H145,3) -> 0 | N145: znížená | P145: =O145*H145 -> 0 | Q145: 0.023 | R145: =Q145*H145 -> 0.667 | S145: 0 | T145: =S145*H145 -> 0 | AR145: 8 | AT145: M | AU145: 2 | AY145: ROZPOCET | BE145: =IF(N145="základná",J145,0) -> 0 | BF145: =IF(N145="znížená",J145,0) -> 0 | BG145: =IF(N145="zákl. prenesená",J145,0) -> 0 | BH145: =IF(N145="zníž. prenesená",J145,0) -> 0 | BI145: =IF(N145="nulová",J145,0) -> 0 | BJ145: 2 | BK145: =ROUND(I145*H145,3) -> 0 | BL145: 4 | BM145: -697511315
C146: 11 | D146: K | E146: 918101112.S | F146: Lôžko pod obrubníky, krajníky alebo obruby z dlažobných kociek z betónu prostého tr. C 16/20 | G146: m3 | H146: 0.58 | J146: =ROUND(I146*H146,3) -> 0 | N146: znížená | P146: =O146*H146 -> 0 | Q146: 2.21513 | R146: =Q146*H146 -> 1.2847754 | S146: 0 | T146: =S146*H146 -> 0 | AR146: 4 | AT146: K | AU146: 2 | AY146: ROZPOCET | BE146: =IF(N146="základná",J146,0) -> 0 | BF146: =IF(N146="znížená",J146,0) -> 0 | BG146: =IF(N146="zákl. prenesená",J146,0) -> 0 | BH146: =IF(N146="zníž. prenesená",J146,0) -> 0 | BI146: =IF(N146="nulová",J146,0) -> 0 | BJ146: 2 | BK146: =ROUND(I146*H146,3) -> 0 | BL146: 4 | BM146: -760449628
C147: 12 | D147: K | E147: 919735111.S | F147: Rezanie existujúceho asfaltového krytu alebo podkladu hĺbky do 50 mm | G147: m | H147: 22 | J147: =ROUND(I147*H147,3) -> 0 | N147: znížená | P147: =O147*H147 -> 0 | Q147: 0 | R147: =Q147*H147 -> 0 | S147: 0 | T147: =S147*H147 -> 0 | AR147: 4 | AT147: K | AU147: 2 | AY147: ROZPOCET | BE147: =IF(N147="základná",J147,0) -> 0 | BF147: =IF(N147="znížená",J147,0) -> 0 | BG147: =IF(N147="zákl. prenesená",J147,0) -> 0 | BH147: =IF(N147="zníž. prenesená",J147,0) -> 0 | BI147: =IF(N147="nulová",J147,0) -> 0 | BJ147: 2 | BK147: =ROUND(I147*H147,3) -> 0 | BL147: 4 | BM147: 1029702460
C148: 13 | D148: K | E148: 938909311.S | F148: Odstránenie blata, prachu alebo hlineného nánosu, z povrchu podkladu alebo krytu bet. alebo asfalt. | G148: m2 | H148: 280 | J148: =ROUND(I148*H148,3) -> 0 | N148: znížená | P148: =O148*H148 -> 0 | Q148: 0 | R148: =Q148*H148 -> 0 | S148: 0 | T148: =S148*H148 -> 0 | AR148: 4 | AT148: K | AU148: 2 | AY148: ROZPOCET | BE148: =IF(N148="základná",J148,0) -> 0 | BF148: =IF(N148="znížená",J148,0) -> 0 | BG148: =IF(N148="zákl. prenesená",J148,0) -> 0 | BH148: =IF(N148="zníž. prenesená",J148,0) -> 0 | BI148: =IF(N148="nulová",J148,0) -> 0 | BJ148: 2 | BK148: =ROUND(I148*H148,3) -> 0 | BL148: 4 | BM148: -310085603
C149: 14 | D149: K | E149: 979084215.S | F149: Vodorovná doprava vybúraných hmôt po suchu bez naloženia, ale so zložením na vzdialenosť do 3 km | G149: t | H149: 89.942 | J149: =ROUND(I149*H149,3) -> 0 | N149: znížená | P149: =O149*H149 -> 0 | Q149: 0 | R149: =Q149*H149 -> 0 | S149: 0 | T149: =S149*H149 -> 0 | AR149: 4 | AT149: K | AU149: 2 | AY149: ROZPOCET | BE149: =IF(N149="základná",J149,0) -> 0 | BF149: =IF(N149="znížená",J149,0) -> 0 | BG149: =IF(N149="zákl. prenesená",J149,0) -> 0 | BH149: =IF(N149="zníž. prenesená",J149,0) -> 0 | BI149: =IF(N149="nulová",J149,0) -> 0 | BJ149: 2 | BK149: =ROUND(I149*H149,3) -> 0 | BL149: 4 | BM149: -211347672
C150: 15 | D150: K | E150: 979087212.S | F150: Nakladanie na dopravné prostriedky pre vodorovnú dopravu sutiny | G150: t | H150: 89.942 | J150: =ROUND(I150*H150,3) -> 0 | N150: znížená | P150: =O150*H150 -> 0 | Q150: 0 | R150: =Q150*H150 -> 0 | S150: 0 | T150: =S150*H150 -> 0 | AR150: 4 | AT150: K | AU150: 2 | AY150: ROZPOCET | BE150: =IF(N150="základná",J150,0) -> 0 | BF150: =IF(N150="znížená",J150,0) -> 0 | BG150: =IF(N150="zákl. prenesená",J150,0) -> 0 | BH150: =IF(N150="zníž. prenesená",J150,0) -> 0 | BI150: =IF(N150="nulová",J150,0) -> 0 | BJ150: 2 | BK150: =ROUND(I150*H150,3) -> 0 | BL150: 4 | BM150: -1432619928
C151: 16 | D151: K | E151: 979089212.S | F151: Poplatok za skladovanie - bitúmenové zmesi, uholný decht, dechtové výrobky (17 03 ), ostatné | G151: t | H151: 89.942 | J151: =ROUND(I151*H151,3) -> 0 | N151: znížená | P151: =O151*H151 -> 0 | Q151: 0 | R151: =Q151*H151 -> 0 | S151: 0 | T151: =S151*H151 -> 0 | AR151: 4 | AT151: K | AU151: 2 | AY151: ROZPOCET | BE151: =IF(N151="základná",J151,0) -> 0 | BF151: =IF(N151="znížená",J151,0) -> 0 | BG151: =IF(N151="zákl. prenesená",J151,0) -> 0 | BH151: =IF(N151="zníž. prenesená",J151,0) -> 0 | BI151: =IF(N151="nulová",J151,0) -> 0 | BJ151: 2 | BK151: =ROUND(I151*H151,3) -> 0 | BL151: 4 | BM151: 107998759
D152: D | E152: 99 | F152: Presun hmôt HSV | J152: =BK152 -> 0 | P152: =P153 -> 0 | R152: =R153 -> 0 | T152: =T153 -> 0 | AR152: 1 | AT152: D | AU152: 1 | AY152: ROZPOCET | BK152: =BK153 -> 0
C153: 17 | D153: K | E153: 998225111.S | F153: Presun hmôt pre pozemnú komunikáciu a letisko s krytom asfaltovým akejkoľvek dĺžky objektu | G153: t | H153: 159.495 | J153: =ROUND(I153*H153,3) -> 0 | N153: znížená | P153: =O153*H153 -> 0 | Q153: 0 | R153: =Q153*H153 -> 0 | S153: 0 | T153: =S153*H153 -> 0 | AR153: 4 | AT153: K | AU153: 2 | AY153: ROZPOCET | BE153: =IF(N153="základná",J153,0) -> 0 | BF153: =IF(N153="znížená",J153,0) -> 0 | BG153: =IF(N153="zákl. prenesená",J153,0) -> 0 | BH153: =IF(N153="zníž. prenesená",J153,0) -> 0 | BI153: =IF(N153="nulová",J153,0) -> 0 | BJ153: 2 | BK153: =ROUND(I153*H153,3) -> 0 | BL153: 4 | BM153: 714941160

Sheet 10 - Ulica Kutnohorská - ...
L2: >> skryté stĺpce << | AT2: {2922caad-c3c7-49f4-9e6b-95b64ae4e749}
AT3: 0
D4: KRYCÍ LIST ROZPOČTU | M4: v --- nižšie sa nachádzajú doplnkové a pomocné údaje k zostavám --- v | AT4: False
D6: Stavba:
E7: ='Rekapitulácia stavby'!K6 -> Rekonštrukcia mestských chodníkov a spevnených plôch
D8: Objekt:
E9: 10 - Ulica Kutnohorská - rekonštrukcia chodníkov, odstavných pôôch a cestnej komunikácie
D11: JKSO: | I11: KS:
D12: Miesto: | F12: Trebišov | I12: Dátum: | J12: ='Rekapitulácia stavby'!AN8 -> 13. 8. 2020
D14: Objednávateľ: | I14: IČO:
E15: Mesto Trebišov | I15: IČ DPH:
D17: Zhotoviteľ: | I17: IČO: | J17: ='Rekapitulácia stavby'!AN13 -> Vyplň údaj
E18: ='Rekapitulácia stavby'!E14 -> Vyplň údaj | I18: IČ DPH: | J18: ='Rekapitulácia stavby'!AN14 -> Vyplň údaj
D20: Projektant: | I20: IČO: | J20: =IF('Rekapitulácia stavby'!AN16="","",'Rekapitulácia stavby'!AN16)
E21: =IF('Rekapitulácia stavby'!E17="","",'Rekapitulácia stavby'!E17) | I21: IČ DPH: | J21: =IF('Rekapitulácia stavby'!AN17="","",'Rekapitulácia stavby'!AN17)
D23: Spracovateľ: | I23: IČO: | J23: =IF('Rekapitulácia stavby'!AN19="","",'Rekapitulácia stavby'!AN19)
E24: =IF('Rekapitulácia stavby'!E20="","",'Rekapitulácia stavby'!E20) | I24: IČ DPH: | J24: =IF('Rekapitulácia stavby'!AN20="","",'Rekapitulácia stavby'!AN20)
D26: Poznámka:
D30: Náklady z rozpočtu | J30: =J96 -> 0
D31: Ostatné náklady | J31: =J105 -> 0
D32: Cena bez DPH | J32: =ROUND(J30 + J31, 2) -> 0
F34: Základ dane | I34: Sadzba dane | J34: Výška dane
D35: DPH | E35: základná | F35: =ROUND((SUM(BE105:BE112) + SUM(BE132:BE162)), 2) -> 0 | I35: 0.2 | J35: =ROUND(((SUM(BE105:BE112) + SUM(BE132:BE162))*I35), 2) -> 0
E36: znížená | F36: =ROUND((SUM(BF105:BF112) + SUM(BF132:BF162)), 2) -> 0 | I36: 0.2 | J36: =ROUND(((SUM(BF105:BF112) + SUM(BF132:BF162))*I36), 2) -> 0
E37: zákl. prenesená | F37: =ROUND((SUM(BG105:BG112) + SUM(BG132:BG162)), 2) -> 0 | I37: 0.2 | J37: =0 -> 0
E38: zníž. prenesená | F38: =ROUND((SUM(BH105:BH112) + SUM(BH132:BH162)), 2) -> 0 | I38: 0.2 | J38: =0 -> 0
E39: nulová | F39: =ROUND((SUM(BI105:BI112) + SUM(BI132:BI162)), 2) -> 0 | I39: 0 | J39: =0 -> 0
D41: Cena s DPH | G41: v | H41: EUR | J41: =SUM(J32:J39) -> 0
D50: Projektant | G50: Spracovateľ
D61: Dátum a podpis: | F61: Pečiatka | G61: Dátum a podpis: | J61: Pečiatka
D65: Objednávateľ | G65: Zhotoviteľ
D76: Dátum a podpis: | F76: Pečiatka | G76: Dátum a podpis: | J76: Pečiatka
C82: REKAPITULÁCIA ROZPOČTU
C84: Stavba:
E85: =E7 -> Rekonštrukcia mestských chodníkov a spevnených plôch
C86: Objekt:
E87: =E9 -> 10 - Ulica Kutnohorská - rekonštrukcia chodníkov, odstavných pôôch a cestnej komunikácie
C89: Miesto: | F89: =F12 -> Trebišov | I89: Dátum: | J89: =IF(J12="","",J12) -> 13. 8. 2020
C91: Objednávateľ: | F91: =E15 -> Mesto Trebišov | I91: Projektant: | J91: =E21
C92: Zhotoviteľ: | F92: =IF(E18="","",E18) -> Vyplň údaj | I92: Spracovateľ: | J92: =E24
C94: Kód dielu - Popis | J94: Cena celkom [EUR]
C96: 1) Náklady z rozpočtu | J96: =J132 -> 0 | AU96: -1
D97: HSV - Práce a dodávky HSV | J97: =J133 -> 0
D98: 1 - Zemné práce | J98: =J134 -> 0
D99: 5 - Komunikácie | J99: =J138 -> 0
D100: 8 - Rúrové vedenie | J100: =J145 -> 0
D101: 9 - Ostatné konštrukcie a práce-búranie | J101: =J149 -> 0
D102: 99 - Presun hmôt HSV | J102: =J161 -> 0
C105: 2) Ostatné náklady | J105: =ROUND(J106 + J107 + J108 + J109 + J110 + J111,2) -> 0 | N105: DPH
D106: Zariad. staveniska | J106: 0 | N106: znížená | AY106: VRN | BE106: =IF(N106="základná",J106,0) -> 0 | BF106: =IF(N106="znížená",J106,0) -> 0 | BG106: =IF(N106="zákl. prenesená",J106,0) -> 0 | BH106: =IF(N106="zníž. prenesená",J106,0) -> 0 | BI106: =IF(N106="nulová",J106,0) -> 0 | BJ106: 2
D107: Mimostav. doprava | J107: 0 | N107: znížená | AY107: VRN | BE107: =IF(N107="základná",J107,0) -> 0 | BF107: =IF(N107="znížená",J107,0) -> 0 | BG107: =IF(N107="zákl. prenesená",J107,0) -> 0 | BH107: =IF(N107="zníž. prenesená",J107,0) -> 0 | BI107: =IF(N107="nulová",J107,0) -> 0 | BJ107: 2
D108: Územné vplyvy | J108: 0 | N108: znížená | AY108: VRN | BE108: =IF(N108="základná",J108,0) -> 0 | BF108: =IF(N108="znížená",J108,0) -> 0 | BG108: =IF(N108="zákl. prenesená",J108,0) -> 0 | BH108: =IF(N108="zníž. prenesená",J108,0) -> 0 | BI108: =IF(N108="nulová",J108,0) -> 0 | BJ108: 2
D109: Prevádzkové vplyvy | J109: 0 | N109: znížená | AY109: VRN | BE109: =IF(N109="základná",J109,0) -> 0 | BF109: =IF(N109="znížená",J109,0) -> 0 | BG109: =IF(N109="zákl. prenesená",J109,0) -> 0 | BH109: =IF(N109="zníž. prenesená",J109,0) -> 0 | BI109: =IF(N109="nulová",J109,0) -> 0 | BJ109: 2
D110: Ostatné | J110: 0 | N110: znížená | AY110: VRN | BE110: =IF(N110="základná",J110,0) -> 0 | BF110: =IF(N110="znížená",J110,0) -> 0 | BG110: =IF(N110="zákl. prenesená",J110,0) -> 0 | BH110: =IF(N110="zníž. prenesená",J110,0) -> 0 | BI110: =IF(N110="nulová",J110,0) -> 0 | BJ110: 2
D111: Kompletačná činnosť | J111: =ROUND(J30*T111,2) -> 0 | N111: znížená | AY111: KOMPLETACNA | BE111: =IF(N111="základná",J111,0) -> 0 | BF111: =IF(N111="znížená",J111,0) -> 0 | BG111: =IF(N111="zákl. prenesená",J111,0) -> 0 | BH111: =IF(N111="zníž. prenesená",J111,0) -> 0 | BI111: =IF(N111="nulová",J111,0) -> 0 | BJ111: 2
C113: Celkové náklady za stavbu 1) + 2) | J113: =ROUND(J96+J105,2) -> 0
C119: ROZPOČET
C121: Stavba:
E122: =E7 -> Rekonštrukcia mestských chodníkov a spevnených plôch
C123: Objekt:
E124: =E9 -> 10 - Ulica Kutnohorská - rekonštrukcia chodníkov, odstavných pôôch a cestnej komunikácie
C126: Miesto: | F126: =F12 -> Trebišov | I126: Dátum: | J126: =IF(J12="","",J12) -> 13. 8. 2020
C128: Objednávateľ: | F128: =E15 -> Mesto Trebišov | I128: Projektant: | J128: =E21
C129: Zhotoviteľ: | F129: =IF(E18="","",E18) -> Vyplň údaj | I129: Spracovateľ: | J129: =E24
C131: PČ | D131: Typ | E131: Kód | F131: Popis | G131: MJ | H131: Množstvo | I131: J.cena [EUR] | J131: Cena celkom [EUR] | K131: Cenová sústava | N131: DPH | O131: J. Nh [h] | P131: Nh celkom [h] | Q131: J. hmotnosť [t] | R131: Hmotnosť celkom [t] | S131: J. suť [t] | T131: Suť Celkom [t]
C132: Náklady z rozpočtu | J132: =BK132 -> 0 | P132: =P133 -> 0 | R132: =R133 -> 295.95383 | T132: =T133 -> 212.734 | AT132: D | AU132: -1 | BK132: =BK133 -> 0
D133: D | E133: HSV | F133: Práce a dodávky HSV | J133: =BK133 -> 0 | P133: =P134+P138+P145+P149+P161 -> 0 | R133: =R134+R138+R145+R149+R161 -> 295.95383 | T133: =T134+T138+T145+T149+T161 -> 212.734 | AR133: 1 | AT133: D | AU133: 0 | AY133: ROZPOCET | BK133: =BK134+BK138+BK145+BK149+BK161 -> 0
D134: D | E134: 1 | F134: Zemné práce | J134: =BK134 -> 0 | P134: =SUM(P135:P137) -> 0 | R134: =SUM(R135:R137) -> 0.06979 | T134: =SUM(T135:T137) -> 212.734 | AR134: 1 | AT134: D | AU134: 1 | AY134: ROZPOCET | BK134: =SUM(BK135:BK137) -> 0
C135: 1 | D135: K | E135: 113107141.S | F135: Odstránenie krytu v ploche do 200 m2 asfaltového, hr. vrstvy do 50 mm, -0,09800t | G135: m2 | H135: 1065 | J135: =ROUND(I135*H135,3) -> 0 | N135: znížená | P135: =O135*H135 -> 0 | Q135: 0 | R135: =Q135*H135 -> 0 | S135: 0.098 | T135: =S135*H135 -> 104.37 | AR135: 4 | AT135: K | AU135: 2 | AY135: ROZPOCET | BE135: =IF(N135="základná",J135,0) -> 0 | BF135: =IF(N135="znížená",J135,0) -> 0 | BG135: =IF(N135="zákl. prenesená",J135,0) -> 0 | BH135: =IF(N135="zníž. prenesená",J135,0) -> 0 | BI135: =IF(N135="nulová",J135,0) -> 0 | BJ135: 2 | BK135: =ROUND(I135*H135,3) -> 0 | BL135: 4 | BM135: -588124010
C136: 2 | D136: K | E136: 113152120.S | F136: Frézovanie asf. podkladu alebo krytu bez prek., plochy do 500 m2, pruh š. do 0,5 m, hr. 40 mm 0,102 t | G136: m2 | H136: 997 | J136: =ROUND(I136*H136,3) -> 0 | N136: znížená | P136: =O136*H136 -> 0 | Q136: 7e-05 | R136: =Q136*H136 -> 0.06979 | S136: 0.102 | T136: =S136*H136 -> 101.694 | AR136: 4 | AT136: K | AU136: 2 | AY136: ROZPOCET | BE136: =IF(N136="základná",J136,0) -> 0 | BF136: =IF(N136="znížená",J136,0) -> 0 | BG136: =IF(N136="zákl. prenesená",J136,0) -> 0 | BH136: =IF(N136="zníž. prenesená",J136,0) -> 0 | BI136: =IF(N136="nulová",J136,0) -> 0 | BJ136: 2 | BK136: =ROUND(I136*H136,3) -> 0 | BL136: 4 | BM136: 1409928487
C137: 3 | D137: K | E137: 113205111.S | F137: Vytrhanie obrúb betónových, chodníkových ležatých, -0,23000t | G137: m | H137: 29 | J137: =ROUND(I137*H137,3) -> 0 | N137: znížená | P137: =O137*H137 -> 0 | Q137: 0 | R137: =Q137*H137 -> 0 | S137: 0.23 | T137: =S137*H137 -> 6.67 | AR137: 4 | AT137: K | AU137: 2 | AY137: ROZPOCET | BE137: =IF(N137="základná",J137,0) -> 0 | BF137: =IF(N137="znížená",J137,0) -> 0 | BG137: =IF(N137="zákl. prenesená",J137,0) -> 0 | BH137: =IF(N137="zníž. prenesená",J137,0) -> 0 | BI137: =IF(N137="nulová",J137,0) -> 0 | BJ137: 2 | BK137: =ROUND(I137*H137,3) -> 0 | BL137: 4 | BM137: -1739983589
D138: D | E138: 5 | F138: Komunikácie | J138: =BK138 -> 0 | P138: =SUM(P139:P144) -> 0 | R138: =SUM(R139:R144) -> 283.75953 | T138: =SUM(T139:T144) -> 0 | AR138: 1 | AT138: D | AU138: 1 | AY138: ROZPOCET | BK138: =SUM(BK139:BK144) -> 0
C139: 4 | D139: K | E139: 565172111.S | F139: Vyrovnanie povrchu doterajšieho podkladu obaľovaným kamenivom ACP hr. 100 mm | G139: m2 | H139: 24 | J139: =ROUND(I139*H139,3) -> 0 | N139: znížená | P139: =O139*H139 -> 0 | Q139: 0.26376 | R139: =Q139*H139 -> 6.33024 | S139: 0 | T139: =S139*H139 -> 0 | AR139: 4 | AT139: K | AU139: 2 | AY139: ROZPOCET | BE139: =IF(N139="základná",J139,0) -> 0 | BF139: =IF(N139="znížená",J139,0) -> 0 | BG139: =IF(N139="zákl. prenesená",J139,0) -> 0 | BH139: =IF(N139="zníž. prenesená",J139,0) -> 0 | BI139: =IF(N139="nulová",J139,0) -> 0 | BJ139: 2 | BK139: =ROUND(I139*H139,3) -> 0 | BL139: 4 | BM139: -916396572
C140: 5 | D140: K | E140: 566902212.S | F140: Vyspravenie podkladu po prekopoch inžinierskych sietí plochy nad 15 m2 štrkopieskom, po zhutnení hr. 150 mm | G140: m2 | H140: 24 | J140: =ROUND(I140*H140,3) -> 0 | N140: znížená | P140: =O140*H140 -> 0 | Q140: 0.3036 | R140: =Q140*H140 -> 7.2864 | S140: 0 | T140: =S140*H140 -> 0 | AR140: 4 | AT140: K | AU140: 2 | AY140: ROZPOCET | BE140: =IF(N140="základná",J140,0) -> 0 | BF140: =IF(N140="znížená",J140,0) -> 0 | BG140: =IF(N140="zákl. prenesená",J140,0) -> 0 | BH140: =IF(N140="zníž. prenesená",J140,0) -> 0 | BI140: =IF(N140="nulová",J140,0) -> 0 | BJ140: 2 | BK140: =ROUND(I140*H140,3) -> 0 | BL140: 4 | BM140: 2064232493
C141: 6 | D141: K | E141: 572754111.S | F141: Vyrovnanie povrchu doterajších krytov asfaltovým betónom AC hr. od 20 do 40 mm | G141: m2 | H141: 113 | J141: =ROUND(I141*H141,3) -> 0 | N141: znížená | P141: =O141*H141 -> 0 | Q141: 0.10434 | R141: =Q141*H141 -> 11.79042 | S141: 0 | T141: =S141*H141 -> 0 | AR141: 4 | AT141: K | AU141: 2 | AY141: ROZPOCET | BE141: =IF(N141="základná",J141,0) -> 0 | BF141: =IF(N141="znížená",J141,0) -> 0 | BG141: =IF(N141="zákl. prenesená",J141,0) -> 0 | BH141: =IF(N141="zníž. prenesená",J141,0) -> 0 | BI141: =IF(N141="nulová",J141,0) -> 0 | BJ141: 2 | BK141: =ROUND(I141*H141,3) -> 0 | BL141: 4 | BM141: 1548011143
