Workbook

Sheet Rekapitulácia stavby
A1: 2012 | D1: Hárok obsahuje: | K1: 1) Súhrnný list stavby | W1: 2) Rekapitulácia objektov | BA1: 2.0 | BT1: False | BU1: False
C2: optimalizované pre tlač zostáv vo formáte A4 - na výšku | AR2: >> skryté stĺpce << | BS2: 0,01 | BT2: 20
BS3: 0,01 | BT3: 20
C4: SÚHRNNÝ LIST STAVBY | AS4: v --- nižšie sa nachádzajú doplnkové a pomocné údaje k zostavám --- v | BS4: 0,001
D5: Kód: | K5: DSP(DRS) | BS5: 0,01
D6: Stavba: | K6: Rekonštrukcia jestvujúcich priechodov a retardérov v meste Trebišov | BS6: 0,01
D7: JKSO: | AK7: KS: | AN7: 2112 | BS7: 0,01
D8: Miesto: | K8: Trebišov | AK8: Dátum: | AN8: 44092 | BS8: 0,01
BS9: 0,01
D10: Objednávateľ: | AK10: IČO: | BS10: 0,01
E11: Mesto Trebišov | AK11: IČO DPH: | BS11: 0,01
BS12: 0,01
D13: Zhotoviteľ: | AK13: IČO: | BS13: 0,01
AK14: IČO DPH: | BS14: 0,01
BS15: False
D16: Projektant: | AK16: IČO: | BS16: False
AK17: IČO DPH: | BS17: True
BS18: 0,01
D19: Spracovateľ: | AK19: IČO: | BS19: 0,01
E20: Ing. Z. Béreš | AK20: IČO DPH:
D22: Poznámka:
D26: Náklady z rozpočtov | AK26: 0
D27: Ostatné náklady zo súhrnného listu | AK27: =ROUND(AG95,2) -> 0
D29: Cena bez DPH | AK29: =ROUND(AK26+AK27,2) -> 0
D31: DPH | F31: základná | L31: 0.2 | T31: z | W31: 0 | AK31: 0
F32: znížená | L32: 0.2 | T32: z | W32: =AK29 -> 0 | AK32: =AK29*0.2 -> 0
F33: zákl. prenesená | L33: 0.2 | T33: z | W33: =ROUND(BB87+SUM(CF96),2) -> #REF! | AK33: 0
F34: zníž. prenesená | L34: 0.2 | T34: z | W34: =ROUND(BC87+SUM(CG96),2) -> #REF! | AK34: 0
F35: nulová | L35: 0 | T35: z | W35: =ROUND(BD87+SUM(CH96),2) -> #REF! | AK35: 0
D37: Cena s DPH | T37: v | X37: EUR | AK37: =AK29+AK32 -> 0
D49: Projektant | AC49: Spracovateľ
D58: Dátum a podpis: | R58: Pečiatka | AC58: Dátum a podpis: | AM58: Pečiatka
D60: Objednávateľ | AC60: Zhotoviteľ
D69: Dátum a podpis: | R69: Pečiatka | AC69: Dátum a podpis: | AM69: Pečiatka
C76: REKAPITULÁCIA OBJEKTOV STAVBY
C77: Kód: | L77: =K5 -> DSP(DRS)
C78: Stavba: | L78: =K6 -> Rekonštrukcia jestvujúcich priechodov a retardérov v meste Trebišov
C80: Miesto: | L80: =IF(K8="","",K8) -> Trebišov | AI80: Dátum: | AN80: 44092
C82: Objednávateľ: | L82: =IF(E11= "","",E11) -> Mesto Trebišov | AI82: Projektant: | AM82: =IF(E17="","",E17) | AS82: Informatívne údaje z listov zákaziek
C83: Zhotoviteľ: | L83: =IF(E14="","",E14) | AI83: Spracovateľ: | AM83: =IF(E20="","",E20) -> Ing. Z. Béreš
...

Sheet Rekapitulácia objektov
A1: Rekapitulácia objektov stavby
A3: Stavba: | B3: Rekonštrukcia jestvujúcich priechodov a retardérov v meste Trebišov
A5: Objednávateľ: | B5: Mesto Trebišov
A6: Zhotoviteľ: | D6: Spracoval: | E6: Ing. Béreš
A7: Miesto: | B7: Trebišov | D7: Dátum: | E7: 44092
A9: Kód | B9: Zákazka | C9: Cena bez DPH | D9: DPH | E9: Cena s DPH | F9: Ostatné | G9: ZRN | H9: HZS | I9: VRN | J9: KČ
A11: S0 1-7 | B11: Rekonštrukcia jestvujúcich priechodov a retardérov v meste Trebišov | C11: =C19 -> 0 | D11: =D19 -> 0 | E11: =E19 -> 0 | F11: 0 | G11: 48174.805 | H11: 0 | I11: 1600 | J11: 0
A12: Priechod 1 | D12: =0.2*C12 -> 0 | E12: =C12+D12 -> 0 | F12: 0 | G12: 16514.279 | H12: 0 | I12: 800 | J12: 0
A13: Priechod 2 | D13: =0.2*C13 -> 0 | E13: =C13+D13 -> 0
A14: Priechod 3 | D14: =0.2*C14 -> 0 | E14: =C14+D14 -> 0
A15: Priechod 4 | D15: =0.2*C15 -> 0 | E15: =C15+D15 -> 0
A16: Priechod 5 | D16: =0.2*C16 -> 0 | E16: =C16+D16 -> 0
A17: Priechod 6 | D17: =0.2*C17 -> 0 | E17: =C17+D17 -> 0
A18: Priechod 7 | D18: =0.2*C18 -> 0 | E18: =C18+D18 -> 0 | F18: 0 | G18: 31660.526 | H18: 0 | I18: 800 | J18: 0
B19: Celkom | C19: =SUM(C12:C18) -> 0 | D19: =SUM(D12:D18) -> 0 | E19: =SUM(E12:E18) -> 0 | F19: 0 | G19: 48174.805 | H19: 0 | I19: 1600 | J19: 0

Sheet 01 - Prechod
D1: Hárok obsahuje: | F1: 1) Krycí list rozpočtu | H1: 2) Rekapitulácia rozpočtu | L1: 3) Rozpočet | O1: Späť na hárok: | S1: Rekapitulácia stavby
C2: optimalizované pre tlač zostáv vo formáte A4 - na výšku | S2: >> skryté stĺpce << | AT2: {85df8818-560a-4a5e-a84a-5d2801e4224e}
AT3: 0
C4: KRYCÍ LIST | T4: v --- nižšie sa nachádzajú doplnkové a pomocné údaje k zostavám --- v | AT4: False
D6: Stavba: | F6: ='Rekapitulácia stavby'!K6 -> Rekonštrukcia jestvujúcich priechodov a retardérov v meste Trebišov
D7: Objekt: | F7: 01 - Priechod pre chodcov
D8: JKSO: | M8: KS:
D9: Miesto: | F9: Trebišov | M9: Dátum: | O9: ='Rekapitulácia stavby'!AN8 -> 44092
D11: Objednávateľ: | M11: IČO:
E12: Mesto Trebišov | M12: IČO DPH:
D14: Zhotoviteľ: | M14: IČO: | O14: =IF('Rekapitulácia stavby'!AN13="","",'Rekapitulácia stavby'!AN13)
E15: =IF('Rekapitulácia stavby'!E14="","",'Rekapitulácia stavby'!E14) | M15: IČO DPH: | O15: =IF('Rekapitulácia stavby'!AN14="","",'Rekapitulácia stavby'!AN14)
D17: Projektant: | M17: IČO:
M18: IČO DPH:
D20: Spracovateľ: | M20: IČO:
E21: Ing. Z. Béreš | M21: IČO DPH:
D23: Poznámka:
D27: Náklady z rozpočtu | M27: =N88 -> 0
D28: Ostatné náklady | M28: =N99 -> 0
D30: Cena bez DPH | M30: =ROUND(M27+M28,2) -> 0
D32: DPH | E32: základná | F32: 0.2 | G32: z | H32: =ROUND((SUM(BE99:BE100)+SUM(BE118:BE147)), 2) -> 0 | M32: =ROUND(ROUND((SUM(BE99:BE100)+SUM(BE118:BE147)), 2)*F32, 2) -> 0
E33: znížená | F33: 0.2 | G33: z | H33: =M30 -> 0 | M33: =0.2*M30 -> 0
E34: zákl. prenesená | F34: 0.2 | G34: z | H34: =ROUND((SUM(BG99:BG100)+SUM(BG118:BG147)), 2) -> 0 | M34: 0
E35: zníž. prenesená | F35: 0.2 | G35: z | H35: =ROUND((SUM(BH99:BH100)+SUM(BH118:BH147)), 2) -> 0 | M35: 0
E36: nulová | F36: 0 | G36: z | H36: =ROUND((SUM(BI99:BI100)+SUM(BI118:BI147)), 2) -> 0 | M36: 0
D38: Cena s DPH | G38: v | H38: EUR | L38: =SUM(M30:M36) -> 0
D50: Projektant | J50: Spracovateľ
D59: Dátum a podpis: | G59: Pečiatka | J59: Dátum a podpis: | N59: Pečiatka
D61: Objednávateľ | J61: Zhotoviteľ
D70: Dátum a podpis: | G70: Pečiatka | J70: Dátum a podpis: | N70: Pečiatka
C76: REKAPITULÁCIA
C78: Stavba: | F78: =F6 -> Rekonštrukcia jestvujúcich priechodov a retardérov v meste Trebišov
C79: Objekt: | F79: =F7 -> 01 - Priechod pre chodcov
C81: Miesto: | F81: =F9 -> Trebišov | K81: Dátum: | M81: =IF(O9="","",O9) -> 44092
C83: Objednávateľ: | F83: =E12 -> Mesto Trebišov | K83: Projektant: | M83: =E18 -> 0
C84: Zhotoviteľ: | F84: =IF(E15="","",E15) | K84: Spracovateľ: | M84: =E21 -> Ing. Z. Béreš
C86: Kód - Popis | N86: Cena celkom [EUR]
C88: 1) Náklady z rozpočtu | N88: =N118 -> 0 | AU88: -1
D89: HSV - Práce a dodávky HSV | N89: =N119 -> 0
D90: 1 - Zemné práce | N90: =N120 -> 0
...

Sheet 02 - Prechod
D1: Hárok obsahuje: | F1: 1) Krycí list rozpočtu | H1: 2) Rekapitulácia rozpočtu | L1: 3) Rozpočet | O1: Späť na hárok: | S1: Rekapitulácia stavby
C2: optimalizované pre tlač zostáv vo formáte A4 - na výšku | S2: >> skryté stĺpce << | AT2: {85df8818-560a-4a5e-a84a-5d2801e4224e}
AT3: 0
C4: KRYCÍ LIST | T4: v --- nižšie sa nachádzajú doplnkové a pomocné údaje k zostavám --- v | AT4: False
D6: Stavba: | F6: ='Rekapitulácia stavby'!K6 -> Rekonštrukcia jestvujúcich priechodov a retardérov v meste Trebišov
D7: Objekt: | F7: 02 - Priechod pre chodcov s nábehom
D8: JKSO: | M8: KS:
D9: Miesto: | F9: Trebišov | M9: Dátum: | O9: ='Rekapitulácia stavby'!AN8 -> 44092
D11: Objednávateľ: | M11: IČO:
E12: Mesto Trebišov | M12: IČO DPH:
D14: Zhotoviteľ: | M14: IČO: | O14: =IF('Rekapitulácia stavby'!AN13="","",'Rekapitulácia stavby'!AN13)
E15: =IF('Rekapitulácia stavby'!E14="","",'Rekapitulácia stavby'!E14) | M15: IČO DPH: | O15: =IF('Rekapitulácia stavby'!AN14="","",'Rekapitulácia stavby'!AN14)
D17: Projektant: | M17: IČO:
M18: IČO DPH:
D20: Spracovateľ: | M20: IČO:
E21: Ing. Z. Béreš | M21: IČO DPH:
D23: Poznámka:
D27: Náklady z rozpočtu | M27: =N88 -> 0
D28: Ostatné náklady | M28: =N99 -> 0
D30: Cena bez DPH | M30: =ROUND(M27+M28,2) -> 0
D32: DPH | E32: základná | F32: 0.2 | G32: z | H32: =ROUND((SUM(BE99:BE100)+SUM(BE118:BE147)), 2) -> 0 | M32: =ROUND(ROUND((SUM(BE99:BE100)+SUM(BE118:BE147)), 2)*F32, 2) -> 0
E33: znížená | F33: 0.2 | G33: z | H33: =M30 -> 0 | M33: =0.2*M30 -> 0
E34: zákl. prenesená | F34: 0.2 | G34: z | H34: =ROUND((SUM(BG99:BG100)+SUM(BG118:BG147)), 2) -> 0 | M34: 0
E35: zníž. prenesená | F35: 0.2 | G35: z | H35: =ROUND((SUM(BH99:BH100)+SUM(BH118:BH147)), 2) -> 0 | M35: 0
E36: nulová | F36: 0 | G36: z | H36: =ROUND((SUM(BI99:BI100)+SUM(BI118:BI147)), 2) -> 0 | M36: 0
D38: Cena s DPH | G38: v | H38: EUR | L38: =SUM(M30:M36) -> 0
D50: Projektant | J50: Spracovateľ
D59: Dátum a podpis: | G59: Pečiatka | J59: Dátum a podpis: | N59: Pečiatka
D61: Objednávateľ | J61: Zhotoviteľ
D70: Dátum a podpis: | G70: Pečiatka | J70: Dátum a podpis: | N70: Pečiatka
C76: REKAPITULÁCIA
C78: Stavba: | F78: =F6 -> Rekonštrukcia jestvujúcich priechodov a retardérov v meste Trebišov
C79: Objekt: | F79: =F7 -> 02 - Priechod pre chodcov s nábehom
C81: Miesto: | F81: =F9 -> Trebišov | K81: Dátum: | M81: =IF(O9="","",O9) -> 44092
C83: Objednávateľ: | F83: =E12 -> Mesto Trebišov | K83: Projektant: | M83: =E18 -> 0
C84: Zhotoviteľ: | F84: =IF(E15="","",E15) | K84: Spracovateľ: | M84: =E21 -> Ing. Z. Béreš
C86: Kód - Popis | N86: Cena celkom [EUR]
C88: 1) Náklady z rozpočtu | N88: =N118 -> 0 | AU88: -1
D89: HSV - Práce a dodávky HSV | N89: =N119 -> 0
D90: 1 - Zemné práce | N90: =N120 -> 0
...

Sheet 03 - Prechod 
D1: Hárok obsahuje: | F1: 1) Krycí list rozpočtu | H1: 2) Rekapitulácia rozpočtu | L1: 3) Rozpočet | O1: Späť na hárok: | S1: Rekapitulácia stavby
C2: optimalizované pre tlač zostáv vo formáte A4 - na výšku | S2: >> skryté stĺpce << | AT2: {85df8818-560a-4a5e-a84a-5d2801e4224e}
AT3: 0
C4: KRYCÍ LIST | T4: v --- nižšie sa nachádzajú doplnkové a pomocné údaje k zostavám --- v | AT4: False
D6: Stavba: | F6: ='Rekapitulácia stavby'!K6 -> Rekonštrukcia jestvujúcich priechodov a retardérov v meste Trebišov
D7: Objekt: | F7: 03 - Priechod pre chodcov s nábehom
D8: JKSO: | M8: KS:
D9: Miesto: | F9: Trebišov | M9: Dátum: | O9: ='Rekapitulácia stavby'!AN8 -> 44092
D11: Objednávateľ: | M11: IČO:
E12: Mesto Trebišov | M12: IČO DPH:
D14: Zhotoviteľ: | M14: IČO: | O14: =IF('Rekapitulácia stavby'!AN13="","",'Rekapitulácia stavby'!AN13)
E15: =IF('Rekapitulácia stavby'!E14="","",'Rekapitulácia stavby'!E14) | M15: IČO DPH: | O15: =IF('Rekapitulácia stavby'!AN14="","",'Rekapitulácia stavby'!AN14)
D17: Projektant: | M17: IČO:
M18: IČO DPH:
D20: Spracovateľ: | M20: IČO:
E21: Ing. Z. Béreš | M21: IČO DPH:
D23: Poznámka:
D27: Náklady z rozpočtu | M27: =N88 -> 0
D28: Ostatné náklady | M28: =N99 -> 0
D30: Cena bez DPH | M30: =ROUND(M27+M28,2) -> 0
D32: DPH | E32: základná | F32: 0.2 | G32: z | H32: =ROUND((SUM(BE99:BE100)+SUM(BE118:BE147)), 2) -> 0 | M32: =ROUND(ROUND((SUM(BE99:BE100)+SUM(BE118:BE147)), 2)*F32, 2) -> 0
E33: znížená | F33: 0.2 | G33: z | H33: =M30 -> 0 | M33: =0.2*M30 -> 0
E34: zákl. prenesená | F34: 0.2 | G34: z | H34: =ROUND((SUM(BG99:BG100)+SUM(BG118:BG147)), 2) -> 0 | M34: 0
E35: zníž. prenesená | F35: 0.2 | G35: z | H35: =ROUND((SUM(BH99:BH100)+SUM(BH118:BH147)), 2) -> 0 | M35: 0
E36: nulová | F36: 0 | G36: z | H36: =ROUND((SUM(BI99:BI100)+SUM(BI118:BI147)), 2) -> 0 | M36: 0
D38: Cena s DPH | G38: v | H38: EUR | L38: =SUM(M30:M36) -> 0
D50: Projektant | J50: Spracovateľ
D59: Dátum a podpis: | G59: Pečiatka | J59: Dátum a podpis: | N59: Pečiatka
D61: Objednávateľ | J61: Zhotoviteľ
D70: Dátum a podpis: | G70: Pečiatka | J70: Dátum a podpis: | N70: Pečiatka
C76: REKAPITULÁCIA
C78: Stavba: | F78: =F6 -> Rekonštrukcia jestvujúcich priechodov a retardérov v meste Trebišov
C79: Objekt: | F79: =F7 -> 03 - Priechod pre chodcov s nábehom
C81: Miesto: | F81: =F9 -> Trebišov | K81: Dátum: | M81: =IF(O9="","",O9) -> 44092
C83: Objednávateľ: | F83: =E12 -> Mesto Trebišov | K83: Projektant: | M83: =E18 -> 0
C84: Zhotoviteľ: | F84: =IF(E15="","",E15) | K84: Spracovateľ: | M84: =E21 -> Ing. Z. Béreš
C86: Kód - Popis | N86: Cena celkom [EUR]
C88: 1) Náklady z rozpočtu | N88: =N118 -> 0 | AU88: -1
D89: HSV - Práce a dodávky HSV | N89: =N119 -> 0
D90: 1 - Zemné práce | N90: =N120 -> 0
...

Sheet 04 - Prechod 
D1: Hárok obsahuje: | F1: 1) Krycí list rozpočtu | H1: 2) Rekapitulácia rozpočtu | L1: 3) Rozpočet | O1: Späť na hárok: | S1: Rekapitulácia stavby
C2: optimalizované pre tlač zostáv vo formáte A4 - na výšku | S2: >> skryté stĺpce << | AT2: {85df8818-560a-4a5e-a84a-5d2801e4224e}
AT3: 0
C4: KRYCÍ LIST | T4: v --- nižšie sa nachádzajú doplnkové a pomocné údaje k zostavám --- v | AT4: False
D6: Stavba: | F6: ='Rekapitulácia stavby'!K6 -> Rekonštrukcia jestvujúcich priechodov a retardérov v meste Trebišov
D7: Objekt: | F7: 04 - Priechod pre chodcov
D8: JKSO: | M8: KS:
D9: Miesto: | F9: Trebišov | M9: Dátum: | O9: ='Rekapitulácia stavby'!AN8 -> 44092
D11: Objednávateľ: | M11: IČO:
E12: Mesto Trebišov | M12: IČO DPH:
D14: Zhotoviteľ: | M14: IČO: | O14: =IF('Rekapitulácia stavby'!AN13="","",'Rekapitulácia stavby'!AN13)
E15: =IF('Rekapitulácia stavby'!E14="","",'Rekapitulácia stavby'!E14) | M15: IČO DPH: | O15: =IF('Rekapitulácia stavby'!AN14="","",'Rekapitulácia stavby'!AN14)
D17: Projektant: | M17: IČO:
M18: IČO DPH:
D20: Spracovateľ: | M20: IČO:
E21: Ing. Z. Béreš | M21: IČO DPH:
D23: Poznámka:
D27: Náklady z rozpočtu | M27: =N88 -> 0
D28: Ostatné náklady | M28: =N99 -> 0
D30: Cena bez DPH | M30: =ROUND(M27+M28,2) -> 0
D32: DPH | E32: základná | F32: 0.2 | G32: z | H32: =ROUND((SUM(BE99:BE100)+SUM(BE118:BE147)), 2) -> 0 | M32: =ROUND(ROUND((SUM(BE99:BE100)+SUM(BE118:BE147)), 2)*F32, 2) -> 0
E33: znížená | F33: 0.2 | G33: z | H33: =M30 -> 0 | M33: =0.2*M30 -> 0
E34: zákl. prenesená | F34: 0.2 | G34: z | H34: =ROUND((SUM(BG99:BG100)+SUM(BG118:BG147)), 2) -> 0 | M34: 0
E35: zníž. prenesená | F35: 0.2 | G35: z | H35: =ROUND((SUM(BH99:BH100)+SUM(BH118:BH147)), 2) -> 0 | M35: 0
E36: nulová | F36: 0 | G36: z | H36: =ROUND((SUM(BI99:BI100)+SUM(BI118:BI147)), 2) -> 0 | M36: 0
D38: Cena s DPH | G38: v | H38: EUR | L38: =SUM(M30:M36) -> 0
D50: Projektant | J50: Spracovateľ
D59: Dátum a podpis: | G59: Pečiatka | J59: Dátum a podpis: | N59: Pečiatka
D61: Objednávateľ | J61: Zhotoviteľ
D70: Dátum a podpis: | G70: Pečiatka | J70: Dátum a podpis: | N70: Pečiatka
C76: REKAPITULÁCIA
C78: Stavba: | F78: =F6 -> Rekonštrukcia jestvujúcich priechodov a retardérov v meste Trebišov
C79: Objekt: | F79: =F7 -> 04 - Priechod pre chodcov
C81: Miesto: | F81: =F9 -> Trebišov | K81: Dátum: | M81: =IF(O9="","",O9) -> 44092
C83: Objednávateľ: | F83: =E12 -> Mesto Trebišov | K83: Projektant: | M83: =E18 -> 0
C84: Zhotoviteľ: | F84: =IF(E15="","",E15) | K84: Spracovateľ: | M84: =E21 -> Ing. Z. Béreš
C86: Kód - Popis | N86: Cena celkom [EUR]
C88: 1) Náklady z rozpočtu | N88: =N118 -> 0 | AU88: -1
D89: HSV - Práce a dodávky HSV | N89: =N119 -> 0
D90: 1 - Zemné práce | N90: =N120 -> 0
...

Sheet 05 - Prechod 
D1: Hárok obsahuje: | F1: 1) Krycí list rozpočtu | H1: 2) Rekapitulácia rozpočtu | L1: 3) Rozpočet | O1: Späť na hárok: | S1: Rekapitulácia stavby
C2: optimalizované pre tlač zostáv vo formáte A4 - na výšku | S2: >> skryté stĺpce << | AT2: {85df8818-560a-4a5e-a84a-5d2801e4224e}
AT3: 0
C4: KRYCÍ LIST | T4: v --- nižšie sa nachádzajú doplnkové a pomocné údaje k zostavám --- v | AT4: False
D6: Stavba: | F6: ='Rekapitulácia stavby'!K6 -> Rekonštrukcia jestvujúcich priechodov a retardérov v meste Trebišov
D7: Objekt: | F7: 05 - Priechod pre chodcov
D8: JKSO: | M8: KS:
D9: Miesto: | F9: Trebišov | M9: Dátum: | O9: ='Rekapitulácia stavby'!AN8 -> 44092
D11: Objednávateľ: | M11: IČO:
E12: Mesto Trebišov | M12: IČO DPH:
D14: Zhotoviteľ: | M14: IČO: | O14: =IF('Rekapitulácia stavby'!AN13="","",'Rekapitulácia stavby'!AN13)
E15: =IF('Rekapitulácia stavby'!E14="","",'Rekapitulácia stavby'!E14) | M15: IČO DPH: | O15: =IF('Rekapitulácia stavby'!AN14="","",'Rekapitulácia stavby'!AN14)
D17: Projektant: | M17: IČO:
M18: IČO DPH:
D20: Spracovateľ: | M20: IČO:
E21: Ing. Z. Béreš | M21: IČO DPH:
D23: Poznámka:
D27: Náklady z rozpočtu | M27: =N88 -> 0
D28: Ostatné náklady | M28: =N99 -> 0
D30: Cena bez DPH | M30: =ROUND(M27+M28,2) -> 0
D32: DPH | E32: základná | F32: 0.2 | G32: z | H32: =ROUND((SUM(BE99:BE100)+SUM(BE118:BE147)), 2) -> 0 | M32: =ROUND(ROUND((SUM(BE99:BE100)+SUM(BE118:BE147)), 2)*F32, 2) -> 0
E33: znížená | F33: 0.2 | G33: z | H33: =M30 -> 0 | M33: =0.2*M30 -> 0
E34: zákl. prenesená | F34: 0.2 | G34: z | H34: =ROUND((SUM(BG99:BG100)+SUM(BG118:BG147)), 2) -> 0 | M34: 0
E35: zníž. prenesená | F35: 0.2 | G35: z | H35: =ROUND((SUM(BH99:BH100)+SUM(BH118:BH147)), 2) -> 0 | M35: 0
E36: nulová | F36: 0 | G36: z | H36: =ROUND((SUM(BI99:BI100)+SUM(BI118:BI147)), 2) -> 0 | M36: 0
D38: Cena s DPH | G38: v | H38: EUR | L38: =SUM(M30:M36) -> 0
D50: Projektant | J50: Spracovateľ
D59: Dátum a podpis: | G59: Pečiatka | J59: Dátum a podpis: | N59: Pečiatka
D61: Objednávateľ | J61: Zhotoviteľ
D70: Dátum a podpis: | G70: Pečiatka | J70: Dátum a podpis: | N70: Pečiatka
C76: REKAPITULÁCIA
C78: Stavba: | F78: =F6 -> Rekonštrukcia jestvujúcich priechodov a retardérov v meste Trebišov
C79: Objekt: | F79: =F7 -> 05 - Priechod pre chodcov
C81: Miesto: | F81: =F9 -> Trebišov | K81: Dátum: | M81: =IF(O9="","",O9) -> 44092
C83: Objednávateľ: | F83: =E12 -> Mesto Trebišov | K83: Projektant: | M83: =E18 -> 0
C84: Zhotoviteľ: | F84: =IF(E15="","",E15) | K84: Spracovateľ: | M84: =E21 -> Ing. Z. Béreš
C86: Kód - Popis | N86: Cena celkom [EUR]
C88: 1) Náklady z rozpočtu | N88: =N118 -> 0 | AU88: -1
D89: HSV - Práce a dodávky HSV | N89: =N119 -> 0
D90: 1 - Zemné práce | N90: =N120 -> 0
...

Sheet 06 - Prechod 
D1: Hárok obsahuje: | F1: 1) Krycí list rozpočtu | H1: 2) Rekapitulácia rozpočtu | L1: 3) Rozpočet | O1: Späť na hárok: | S1: Rekapitulácia stavby
C2: optimalizované pre tlač zostáv vo formáte A4 - na výšku | S2: >> skryté stĺpce << | AT2: {85df8818-560a-4a5e-a84a-5d2801e4224e}
AT3: 0
C4: KRYCÍ LIST | T4: v --- nižšie sa nachádzajú doplnkové a pomocné údaje k zostavám --- v | AT4: False
D6: Stavba: | F6: ='Rekapitulácia stavby'!K6 -> Rekonštrukcia jestvujúcich priechodov a retardérov v meste Trebišov
D7: Objekt: | F7: 06 - Priechod pre chodcov
D8: JKSO: | M8: KS:
D9: Miesto: | F9: Trebišov | M9: Dátum: | O9: ='Rekapitulácia stavby'!AN8 -> 44092
D11: Objednávateľ: | M11: IČO:
E12: Mesto Trebišov | M12: IČO DPH:
D14: Zhotoviteľ: | M14: IČO: | O14: =IF('Rekapitulácia stavby'!AN13="","",'Rekapitulácia stavby'!AN13)
E15: =IF('Rekapitulácia stavby'!E14="","",'Rekapitulácia stavby'!E14) | M15: IČO DPH: | O15: =IF('Rekapitulácia stavby'!AN14="","",'Rekapitulácia stavby'!AN14)
D17: Projektant: | M17: IČO:
M18: IČO DPH:
D20: Spracovateľ: | M20: IČO:
E21: Ing. Z. Béreš | M21: IČO DPH:
D23: Poznámka:
D27: Náklady z rozpočtu | M27: =N88 -> 0
D28: Ostatné náklady | M28: =N99 -> 0
D30: Cena bez DPH | M30: =ROUND(M27+M28,2) -> 0
D32: DPH | E32: základná | F32: 0.2 | G32: z | H32: =ROUND((SUM(BE99:BE100)+SUM(BE118:BE147)), 2) -> 0 | M32: =ROUND(ROUND((SUM(BE99:BE100)+SUM(BE118:BE147)), 2)*F32, 2) -> 0
E33: znížená | F33: 0.2 | G33: z | H33: =M30 -> 0 | M33: =0.2*M30 -> 0
E34: zákl. prenesená | F34: 0.2 | G34: z | H34: =ROUND((SUM(BG99:BG100)+SUM(BG118:BG147)), 2) -> 0 | M34: 0
E35: zníž. prenesená | F35: 0.2 | G35: z | H35: =ROUND((SUM(BH99:BH100)+SUM(BH118:BH147)), 2) -> 0 | M35: 0
E36: nulová | F36: 0 | G36: z | H36: =ROUND((SUM(BI99:BI100)+SUM(BI118:BI147)), 2) -> 0 | M36: 0
D38: Cena s DPH | G38: v | H38: EUR | L38: =SUM(M30:M36) -> 0
D50: Projektant | J50: Spracovateľ
D59: Dátum a podpis: | G59: Pečiatka | J59: Dátum a podpis: | N59: Pečiatka
D61: Objednávateľ | J61: Zhotoviteľ
D70: Dátum a podpis: | G70: Pečiatka | J70: Dátum a podpis: | N70: Pečiatka
C76: REKAPITULÁCIA
C78: Stavba: | F78: =F6 -> Rekonštrukcia jestvujúcich priechodov a retardérov v meste Trebišov
C79: Objekt: | F79: =F7 -> 06 - Priechod pre chodcov
C81: Miesto: | F81: =F9 -> Trebišov | K81: Dátum: | M81: =IF(O9="","",O9) -> 44092
C83: Objednávateľ: | F83: =E12 -> Mesto Trebišov | K83: Projektant: | M83: =E18 -> 0
C84: Zhotoviteľ: | F84: =IF(E15="","",E15) | K84: Spracovateľ: | M84: =E21 -> Ing. Z. Béreš
C86: Kód - Popis | N86: Cena celkom [EUR]
C88: 1) Náklady z rozpočtu | N88: =N118 -> 0 | AU88: -1
D89: HSV - Práce a dodávky HSV | N89: =N119 -> 0
D90: 1 - Zemné práce | N90: =N120 -> 0
...

Sheet 07 - Prechod 
D1: Hárok obsahuje: | F1: 1) Krycí list rozpočtu | H1: 2) Rekapitulácia rozpočtu | L1: 3) Rozpočet | O1: Späť na hárok: | S1: Rekapitulácia stavby
C2: optimalizované pre tlač zostáv vo formáte A4 - na výšku | S2: >> skryté stĺpce << | AT2: {85df8818-560a-4a5e-a84a-5d2801e4224e}
AT3: 0
C4: KRYCÍ LIST | T4: v --- nižšie sa nachádzajú doplnkové a pomocné údaje k zostavám --- v | AT4: False
D6: Stavba: | F6: ='Rekapitulácia stavby'!K6 -> Rekonštrukcia jestvujúcich priechodov a retardérov v meste Trebišov
D7: Objekt: | F7: 07 - Priechod pre chodcov s nábehom
D8: JKSO: | M8: KS:
D9: Miesto: | F9: Trebišov | M9: Dátum: | O9: ='Rekapitulácia stavby'!AN8 -> 44092
D11: Objednávateľ: | M11: IČO:
E12: Mesto Trebišov | M12: IČO DPH:
D14: Zhotoviteľ: | M14: IČO: | O14: =IF('Rekapitulácia stavby'!AN13="","",'Rekapitulácia stavby'!AN13)
E15: =IF('Rekapitulácia stavby'!E14="","",'Rekapitulácia stavby'!E14) | M15: IČO DPH: | O15: =IF('Rekapitulácia stavby'!AN14="","",'Rekapitulácia stavby'!AN14)
D17: Projektant: | M17: IČO:
M18: IČO DPH:
D20: Spracovateľ: | M20: IČO:
E21: Ing. Z. Béreš | M21: IČO DPH:
D23: Poznámka:
D27: Náklady z rozpočtu | M27: =N88 -> 0
D28: Ostatné náklady | M28: =N99 -> 0
D30: Cena bez DPH | M30: =ROUND(M27+M28,2) -> 0
D32: DPH | E32: základná | F32: 0.2 | G32: z | H32: =ROUND((SUM(BE99:BE100)+SUM(BE118:BE147)), 2) -> 0 | M32: =ROUND(ROUND((SUM(BE99:BE100)+SUM(BE118:BE147)), 2)*F32, 2) -> 0
E33: znížená | F33: 0.2 | G33: z | H33: =M30 -> 0 | M33: =0.2*M30 -> 0
E34: zákl. prenesená | F34: 0.2 | G34: z | H34: =ROUND((SUM(BG99:BG100)+SUM(BG118:BG147)), 2) -> 0 | M34: 0
E35: zníž. prenesená | F35: 0.2 | G35: z | H35: =ROUND((SUM(BH99:BH100)+SUM(BH118:BH147)), 2) -> 0 | M35: 0
E36: nulová | F36: 0 | G36: z | H36: =ROUND((SUM(BI99:BI100)+SUM(BI118:BI147)), 2) -> 0 | M36: 0
D38: Cena s DPH | G38: v | H38: EUR | L38: =SUM(M30:M36) -> 0
D50: Projektant | J50: Spracovateľ
D59: Dátum a podpis: | G59: Pečiatka | J59: Dátum a podpis: | N59: Pečiatka
D61: Objednávateľ | J61: Zhotoviteľ
D70: Dátum a podpis: | G70: Pečiatka | J70: Dátum a podpis: | N70: Pečiatka
C76: REKAPITULÁCIA
C78: Stavba: | F78: =F6 -> Rekonštrukcia jestvujúcich priechodov a retardérov v meste Trebišov
C79: Objekt: | F79: =F7 -> 07 - Priechod pre chodcov s nábehom
C81: Miesto: | F81: =F9 -> Trebišov | K81: Dátum: | M81: =IF(O9="","",O9) -> 44092
C83: Objednávateľ: | F83: =E12 -> Mesto Trebišov | K83: Projektant: | M83: =E18 -> 0
C84: Zhotoviteľ: | F84: =IF(E15="","",E15) | K84: Spracovateľ: | M84: =E21 -> Ing. Z. Béreš
C86: Kód - Popis | N86: Cena celkom [EUR]
C88: 1) Náklady z rozpočtu | N88: =N118 -> 0 | AU88: -1
D89: HSV - Práce a dodávky HSV | N89: =N119 -> 0
D90: 1 - Zemné práce | N90: =N120 -> 0
...
