Workbook

Sheet Rekapitulácia stavby
A1: 2012 | D1: Hárok obsahuje: | K1: 1) Súhrnný list stavby | W1: 2) Rekapitulácia objektov | BA1: 2.0 | BT1: False | BU1: False
C2: optimalizované pre tlač zostáv vo formáte A4 - na výšku | AR2: >> skryté stĺpce << | BS2: 0,01 | BT2: 20
BS3: 0,01 | BT3: 20
C4: SÚHRNNÝ LIST STAVBY | AS4: v --- nižšie sa nachádzajú doplnkové a pomocné údaje k zostavám --- v | BS4: 0,001
D5: Kód: | K5: DSP(DRS) | BS5: 0,01
D6: Stavba: | K6: Rekonštrukcia jestvujúcich priechodov a retardérov v meste Trebišov | BS6: 0,01
D7: JKSO: | AK7: KS: | AN7: 2112 | BS7: 0,01
D8: Miesto: | K8: Trebišov | AK8: Dátum: | AN8: 44092 | BS8: 0,01
BS9: 0,01
D10: Objednávateľ: | AK10: IČO: | BS10: 0,01
E11: Mesto Trebišov | AK11: IČO DPH: | BS11: 0,01
BS12: 0,01
D13: Zhotoviteľ: | AK13: IČO: | BS13: 0,01
AK14: IČO DPH: | BS14: 0,01
BS15: False
D16: Projektant: | AK16: IČO: | BS16: False
AK17: IČO DPH: | BS17: True
BS18: 0,01
D19: Spracovateľ: | AK19: IČO: | BS19: 0,01
E20: Ing. Z. Béreš | AK20: IČO DPH:
D22: Poznámka:
D26: Náklady z rozpočtov | AK26: 0
D27: Ostatné náklady zo súhrnného listu | AK27: =ROUND(AG95,2) -> 0
D29: Cena bez DPH | AK29: =ROUND(AK26+AK27,2) -> 0
D31: DPH | F31: základná | L31: 0.2 | T31: z | W31: 0 | AK31: 0
F32: znížená | L32: 0.2 | T32: z | W32: =AK29 -> 0 | AK32: =AK29*0.2 -> 0
F33: zákl. prenesená | L33: 0.2 | T33: z | W33: =ROUND(BB87+SUM(CF96),2) -> #REF! | AK33: 0
F34: zníž. prenesená | L34: 0.2 | T34: z | W34: =ROUND(BC87+SUM(CG96),2) -> #REF! | AK34: 0
F35: nulová | L35: 0 | T35: z | W35: =ROUND(BD87+SUM(CH96),2) -> #REF! | AK35: 0
D37: Cena s DPH | T37: v | X37: EUR | AK37: =AK29+AK32 -> 0
D49: Projektant | AC49: Spracovateľ
D58: Dátum a podpis: | R58: Pečiatka | AC58: Dátum a podpis: | AM58: Pečiatka
D60: Objednávateľ | AC60: Zhotoviteľ
D69: Dátum a podpis: | R69: Pečiatka | AC69: Dátum a podpis: | AM69: Pečiatka
C76: REKAPITULÁCIA OBJEKTOV STAVBY
C77: Kód: | L77: =K5 -> DSP(DRS)
C78: Stavba: | L78: =K6 -> Rekonštrukcia jestvujúcich priechodov a retardérov v meste Trebišov
C80: Miesto: | L80: =IF(K8="","",K8) -> Trebišov | AI80: Dátum: | AN80: 44092
C82: Objednávateľ: | L82: =IF(E11= "","",E11) -> Mesto Trebišov | AI82: Projektant: | AM82: =IF(E17="","",E17) | AS82: Informatívne údaje z listov zákaziek
C83: Zhotoviteľ: | L83: =IF(E14="","",E14) | AI83: Spracovateľ: | AM83: =IF(E20="","",E20) -> Ing. Z. Béreš
C85: Kód | I85: Objekt | AG85: Cena bez DPH [EUR] | AN85: Cena s DPH [EUR] | AS85: z toho Ostat._x000D_ náklady [EUR] | AT85: DPH [EUR] | AU85: Normohodiny [h] | AV85: DPH základná [EUR] | AW85: DPH znížená [EUR] | AX85: DPH základná prenesená_x000D_ [EUR] | AY85: DPH znížená prenesená_x000D_ [EUR] | AZ85: Základňa_x000D_ DPH základná | BA85: Základňa_x000D_ DPH znížená | BB85: Základňa_x000D_ DPH zákl. prenesená | BC85: Základňa_x000D_ DPH zníž. prenesená | BD85: Základňa_x000D_ DPH nulová
C87: 1) Náklady z rozpočtov | AG87: =SUM(AG88:AM94) -> 0 | AN87: =SUM(AN88:AP94) -> 0 | AS87: =ROUND(SUM(AS88:AS93),2) -> #REF! | AT87: =ROUND(SUM(AV87:AW87),2) -> #REF! | AU87: =ROUND(SUM(AU88:AU93),5) -> #REF! | AV87: =ROUND(AZ87*L31,2) -> #REF! | AW87: =ROUND(BA87*L32,2) -> #REF! | AX87: =ROUND(BB87*L31,2) -> #REF! | AY87: =ROUND(BC87*L32,2) -> #REF! | AZ87: =ROUND(SUM(AZ88:AZ93),2) -> #REF! | BA87: =ROUND(SUM(BA88:BA93),2) -> #REF! | BB87: =ROUND(SUM(BB88:BB93),2) -> #REF! | BC87: =ROUND(SUM(BC88:BC93),2) -> #REF! | BD87: =ROUND(SUM(BD88:BD93),2) -> #REF! | BS87: D | BT87: 0 | BU87: ###NOIMPORT### | BV87: IMPORT | BW87: {5f91c07c-bb25-4d27-858b-fa7d8fd6dd91} | BX87: {00000000-0000-0000-0000-000000000000}
A88: / | D88: 1 | J88: Priechod pre chodcov | AG88: ='01 - Prechod'!M30 -> 0 | AN88: =SUM(AG88,AT88) -> 0 | AS88: ='01 - Prechod'!M28 -> 0 | AT88: =ROUND(SUM(AV88:AW88),2) -> 0 | AU88: ='01 - Prechod'!W118 -> #REF! | AV88: ='01 - Prechod'!M32 -> 0 | AW88: ='01 - Prechod'!M33 -> 0 | AX88: ='01 - Prechod'!M34 -> 0 | AY88: ='01 - Prechod'!M35 -> 0 | AZ88: ='01 - Prechod'!H32 -> 0 | BA88: ='01 - Prechod'!H33 -> 0 | BB88: ='01 - Prechod'!H34 -> 0 | BC88: ='01 - Prechod'!H35 -> 0 | BD88: ='01 - Prechod'!H36 -> 0 | BT88: 1 | BV88: IMPORT | BW88: {85df8818-560a-4a5e-a84a-5d2801e4224e} | BX88: {5f91c07c-bb25-4d27-858b-fa7d8fd6dd91}
D89: 2 | J89: Priechod pre chodcov s nábehom | AG89: 0 | AN89: =1.2*AG89 -> 0
D90: 3 | J90: Priechod pre chodcov s nábehom | AG90: 0 | AN90: =1.2*AG90 -> 0
A91: / | D91: 4 | J91: Priechod pre chodcov | AG91: 0 | AN91: =1.2*AG91 -> 0 | AS91: =#REF! -> #REF! | AT91: =ROUND(SUM(AV91:AW91),2) -> #REF! | AU91: =#REF! -> #REF! | AV91: =#REF! -> #REF! | AW91: =#REF! -> #REF! | AX91: =#REF! -> #REF! | AY91: =#REF! -> #REF! | AZ91: =#REF! -> #REF! | BA91: =#REF! -> #REF! | BB91: =#REF! -> #REF! | ... BD91: =#REF! -> #REF! | BT91: 1 | BV91: IMPORT | BW91: {710732d1-18f1-49ef-9e1b-d85102dd6667} | BX91: {5f91c07c-bb25-4d27-858b-fa7d8fd6dd91}
A92: / | D92: 5 | J92: Priechod pre chodcov | AG92: 0 | AN92: =1.2*AG92 -> 0 | AS92: =#REF! -> #REF! | AT92: =ROUND(SUM(AV92:AW92),2) -> #REF! | AU92: =#REF! -> #REF! | AV92: =#REF! -> #REF! | AW92: =#REF! -> #REF! | AX92: =#REF! -> #REF! | AY92: =#REF! -> #REF! | AZ92: =#REF! -> #REF! | BA92: =#REF! -> #REF! | BB92: =#REF! -> #REF! | ... BD92: =#REF! -> #REF! | BT92: 1 | BV92: IMPORT | BW92: {bcb4c3d6-eef0-4239-9095-cb845b428915} | BX92: {5f91c07c-bb25-4d27-858b-fa7d8fd6dd91}
A93: / | D93: 6 | J93: Priechod pre chodcov | AG93: 0 | AN93: =1.2*AG93 -> 0 | AS93: =#REF! -> #REF! | AT93: =ROUND(SUM(AV93:AW93),2) -> #REF! | AU93: =#REF! -> #REF! | AV93: =#REF! -> #REF! | AW93: =#REF! -> #REF! | AX93: =#REF! -> #REF! | AY93: =#REF! -> #REF! | AZ93: =#REF! -> #REF! | BA93: =#REF! -> #REF! | BB93: =#REF! -> #REF! | ... BD93: =#REF! -> #REF! | BT93: 1 | BV93: IMPORT | BW93: {894728c3-e913-46d9-b408-3e9919509f5d} | BX93: {5f91c07c-bb25-4d27-858b-fa7d8fd6dd91}
D94: 7 | J94: Priechod pre chodcov s nábehom | AG94: 0 | AN94: =1.2*AG94 -> 0
C95: 2) Ostatné náklady zo súhrnného listu | AG95: 0 | AN95: 0 | AS95: Percent. zadanie_x000D_ [% nákladov rozpočtu] | AT95: Zaradenie nákladov | AU95: DPH | AV95: DPH [EUR]
C97: Celkové náklady za stavbu 1) + 2) | AG97: =ROUND(AG87+AG95,2) -> 0 | AN97: =AN87+AN95 -> 0

Sheet Rekapitulácia objektov
A1: Rekapitulácia objektov stavby
A3: Stavba: | B3: Rekonštrukcia jestvujúcich priechodov a retardérov v meste Trebišov
A5: Objednávateľ: | B5: Mesto Trebišov
A6: Zhotoviteľ: | D6: Spracoval: | E6: Ing. Béreš
A7: Miesto: | B7: Trebišov | D7: Dátum: | E7: 44092
A9: Kód | B9: Zákazka | C9: Cena bez DPH | D9: DPH | E9: Cena s DPH | F9: Ostatné | G9: ZRN | H9: HZS | I9: VRN | J9: KČ
A11: S0 1-7 | B11: Rekonštrukcia jestvujúcich priechodov a retardérov v meste Trebišov | C11: =C19 -> 0 | D11: =D19 -> 0 | E11: =E19 -> 0 | F11: 0 | G11: 48174.805 | H11: 0 | I11: 1600 | J11: 0
A12: Priechod 1 | D12: =0.2*C12 -> 0 | E12: =C12+D12 -> 0 | F12: 0 | G12: 16514.279 | H12: 0 | I12: 800 | J12: 0
A13: Priechod 2 | D13: =0.2*C13 -> 0 | E13: =C13+D13 -> 0
A14: Priechod 3 | D14: =0.2*C14 -> 0 | E14: =C14+D14 -> 0
A15: Priechod 4 | D15: =0.2*C15 -> 0 | E15: =C15+D15 -> 0
A16: Priechod 5 | D16: =0.2*C16 -> 0 | E16: =C16+D16 -> 0
A17: Priechod 6 | D17: =0.2*C17 -> 0 | E17: =C17+D17 -> 0
A18: Priechod 7 | D18: =0.2*C18 -> 0 | E18: =C18+D18 -> 0 | F18: 0 | G18: 31660.526 | H18: 0 | I18: 800 | J18: 0
B19: Celkom | C19: =SUM(C12:C18) -> 0 | D19: =SUM(D12:D18) -> 0 | E19: =SUM(E12:E18) -> 0 | F19: 0 | G19: 48174.805 | H19: 0 | I19: 1600 | J19: 0

Sheet 01 - Prechod
D1: Hárok obsahuje: | F1: 1) Krycí list rozpočtu | H1: 2) Rekapitulácia rozpočtu | L1: 3) Rozpočet | O1: Späť na hárok: | S1: Rekapitulácia stavby
C2: optimalizované pre tlač zostáv vo formáte A4 - na výšku | S2: >> skryté stĺpce << | AT2: {85df8818-560a-4a5e-a84a-5d2801e4224e}
AT3: 0
C4: KRYCÍ LIST | T4: v --- nižšie sa nachádzajú doplnkové a pomocné údaje k zostavám --- v | AT4: False
D6: Stavba: | F6: ='Rekapitulácia stavby'!K6 -> Rekonštrukcia jestvujúcich priechodov a retardérov v meste Trebišov
D7: Objekt: | F7: 01 - Priechod pre chodcov
D8: JKSO: | M8: KS:
D9: Miesto: | F9: Trebišov | M9: Dátum: | O9: ='Rekapitulácia stavby'!AN8 -> 44092
D11: Objednávateľ: | M11: IČO:
E12: Mesto Trebišov | M12: IČO DPH:
D14: Zhotoviteľ: | M14: IČO: | O14: =IF('Rekapitulácia stavby'!AN13="","",'Rekapitulácia stavby'!AN13)
E15: =IF('Rekapitulácia stavby'!E14="","",'Rekapitulácia stavby'!E14) | M15: IČO DPH: | O15: =IF('Rekapitulácia stavby'!AN14="","",'Rekapitulácia stavby'!AN14)
D17: Projektant: | M17: IČO:
M18: IČO DPH:
D20: Spracovateľ: | M20: IČO:
E21: Ing. Z. Béreš | M21: IČO DPH:
D23: Poznámka:
D27: Náklady z rozpočtu | M27: =N88 -> 0
D28: Ostatné náklady | M28: =N99 -> 0
D30: Cena bez DPH | M30: =ROUND(M27+M28,2) -> 0
D32: DPH | E32: základná | F32: 0.2 | G32: z | H32: =ROUND((SUM(BE99:BE100)+SUM(BE118:BE147)), 2) -> 0 | M32: =ROUND(ROUND((SUM(BE99:BE100)+SUM(BE118:BE147)), 2)*F32, 2) -> 0
E33: znížená | F33: 0.2 | G33: z | H33: =M30 -> 0 | M33: =0.2*M30 -> 0
E34: zákl. prenesená | F34: 0.2 | G34: z | H34: =ROUND((SUM(BG99:BG100)+SUM(BG118:BG147)), 2) -> 0 | M34: 0
E35: zníž. prenesená | F35: 0.2 | G35: z | H35: =ROUND((SUM(BH99:BH100)+SUM(BH118:BH147)), 2) -> 0 | M35: 0
E36: nulová | F36: 0 | G36: z | H36: =ROUND((SUM(BI99:BI100)+SUM(BI118:BI147)), 2) -> 0 | M36: 0
D38: Cena s DPH | G38: v | H38: EUR | L38: =SUM(M30:M36) -> 0
D50: Projektant | J50: Spracovateľ
D59: Dátum a podpis: | G59: Pečiatka | J59: Dátum a podpis: | N59: Pečiatka
D61: Objednávateľ | J61: Zhotoviteľ
D70: Dátum a podpis: | G70: Pečiatka | J70: Dátum a podpis: | N70: Pečiatka
C76: REKAPITULÁCIA
C78: Stavba: | F78: =F6 -> Rekonštrukcia jestvujúcich priechodov a retardérov v meste Trebišov
C79: Objekt: | F79: =F7 -> 01 - Priechod pre chodcov
C81: Miesto: | F81: =F9 -> Trebišov | K81: Dátum: | M81: =IF(O9="","",O9) -> 44092
C83: Objednávateľ: | F83: =E12 -> Mesto Trebišov | K83: Projektant: | M83: =E18 -> 0
C84: Zhotoviteľ: | F84: =IF(E15="","",E15) | K84: Spracovateľ: | M84: =E21 -> Ing. Z. Béreš
C86: Kód - Popis | N86: Cena celkom [EUR]
C88: 1) Náklady z rozpočtu | N88: =N118 -> 0 | AU88: -1
D89: HSV - Práce a dodávky HSV | N89: =N119 -> 0
D90: 1 - Zemné práce | N90: =N120 -> 0
D91: 4 - Vodorovné konštrukcie | N91: =N129 -> 0
D92: 5 - Komunikácie | N92: =N131 -> 0
D93: 9 - Ostatné konštrukcie a práce-búranie | N93: =N134 -> 0
D94: VRN - Vedľajšie rozpočtové náklady | N94: =N141 -> 0
D95: VRN03 - Geodetické práce | N95: =N142 -> 0
D96: VRN04 - Projektové práce | N96: =N144 -> 0
D97: VRN06 - Zariadenie staveniska | N97: =N146 -> 0
C99: 2) Ostatné náklady | N99: 0 | U99: DPH
C101: Celkové náklady za stavbu 1) + 2) | L101: =ROUND(SUM(N88+N99),2) -> 0
C107: ZADANIE
C109: Stavba: | F109: =F6 -> Rekonštrukcia jestvujúcich priechodov a retardérov v meste Trebišov
C110: Objekt: | F110: =F7 -> 01 - Priechod pre chodcov
C112: Miesto: | F112: =F9 -> Trebišov | K112: Dátum: | M112: =IF(O9="","",O9) -> 44092
C114: Objednávateľ: | F114: =E12 -> Mesto Trebišov | K114: Projektant: | M114: =E18 -> 0
C115: Zhotoviteľ: | F115: =IF(E15="","",E15) | K115: Spracovateľ:
C117: PČ | D117: Typ | E117: Kód | F117: Popis | J117: MJ | K117: Množstvo | L117: J.cena [EUR] | N117: Cena celkom [EUR] | T117: Poznámka | U117: DPH | V117: J. Nh [h] | W117: Nh celkom [h] | X117: J. hmotnosť_x000D_ [t] | Y117: Hmotnosť_x000D_ celkom [t] | Z117: J. suť [t] | AA117: Suť Celkom [t]
C118: Náklady z rozpočtu | N118: =N119+N141 -> 0 | W118: =W119+W141 -> #REF! | Y118: =Y119+Y141 -> #REF! | AA118: =AA119+AA141 -> #REF! | AT118: D | AU118: -1 | BK118: =BK119+BK141 -> #REF!
D119: HSV - Práce a dodávky HSV | N119: =N120+N129+N131+N134 -> 0 | W119: =W120+#REF!+W131+W134 -> #REF! | Y119: =Y120+#REF!+Y131+Y134 -> #REF! | AA119: =AA120+#REF!+AA131+AA134 -> #REF! | AR119: 1 | AT119: D | AU119: 0 | AY119: ROZPOCET | BK119: =BK120+#REF!+BK131+BK134 -> #REF!
D120: 1 - Zemné práce | N120: =SUM(N121:Q128) -> 0 | W120: =SUM(W121:W128) -> 41.71003 | Y120: =SUM(Y121:Y128) -> 0 | AA120: =SUM(AA121:AA128) -> 31.87 | AR120: 1 | AT120: D | AU120: 1 | AY120: ROZPOCET | BK120: =SUM(BK121:BK128) -> 0
C121: 1 | D121: K | E121: 113307122 | F121: Odstránenie podkladu v ploche do 200 m2 z kameniva hrubého drveného, hr. 200 mm, -0,4700t | J121: m2 | K121: 46 | N121: =ROUND(L121*K121,2) -> 0 | U121: znížená | V121: 0.827 | W121: =V121*K121 -> 38.042 | X121: 0 | Y121: =X121*K121 -> 0 | Z121: 0.48 | AA121: =Z121*K121 -> 22.08 | AR121: 4 | AT121: K | AU121: 2 | AY121: ROZPOCET | BE121: =IF(U121="základná",N121,0) -> 0 | BF121: =IF(U121="znížená",N121,0) -> 0 | BG121: =IF(U121="zákl. prenesená",N121,0) -> 0 | BH121: =IF(U121="zníž. prenesená",N121,0) -> 0 | BI121: =IF(U121="nulová",N121,0) -> 0 | BJ121: 2 | BK121: =ROUND(L121*K121,2) -> 0 | BL121: 4 | BM121: -169691661
C122: 2 | D122: K | E122: 113107232 | F122: Odstránenie pôvodných konštrukcií a vrstiev z betónu prostého, podklad, kryt, dlažba, obrubníky, -2,2000t | J122: m3 | K122: 4.45 | N122: =ROUND(L122*K122,2) -> 0 | U122: znížená | V122: 0.319 | W122: =V122*K122 -> 1.41955 | X122: 0 | Y122: =X122*K122 -> 0 | Z122: 2.2 | AA122: =Z122*K122 -> 9.79 | AR122: 4 | AT122: K | AU122: 2 | AY122: ROZPOCET | BE122: =IF(U122="základná",N122,0) -> 0 | BF122: =IF(U122="znížená",N122,0) -> 0 | BG122: =IF(U122="zákl. prenesená",N122,0) -> 0 | BH122: =IF(U122="zníž. prenesená",N122,0) -> 0 | BI122: =IF(U122="nulová",N122,0) -> 0 | BJ122: 2 | BK122: =ROUND(L122*K122,2) -> 0 | BL122: 4 | BM122: 1383573589
C123: 3 | D123: K | E123: 162501122 | F123: Vodorovné premiestnenie výkopku po spevnenej ceste z horniny tr.1-4, nad 100 do 1000 m3 na vzdialenosť do 3000 m | J123: m3 | K123: 9.2 | N123: =ROUND(L123*K123,2) -> 0 | U123: znížená | V123: 0.0544 | W123: =V123*K123 -> 0.50048 | X123: 0 | Y123: =X123*K123 -> 0 | Z123: 0 | AA123: =Z123*K123 -> 0 | AR123: 4 | AT123: K | AU123: 2 | AY123: ROZPOCET | BE123: =IF(U123="základná",N123,0) -> 0 | BF123: =IF(U123="znížená",N123,0) -> 0 | BG123: =IF(U123="zákl. prenesená",N123,0) -> 0 | BH123: =IF(U123="zníž. prenesená",N123,0) -> 0 | BI123: =IF(U123="nulová",N123,0) -> 0 | BJ123: 2 | BK123: =ROUND(L123*K123,2) -> 0 | BL123: 4 | BM123: 1681925433
C124: 4 | D124: K | E124: 162501123 | F124: Vodorovné premiestnenie výkopku po spevnenej ceste z horniny tr.1-4, nad 100 do 1000 m3, príplatok k cene za každých ďalšich a začatých 1000 m - celkovo 5 km | J124: m3 | K124: =K123*2 -> 18.4 | N124: =ROUND(L124*K124,2) -> 0 | U124: znížená | V124: 0.005 | W124: =V124*K124 -> 0.092 | X124: 0 | Y124: =X124*K124 -> 0 | Z124: 0 | AA124: =Z124*K124 -> 0 | AR124: 4 | AT124: K | AU124: 2 | AY124: ROZPOCET | BE124: =IF(U124="základná",N124,0) -> 0 | BF124: =IF(U124="znížená",N124,0) -> 0 | BG124: =IF(U124="zákl. prenesená",N124,0) -> 0 | BH124: =IF(U124="zníž. prenesená",N124,0) -> 0 | BI124: =IF(U124="nulová",N124,0) -> 0 | BJ124: 2 | BK124: =ROUND(L124*K124,2) -> 0 | BL124: 4 | BM124: 1266939450
C125: 5 | D125: K | E125: 167101102 | F125: Nakladanie neuľahnutého výkopku z hornín tr.1-4 nad 100 do 1000 m3 | J125: m3 | K125: 9.2 | N125: =ROUND(L125*K125,2) -> 0 | U125: znížená | V125: 0.087 | W125: =V125*K125 -> 0.8004 | X125: 0 | Y125: =X125*K125 -> 0 | Z125: 0 | AA125: =Z125*K125 -> 0 | AR125: 4 | AT125: K | AU125: 2 | AY125: ROZPOCET | BE125: =IF(U125="základná",N125,0) -> 0 | BF125: =IF(U125="znížená",N125,0) -> 0 | BG125: =IF(U125="zákl. prenesená",N125,0) -> 0 | BH125: =IF(U125="zníž. prenesená",N125,0) -> 0 | BI125: =IF(U125="nulová",N125,0) -> 0 | BJ125: 2 | BK125: =ROUND(L125*K125,2) -> 0 | BL125: 4 | BM125: -1816157790
C126: 6 | D126: K | E126: 171201202 | F126: Uloženie sypaniny na skládky nad 100 do 1000 m3 | J126: m3 | K126: 9.2 | N126: =ROUND(L126*K126,2) -> 0 | U126: znížená | V126: 0.008 | W126: =V126*K126 -> 0.0736 | X126: 0 | Y126: =X126*K126 -> 0 | Z126: 0 | AA126: =Z126*K126 -> 0 | AR126: 4 | AT126: K | AU126: 2 | AY126: ROZPOCET | BE126: =IF(U126="základná",N126,0) -> 0 | BF126: =IF(U126="znížená",N126,0) -> 0 | BG126: =IF(U126="zákl. prenesená",N126,0) -> 0 | BH126: =IF(U126="zníž. prenesená",N126,0) -> 0 | BI126: =IF(U126="nulová",N126,0) -> 0 | BJ126: 2 | BK126: =ROUND(L126*K126,2) -> 0 | BL126: 4 | BM126: -1660578335
C127: 7 | D127: K | E127: 171209002 | F127: Poplatok za skladovanie - zemina a kamenivo (17 05) ostatné | J127: t | K127: =0.47*K121 -> 21.62 | N127: =ROUND(L127*K127,2) -> 0 | U127: znížená | V127: 0 | W127: =V127*K127 -> 0 | X127: 0 | Y127: =X127*K127 -> 0 | Z127: 0 | AA127: =Z127*K127 -> 0 | AR127: 4 | AT127: K | AU127: 2 | AY127: ROZPOCET | BE127: =IF(U127="základná",N127,0) -> 0 | BF127: =IF(U127="znížená",N127,0) -> 0 | BG127: =IF(U127="zákl. prenesená",N127,0) -> 0 | BH127: =IF(U127="zníž. prenesená",N127,0) -> 0 | BI127: =IF(U127="nulová",N127,0) -> 0 | BJ127: 2 | BK127: =ROUND(L127*K127,2) -> 0 | BL127: 4 | BM127: 1858080667
C128: 8 | D128: K | E128: 181101102 | F128: Úprava pláne v hornine 1-4 so zhutnením | J128: m2 | K128: 46 | N128: =ROUND(L128*K128,2) -> 0 | U128: znížená | V128: 0.017 | W128: =V128*K128 -> 0.782 | X128: 0 | Y128: =X128*K128 -> 0 | Z128: 0 | AA128: =Z128*K128 -> 0 | AR128: 4 | AT128: K | AU128: 2 | AY128: ROZPOCET | BE128: =IF(U128="základná",N128,0) -> 0 | BF128: =IF(U128="znížená",N128,0) -> 0 | BG128: =IF(U128="zákl. prenesená",N128,0) -> 0 | BH128: =IF(U128="zníž. prenesená",N128,0) -> 0 | BI128: =IF(U128="nulová",N128,0) -> 0 | BJ128: 2 | BK128: =ROUND(L128*K128,2) -> 0 | BL128: 4 | BM128: 303010533
D129: 4 - Vodorovné konštrukcie | N129: =SUM(N130) -> 0
C130: 9 | D130: K | E130: 451311411 | F130: Podklad pod dlažbu z betónu prostého tr. C 16/20 hr. do 150 mm | J130: m2 | K130: 46 | N130: =ROUND(L130*K130,2) -> 0
D131: 5 - Komunikácie | N131: =SUM(N132:Q133) -> 0 | W131: =SUM(#REF!) -> #REF! | Y131: =SUM(#REF!) -> #REF! | AA131: =SUM(#REF!) -> #REF! | AR131: 1 | AT131: D | AU131: 1 | AY131: ROZPOCET | BK131: =SUM(#REF!) -> #REF!
C132: 10 | D132: K | E132: 573111112 | F132: Postrek asfaltový infiltračný s posypom kamenivom z asfaltu cestného v množstve 1,00 kg/m2 | J132: m2 | K132: 46 | N132: =ROUND(L132*K132,2) -> 0
C133: 11 | D133: K | E133: 577144231 | F133: Asfaltový betón vrstva obrusná AC 11 O v pruhu š. do 3 m z nemodifik. asfaltu tr. II, po zhutnení hr. 50 mm | J133: m2 | K133: 46 | N133: =ROUND(L133*K133,2) -> 0
D134: 9 - Ostatné konštrukcie a práce-búranie | N134: =SUM(N135:Q140) -> 0 | W134: =SUM(W136:W140) -> 8.16854 | Y134: =SUM(Y136:Y140) -> 2.0756 | AA134: =SUM(AA136:AA140) -> 0 | AR134: 1 | AT134: D | AU134: 1 | AY134: ROZPOCET | BK134: =SUM(BK136:BK140) -> 0
C135: 12 | D135: K | E135: 915721212 | F135: Vodorovné dopravné značenie striekané farbou prechodov pre chodcov, šípky, symboly a pod., biela retroreflexná | J135: m2 | K135: 40 | N135: =ROUND(L135*K135,2) -> 0
C136: 13 | D136: K | E136: 917862111 | F136: Osadenie cestneho obrubníka betónového stojatého do lôžka z betónu prosteho tr. C 12/15 s bočnou oporou | J136: m | K136: 10 | N136: =ROUND(L136*K136,2) -> 0 | U136: znížená | V136: 0.204 | W136: =V136*K136 -> 2.04 | X136: 0.12656 | Y136: =X136*K136 -> 1.2656 | Z136: 0 | AA136: =Z136*K136 -> 0 | AR136: 4 | AT136: K | AU136: 2 | AY136: ROZPOCET | BE136: =IF(U136="základná",N136,0) -> 0 | BF136: =IF(U136="znížená",N136,0) -> 0 | BG136: =IF(U136="zákl. prenesená",N136,0) -> 0 | BH136: =IF(U136="zníž. prenesená",N136,0) -> 0 | BI136: =IF(U136="nulová",N136,0) -> 0 | BJ136: 2 | BK136: =ROUND(L136*K136,2) -> 0 | BL136: 4 | BM136: 1392070118
C137: 14 | D137: M | E137: 5922903060 | F137: Obrubník betónový cestný, skosený, 100/25/15 cm, sivá | J137: ks | K137: 10 | N137: =ROUND(L137*K137,2) -> 0 | U137: znížená | V137: 0 | W137: =V137*K137 -> 0 | X137: 0.081 | Y137: =X137*K137 -> 0.81 | Z137: 0 | AA137: =Z137*K137 -> 0 | AR137: 8 | AT137: M | AU137: 2 | AY137: ROZPOCET | BE137: =IF(U137="základná",N137,0) -> 0 | BF137: =IF(U137="znížená",N137,0) -> 0 | BG137: =IF(U137="zákl. prenesená",N137,0) -> 0 | BH137: =IF(U137="zníž. prenesená",N137,0) -> 0 | BI137: =IF(U137="nulová",N137,0) -> 0 | BJ137: 2 | BK137: =ROUND(L137*K137,2) -> 0 | BL137: 4 | BM137: 1735458656
C138: 15 | D138: K | E138: 979081111 | F138: Odvoz sutiny a vybúraných hmôt na skládku do 1 km | J138: t | K138: =2.2*K122 -> 9.79 | N138: =ROUND(L138*K138,2) -> 0 | U138: znížená | V138: 0.598 | W138: =V138*K138 -> 5.85442 | X138: 0 | Y138: =X138*K138 -> 0 | Z138: 0 | AA138: =Z138*K138 -> 0 | AR138: 4 | AT138: K | AU138: 2 | AY138: ROZPOCET | BE138: =IF(U138="základná",N138,0) -> 0 | BF138: =IF(U138="znížená",N138,0) -> 0 | BG138: =IF(U138="zákl. prenesená",N138,0) -> 0 | BH138: =IF(U138="zníž. prenesená",N138,0) -> 0 | BI138: =IF(U138="nulová",N138,0) -> 0 | BJ138: 2 | BK138: =ROUND(L138*K138,2) -> 0 | BL138: 4 | BM138: -717601006
C139: 16 | D139: K | E139: 979081121 | F139: Odvoz sutiny a vybúraných hmôt na skládku za každý ďalší 1 km - celkovo 5 km | J139: t | K139: =4*K138 -> 39.16 | N139: =ROUND(L139*K139,2) -> 0 | U139: znížená | V139: 0.007 | W139: =V139*K139 -> 0.27412 | X139: 0 | Y139: =X139*K139 -> 0 | Z139: 0 | AA139: =Z139*K139 -> 0 | AR139: 4 | AT139: K | AU139: 2 | AY139: ROZPOCET | BE139: =IF(U139="základná",N139,0) -> 0 | BF139: =IF(U139="znížená",N139,0) -> 0 | BG139: =IF(U139="zákl. prenesená",N139,0) -> 0 | BH139: =IF(U139="zníž. prenesená",N139,0) -> 0 | BI139: =IF(U139="nulová",N139,0) -> 0 | BJ139: 2 | BK139: =ROUND(L139*K139,2) -> 0 | BL139: 4 | BM139: 1364100287
C140: 17 | D140: K | E140: 979089012 | F140: Poplatok za skladovanie - betón, tehly, dlaždice (17 01 ), ostatné | J140: t | K140: =K138 -> 9.79 | N140: =ROUND(L140*K140,2) -> 0 | U140: znížená | V140: 0 | W140: =V140*K140 -> 0 | X140: 0 | Y140: =X140*K140 -> 0 | Z140: 0 | AA140: =Z140*K140 -> 0 | AR140: 4 | AT140: K | AU140: 2 | AY140: ROZPOCET | BE140: =IF(U140="základná",N140,0) -> 0 | BF140: =IF(U140="znížená",N140,0) -> 0 | BG140: =IF(U140="zákl. prenesená",N140,0) -> 0 | BH140: =IF(U140="zníž. prenesená",N140,0) -> 0 | BI140: =IF(U140="nulová",N140,0) -> 0 | BJ140: 2 | BK140: =ROUND(L140*K140,2) -> 0 | BL140: 4 | BM140: -1576511002
D141: VRN - Vedľajšie rozpočtové náklady | N141: =BK141 -> 0 | W141: =W142+W144+W146 -> 0 | Y141: =Y142+Y144+Y146 -> 0 | AA141: =AA142+AA144+AA146 -> 0 | AR141: 5 | AT141: D | AU141: 0 | AY141: ROZPOCET | BK141: =BK142+BK144+BK146 -> 0
D142: VRN03 - Geodetické práce | N142: =BK142 -> 0 | W142: =SUM(W143:W143) -> 0 | Y142: =SUM(Y143:Y143) -> 0 | AA142: =SUM(AA143:AA143) -> 0 | AR142: 5 | AT142: D | AU142: 1 | AY142: ROZPOCET | BK142: =SUM(BK143:BK143) -> 0
C143: 18 | D143: K | E143: 000300013 | F143: Geodetické práce - vykonávané pred výstavbou určenie priebehu nadzemného alebo podzemného existujúceho aj plánovaného vedenia | J143: kpl | K143: 1 | N143: =ROUND(L143*K143,2) -> 0 | U143: znížená | V143: 0 | W143: =V143*K143 -> 0 | X143: 0 | Y143: =X143*K143 -> 0 | Z143: 0 | AA143: =Z143*K143 -> 0 | AR143: 1024 | AT143: K | AU143: 2 | AY143: ROZPOCET | BE143: =IF(U143="základná",N143,0) -> 0 | BF143: =IF(U143="znížená",N143,0) -> 0 | BG143: =IF(U143="zákl. prenesená",N143,0) -> 0 | BH143: =IF(U143="zníž. prenesená",N143,0) -> 0 | BI143: =IF(U143="nulová",N143,0) -> 0 | BJ143: 2 | BK143: =ROUND(L143*K143,2) -> 0 | BL143: 1024 | BM143: -1548056381
D144: VRN04 - Projektové práce | N144: =BK144 -> 0 | W144: =W145 -> 0 | Y144: =Y145 -> 0 | AA144: =AA145 -> 0 | AR144: 5 | AT144: D | AU144: 1 | AY144: ROZPOCET | BK144: =BK145 -> 0
C145: 19 | D145: K | E145: 000400022 | F145: Projektové práce - náklady na dokumentáciu skutočného zhotovenia stavby | J145: kpl | K145: 1 | N145: =ROUND(L145*K145,2) -> 0 | U145: znížená | V145: 0 | W145: =V145*K145 -> 0 | X145: 0 | Y145: =X145*K145 -> 0 | Z145: 0 | AA145: =Z145*K145 -> 0 | AR145: 1024 | AT145: K | AU145: 2 | AY145: ROZPOCET | BE145: =IF(U145="základná",N145,0) -> 0 | BF145: =IF(U145="znížená",N145,0) -> 0 | BG145: =IF(U145="zákl. prenesená",N145,0) -> 0 | BH145: =IF(U145="zníž. prenesená",N145,0) -> 0 | BI145: =IF(U145="nulová",N145,0) -> 0 | BJ145: 2 | BK145: =ROUND(L145*K145,2) -> 0 | BL145: 1024 | BM145: -1038011015
D146: VRN06 - Zariadenie staveniska | N146: =BK146 -> 0 | W146: =SUM(W147:W147) -> 0 | Y146: =SUM(Y147:Y147) -> 0 | AA146: =SUM(AA147:AA147) -> 0 | AR146: 5 | AT146: D | AU146: 1 | AY146: ROZPOCET | BK146: =SUM(BK147:BK147) -> 0
C147: 20 | D147: K | E147: 000600024 | F147: Zariadenie staveniska - prevádzkové dopravné značenie po stavenisku | J147: kpl | K147: 1 | N147: =ROUND(L147*K147,2) -> 0 | U147: znížená | V147: 0 | W147: =V147*K147 -> 0 | X147: 0 | Y147: =X147*K147 -> 0 | Z147: 0 | AA147: =Z147*K147 -> 0 | AR147: 1024 | AT147: K | AU147: 2 | AY147: ROZPOCET | BE147: =IF(U147="základná",N147,0) -> 0 | BF147: =IF(U147="znížená",N147,0) -> 0 | BG147: =IF(U147="zákl. prenesená",N147,0) -> 0 | BH147: =IF(U147="zníž. prenesená",N147,0) -> 0 | BI147: =IF(U147="nulová",N147,0) -> 0 | BJ147: 2 | BK147: =ROUND(L147*K147,2) -> 0 | BL147: 1024 | BM147: 1258205811

Sheet 02 - Prechod
D1: Hárok obsahuje: | F1: 1) Krycí list rozpočtu | H1: 2) Rekapitulácia rozpočtu | L1: 3) Rozpočet | O1: Späť na hárok: | S1: Rekapitulácia stavby
C2: optimalizované pre tlač zostáv vo formáte A4 - na výšku | S2: >> skryté stĺpce << | AT2: {85df8818-560a-4a5e-a84a-5d2801e4224e}
AT3: 0
C4: KRYCÍ LIST | T4: v --- nižšie sa nachádzajú doplnkové a pomocné údaje k zostavám --- v | AT4: False
D6: Stavba: | F6: ='Rekapitulácia stavby'!K6 -> Rekonštrukcia jestvujúcich priechodov a retardérov v meste Trebišov
D7: Objekt: | F7: 02 - Priechod pre chodcov s nábehom
D8: JKSO: | M8: KS:
D9: Miesto: | F9: Trebišov | M9: Dátum: | O9: ='Rekapitulácia stavby'!AN8 -> 44092
D11: Objednávateľ: | M11: IČO:
E12: Mesto Trebišov | M12: IČO DPH:
D14: Zhotoviteľ: | M14: IČO: | O14: =IF('Rekapitulácia stavby'!AN13="","",'Rekapitulácia stavby'!AN13)
E15: =IF('Rekapitulácia stavby'!E14="","",'Rekapitulácia stavby'!E14) | M15: IČO DPH: | O15: =IF('Rekapitulácia stavby'!AN14="","",'Rekapitulácia stavby'!AN14)
D17: Projektant: | M17: IČO:
M18: IČO DPH:
D20: Spracovateľ: | M20: IČO:
E21: Ing. Z. Béreš | M21: IČO DPH:
D23: Poznámka:
D27: Náklady z rozpočtu | M27: =N88 -> 0
D28: Ostatné náklady | M28: =N99 -> 0
D30: Cena bez DPH | M30: =ROUND(M27+M28,2) -> 0
D32: DPH | E32: základná | F32: 0.2 | G32: z | H32: =ROUND((SUM(BE99:BE100)+SUM(BE118:BE147)), 2) -> 0 | M32: =ROUND(ROUND((SUM(BE99:BE100)+SUM(BE118:BE147)), 2)*F32, 2) -> 0
E33: znížená | F33: 0.2 | G33: z | H33: =M30 -> 0 | M33: =0.2*M30 -> 0
E34: zákl. prenesená | F34: 0.2 | G34: z | H34: =ROUND((SUM(BG99:BG100)+SUM(BG118:BG147)), 2) -> 0 | M34: 0
E35: zníž. prenesená | F35: 0.2 | G35: z | H35: =ROUND((SUM(BH99:BH100)+SUM(BH118:BH147)), 2) -> 0 | M35: 0
E36: nulová | F36: 0 | G36: z | H36: =ROUND((SUM(BI99:BI100)+SUM(BI118:BI147)), 2) -> 0 | M36: 0
D38: Cena s DPH | G38: v | H38: EUR | L38: =SUM(M30:M36) -> 0
D50: Projektant | J50: Spracovateľ
D59: Dátum a podpis: | G59: Pečiatka | J59: Dátum a podpis: | N59: Pečiatka
D61: Objednávateľ | J61: Zhotoviteľ
D70: Dátum a podpis: | G70: Pečiatka | J70: Dátum a podpis: | N70: Pečiatka
C76: REKAPITULÁCIA
C78: Stavba: | F78: =F6 -> Rekonštrukcia jestvujúcich priechodov a retardérov v meste Trebišov
C79: Objekt: | F79: =F7 -> 02 - Priechod pre chodcov s nábehom
C81: Miesto: | F81: =F9 -> Trebišov | K81: Dátum: | M81: =IF(O9="","",O9) -> 44092
C83: Objednávateľ: | F83: =E12 -> Mesto Trebišov | K83: Projektant: | M83: =E18 -> 0
C84: Zhotoviteľ: | F84: =IF(E15="","",E15) | K84: Spracovateľ: | M84: =E21 -> Ing. Z. Béreš
C86: Kód - Popis | N86: Cena celkom [EUR]
C88: 1) Náklady z rozpočtu | N88: =N118 -> 0 | AU88: -1
D89: HSV - Práce a dodávky HSV | N89: =N119 -> 0
D90: 1 - Zemné práce | N90: =N120 -> 0
D91: 4 - Vodorovné konštrukcie | N91: =N129 -> 0
D92: 5 - Komunikácie | N92: =N131 -> 0
D93: 9 - Ostatné konštrukcie a práce-búranie | N93: =N134 -> 0
D94: VRN - Vedľajšie rozpočtové náklady | N94: =N141 -> 0
D95: VRN03 - Geodetické práce | N95: =N142 -> 0
D96: VRN04 - Projektové práce | N96: =N144 -> 0
D97: VRN06 - Zariadenie staveniska | N97: =N146 -> 0
C99: 2) Ostatné náklady | N99: 0 | U99: DPH
C101: Celkové náklady za stavbu 1) + 2) | L101: =ROUND(SUM(N88+N99),2) -> 0
C107: ZADANIE
C109: Stavba: | F109: =F6 -> Rekonštrukcia jestvujúcich priechodov a retardérov v meste Trebišov
C110: Objekt: | F110: =F7 -> 02 - Priechod pre chodcov s nábehom
C112: Miesto: | F112: =F9 -> Trebišov | K112: Dátum: | M112: =IF(O9="","",O9) -> 44092
C114: Objednávateľ: | F114: =E12 -> Mesto Trebišov | K114: Projektant: | M114: =E18 -> 0
C115: Zhotoviteľ: | F115: =IF(E15="","",E15) | K115: Spracovateľ:
C117: PČ | D117: Typ | E117: Kód | F117: Popis | J117: MJ | K117: Množstvo | L117: J.cena [EUR] | N117: Cena celkom [EUR] | T117: Poznámka | U117: DPH | V117: J. Nh [h] | W117: Nh celkom [h] | X117: J. hmotnosť_x000D_ [t] | Y117: Hmotnosť_x000D_ celkom [t] | Z117: J. suť [t] | AA117: Suť Celkom [t]
C118: Náklady z rozpočtu | N118: =N119+N141 -> 0 | W118: =W119+W141 -> #REF! | Y118: =Y119+Y141 -> #REF! | AA118: =AA119+AA141 -> #REF! | AT118: D | AU118: -1 | BK118: =BK119+BK141 -> #REF!
D119: HSV - Práce a dodávky HSV | N119: =N120+N129+N131+N134 -> 0 | W119: =W120+#REF!+W131+W134 -> #REF! | Y119: =Y120+#REF!+Y131+Y134 -> #REF! | AA119: =AA120+#REF!+AA131+AA134 -> #REF! | AR119: 1 | AT119: D | AU119: 0 | AY119: ROZPOCET | BK119: =BK120+#REF!+BK131+BK134 -> #REF!
D120: 1 - Zemné práce | N120: =SUM(N121:Q128) -> 0 | W120: =SUM(W121:W128) -> 48.93399 | Y120: =SUM(Y121:Y128) -> 0 | AA120: =SUM(AA121:AA128) -> 37.206 | AR120: 1 | AT120: D | AU120: 1 | AY120: ROZPOCET | BK120: =SUM(BK121:BK128) -> 0
C121: 1 | D121: K | E121: 113307122 | F121: Odstránenie podkladu v ploche do 200 m2 z kameniva hrubého drveného, hr. 200 mm, -0,4700t | J121: m2 | K121: 54 | N121: =ROUND(L121*K121,2) -> 0 | U121: znížená | V121: 0.827 | W121: =V121*K121 -> 44.658 | X121: 0 | Y121: =X121*K121 -> 0 | Z121: 0.48 | AA121: =Z121*K121 -> 25.92 | AR121: 4 | AT121: K | AU121: 2 | AY121: ROZPOCET | BE121: =IF(U121="základná",N121,0) -> 0 | BF121: =IF(U121="znížená",N121,0) -> 0 | BG121: =IF(U121="zákl. prenesená",N121,0) -> 0 | BH121: =IF(U121="zníž. prenesená",N121,0) -> 0 | BI121: =IF(U121="nulová",N121,0) -> 0 | BJ121: 2 | BK121: =ROUND(L121*K121,2) -> 0 | BL121: 4 | BM121: -169691661
C122: 2 | D122: K | E122: 113107232 | F122: Odstránenie pôvodných konštrukcií a vrstiev z betónu prostého, podklad, kryt, dlažba, obrubníky, -2,2000t | J122: m3 | K122: 5.13 | N122: =ROUND(L122*K122,2) -> 0 | U122: znížená | V122: 0.319 | W122: =V122*K122 -> 1.63647 | X122: 0 | Y122: =X122*K122 -> 0 | Z122: 2.2 | AA122: =Z122*K122 -> 11.286 | AR122: 4 | AT122: K | AU122: 2 | AY122: ROZPOCET | BE122: =IF(U122="základná",N122,0) -> 0 | BF122: =IF(U122="znížená",N122,0) -> 0 | BG122: =IF(U122="zákl. prenesená",N122,0) -> 0 | BH122: =IF(U122="zníž. prenesená",N122,0) -> 0 | BI122: =IF(U122="nulová",N122,0) -> 0 | BJ122: 2 | BK122: =ROUND(L122*K122,2) -> 0 | BL122: 4 | BM122: 1383573589
C123: 3 | D123: K | E123: 162501122 | F123: Vodorovné premiestnenie výkopku po spevnenej ceste z horniny tr.1-4, nad 100 do 1000 m3 na vzdialenosť do 3000 m | J123: m3 | K123: 10.8 | N123: =ROUND(L123*K123,2) -> 0 | U123: znížená | V123: 0.0544 | W123: =V123*K123 -> 0.58752 | X123: 0 | Y123: =X123*K123 -> 0 | Z123: 0 | AA123: =Z123*K123 -> 0 | AR123: 4 | AT123: K | AU123: 2 | AY123: ROZPOCET | BE123: =IF(U123="základná",N123,0) -> 0 | BF123: =IF(U123="znížená",N123,0) -> 0 | BG123: =IF(U123="zákl. prenesená",N123,0) -> 0 | BH123: =IF(U123="zníž. prenesená",N123,0) -> 0 | BI123: =IF(U123="nulová",N123,0) -> 0 | BJ123: 2 | BK123: =ROUND(L123*K123,2) -> 0 | BL123: 4 | BM123: 1681925433
C124: 4 | D124: K | E124: 162501123 | F124: Vodorovné premiestnenie výkopku po spevnenej ceste z horniny tr.1-4, nad 100 do 1000 m3, príplatok k cene za každých ďalšich a začatých 1000 m - celkovo 5 km | J124: m3 | K124: =K123*2 -> 21.6 | N124: =ROUND(L124*K124,2) -> 0 | U124: znížená | V124: 0.005 | W124: =V124*K124 -> 0.108 | X124: 0 | Y124: =X124*K124 -> 0 | Z124: 0 | AA124: =Z124*K124 -> 0 | AR124: 4 | AT124: K | AU124: 2 | AY124: ROZPOCET | BE124: =IF(U124="základná",N124,0) -> 0 | BF124: =IF(U124="znížená",N124,0) -> 0 | BG124: =IF(U124="zákl. prenesená",N124,0) -> 0 | BH124: =IF(U124="zníž. prenesená",N124,0) -> 0 | BI124: =IF(U124="nulová",N124,0) -> 0 | BJ124: 2 | BK124: =ROUND(L124*K124,2) -> 0 | BL124: 4 | BM124: 1266939450
C125: 5 | D125: K | E125: 167101102 | F125: Nakladanie neuľahnutého výkopku z hornín tr.1-4 nad 100 do 1000 m3 | J125: m3 | K125: 10.8 | N125: =ROUND(L125*K125,2) -> 0 | U125: znížená | V125: 0.087 | W125: =V125*K125 -> 0.9396 | X125: 0 | Y125: =X125*K125 -> 0 | Z125: 0 | AA125: =Z125*K125 -> 0 | AR125: 4 | AT125: K | AU125: 2 | AY125: ROZPOCET | BE125: =IF(U125="základná",N125,0) -> 0 | BF125: =IF(U125="znížená",N125,0) -> 0 | BG125: =IF(U125="zákl. prenesená",N125,0) -> 0 | BH125: =IF(U125="zníž. prenesená",N125,0) -> 0 | BI125: =IF(U125="nulová",N125,0) -> 0 | BJ125: 2 | BK125: =ROUND(L125*K125,2) -> 0 | BL125: 4 | BM125: -1816157790
C126: 6 | D126: K | E126: 171201202 | F126: Uloženie sypaniny na skládky nad 100 do 1000 m3 | J126: m3 | K126: 10.8 | N126: =ROUND(L126*K126,2) -> 0 | U126: znížená | V126: 0.008 | W126: =V126*K126 -> 0.0864 | X126: 0 | Y126: =X126*K126 -> 0 | Z126: 0 | AA126: =Z126*K126 -> 0 | AR126: 4 | AT126: K | AU126: 2 | AY126: ROZPOCET | BE126: =IF(U126="základná",N126,0) -> 0 | BF126: =IF(U126="znížená",N126,0) -> 0 | BG126: =IF(U126="zákl. prenesená",N126,0) -> 0 | BH126: =IF(U126="zníž. prenesená",N126,0) -> 0 | BI126: =IF(U126="nulová",N126,0) -> 0 | BJ126: 2 | BK126: =ROUND(L126*K126,2) -> 0 | BL126: 4 | BM126: -1660578335
C127: 7 | D127: K | E127: 171209002 | F127: Poplatok za skladovanie - zemina a kamenivo (17 05) ostatné | J127: t | K127: =0.47*K121 -> 25.38 | N127: =ROUND(L127*K127,2) -> 0 | U127: znížená | V127: 0 | W127: =V127*K127 -> 0 | X127: 0 | Y127: =X127*K127 -> 0 | Z127: 0 | AA127: =Z127*K127 -> 0 | AR127: 4 | AT127: K | AU127: 2 | AY127: ROZPOCET | BE127: =IF(U127="základná",N127,0) -> 0 | BF127: =IF(U127="znížená",N127,0) -> 0 | BG127: =IF(U127="zákl. prenesená",N127,0) -> 0 | BH127: =IF(U127="zníž. prenesená",N127,0) -> 0 | BI127: =IF(U127="nulová",N127,0) -> 0 | BJ127: 2 | BK127: =ROUND(L127*K127,2) -> 0 | BL127: 4 | BM127: 1858080667
C128: 8 | D128: K | E128: 181101102 | F128: Úprava pláne v hornine 1-4 so zhutnením | J128: m2 | K128: 54 | N128: =ROUND(L128*K128,2) -> 0 | U128: znížená | V128: 0.017 | W128: =V128*K128 -> 0.918 | X128: 0 | Y128: =X128*K128 -> 0 | Z128: 0 | AA128: =Z128*K128 -> 0 | AR128: 4 | AT128: K | AU128: 2 | AY128: ROZPOCET | BE128: =IF(U128="základná",N128,0) -> 0 | BF128: =IF(U128="znížená",N128,0) -> 0 | BG128: =IF(U128="zákl. prenesená",N128,0) -> 0 | BH128: =IF(U128="zníž. prenesená",N128,0) -> 0 | BI128: =IF(U128="nulová",N128,0) -> 0 | BJ128: 2 | BK128: =ROUND(L128*K128,2) -> 0 | BL128: 4 | BM128: 303010533
D129: 4 - Vodorovné konštrukcie | N129: =SUM(N130) -> 0
C130: 9 | D130: K | E130: 451311411 | F130: Podklad pod dlažbu z betónu prostého tr. C 16/20 hr. do 150 mm | J130: m2 | K130: 54 | N130: =ROUND(L130*K130,2) -> 0
D131: 5 - Komunikácie | N131: =SUM(N132:Q133) -> 0 | W131: =SUM(#REF!) -> #REF! | Y131: =SUM(#REF!) -> #REF! | AA131: =SUM(#REF!) -> #REF! | AR131: 1 | AT131: D | AU131: 1 | AY131: ROZPOCET | BK131: =SUM(#REF!) -> #REF!
C132: 10 | D132: K | E132: 573111112 | F132: Postrek asfaltový infiltračný s posypom kamenivom z asfaltu cestného v množstve 1,00 kg/m2 | J132: m2 | K132: 54 | N132: =ROUND(L132*K132,2) -> 0
C133: 11 | D133: K | E133: 577144231 | F133: Asfaltový betón vrstva obrusná AC 11 O v pruhu š. do 3 m z nemodifik. asfaltu tr. II, po zhutnení hr. 50 mm | J133: m2 | K133: 54 | N133: =ROUND(L133*K133,2) -> 0
D134: 9 - Ostatné konštrukcie a práce-búranie | N134: =SUM(N135:Q140) -> 0 | W134: =SUM(W136:W140) -> 9.513036 | Y134: =SUM(Y136:Y140) -> 2.49072 | AA134: =SUM(AA136:AA140) -> 0 | AR134: 1 | AT134: D | AU134: 1 | AY134: ROZPOCET | BK134: =SUM(BK136:BK140) -> 0
C135: 12 | D135: K | E135: 915721212 | F135: Vodorovné dopravné značenie striekané farbou prechodov pre chodcov, šípky, symboly a pod., biela retroreflexná | J135: m2 | K135: 40 | N135: =ROUND(L135*K135,2) -> 0
C136: 13 | D136: K | E136: 917862111 | F136: Osadenie cestneho obrubníka betónového stojatého do lôžka z betónu prosteho tr. C 12/15 s bočnou oporou | J136: m | K136: 12 | N136: =ROUND(L136*K136,2) -> 0 | U136: znížená | V136: 0.204 | W136: =V136*K136 -> 2.448 | X136: 0.12656 | Y136: =X136*K136 -> 1.51872 | Z136: 0 | AA136: =Z136*K136 -> 0 | AR136: 4 | AT136: K | AU136: 2 | AY136: ROZPOCET | BE136: =IF(U136="základná",N136,0) -> 0 | BF136: =IF(U136="znížená",N136,0) -> 0 | BG136: =IF(U136="zákl. prenesená",N136,0) -> 0 | BH136: =IF(U136="zníž. prenesená",N136,0) -> 0 | BI136: =IF(U136="nulová",N136,0) -> 0 | BJ136: 2 | BK136: =ROUND(L136*K136,2) -> 0 | BL136: 4 | BM136: 1392070118
C137: 14 | D137: M | E137: 5922903060 | F137: Obrubník betónový cestný, skosený, 100/25/15 cm, sivá | J137: ks | K137: 12 | N137: =ROUND(L137*K137,2) -> 0 | U137: znížená | V137: 0 | W137: =V137*K137 -> 0 | X137: 0.081 | Y137: =X137*K137 -> 0.972 | Z137: 0 | AA137: =Z137*K137 -> 0 | AR137: 8 | AT137: M | AU137: 2 | AY137: ROZPOCET | BE137: =IF(U137="základná",N137,0) -> 0 | BF137: =IF(U137="znížená",N137,0) -> 0 | BG137: =IF(U137="zákl. prenesená",N137,0) -> 0 | BH137: =IF(U137="zníž. prenesená",N137,0) -> 0 | BI137: =IF(U137="nulová",N137,0) -> 0 | BJ137: 2 | BK137: =ROUND(L137*K137,2) -> 0 | BL137: 4 | BM137: 1735458656
C138: 15 | D138: K | E138: 979081111 | F138: Odvoz sutiny a vybúraných hmôt na skládku do 1 km | J138: t | K138: =2.2*K122 -> 11.286 | N138: =ROUND(L138*K138,2) -> 0 | U138: znížená | V138: 0.598 | W138: =V138*K138 -> 6.749028 | X138: 0 | Y138: =X138*K138 -> 0 | Z138: 0 | AA138: =Z138*K138 -> 0 | AR138: 4 | AT138: K | AU138: 2 | AY138: ROZPOCET | BE138: =IF(U138="základná",N138,0) -> 0 | BF138: =IF(U138="znížená",N138,0) -> 0 | BG138: =IF(U138="zákl. prenesená",N138,0) -> 0 | BH138: =IF(U138="zníž. prenesená",N138,0) -> 0 | BI138: =IF(U138="nulová",N138,0) -> 0 | BJ138: 2 | BK138: =ROUND(L138*K138,2) -> 0 | BL138: 4 | BM138: -717601006
C139: 16 | D139: K | E139: 979081121 | F139: Odvoz sutiny a vybúraných hmôt na skládku za každý ďalší 1 km - celkovo 5 km | J139: t | K139: =4*K138 -> 45.144 | N139: =ROUND(L139*K139,2) -> 0 | U139: znížená | V139: 0.007 | W139: =V139*K139 -> 0.316008 | X139: 0 | Y139: =X139*K139 -> 0 | Z139: 0 | AA139: =Z139*K139 -> 0 | AR139: 4 | AT139: K | AU139: 2 | AY139: ROZPOCET | BE139: =IF(U139="základná",N139,0) -> 0 | BF139: =IF(U139="znížená",N139,0) -> 0 | BG139: =IF(U139="zákl. prenesená",N139,0) -> 0 | BH139: =IF(U139="zníž. prenesená",N139,0) -> 0 | BI139: =IF(U139="nulová",N139,0) -> 0 | BJ139: 2 | BK139: =ROUND(L139*K139,2) -> 0 | BL139: 4 | BM139: 1364100287
C140: 17 | D140: K | E140: 979089012 | F140: Poplatok za skladovanie - betón, tehly, dlaždice (17 01 ), ostatné | J140: t | K140: =K138 -> 11.286 | N140: =ROUND(L140*K140,2) -> 0 | U140: znížená | V140: 0 | W140: =V140*K140 -> 0 | X140: 0 | Y140: =X140*K140 -> 0 | Z140: 0 | AA140: =Z140*K140 -> 0 | AR140: 4 | AT140: K | AU140: 2 | AY140: ROZPOCET | BE140: =IF(U140="základná",N140,0) -> 0 | BF140: =IF(U140="znížená",N140,0) -> 0 | BG140: =IF(U140="zákl. prenesená",N140,0) -> 0 | BH140: =IF(U140="zníž. prenesená",N140,0) -> 0 | BI140: =IF(U140="nulová",N140,0) -> 0 | BJ140: 2 | BK140: =ROUND(L140*K140,2) -> 0 | BL140: 4 | BM140: -1576511002
D141: VRN - Vedľajšie rozpočtové náklady | N141: =BK141 -> 0 | W141: =W142+W144+W146 -> 0 | Y141: =Y142+Y144+Y146 -> 0 | AA141: =AA142+AA144+AA146 -> 0 | AR141: 5 | AT141: D | AU141: 0 | AY141: ROZPOCET | BK141: =BK142+BK144+BK146 -> 0
D142: VRN03 - Geodetické práce | N142: =BK142 -> 0 | W142: =SUM(W143:W143) -> 0 | Y142: =SUM(Y143:Y143) -> 0 | AA142: =SUM(AA143:AA143) -> 0 | AR142: 5 | AT142: D | AU142: 1 | AY142: ROZPOCET | BK142: =SUM(BK143:BK143) -> 0
C143: 18 | D143: K | E143: 000300013 | F143: Geodetické práce - vykonávané pred výstavbou určenie priebehu nadzemného alebo podzemného existujúceho aj plánovaného vedenia | J143: kpl | K143: 1 | N143: =ROUND(L143*K143,2) -> 0 | U143: znížená | V143: 0 | W143: =V143*K143 -> 0 | X143: 0 | Y143: =X143*K143 -> 0 | Z143: 0 | AA143: =Z143*K143 -> 0 | AR143: 1024 | AT143: K | AU143: 2 | AY143: ROZPOCET | BE143: =IF(U143="základná",N143,0) -> 0 | BF143: =IF(U143="znížená",N143,0) -> 0 | BG143: =IF(U143="zákl. prenesená",N143,0) -> 0 | BH143: =IF(U143="zníž. prenesená",N143,0) -> 0 | BI143: =IF(U143="nulová",N143,0) -> 0 | BJ143: 2 | BK143: =ROUND(L143*K143,2) -> 0 | BL143: 1024 | BM143: -1548056381
D144: VRN04 - Projektové práce | N144: =BK144 -> 0 | W144: =W145 -> 0 | Y144: =Y145 -> 0 | AA144: =AA145 -> 0 | AR144: 5 | AT144: D | AU144: 1 | AY144: ROZPOCET | BK144: =BK145 -> 0
C145: 19 | D145: K | E145: 000400022 | F145: Projektové práce - náklady na dokumentáciu skutočného zhotovenia stavby | J145: kpl | K145: 1 | N145: =ROUND(L145*K145,2) -> 0 | U145: znížená | V145: 0 | W145: =V145*K145 -> 0 | X145: 0 | Y145: =X145*K145 -> 0 | Z145: 0 | AA145: =Z145*K145 -> 0 | AR145: 1024 | AT145: K | AU145: 2 | AY145: ROZPOCET | BE145: =IF(U145="základná",N145,0) -> 0 | BF145: =IF(U145="znížená",N145,0) -> 0 | BG145: =IF(U145="zákl. prenesená",N145,0) -> 0 | BH145: =IF(U145="zníž. prenesená",N145,0) -> 0 | BI145: =IF(U145="nulová",N145,0) -> 0 | BJ145: 2 | BK145: =ROUND(L145*K145,2) -> 0 | BL145: 1024 | BM145: -1038011015
D146: VRN06 - Zariadenie staveniska | N146: =BK146 -> 0 | W146: =SUM(W147:W147) -> 0 | Y146: =SUM(Y147:Y147) -> 0 | AA146: =SUM(AA147:AA147) -> 0 | AR146: 5 | AT146: D | AU146: 1 | AY146: ROZPOCET | BK146: =SUM(BK147:BK147) -> 0
C147: 20 | D147: K | E147: 000600024 | F147: Zariadenie staveniska - prevádzkové dopravné značenie po stavenisku | J147: kpl | K147: 1 | N147: =ROUND(L147*K147,2) -> 0 | U147: znížená | V147: 0 | W147: =V147*K147 -> 0 | X147: 0 | Y147: =X147*K147 -> 0 | Z147: 0 | AA147: =Z147*K147 -> 0 | AR147: 1024 | AT147: K | AU147: 2 | AY147: ROZPOCET | BE147: =IF(U147="základná",N147,0) -> 0 | BF147: =IF(U147="znížená",N147,0) -> 0 | BG147: =IF(U147="zákl. prenesená",N147,0) -> 0 | BH147: =IF(U147="zníž. prenesená",N147,0) -> 0 | BI147: =IF(U147="nulová",N147,0) -> 0 | BJ147: 2 | BK147: =ROUND(L147*K147,2) -> 0 | BL147: 1024 | BM147: 1258205811

Sheet 03 - Prechod 
D1: Hárok obsahuje: | F1: 1) Krycí list rozpočtu | H1: 2) Rekapitulácia rozpočtu | L1: 3) Rozpočet | O1: Späť na hárok: | S1: Rekapitulácia stavby
C2: optimalizované pre tlač zostáv vo formáte A4 - na výšku | S2: >> skryté stĺpce << | AT2: {85df8818-560a-4a5e-a84a-5d2801e4224e}
AT3: 0
C4: KRYCÍ LIST | T4: v --- nižšie sa nachádzajú doplnkové a pomocné údaje k zostavám --- v | AT4: False
D6: Stavba: | F6: ='Rekapitulácia stavby'!K6 -> Rekonštrukcia jestvujúcich priechodov a retardérov v meste Trebišov
D7: Objekt: | F7: 03 - Priechod pre chodcov s nábehom
D8: JKSO: | M8: KS:
D9: Miesto: | F9: Trebišov | M9: Dátum: | O9: ='Rekapitulácia stavby'!AN8 -> 44092
D11: Objednávateľ: | M11: IČO:
E12: Mesto Trebišov | M12: IČO DPH:
D14: Zhotoviteľ: | M14: IČO: | O14: =IF('Rekapitulácia stavby'!AN13="","",'Rekapitulácia stavby'!AN13)
E15: =IF('Rekapitulácia stavby'!E14="","",'Rekapitulácia stavby'!E14) | M15: IČO DPH: | O15: =IF('Rekapitulácia stavby'!AN14="","",'Rekapitulácia stavby'!AN14)
D17: Projektant: | M17: IČO:
M18: IČO DPH:
D20: Spracovateľ: | M20: IČO:
E21: Ing. Z. Béreš | M21: IČO DPH:
D23: Poznámka:
D27: Náklady z rozpočtu | M27: =N88 -> 0
D28: Ostatné náklady | M28: =N99 -> 0
D30: Cena bez DPH | M30: =ROUND(M27+M28,2) -> 0
D32: DPH | E32: základná | F32: 0.2 | G32: z | H32: =ROUND((SUM(BE99:BE100)+SUM(BE118:BE147)), 2) -> 0 | M32: =ROUND(ROUND((SUM(BE99:BE100)+SUM(BE118:BE147)), 2)*F32, 2) -> 0
E33: znížená | F33: 0.2 | G33: z | H33: =M30 -> 0 | M33: =0.2*M30 -> 0
E34: zákl. prenesená | F34: 0.2 | G34: z | H34: =ROUND((SUM(BG99:BG100)+SUM(BG118:BG147)), 2) -> 0 | M34: 0
E35: zníž. prenesená | F35: 0.2 | G35: z | H35: =ROUND((SUM(BH99:BH100)+SUM(BH118:BH147)), 2) -> 0 | M35: 0
E36: nulová | F36: 0 | G36: z | H36: =ROUND((SUM(BI99:BI100)+SUM(BI118:BI147)), 2) -> 0 | M36: 0
D38: Cena s DPH | G38: v | H38: EUR | L38: =SUM(M30:M36) -> 0
D50: Projektant | J50: Spracovateľ
D59: Dátum a podpis: | G59: Pečiatka | J59: Dátum a podpis: | N59: Pečiatka
D61: Objednávateľ | J61: Zhotoviteľ
D70: Dátum a podpis: | G70: Pečiatka | J70: Dátum a podpis: | N70: Pečiatka
C76: REKAPITULÁCIA
C78: Stavba: | F78: =F6 -> Rekonštrukcia jestvujúcich priechodov a retardérov v meste Trebišov
C79: Objekt: | F79: =F7 -> 03 - Priechod pre chodcov s nábehom
C81: Miesto: | F81: =F9 -> Trebišov | K81: Dátum: | M81: =IF(O9="","",O9) -> 44092
C83: Objednávateľ: | F83: =E12 -> Mesto Trebišov | K83: Projektant: | M83: =E18 -> 0
C84: Zhotoviteľ: | F84: =IF(E15="","",E15) | K84: Spracovateľ: | M84: =E21 -> Ing. Z. Béreš
C86: Kód - Popis | N86: Cena celkom [EUR]
C88: 1) Náklady z rozpočtu | N88: =N118 -> 0 | AU88: -1
D89: HSV - Práce a dodávky HSV | N89: =N119 -> 0
D90: 1 - Zemné práce | N90: =N120 -> 0
D91: 4 - Vodorovné konštrukcie | N91: =N129 -> 0
D92: 5 - Komunikácie | N92: =N131 -> 0
D93: 9 - Ostatné konštrukcie a práce-búranie | N93: =N134 -> 0
D94: VRN - Vedľajšie rozpočtové náklady | N94: =N141 -> 0
D95: VRN03 - Geodetické práce | N95: =N142 -> 0
D96: VRN04 - Projektové práce | N96: =N144 -> 0
D97: VRN06 - Zariadenie staveniska | N97: =N146 -> 0
C99: 2) Ostatné náklady | N99: 0 | U99: DPH
C101: Celkové náklady za stavbu 1) + 2) | L101: =ROUND(SUM(N88+N99),2) -> 0
C107: ZADANIE
C109: Stavba: | F109: =F6 -> Rekonštrukcia jestvujúcich priechodov a retardérov v meste Trebišov
C110: Objekt: | F110: =F7 -> 03 - Priechod pre chodcov s nábehom
C112: Miesto: | F112: =F9 -> Trebišov | K112: Dátum: | M112: =IF(O9="","",O9) -> 44092
C114: Objednávateľ: | F114: =E12 -> Mesto Trebišov | K114: Projektant: | M114: =E18 -> 0
C115: Zhotoviteľ: | F115: =IF(E15="","",E15) | K115: Spracovateľ:
C117: PČ | D117: Typ | E117: Kód | F117: Popis | J117: MJ | K117: Množstvo | L117: J.cena [EUR] | N117: Cena celkom [EUR] | T117: Poznámka | U117: DPH | V117: J. Nh [h] | W117: Nh celkom [h] | X117: J. hmotnosť_x000D_ [t] | Y117: Hmotnosť_x000D_ celkom [t] | Z117: J. suť [t] | AA117: Suť Celkom [t]
C118: Náklady z rozpočtu | N118: =N119+N141 -> 0 | W118: =W119+W141 -> #REF! | Y118: =Y119+Y141 -> #REF! | AA118: =AA119+AA141 -> #REF! | AT118: D | AU118: -1 | BK118: =BK119+BK141 -> #REF!
D119: HSV - Práce a dodávky HSV | N119: =N120+N129+N131+N134 -> 0 | W119: =W120+#REF!+W131+W134 -> #REF! | Y119: =Y120+#REF!+Y131+Y134 -> #REF! | AA119: =AA120+#REF!+AA131+AA134 -> #REF! | AR119: 1 | AT119: D | AU119: 0 | AY119: ROZPOCET | BK119: =BK120+#REF!+BK131+BK134 -> #REF!
D120: 1 - Zemné práce | N120: =SUM(N121:Q128) -> 0 | W120: =SUM(W121:W128) -> 58.84939 | Y120: =SUM(Y121:Y128) -> 0 | AA120: =SUM(AA121:AA128) -> 44.422 | AR120: 1 | AT120: D | AU120: 1 | AY120: ROZPOCET | BK120: =SUM(BK121:BK128) -> 0
C121: 1 | D121: K | E121: 113307122 | F121: Odstránenie podkladu v ploche do 200 m2 z kameniva hrubého drveného, hr. 200 mm, -0,4700t | J121: m2 | K121: 65 | N121: =ROUND(L121*K121,2) -> 0 | U121: znížená | V121: 0.827 | W121: =V121*K121 -> 53.755 | X121: 0 | Y121: =X121*K121 -> 0 | Z121: 0.48 | AA121: =Z121*K121 -> 31.2 | AR121: 4 | AT121: K | AU121: 2 | AY121: ROZPOCET | BE121: =IF(U121="základná",N121,0) -> 0 | BF121: =IF(U121="znížená",N121,0) -> 0 | BG121: =IF(U121="zákl. prenesená",N121,0) -> 0 | BH121: =IF(U121="zníž. prenesená",N121,0) -> 0 | BI121: =IF(U121="nulová",N121,0) -> 0 | BJ121: 2 | BK121: =ROUND(L121*K121,2) -> 0 | BL121: 4 | BM121: -169691661
C122: 2 | D122: K | E122: 113107232 | F122: Odstránenie pôvodných konštrukcií a vrstiev z betónu prostého, podklad, kryt, dlažba, obrubníky, -2,2000t | J122: m3 | K122: 6.01 | N122: =ROUND(L122*K122,2) -> 0 | U122: znížená | V122: 0.319 | W122: =V122*K122 -> 1.91719 | X122: 0 | Y122: =X122*K122 -> 0 | Z122: 2.2 | AA122: =Z122*K122 -> 13.222 | AR122: 4 | AT122: K | AU122: 2 | AY122: ROZPOCET | BE122: =IF(U122="základná",N122,0) -> 0 | BF122: =IF(U122="znížená",N122,0) -> 0 | BG122: =IF(U122="zákl. prenesená",N122,0) -> 0 | BH122: =IF(U122="zníž. prenesená",N122,0) -> 0 | BI122: =IF(U122="nulová",N122,0) -> 0 | BJ122: 2 | BK122: =ROUND(L122*K122,2) -> 0 | BL122: 4 | BM122: 1383573589
C123: 3 | D123: K | E123: 162501122 | F123: Vodorovné premiestnenie výkopku po spevnenej ceste z horniny tr.1-4, nad 100 do 1000 m3 na vzdialenosť do 3000 m | J123: m3 | K123: 13 | N123: =ROUND(L123*K123,2) -> 0 | U123: znížená | V123: 0.0544 | W123: =V123*K123 -> 0.7072 | X123: 0 | Y123: =X123*K123 -> 0 | Z123: 0 | AA123: =Z123*K123 -> 0 | AR123: 4 | AT123: K | AU123: 2 | AY123: ROZPOCET | BE123: =IF(U123="základná",N123,0) -> 0 | BF123: =IF(U123="znížená",N123,0) -> 0 | BG123: =IF(U123="zákl. prenesená",N123,0) -> 0 | BH123: =IF(U123="zníž. prenesená",N123,0) -> 0 | BI123: =IF(U123="nulová",N123,0) -> 0 | BJ123: 2 | BK123: =ROUND(L123*K123,2) -> 0 | BL123: 4 | BM123: 1681925433
C124: 4 | D124: K | E124: 162501123 | F124: Vodorovné premiestnenie výkopku po spevnenej ceste z horniny tr.1-4, nad 100 do 1000 m3, príplatok k cene za každých ďalšich a začatých 1000 m - celkovo 5 km | J124: m3 | K124: =K123*2 -> 26 | N124: =ROUND(L124*K124,2) -> 0 | U124: znížená | V124: 0.005 | W124: =V124*K124 -> 0.13 | X124: 0 | Y124: =X124*K124 -> 0 | Z124: 0 | AA124: =Z124*K124 -> 0 | AR124: 4 | AT124: K | AU124: 2 | AY124: ROZPOCET | BE124: =IF(U124="základná",N124,0) -> 0 | BF124: =IF(U124="znížená",N124,0) -> 0 | BG124: =IF(U124="zákl. prenesená",N124,0) -> 0 | BH124: =IF(U124="zníž. prenesená",N124,0) -> 0 | BI124: =IF(U124="nulová",N124,0) -> 0 | BJ124: 2 | BK124: =ROUND(L124*K124,2) -> 0 | BL124: 4 | BM124: 1266939450
C125: 5 | D125: K | E125: 167101102 | F125: Nakladanie neuľahnutého výkopku z hornín tr.1-4 nad 100 do 1000 m3 | J125: m3 | K125: 13 | N125: =ROUND(L125*K125,2) -> 0 | U125: znížená | V125: 0.087 | W125: =V125*K125 -> 1.131 | X125: 0 | Y125: =X125*K125 -> 0 | Z125: 0 | AA125: =Z125*K125 -> 0 | AR125: 4 | AT125: K | AU125: 2 | AY125: ROZPOCET | BE125: =IF(U125="základná",N125,0) -> 0 | BF125: =IF(U125="znížená",N125,0) -> 0 | BG125: =IF(U125="zákl. prenesená",N125,0) -> 0 | BH125: =IF(U125="zníž. prenesená",N125,0) -> 0 | BI125: =IF(U125="nulová",N125,0) -> 0 | BJ125: 2 | BK125: =ROUND(L125*K125,2) -> 0 | BL125: 4 | BM125: -1816157790
C126: 6 | D126: K | E126: 171201202 | F126: Uloženie sypaniny na skládky nad 100 do 1000 m3 | J126: m3 | K126: 13 | N126: =ROUND(L126*K126,2) -> 0 | U126: znížená | V126: 0.008 | W126: =V126*K126 -> 0.104 | X126: 0 | Y126: =X126*K126 -> 0 | Z126: 0 | AA126: =Z126*K126 -> 0 | AR126: 4 | AT126: K | AU126: 2 | AY126: ROZPOCET | BE126: =IF(U126="základná",N126,0) -> 0 | BF126: =IF(U126="znížená",N126,0) -> 0 | BG126: =IF(U126="zákl. prenesená",N126,0) -> 0 | BH126: =IF(U126="zníž. prenesená",N126,0) -> 0 | BI126: =IF(U126="nulová",N126,0) -> 0 | BJ126: 2 | BK126: =ROUND(L126*K126,2) -> 0 | BL126: 4 | BM126: -1660578335
C127: 7 | D127: K | E127: 171209002 | F127: Poplatok za skladovanie - zemina a kamenivo (17 05) ostatné | J127: t | K127: =0.47*K121 -> 30.55 | N127: =ROUND(L127*K127,2) -> 0 | U127: znížená | V127: 0 | W127: =V127*K127 -> 0 | X127: 0 | Y127: =X127*K127 -> 0 | Z127: 0 | AA127: =Z127*K127 -> 0 | AR127: 4 | AT127: K | AU127: 2 | AY127: ROZPOCET | BE127: =IF(U127="základná",N127,0) -> 0 | BF127: =IF(U127="znížená",N127,0) -> 0 | BG127: =IF(U127="zákl. prenesená",N127,0) -> 0 | BH127: =IF(U127="zníž. prenesená",N127,0) -> 0 | BI127: =IF(U127="nulová",N127,0) -> 0 | BJ127: 2 | BK127: =ROUND(L127*K127,2) -> 0 | BL127: 4 | BM127: 1858080667
C128: 8 | D128: K | E128: 181101102 | F128: Úprava pláne v hornine 1-4 so zhutnením | J128: m2 | K128: 65 | N128: =ROUND(L128*K128,2) -> 0 | U128: znížená | V128: 0.017 | W128: =V128*K128 -> 1.105 | X128: 0 | Y128: =X128*K128 -> 0 | Z128: 0 | AA128: =Z128*K128 -> 0 | AR128: 4 | AT128: K | AU128: 2 | AY128: ROZPOCET | BE128: =IF(U128="základná",N128,0) -> 0 | BF128: =IF(U128="znížená",N128,0) -> 0 | BG128: =IF(U128="zákl. prenesená",N128,0) -> 0 | BH128: =IF(U128="zníž. prenesená",N128,0) -> 0 | BI128: =IF(U128="nulová",N128,0) -> 0 | BJ128: 2 | BK128: =ROUND(L128*K128,2) -> 0 | BL128: 4 | BM128: 303010533
D129: 4 - Vodorovné konštrukcie | N129: =SUM(N130) -> 0
C130: 9 | D130: K | E130: 451311411 | F130: Podklad pod dlažbu z betónu prostého tr. C 16/20 hr. do 150 mm | J130: m2 | K130: 65 | N130: =ROUND(L130*K130,2) -> 0
D131: 5 - Komunikácie | N131: =SUM(N132:Q133) -> 0 | W131: =SUM(#REF!) -> #REF! | Y131: =SUM(#REF!) -> #REF! | AA131: =SUM(#REF!) -> #REF! | AR131: 1 | AT131: D | AU131: 1 | AY131: ROZPOCET | BK131: =SUM(#REF!) -> #REF!
C132: 10 | D132: K | E132: 573111112 | F132: Postrek asfaltový infiltračný s posypom kamenivom z asfaltu cestného v množstve 1,00 kg/m2 | J132: m2 | K132: 65 | N132: =ROUND(L132*K132,2) -> 0
C133: 11 | D133: K | E133: 577144231 | F133: Asfaltový betón vrstva obrusná AC 11 O v pruhu š. do 3 m z nemodifik. asfaltu tr. II, po zhutnení hr. 50 mm | J133: m2 | K133: 65 | N133: =ROUND(L133*K133,2) -> 0
D134: 9 - Ostatné konštrukcie a práce-búranie | N134: =SUM(N135:Q140) -> 0 | W134: =SUM(W136:W140) -> 11.132972 | Y134: =SUM(Y136:Y140) -> 2.90584 | AA134: =SUM(AA136:AA140) -> 0 | AR134: 1 | AT134: D | AU134: 1 | AY134: ROZPOCET | BK134: =SUM(BK136:BK140) -> 0
C135: 12 | D135: K | E135: 915721212 | F135: Vodorovné dopravné značenie striekané farbou prechodov pre chodcov, šípky, symboly a pod., biela retroreflexná | J135: m2 | K135: 48 | N135: =ROUND(L135*K135,2) -> 0
C136: 13 | D136: K | E136: 917862111 | F136: Osadenie cestneho obrubníka betónového stojatého do lôžka z betónu prosteho tr. C 12/15 s bočnou oporou | J136: m | K136: 14 | N136: =ROUND(L136*K136,2) -> 0 | U136: znížená | V136: 0.204 | W136: =V136*K136 -> 2.856 | X136: 0.12656 | Y136: =X136*K136 -> 1.77184 | Z136: 0 | AA136: =Z136*K136 -> 0 | AR136: 4 | AT136: K | AU136: 2 | AY136: ROZPOCET | BE136: =IF(U136="základná",N136,0) -> 0 | BF136: =IF(U136="znížená",N136,0) -> 0 | BG136: =IF(U136="zákl. prenesená",N136,0) -> 0 | BH136: =IF(U136="zníž. prenesená",N136,0) -> 0 | BI136: =IF(U136="nulová",N136,0) -> 0 | BJ136: 2 | BK136: =ROUND(L136*K136,2) -> 0 | BL136: 4 | BM136: 1392070118
C137: 14 | D137: M | E137: 5922903060 | F137: Obrubník betónový cestný, skosený, 100/25/15 cm, sivá | J137: ks | K137: 14 | N137: =ROUND(L137*K137,2) -> 0 | U137: znížená | V137: 0 | W137: =V137*K137 -> 0 | X137: 0.081 | Y137: =X137*K137 -> 1.134 | Z137: 0 | AA137: =Z137*K137 -> 0 | AR137: 8 | AT137: M | AU137: 2 | AY137: ROZPOCET | BE137: =IF(U137="základná",N137,0) -> 0 | BF137: =IF(U137="znížená",N137,0) -> 0 | BG137: =IF(U137="zákl. prenesená",N137,0) -> 0 | BH137: =IF(U137="zníž. prenesená",N137,0) -> 0 | BI137: =IF(U137="nulová",N137,0) -> 0 | BJ137: 2 | BK137: =ROUND(L137*K137,2) -> 0 | BL137: 4 | BM137: 1735458656
C138: 15 | D138: K | E138: 979081111 | F138: Odvoz sutiny a vybúraných hmôt na skládku do 1 km | J138: t | K138: =2.2*K122 -> 13.222 | N138: =ROUND(L138*K138,2) -> 0 | U138: znížená | V138: 0.598 | W138: =V138*K138 -> 7.906756 | X138: 0 | Y138: =X138*K138 -> 0 | Z138: 0 | AA138: =Z138*K138 -> 0 | AR138: 4 | AT138: K | AU138: 2 | AY138: ROZPOCET | BE138: =IF(U138="základná",N138,0) -> 0 | BF138: =IF(U138="znížená",N138,0) -> 0 | BG138: =IF(U138="zákl. prenesená",N138,0) -> 0 | BH138: =IF(U138="zníž. prenesená",N138,0) -> 0 | BI138: =IF(U138="nulová",N138,0) -> 0 | BJ138: 2 | BK138: =ROUND(L138*K138,2) -> 0 | BL138: 4 | BM138: -717601006
C139: 16 | D139: K | E139: 979081121 | F139: Odvoz sutiny a vybúraných hmôt na skládku za každý ďalší 1 km - celkovo 5 km | J139: t | K139: =4*K138 -> 52.888 | N139: =ROUND(L139*K139,2) -> 0 | U139: znížená | V139: 0.007 | W139: =V139*K139 -> 0.370216 | X139: 0 | Y139: =X139*K139 -> 0 | Z139: 0 | AA139: =Z139*K139 -> 0 | AR139: 4 | AT139: K | AU139: 2 | AY139: ROZPOCET | BE139: =IF(U139="základná",N139,0) -> 0 | BF139: =IF(U139="znížená",N139,0) -> 0 | BG139: =IF(U139="zákl. prenesená",N139,0) -> 0 | BH139: =IF(U139="zníž. prenesená",N139,0) -> 0 | BI139: =IF(U139="nulová",N139,0) -> 0 | BJ139: 2 | BK139: =ROUND(L139*K139,2) -> 0 | BL139: 4 | BM139: 1364100287
C140: 17 | D140: K | E140: 979089012 | F140: Poplatok za skladovanie - betón, tehly, dlaždice (17 01 ), ostatné | J140: t | K140: =K138 -> 13.222 | N140: =ROUND(L140*K140,2) -> 0 | U140: znížená | V140: 0 | W140: =V140*K140 -> 0 | X140: 0 | Y140: =X140*K140 -> 0 | Z140: 0 | AA140: =Z140*K140 -> 0 | AR140: 4 | AT140: K | AU140: 2 | AY140: ROZPOCET | BE140: =IF(U140="základná",N140,0) -> 0 | BF140: =IF(U140="znížená",N140,0) -> 0 | BG140: =IF(U140="zákl. prenesená",N140,0) -> 0 | BH140: =IF(U140="zníž. prenesená",N140,0) -> 0 | BI140: =IF(U140="nulová",N140,0) -> 0 | BJ140: 2 | BK140: =ROUND(L140*K140,2) -> 0 | BL140: 4 | BM140: -1576511002
D141: VRN - Vedľajšie rozpočtové náklady | N141: =BK141 -> 0 | W141: =W142+W144+W146 -> 0 | Y141: =Y142+Y144+Y146 -> 0 | AA141: =AA142+AA144+AA146 -> 0 | AR141: 5 | AT141: D | AU141: 0 | AY141: ROZPOCET | BK141: =BK142+BK144+BK146 -> 0
D142: VRN03 - Geodetické práce | N142: =BK142 -> 0 | W142: =SUM(W143:W143) -> 0 | Y142: =SUM(Y143:Y143) -> 0 | AA142: =SUM(AA143:AA143) -> 0 | AR142: 5 | AT142: D | AU142: 1 | AY142: ROZPOCET | BK142: =SUM(BK143:BK143) -> 0
C143: 18 | D143: K | E143: 000300013 | F143: Geodetické práce - vykonávané pred výstavbou určenie priebehu nadzemného alebo podzemného existujúceho aj plánovaného vedenia | J143: kpl | K143: 1 | N143: =ROUND(L143*K143,2) -> 0 | U143: znížená | V143: 0 | W143: =V143*K143 -> 0 | X143: 0 | Y143: =X143*K143 -> 0 | Z143: 0 | AA143: =Z143*K143 -> 0 | AR143: 1024 | AT143: K | AU143: 2 | AY143: ROZPOCET | BE143: =IF(U143="základná",N143,0) -> 0 | BF143: =IF(U143="znížená",N143,0) -> 0 | BG143: =IF(U143="zákl. prenesená",N143,0) -> 0 | BH143: =IF(U143="zníž. prenesená",N143,0) -> 0 | BI143: =IF(U143="nulová",N143,0) -> 0 | BJ143: 2 | BK143: =ROUND(L143*K143,2) -> 0 | BL143: 1024 | BM143: -1548056381
D144: VRN04 - Projektové práce | N144: =BK144 -> 0 | W144: =W145 -> 0 | Y144: =Y145 -> 0 | AA144: =AA145 -> 0 | AR144: 5 | AT144: D | AU144: 1 | AY144: ROZPOCET | BK144: =BK145 -> 0
C145: 19 | D145: K | E145: 000400022 | F145: Projektové práce - náklady na dokumentáciu skutočného zhotovenia stavby | J145: kpl | K145: 1 | N145: =ROUND(L145*K145,2) -> 0 | U145: znížená | V145: 0 | W145: =V145*K145 -> 0 | X145: 0 | Y145: =X145*K145 -> 0 | Z145: 0 | AA145: =Z145*K145 -> 0 | AR145: 1024 | AT145: K | AU145: 2 | AY145: ROZPOCET | BE145: =IF(U145="základná",N145,0) -> 0 | BF145: =IF(U145="znížená",N145,0) -> 0 | BG145: =IF(U145="zákl. prenesená",N145,0) -> 0 | BH145: =IF(U145="zníž. prenesená",N145,0) -> 0 | BI145: =IF(U145="nulová",N145,0) -> 0 | BJ145: 2 | BK145: =ROUND(L145*K145,2) -> 0 | BL145: 1024 | BM145: -1038011015
D146: VRN06 - Zariadenie staveniska | N146: =BK146 -> 0 | W146: =SUM(W147:W147) -> 0 | Y146: =SUM(Y147:Y147) -> 0 | AA146: =SUM(AA147:AA147) -> 0 | AR146: 5 | AT146: D | AU146: 1 | AY146: ROZPOCET | BK146: =SUM(BK147:BK147) -> 0
C147: 20 | D147: K | E147: 000600024 | F147: Zariadenie staveniska - prevádzkové dopravné značenie po stavenisku | J147: kpl | K147: 1 | N147: =ROUND(L147*K147,2) -> 0 | U147: znížená | V147: 0 | W147: =V147*K147 -> 0 | X147: 0 | Y147: =X147*K147 -> 0 | Z147: 0 | AA147: =Z147*K147 -> 0 | AR147: 1024 | AT147: K | AU147: 2 | AY147: ROZPOCET | BE147: =IF(U147="základná",N147,0) -> 0 | BF147: =IF(U147="znížená",N147,0) -> 0 | BG147: =IF(U147="zákl. prenesená",N147,0) -> 0 | BH147: =IF(U147="zníž. prenesená",N147,0) -> 0 | BI147: =IF(U147="nulová",N147,0) -> 0 | BJ147: 2 | BK147: =ROUND(L147*K147,2) -> 0 | BL147: 1024 | BM147: 1258205811

Sheet 04 - Prechod 
D1: Hárok obsahuje: | F1: 1) Krycí list rozpočtu | H1: 2) Rekapitulácia rozpočtu | L1: 3) Rozpočet | O1: Späť na hárok: | S1: Rekapitulácia stavby
C2: optimalizované pre tlač zostáv vo formáte A4 - na výšku | S2: >> skryté stĺpce << | AT2: {85df8818-560a-4a5e-a84a-5d2801e4224e}
AT3: 0
C4: KRYCÍ LIST | T4: v --- nižšie sa nachádzajú doplnkové a pomocné údaje k zostavám --- v | AT4: False
D6: Stavba: | F6: ='Rekapitulácia stavby'!K6 -> Rekonštrukcia jestvujúcich priechodov a retardérov v meste Trebišov
D7: Objekt: | F7: 04 - Priechod pre chodcov
D8: JKSO: | M8: KS:
D9: Miesto: | F9: Trebišov | M9: Dátum: | O9: ='Rekapitulácia stavby'!AN8 -> 44092
D11: Objednávateľ: | M11: IČO:
E12: Mesto Trebišov | M12: IČO DPH:
D14: Zhotoviteľ: | M14: IČO: | O14: =IF('Rekapitulácia stavby'!AN13="","",'Rekapitulácia stavby'!AN13)
E15: =IF('Rekapitulácia stavby'!E14="","",'Rekapitulácia stavby'!E14) | M15: IČO DPH: | O15: =IF('Rekapitulácia stavby'!AN14="","",'Rekapitulácia stavby'!AN14)
D17: Projektant: | M17: IČO:
M18: IČO DPH:
D20: Spracovateľ: | M20: IČO:
E21: Ing. Z. Béreš | M21: IČO DPH:
D23: Poznámka:
D27: Náklady z rozpočtu | M27: =N88 -> 0
D28: Ostatné náklady | M28: =N99 -> 0
D30: Cena bez DPH | M30: =ROUND(M27+M28,2) -> 0
D32: DPH | E32: základná | F32: 0.2 | G32: z | H32: =ROUND((SUM(BE99:BE100)+SUM(BE118:BE147)), 2) -> 0 | M32: =ROUND(ROUND((SUM(BE99:BE100)+SUM(BE118:BE147)), 2)*F32, 2) -> 0
E33: znížená | F33: 0.2 | G33: z | H33: =M30 -> 0 | M33: =0.2*M30 -> 0
E34: zákl. prenesená | F34: 0.2 | G34: z | H34: =ROUND((SUM(BG99:BG100)+SUM(BG118:BG147)), 2) -> 0 | M34: 0
E35: zníž. prenesená | F35: 0.2 | G35: z | H35: =ROUND((SUM(BH99:BH100)+SUM(BH118:BH147)), 2) -> 0 | M35: 0
E36: nulová | F36: 0 | G36: z | H36: =ROUND((SUM(BI99:BI100)+SUM(BI118:BI147)), 2) -> 0 | M36: 0
D38: Cena s DPH | G38: v | H38: EUR | L38: =SUM(M30:M36) -> 0
D50: Projektant | J50: Spracovateľ
D59: Dátum a podpis: | G59: Pečiatka | J59: Dátum a podpis: | N59: Pečiatka
D61: Objednávateľ | J61: Zhotoviteľ
D70: Dátum a podpis: | G70: Pečiatka | J70: Dátum a podpis: | N70: Pečiatka
C76: REKAPITULÁCIA
C78: Stavba: | F78: =F6 -> Rekonštrukcia jestvujúcich priechodov a retardérov v meste Trebišov
C79: Objekt: | F79: =F7 -> 04 - Priechod pre chodcov
C81: Miesto: | F81: =F9 -> Trebišov | K81: Dátum: | M81: =IF(O9="","",O9) -> 44092
C83: Objednávateľ: | F83: =E12 -> Mesto Trebišov | K83: Projektant: | M83: =E18 -> 0
C84: Zhotoviteľ: | F84: =IF(E15="","",E15) | K84: Spracovateľ: | M84: =E21 -> Ing. Z. Béreš
C86: Kód - Popis | N86: Cena celkom [EUR]
C88: 1) Náklady z rozpočtu | N88: =N118 -> 0 | AU88: -1
D89: HSV - Práce a dodávky HSV | N89: =N119 -> 0
D90: 1 - Zemné práce | N90: =N120 -> 0
D91: 4 - Vodorovné konštrukcie | N91: =N129 -> 0
D92: 5 - Komunikácie | N92: =N131 -> 0
D93: 9 - Ostatné konštrukcie a práce-búranie | N93: =N134 -> 0
D94: VRN - Vedľajšie rozpočtové náklady | N94: =N141 -> 0
D95: VRN03 - Geodetické práce | N95: =N142 -> 0
D96: VRN04 - Projektové práce | N96: =N144 -> 0
D97: VRN06 - Zariadenie staveniska | N97: =N146 -> 0
C99: 2) Ostatné náklady | N99: 0 | U99: DPH
C101: Celkové náklady za stavbu 1) + 2) | L101: =ROUND(SUM(N88+N99),2) -> 0
C107: ZADANIE
C109: Stavba: | F109: =F6 -> Rekonštrukcia jestvujúcich priechodov a retardérov v meste Trebišov
C110: Objekt: | F110: =F7 -> 04 - Priechod pre chodcov
C112: Miesto: | F112: =F9 -> Trebišov | K112: Dátum: | M112: =IF(O9="","",O9) -> 44092
C114: Objednávateľ: | F114: =E12 -> Mesto Trebišov | K114: Projektant: | M114: =E18 -> 0
C115: Zhotoviteľ: | F115: =IF(E15="","",E15) | K115: Spracovateľ:
C117: PČ | D117: Typ | E117: Kód | F117: Popis | J117: MJ | K117: Množstvo | L117: J.cena [EUR] | N117: Cena celkom [EUR] | T117: Poznámka | U117: DPH | V117: J. Nh [h] | W117: Nh celkom [h] | X117: J. hmotnosť_x000D_ [t] | Y117: Hmotnosť_x000D_ celkom [t] | Z117: J. suť [t] | AA117: Suť Celkom [t]
C118: Náklady z rozpočtu | N118: =N119+N141 -> 0 | W118: =W119+W141 -> #REF! | Y118: =Y119+Y141 -> #REF! | AA118: =AA119+AA141 -> #REF! | AT118: D | AU118: -1 | BK118: =BK119+BK141 -> #REF!
D119: HSV - Práce a dodávky HSV | N119: =N120+N129+N131+N134 -> 0 | W119: =W120+#REF!+W131+W134 -> #REF! | Y119: =Y120+#REF!+Y131+Y134 -> #REF! | AA119: =AA120+#REF!+AA131+AA134 -> #REF! | AR119: 1 | AT119: D | AU119: 0 | AY119: ROZPOCET | BK119: =BK120+#REF!+BK131+BK134 -> #REF!
D120: 1 - Zemné práce | N120: =SUM(N121:Q128) -> 0 | W120: =SUM(W121:W128) -> 58.84939 | Y120: =SUM(Y121:Y128) -> 0 | AA120: =SUM(AA121:AA128) -> 44.422 | AR120: 1 | AT120: D | AU120: 1 | AY120: ROZPOCET | BK120: =SUM(BK121:BK128) -> 0
C121: 1 | D121: K | E121: 113307122 | F121: Odstránenie podkladu v ploche do 200 m2 z kameniva hrubého drveného, hr. 200 mm, -0,4700t | J121: m2 | K121: 65 | N121: =ROUND(L121*K121,2) -> 0 | U121: znížená | V121: 0.827 | W121: =V121*K121 -> 53.755 | X121: 0 | Y121: =X121*K121 -> 0 | Z121: 0.48 | AA121: =Z121*K121 -> 31.2 | AR121: 4 | AT121: K | AU121: 2 | AY121: ROZPOCET | BE121: =IF(U121="základná",N121,0) -> 0 | BF121: =IF(U121="znížená",N121,0) -> 0 | BG121: =IF(U121="zákl. prenesená",N121,0) -> 0 | BH121: =IF(U121="zníž. prenesená",N121,0) -> 0 | BI121: =IF(U121="nulová",N121,0) -> 0 | BJ121: 2 | BK121: =ROUND(L121*K121,2) -> 0 | BL121: 4 | BM121: -169691661
C122: 2 | D122: K | E122: 113107232 | F122: Odstránenie pôvodných konštrukcií a vrstiev z betónu prostého, podklad, kryt, dlažba, obrubníky, -2,2000t | J122: m3 | K122: 6.01 | N122: =ROUND(L122*K122,2) -> 0 | U122: znížená | V122: 0.319 | W122: =V122*K122 -> 1.91719 | X122: 0 | Y122: =X122*K122 -> 0 | Z122: 2.2 | AA122: =Z122*K122 -> 13.222 | AR122: 4 | AT122: K | AU122: 2 | AY122: ROZPOCET | BE122: =IF(U122="základná",N122,0) -> 0 | BF122: =IF(U122="znížená",N122,0) -> 0 | BG122: =IF(U122="zákl. prenesená",N122,0) -> 0 | BH122: =IF(U122="zníž. prenesená",N122,0) -> 0 | BI122: =IF(U122="nulová",N122,0) -> 0 | BJ122: 2 | BK122: =ROUND(L122*K122,2) -> 0 | BL122: 4 | BM122: 1383573589
C123: 3 | D123: K | E123: 162501122 | F123: Vodorovné premiestnenie výkopku po spevnenej ceste z horniny tr.1-4, nad 100 do 1000 m3 na vzdialenosť do 3000 m | J123: m3 | K123: 13 | N123: =ROUND(L123*K123,2) -> 0 | U123: znížená | V123: 0.0544 | W123: =V123*K123 -> 0.7072 | X123: 0 | Y123: =X123*K123 -> 0 | Z123: 0 | AA123: =Z123*K123 -> 0 | AR123: 4 | AT123: K | AU123: 2 | AY123: ROZPOCET | BE123: =IF(U123="základná",N123,0) -> 0 | BF123: =IF(U123="znížená",N123,0) -> 0 | BG123: =IF(U123="zákl. prenesená",N123,0) -> 0 | BH123: =IF(U123="zníž. prenesená",N123,0) -> 0 | BI123: =IF(U123="nulová",N123,0) -> 0 | BJ123: 2 | BK123: =ROUND(L123*K123,2) -> 0 | BL123: 4 | BM123: 1681925433
C124: 4 | D124: K | E124: 162501123 | F124: Vodorovné premiestnenie výkopku po spevnenej ceste z horniny tr.1-4, nad 100 do 1000 m3, príplatok k cene za každých ďalšich a začatých 1000 m - celkovo 5 km | J124: m3 | K124: =K123*2 -> 26 | N124: =ROUND(L124*K124,2) -> 0 | U124: znížená | V124: 0.005 | W124: =V124*K124 -> 0.13 | X124: 0 | Y124: =X124*K124 -> 0 | Z124: 0 | AA124: =Z124*K124 -> 0 | AR124: 4 | AT124: K | AU124: 2 | AY124: ROZPOCET | BE124: =IF(U124="základná",N124,0) -> 0 | BF124: =IF(U124="znížená",N124,0) -> 0 | BG124: =IF(U124="zákl. prenesená",N124,0) -> 0 | BH124: =IF(U124="zníž. prenesená",N124,0) -> 0 | BI124: =IF(U124="nulová",N124,0) -> 0 | BJ124: 2 | BK124: =ROUND(L124*K124,2) -> 0 | BL124: 4 | BM124: 1266939450
C125: 5 | D125: K | E125: 167101102 | F125: Nakladanie neuľahnutého výkopku z hornín tr.1-4 nad 100 do 1000 m3 | J125: m3 | K125: 13 | N125: =ROUND(L125*K125,2) -> 0 | U125: znížená | V125: 0.087 | W125: =V125*K125 -> 1.131 | X125: 0 | Y125: =X125*K125 -> 0 | Z125: 0 | AA125: =Z125*K125 -> 0 | AR125: 4 | AT125: K | AU125: 2 | AY125: ROZPOCET | BE125: =IF(U125="základná",N125,0) -> 0 | BF125: =IF(U125="znížená",N125,0) -> 0 | BG125: =IF(U125="zákl. prenesená",N125,0) -> 0 | BH125: =IF(U125="zníž. prenesená",N125,0) -> 0 | BI125: =IF(U125="nulová",N125,0) -> 0 | BJ125: 2 | BK125: =ROUND(L125*K125,2) -> 0 | BL125: 4 | BM125: -1816157790
C126: 6 | D126: K | E126: 171201202 | F126: Uloženie sypaniny na skládky nad 100 do 1000 m3 | J126: m3 | K126: 13 | N126: =ROUND(L126*K126,2) -> 0 | U126: znížená | V126: 0.008 | W126: =V126*K126 -> 0.104 | X126: 0 | Y126: =X126*K126 -> 0 | Z126: 0 | AA126: =Z126*K126 -> 0 | AR126: 4 | AT126: K | AU126: 2 | AY126: ROZPOCET | BE126: =IF(U126="základná",N126,0) -> 0 | BF126: =IF(U126="znížená",N126,0) -> 0 | BG126: =IF(U126="zákl. prenesená",N126,0) -> 0 | BH126: =IF(U126="zníž. prenesená",N126,0) -> 0 | BI126: =IF(U126="nulová",N126,0) -> 0 | BJ126: 2 | BK126: =ROUND(L126*K126,2) -> 0 | BL126: 4 | BM126: -1660578335
C127: 7 | D127: K | E127: 171209002 | F127: Poplatok za skladovanie - zemina a kamenivo (17 05) ostatné | J127: t | K127: =0.47*K121 -> 30.55 | N127: =ROUND(L127*K127,2) -> 0 | U127: znížená | V127: 0 | W127: =V127*K127 -> 0 | X127: 0 | Y127: =X127*K127 -> 0 | Z127: 0 | AA127: =Z127*K127 -> 0 | AR127: 4 | AT127: K | AU127: 2 | AY127: ROZPOCET | BE127: =IF(U127="základná",N127,0) -> 0 | BF127: =IF(U127="znížená",N127,0) -> 0 | BG127: =IF(U127="zákl. prenesená",N127,0) -> 0 | BH127: =IF(U127="zníž. prenesená",N127,0) -> 0 | BI127: =IF(U127="nulová",N127,0) -> 0 | BJ127: 2 | BK127: =ROUND(L127*K127,2) -> 0 | BL127: 4 | BM127: 1858080667
C128: 8 | D128: K | E128: 181101102 | F128: Úprava pláne v hornine 1-4 so zhutnením | J128: m2 | K128: 65 | N128: =ROUND(L128*K128,2) -> 0 | U128: znížená | V128: 0.017 | W128: =V128*K128 -> 1.105 | X128: 0 | Y128: =X128*K128 -> 0 | Z128: 0 | AA128: =Z128*K128 -> 0 | AR128: 4 | AT128: K | AU128: 2 | AY128: ROZPOCET | BE128: =IF(U128="základná",N128,0) -> 0 | BF128: =IF(U128="znížená",N128,0) -> 0 | BG128: =IF(U128="zákl. prenesená",N128,0) -> 0 | BH128: =IF(U128="zníž. prenesená",N128,0) -> 0 | BI128: =IF(U128="nulová",N128,0) -> 0 | BJ128: 2 | BK128: =ROUND(L128*K128,2) -> 0 | BL128: 4 | BM128: 303010533
D129: 4 - Vodorovné konštrukcie | N129: =SUM(N130) -> 0
C130: 9 | D130: K | E130: 451311411 | F130: Podklad pod dlažbu z betónu prostého tr. C 16/20 hr. do 150 mm | J130: m2 | K130: 65 | N130: =ROUND(L130*K130,2) -> 0
D131: 5 - Komunikácie | N131: =SUM(N132:Q133) -> 0 | W131: =SUM(#REF!) -> #REF! | Y131: =SUM(#REF!) -> #REF! | AA131: =SUM(#REF!) -> #REF! | AR131: 1 | AT131: D | AU131: 1 | AY131: ROZPOCET | BK131: =SUM(#REF!) -> #REF!
C132: 10 | D132: K | E132: 573111112 | F132: Postrek asfaltový infiltračný s posypom kamenivom z asfaltu cestného v množstve 1,00 kg/m2 | J132: m2 | K132: 65 | N132: =ROUND(L132*K132,2) -> 0
C133: 11 | D133: K | E133: 577144231 | F133: Asfaltový betón vrstva obrusná AC 11 O v pruhu š. do 3 m z nemodifik. asfaltu tr. II, po zhutnení hr. 50 mm | J133: m2 | K133: 65 | N133: =ROUND(L133*K133,2) -> 0
D134: 9 - Ostatné konštrukcie a práce-búranie | N134: =SUM(N135:Q140) -> 0 | W134: =SUM(W136:W140) -> 11.336972 | Y134: =SUM(Y136:Y140) -> 3.1134 | AA134: =SUM(AA136:AA140) -> 0 | AR134: 1 | AT134: D | AU134: 1 | AY134: ROZPOCET | BK134: =SUM(BK136:BK140) -> 0
C135: 12 | D135: K | E135: 915721212 | F135: Vodorovné dopravné značenie striekané farbou prechodov pre chodcov, šípky, symboly a pod., biela retroreflexná | J135: m2 | K135: 56 | N135: =ROUND(L135*K135,2) -> 0
C136: 13 | D136: K | E136: 917862111 | F136: Osadenie cestneho obrubníka betónového stojatého do lôžka z betónu prosteho tr. C 12/15 s bočnou oporou | J136: m | K136: 15 | N136: =ROUND(L136*K136,2) -> 0 | U136: znížená | V136: 0.204 | W136: =V136*K136 -> 3.06 | X136: 0.12656 | Y136: =X136*K136 -> 1.8984 | Z136: 0 | AA136: =Z136*K136 -> 0 | AR136: 4 | AT136: K | AU136: 2 | AY136: ROZPOCET | BE136: =IF(U136="základná",N136,0) -> 0 | BF136: =IF(U136="znížená",N136,0) -> 0 | BG136: =IF(U136="zákl. prenesená",N136,0) -> 0 | BH136: =IF(U136="zníž. prenesená",N136,0) -> 0 | BI136: =IF(U136="nulová",N136,0) -> 0 | BJ136: 2 | BK136: =ROUND(L136*K136,2) -> 0 | BL136: 4 | BM136: 1392070118
C137: 14 | D137: M | E137: 5922903060 | F137: Obrubník betónový cestný, skosený, 100/25/15 cm, sivá | J137: ks | K137: 15 | N137: =ROUND(L137*K137,2) -> 0 | U137: znížená | V137: 0 | W137: =V137*K137 -> 0 | X137: 0.081 | Y137: =X137*K137 -> 1.215 | Z137: 0 | AA137: =Z137*K137 -> 0 | AR137: 8 | AT137: M | AU137: 2 | AY137: ROZPOCET | BE137: =IF(U137="základná",N137,0) -> 0 | BF137: =IF(U137="znížená",N137,0) -> 0 | BG137: =IF(U137="zákl. prenesená",N137,0) -> 0 | BH137: =IF(U137="zníž. prenesená",N137,0) -> 0 | BI137: =IF(U137="nulová",N137,0) -> 0 | BJ137: 2 | BK137: =ROUND(L137*K137,2) -> 0 | BL137: 4 | BM137: 1735458656
C138: 15 | D138: K | E138: 979081111 | F138: Odvoz sutiny a vybúraných hmôt na skládku do 1 km | J138: t | K138: =2.2*K122 -> 13.222 | N138: =ROUND(L138*K138,2) -> 0 | U138: znížená | V138: 0.598 | W138: =V138*K138 -> 7.906756 | X138: 0 | Y138: =X138*K138 -> 0 | Z138: 0 | AA138: =Z138*K138 -> 0 | AR138: 4 | AT138: K | AU138: 2 | AY138: ROZPOCET | BE138: =IF(U138="základná",N138,0) -> 0 | BF138: =IF(U138="znížená",N138,0) -> 0 | BG138: =IF(U138="zákl. prenesená",N138,0) -> 0 | BH138: =IF(U138="zníž. prenesená",N138,0) -> 0 | BI138: =IF(U138="nulová",N138,0) -> 0 | BJ138: 2 | BK138: =ROUND(L138*K138,2) -> 0 | BL138: 4 | BM138: -717601006
C139: 16 | D139: K | E139: 979081121 | F139: Odvoz sutiny a vybúraných hmôt na skládku za každý ďalší 1 km - celkovo 5 km | J139: t | K139: =4*K138 -> 52.888 | N139: =ROUND(L139*K139,2) -> 0 | U139: znížená | V139: 0.007 | W139: =V139*K139 -> 0.370216 | X139: 0 | Y139: =X139*K139 -> 0 | Z139: 0 | AA139: =Z139*K139 -> 0 | AR139: 4 | AT139: K | AU139: 2 | AY139: ROZPOCET | BE139: =IF(U139="základná",N139,0) -> 0 | BF139: =IF(U139="znížená",N139,0) -> 0 | BG139: =IF(U139="zákl. prenesená",N139,0) -> 0 | BH139: =IF(U139="zníž. prenesená",N139,0) -> 0 | BI139: =IF(U139="nulová",N139,0) -> 0 | BJ139: 2 | BK139: =ROUND(L139*K139,2) -> 0 | BL139: 4 | BM139: 1364100287
C140: 17 | D140: K | E140: 979089012 | F140: Poplatok za skladovanie - betón, tehly, dlaždice (17 01 ), ostatné | J140: t | K140: =K138 -> 13.222 | N140: =ROUND(L140*K140,2) -> 0 | U140: znížená | V140: 0 | W140: =V140*K140 -> 0 | X140: 0 | Y140: =X140*K140 -> 0 | Z140: 0 | AA140: =Z140*K140 -> 0 | AR140: 4 | AT140: K | AU140: 2 | AY140: ROZPOCET | BE140: =IF(U140="základná",N140,0) -> 0 | BF140: =IF(U140="znížená",N140,0) -> 0 | BG140: =IF(U140="zákl. prenesená",N140,0) -> 0 | BH140: =IF(U140="zníž. prenesená",N140,0) -> 0 | BI140: =IF(U140="nulová",N140,0) -> 0 | BJ140: 2 | BK140: =ROUND(L140*K140,2) -> 0 | BL140: 4 | BM140: -1576511002
D141: VRN - Vedľajšie rozpočtové náklady | N141: =BK141 -> 0 | W141: =W142+W144+W146 -> 0 | Y141: =Y142+Y144+Y146 -> 0 | AA141: =AA142+AA144+AA146 -> 0 | AR141: 5 | AT141: D | AU141: 0 | AY141: ROZPOCET | BK141: =BK142+BK144+BK146 -> 0
D142: VRN03 - Geodetické práce | N142: =BK142 -> 0 | W142: =SUM(W143:W143) -> 0 | Y142: =SUM(Y143:Y143) -> 0 | AA142: =SUM(AA143:AA143) -> 0 | AR142: 5 | AT142: D | AU142: 1 | AY142: ROZPOCET | BK142: =SUM(BK143:BK143) -> 0
C143: 18 | D143: K | E143: 000300013 | F143: Geodetické práce - vykonávané pred výstavbou určenie priebehu nadzemného alebo podzemného existujúceho aj plánovaného vedenia | J143: kpl | K143: 1 | N143: =ROUND(L143*K143,2) -> 0 | U143: znížená | V143: 0 | W143: =V143*K143 -> 0 | X143: 0 | Y143: =X143*K143 -> 0 | Z143: 0 | AA143: =Z143*K143 -> 0 | AR143: 1024 | AT143: K | AU143: 2 | AY143: ROZPOCET | BE143: =IF(U143="základná",N143,0) -> 0 | BF143: =IF(U143="znížená",N143,0) -> 0 | BG143: =IF(U143="zákl. prenesená",N143,0) -> 0 | BH143: =IF(U143="zníž. prenesená",N143,0) -> 0 | BI143: =IF(U143="nulová",N143,0) -> 0 | BJ143: 2 | BK143: =ROUND(L143*K143,2) -> 0 | BL143: 1024 | BM143: -1548056381
D144: VRN04 - Projektové práce | N144: =BK144 -> 0 | W144: =W145 -> 0 | Y144: =Y145 -> 0 | AA144: =AA145 -> 0 | AR144: 5 | AT144: D | AU144: 1 | AY144: ROZPOCET | BK144: =BK145 -> 0
C145: 19 | D145: K | E145: 000400022 | F145: Projektové práce - náklady na dokumentáciu skutočného zhotovenia stavby | J145: kpl | K145: 1 | N145: =ROUND(L145*K145,2) -> 0 | U145: znížená | V145: 0 | W145: =V145*K145 -> 0 | X145: 0 | Y145: =X145*K145 -> 0 | Z145: 0 | AA145: =Z145*K145 -> 0 | AR145: 1024 | AT145: K | AU145: 2 | AY145: ROZPOCET | BE145: =IF(U145="základná",N145,0) -> 0 | BF145: =IF(U145="znížená",N145,0) -> 0 | BG145: =IF(U145="zákl. prenesená",N145,0) -> 0 | BH145: =IF(U145="zníž. prenesená",N145,0) -> 0 | BI145: =IF(U145="nulová",N145,0) -> 0 | BJ145: 2 | BK145: =ROUND(L145*K145,2) -> 0 | BL145: 1024 | BM145: -1038011015
D146: VRN06 - Zariadenie staveniska | N146: =BK146 -> 0 | W146: =SUM(W147:W147) -> 0 | Y146: =SUM(Y147:Y147) -> 0 | AA146: =SUM(AA147:AA147) -> 0 | AR146: 5 | AT146: D | AU146: 1 | AY146: ROZPOCET | BK146: =SUM(BK147:BK147) -> 0
C147: 20 | D147: K | E147: 000600024 | F147: Zariadenie staveniska - prevádzkové dopravné značenie po stavenisku | J147: kpl | K147: 1 | N147: =ROUND(L147*K147,2) -> 0 | U147: znížená | V147: 0 | W147: =V147*K147 -> 0 | X147: 0 | Y147: =X147*K147 -> 0 | Z147: 0 | AA147: =Z147*K147 -> 0 | AR147: 1024 | AT147: K | AU147: 2 | AY147: ROZPOCET | BE147: =IF(U147="základná",N147,0) -> 0 | BF147: =IF(U147="znížená",N147,0) -> 0 | BG147: =IF(U147="zákl. prenesená",N147,0) -> 0 | BH147: =IF(U147="zníž. prenesená",N147,0) -> 0 | BI147: =IF(U147="nulová",N147,0) -> 0 | BJ147: 2 | BK147: =ROUND(L147*K147,2) -> 0 | BL147: 1024 | BM147: 1258205811

Sheet 05 - Prechod 
D1: Hárok obsahuje: | F1: 1) Krycí list rozpočtu | H1: 2) Rekapitulácia rozpočtu | L1: 3) Rozpočet | O1: Späť na hárok: | S1: Rekapitulácia stavby
C2: optimalizované pre tlač zostáv vo formáte A4 - na výšku | S2: >> skryté stĺpce << | AT2: {85df8818-560a-4a5e-a84a-5d2801e4224e}
AT3: 0
C4: KRYCÍ LIST | T4: v --- nižšie sa nachádzajú doplnkové a pomocné údaje k zostavám --- v | AT4: False
D6: Stavba: | F6: ='Rekapitulácia stavby'!K6 -> Rekonštrukcia jestvujúcich priechodov a retardérov v meste Trebišov
D7: Objekt: | F7: 05 - Priechod pre chodcov
D8: JKSO: | M8: KS:
D9: Miesto: | F9: Trebišov | M9: Dátum: | O9: ='Rekapitulácia stavby'!AN8 -> 44092
D11: Objednávateľ: | M11: IČO:
E12: Mesto Trebišov | M12: IČO DPH:
D14: Zhotoviteľ: | M14: IČO: | O14: =IF('Rekapitulácia stavby'!AN13="","",'Rekapitulácia stavby'!AN13)
E15: =IF('Rekapitulácia stavby'!E14="","",'Rekapitulácia stavby'!E14) | M15: IČO DPH: | O15: =IF('Rekapitulácia stavby'!AN14="","",'Rekapitulácia stavby'!AN14)
D17: Projektant: | M17: IČO:
M18: IČO DPH:
D20: Spracovateľ: | M20: IČO:
E21: Ing. Z. Béreš | M21: IČO DPH:
D23: Poznámka:
D27: Náklady z rozpočtu | M27: =N88 -> 0
D28: Ostatné náklady | M28: =N99 -> 0
D30: Cena bez DPH | M30: =ROUND(M27+M28,2) -> 0
D32: DPH | E32: základná | F32: 0.2 | G32: z | H32: =ROUND((SUM(BE99:BE100)+SUM(BE118:BE147)), 2) -> 0 | M32: =ROUND(ROUND((SUM(BE99:BE100)+SUM(BE118:BE147)), 2)*F32, 2) -> 0
E33: znížená | F33: 0.2 | G33: z | H33: =M30 -> 0 | M33: =0.2*M30 -> 0
E34: zákl. prenesená | F34: 0.2 | G34: z | H34: =ROUND((SUM(BG99:BG100)+SUM(BG118:BG147)), 2) -> 0 | M34: 0
E35: zníž. prenesená | F35: 0.2 | G35: z | H35: =ROUND((SUM(BH99:BH100)+SUM(BH118:BH147)), 2) -> 0 | M35: 0
E36: nulová | F36: 0 | G36: z | H36: =ROUND((SUM(BI99:BI100)+SUM(BI118:BI147)), 2) -> 0 | M36: 0
D38: Cena s DPH | G38: v | H38: EUR | L38: =SUM(M30:M36) -> 0
D50: Projektant | J50: Spracovateľ
D59: Dátum a podpis: | G59: Pečiatka | J59: Dátum a podpis: | N59: Pečiatka
D61: Objednávateľ | J61: Zhotoviteľ
D70: Dátum a podpis: | G70: Pečiatka | J70: Dátum a podpis: | N70: Pečiatka
C76: REKAPITULÁCIA
C78: Stavba: | F78: =F6 -> Rekonštrukcia jestvujúcich priechodov a retardérov v meste Trebišov
C79: Objekt: | F79: =F7 -> 05 - Priechod pre chodcov
C81: Miesto: | F81: =F9 -> Trebišov | K81: Dátum: | M81: =IF(O9="","",O9) -> 44092
C83: Objednávateľ: | F83: =E12 -> Mesto Trebišov | K83: Projektant: | M83: =E18 -> 0
C84: Zhotoviteľ: | F84: =IF(E15="","",E15) | K84: Spracovateľ: | M84: =E21 -> Ing. Z. Béreš
C86: Kód - Popis | N86: Cena celkom [EUR]
C88: 1) Náklady z rozpočtu | N88: =N118 -> 0 | AU88: -1
D89: HSV - Práce a dodávky HSV | N89: =N119 -> 0
D90: 1 - Zemné práce | N90: =N120 -> 0
D91: 4 - Vodorovné konštrukcie | N91: =N129 -> 0
D92: 5 - Komunikácie | N92: =N131 -> 0
D93: 9 - Ostatné konštrukcie a práce-búranie | N93: =N134 -> 0
D94: VRN - Vedľajšie rozpočtové náklady | N94: =N141 -> 0
D95: VRN03 - Geodetické práce | N95: =N142 -> 0
D96: VRN04 - Projektové práce | N96: =N144 -> 0
D97: VRN06 - Zariadenie staveniska | N97: =N146 -> 0
C99: 2) Ostatné náklady | N99: 0 | U99: DPH
C101: Celkové náklady za stavbu 1) + 2) | L101: =ROUND(SUM(N88+N99),2) -> 0
C107: ZADANIE
C109: Stavba: | F109: =F6 -> Rekonštrukcia jestvujúcich priechodov a retardérov v meste Trebišov
C110: Objekt: | F110: =F7 -> 05 - Priechod pre chodcov
C112: Miesto: | F112: =F9 -> Trebišov | K112: Dátum: | M112: =IF(O9="","",O9) -> 44092
C114: Objednávateľ: | F114: =E12 -> Mesto Trebišov | K114: Projektant: | M114: =E18 -> 0
C115: Zhotoviteľ: | F115: =IF(E15="","",E15) | K115: Spracovateľ:
C117: PČ | D117: Typ | E117: Kód | F117: Popis | J117: MJ | K117: Množstvo | L117: J.cena [EUR] | N117: Cena celkom [EUR] | T117: Poznámka | U117: DPH | V117: J. Nh [h] | W117: Nh celkom [h] | X117: J. hmotnosť_x000D_ [t] | Y117: Hmotnosť_x000D_ celkom [t] | Z117: J. suť [t] | AA117: Suť Celkom [t]
C118: Náklady z rozpočtu | N118: =N119+N141 -> 0 | W118: =W119+W141 -> #REF! | Y118: =Y119+Y141 -> #REF! | AA118: =AA119+AA141 -> #REF! | AT118: D | AU118: -1 | BK118: =BK119+BK141 -> #REF!
D119: HSV - Práce a dodávky HSV | N119: =N120+N129+N131+N134 -> 0 | W119: =W120+#REF!+W131+W134 -> #REF! | Y119: =Y120+#REF!+Y131+Y134 -> #REF! | AA119: =AA120+#REF!+AA131+AA134 -> #REF! | AR119: 1 | AT119: D | AU119: 0 | AY119: ROZPOCET | BK119: =BK120+#REF!+BK131+BK134 -> #REF!
D120: 1 - Zemné práce | N120: =SUM(N121:Q128) -> 0 | W120: =SUM(W121:W128) -> 50.85163 | Y120: =SUM(Y121:Y128) -> 0 | AA120: =SUM(AA121:AA128) -> 39.31 | AR120: 1 | AT120: D | AU120: 1 | AY120: ROZPOCET | BK120: =SUM(BK121:BK128) -> 0
C121: 1 | D121: K | E121: 113307122 | F121: Odstránenie podkladu v ploche do 200 m2 z kameniva hrubého drveného, hr. 200 mm, -0,4700t | J121: m2 | K121: 56 | N121: =ROUND(L121*K121,2) -> 0 | U121: znížená | V121: 0.827 | W121: =V121*K121 -> 46.312 | X121: 0 | Y121: =X121*K121 -> 0 | Z121: 0.48 | AA121: =Z121*K121 -> 26.88 | AR121: 4 | AT121: K | AU121: 2 | AY121: ROZPOCET | BE121: =IF(U121="základná",N121,0) -> 0 | BF121: =IF(U121="znížená",N121,0) -> 0 | BG121: =IF(U121="zákl. prenesená",N121,0) -> 0 | BH121: =IF(U121="zníž. prenesená",N121,0) -> 0 | BI121: =IF(U121="nulová",N121,0) -> 0 | BJ121: 2 | BK121: =ROUND(L121*K121,2) -> 0 | BL121: 4 | BM121: -169691661
C122: 2 | D122: K | E122: 113107232 | F122: Odstránenie pôvodných konštrukcií a vrstiev z betónu prostého, podklad, kryt, dlažba, obrubníky, -2,2000t | J122: m3 | K122: 5.65 | N122: =ROUND(L122*K122,2) -> 0 | U122: znížená | V122: 0.319 | W122: =V122*K122 -> 1.80235 | X122: 0 | Y122: =X122*K122 -> 0 | Z122: 2.2 | AA122: =Z122*K122 -> 12.43 | AR122: 4 | AT122: K | AU122: 2 | AY122: ROZPOCET | BE122: =IF(U122="základná",N122,0) -> 0 | BF122: =IF(U122="znížená",N122,0) -> 0 | BG122: =IF(U122="zákl. prenesená",N122,0) -> 0 | BH122: =IF(U122="zníž. prenesená",N122,0) -> 0 | BI122: =IF(U122="nulová",N122,0) -> 0 | BJ122: 2 | BK122: =ROUND(L122*K122,2) -> 0 | BL122: 4 | BM122: 1383573589
C123: 3 | D123: K | E123: 162501122 | F123: Vodorovné premiestnenie výkopku po spevnenej ceste z horniny tr.1-4, nad 100 do 1000 m3 na vzdialenosť do 3000 m | J123: m3 | K123: 11.2 | N123: =ROUND(L123*K123,2) -> 0 | U123: znížená | V123: 0.0544 | W123: =V123*K123 -> 0.60928 | X123: 0 | Y123: =X123*K123 -> 0 | Z123: 0 | AA123: =Z123*K123 -> 0 | AR123: 4 | AT123: K | AU123: 2 | AY123: ROZPOCET | BE123: =IF(U123="základná",N123,0) -> 0 | BF123: =IF(U123="znížená",N123,0) -> 0 | BG123: =IF(U123="zákl. prenesená",N123,0) -> 0 | BH123: =IF(U123="zníž. prenesená",N123,0) -> 0 | BI123: =IF(U123="nulová",N123,0) -> 0 | BJ123: 2 | BK123: =ROUND(L123*K123,2) -> 0 | BL123: 4 | BM123: 1681925433
C124: 4 | D124: K | E124: 162501123 | F124: Vodorovné premiestnenie výkopku po spevnenej ceste z horniny tr.1-4, nad 100 do 1000 m3, príplatok k cene za každých ďalšich a začatých 1000 m - celkovo 5 km | J124: m3 | K124: =K123*2 -> 22.4 | N124: =ROUND(L124*K124,2) -> 0 | U124: znížená | V124: 0.005 | W124: =V124*K124 -> 0.112 | X124: 0 | Y124: =X124*K124 -> 0 | Z124: 0 | AA124: =Z124*K124 -> 0 | AR124: 4 | AT124: K | AU124: 2 | AY124: ROZPOCET | BE124: =IF(U124="základná",N124,0) -> 0 | BF124: =IF(U124="znížená",N124,0) -> 0 | BG124: =IF(U124="zákl. prenesená",N124,0) -> 0 | BH124: =IF(U124="zníž. prenesená",N124,0) -> 0 | BI124: =IF(U124="nulová",N124,0) -> 0 | BJ124: 2 | BK124: =ROUND(L124*K124,2) -> 0 | BL124: 4 | BM124: 1266939450
C125: 5 | D125: K | E125: 167101102 | F125: Nakladanie neuľahnutého výkopku z hornín tr.1-4 nad 100 do 1000 m3 | J125: m3 | K125: 11.2 | N125: =ROUND(L125*K125,2) -> 0 | U125: znížená | V125: 0.087 | W125: =V125*K125 -> 0.9744 | X125: 0 | Y125: =X125*K125 -> 0 | Z125: 0 | AA125: =Z125*K125 -> 0 | AR125: 4 | AT125: K | AU125: 2 | AY125: ROZPOCET | BE125: =IF(U125="základná",N125,0) -> 0 | BF125: =IF(U125="znížená",N125,0) -> 0 | BG125: =IF(U125="zákl. prenesená",N125,0) -> 0 | BH125: =IF(U125="zníž. prenesená",N125,0) -> 0 | BI125: =IF(U125="nulová",N125,0) -> 0 | BJ125: 2 | BK125: =ROUND(L125*K125,2) -> 0 | BL125: 4 | BM125: -1816157790
C126: 6 | D126: K | E126: 171201202 | F126: Uloženie sypaniny na skládky nad 100 do 1000 m3 | J126: m3 | K126: 11.2 | N126: =ROUND(L126*K126,2) -> 0 | U126: znížená | V126: 0.008 | W126: =V126*K126 -> 0.0896 | X126: 0 | Y126: =X126*K126 -> 0 | Z126: 0 | AA126: =Z126*K126 -> 0 | AR126: 4 | AT126: K | AU126: 2 | AY126: ROZPOCET | BE126: =IF(U126="základná",N126,0) -> 0 | BF126: =IF(U126="znížená",N126,0) -> 0 | BG126: =IF(U126="zákl. prenesená",N126,0) -> 0 | BH126: =IF(U126="zníž. prenesená",N126,0) -> 0 | BI126: =IF(U126="nulová",N126,0) -> 0 | BJ126: 2 | BK126: =ROUND(L126*K126,2) -> 0 | BL126: 4 | BM126: -1660578335
C127: 7 | D127: K | E127: 171209002 | F127: Poplatok za skladovanie - zemina a kamenivo (17 05) ostatné | J127: t | K127: =0.47*K121 -> 26.32 | N127: =ROUND(L127*K127,2) -> 0 | U127: znížená | V127: 0 | W127: =V127*K127 -> 0 | X127: 0 | Y127: =X127*K127 -> 0 | Z127: 0 | AA127: =Z127*K127 -> 0 | AR127: 4 | AT127: K | AU127: 2 | AY127: ROZPOCET | BE127: =IF(U127="základná",N127,0) -> 0 | BF127: =IF(U127="znížená",N127,0) -> 0 | BG127: =IF(U127="zákl. prenesená",N127,0) -> 0 | BH127: =IF(U127="zníž. prenesená",N127,0) -> 0 | BI127: =IF(U127="nulová",N127,0) -> 0 | BJ127: 2 | BK127: =ROUND(L127*K127,2) -> 0 | BL127: 4 | BM127: 1858080667
C128: 8 | D128: K | E128: 181101102 | F128: Úprava pláne v hornine 1-4 so zhutnením | J128: m2 | K128: 56 | N128: =ROUND(L128*K128,2) -> 0 | U128: znížená | V128: 0.017 | W128: =V128*K128 -> 0.952 | X128: 0 | Y128: =X128*K128 -> 0 | Z128: 0 | AA128: =Z128*K128 -> 0 | AR128: 4 | AT128: K | AU128: 2 | AY128: ROZPOCET | BE128: =IF(U128="základná",N128,0) -> 0 | BF128: =IF(U128="znížená",N128,0) -> 0 | BG128: =IF(U128="zákl. prenesená",N128,0) -> 0 | BH128: =IF(U128="zníž. prenesená",N128,0) -> 0 | BI128: =IF(U128="nulová",N128,0) -> 0 | BJ128: 2 | BK128: =ROUND(L128*K128,2) -> 0 | BL128: 4 | BM128: 303010533
D129: 4 - Vodorovné konštrukcie | N129: =SUM(N130) -> 0
C130: 9 | D130: K | E130: 451311411 | F130: Podklad pod dlažbu z betónu prostého tr. C 16/20 hr. do 150 mm | J130: m2 | K130: 56 | N130: =ROUND(L130*K130,2) -> 0
D131: 5 - Komunikácie | N131: =SUM(N132:Q133) -> 0 | W131: =SUM(#REF!) -> #REF! | Y131: =SUM(#REF!) -> #REF! | AA131: =SUM(#REF!) -> #REF! | AR131: 1 | AT131: D | AU131: 1 | AY131: ROZPOCET | BK131: =SUM(#REF!) -> #REF!
C132: 10 | D132: K | E132: 573111112 | F132: Postrek asfaltový infiltračný s posypom kamenivom z asfaltu cestného v množstve 1,00 kg/m2 | J132: m2 | K132: 56 | N132: =ROUND(L132*K132,2) -> 0
C133: 11 | D133: K | E133: 577144231 | F133: Asfaltový betón vrstva obrusná AC 11 O v pruhu š. do 3 m z nemodifik. asfaltu tr. II, po zhutnení hr. 50 mm | J133: m2 | K133: 56 | N133: =ROUND(L133*K133,2) -> 0
D134: 9 - Ostatné konštrukcie a práce-búranie | N134: =SUM(N135:Q140) -> 0 | W134: =SUM(W136:W140) -> 9.41318 | Y134: =SUM(Y136:Y140) -> 1.66048 | AA134: =SUM(AA136:AA140) -> 0 | AR134: 1 | AT134: D | AU134: 1 | AY134: ROZPOCET | BK134: =SUM(BK136:BK140) -> 0
C135: 12 | D135: K | E135: 915721212 | F135: Vodorovné dopravné značenie striekané farbou prechodov pre chodcov, šípky, symboly a pod., biela retroreflexná | J135: m2 | K135: 44 | N135: =ROUND(L135*K135,2) -> 0
C136: 13 | D136: K | E136: 917862111 | F136: Osadenie cestneho obrubníka betónového stojatého do lôžka z betónu prosteho tr. C 12/15 s bočnou oporou | J136: m | K136: 8 | N136: =ROUND(L136*K136,2) -> 0 | U136: znížená | V136: 0.204 | W136: =V136*K136 -> 1.632 | X136: 0.12656 | Y136: =X136*K136 -> 1.01248 | Z136: 0 | AA136: =Z136*K136 -> 0 | AR136: 4 | AT136: K | AU136: 2 | AY136: ROZPOCET | BE136: =IF(U136="základná",N136,0) -> 0 | BF136: =IF(U136="znížená",N136,0) -> 0 | BG136: =IF(U136="zákl. prenesená",N136,0) -> 0 | BH136: =IF(U136="zníž. prenesená",N136,0) -> 0 | BI136: =IF(U136="nulová",N136,0) -> 0 | BJ136: 2 | BK136: =ROUND(L136*K136,2) -> 0 | BL136: 4 | BM136: 1392070118
C137: 14 | D137: M | E137: 5922903060 | F137: Obrubník betónový cestný, skosený, 100/25/15 cm, sivá | J137: ks | K137: 8 | N137: =ROUND(L137*K137,2) -> 0 | U137: znížená | V137: 0 | W137: =V137*K137 -> 0 | X137: 0.081 | Y137: =X137*K137 -> 0.648 | Z137: 0 | AA137: =Z137*K137 -> 0 | AR137: 8 | AT137: M | AU137: 2 | AY137: ROZPOCET | BE137: =IF(U137="základná",N137,0) -> 0 | BF137: =IF(U137="znížená",N137,0) -> 0 | BG137: =IF(U137="zákl. prenesená",N137,0) -> 0 | BH137: =IF(U137="zníž. prenesená",N137,0) -> 0 | BI137: =IF(U137="nulová",N137,0) -> 0 | BJ137: 2 | BK137: =ROUND(L137*K137,2) -> 0 | BL137: 4 | BM137: 1735458656
C138: 15 | D138: K | E138: 979081111 | F138: Odvoz sutiny a vybúraných hmôt na skládku do 1 km | J138: t | K138: =2.2*K122 -> 12.43 | N138: =ROUND(L138*K138,2) -> 0 | U138: znížená | V138: 0.598 | W138: =V138*K138 -> 7.43314 | X138: 0 | Y138: =X138*K138 -> 0 | Z138: 0 | AA138: =Z138*K138 -> 0 | AR138: 4 | AT138: K | AU138: 2 | AY138: ROZPOCET | BE138: =IF(U138="základná",N138,0) -> 0 | BF138: =IF(U138="znížená",N138,0) -> 0 | BG138: =IF(U138="zákl. prenesená",N138,0) -> 0 | BH138: =IF(U138="zníž. prenesená",N138,0) -> 0 | BI138: =IF(U138="nulová",N138,0) -> 0 | BJ138: 2 | BK138: =ROUND(L138*K138,2) -> 0 | BL138: 4 | BM138: -717601006
C139: 16 | D139: K | E139: 979081121 | F139: Odvoz sutiny a vybúraných hmôt na skládku za každý ďalší 1 km - celkovo 5 km | J139: t | K139: =4*K138 -> 49.72 | N139: =ROUND(L139*K139,2) -> 0 | U139: znížená | V139: 0.007 | W139: =V139*K139 -> 0.34804 | X139: 0 | Y139: =X139*K139 -> 0 | Z139: 0 | AA139: =Z139*K139 -> 0 | AR139: 4 | AT139: K | AU139: 2 | AY139: ROZPOCET | BE139: =IF(U139="základná",N139,0) -> 0 | BF139: =IF(U139="znížená",N139,0) -> 0 | BG139: =IF(U139="zákl. prenesená",N139,0) -> 0 | BH139: =IF(U139="zníž. prenesená",N139,0) -> 0 | BI139: =IF(U139="nulová",N139,0) -> 0 | BJ139: 2 | BK139: =ROUND(L139*K139,2) -> 0 | BL139: 4 | BM139: 1364100287
C140: 17 | D140: K | E140: 979089012 | F140: Poplatok za skladovanie - betón, tehly, dlaždice (17 01 ), ostatné | J140: t | K140: =K138 -> 12.43 | N140: =ROUND(L140*K140,2) -> 0 | U140: znížená | V140: 0 | W140: =V140*K140 -> 0 | X140: 0 | Y140: =X140*K140 -> 0 | Z140: 0 | AA140: =Z140*K140 -> 0 | AR140: 4 | AT140: K | AU140: 2 | AY140: ROZPOCET | BE140: =IF(U140="základná",N140,0) -> 0 | BF140: =IF(U140="znížená",N140,0) -> 0 | BG140: =IF(U140="zákl. prenesená",N140,0) -> 0 | BH140: =IF(U140="zníž. prenesená",N140,0) -> 0 | BI140: =IF(U140="nulová",N140,0) -> 0 | BJ140: 2 | BK140: =ROUND(L140*K140,2) -> 0 | BL140: 4 | BM140: -1576511002
D141: VRN - Vedľajšie rozpočtové náklady | N141: =BK141 -> 0 | W141: =W142+W144+W146 -> 0 | Y141: =Y142+Y144+Y146 -> 0 | AA141: =AA142+AA144+AA146 -> 0 | AR141: 5 | AT141: D | AU141: 0 | AY141: ROZPOCET | BK141: =BK142+BK144+BK146 -> 0
D142: VRN03 - Geodetické práce | N142: =BK142 -> 0 | W142: =SUM(W143:W143) -> 0 | Y142: =SUM(Y143:Y143) -> 0 | AA142: =SUM(AA143:AA143) -> 0 | AR142: 5 | AT142: D | AU142: 1 | AY142: ROZPOCET | BK142: =SUM(BK143:BK143) -> 0
C143: 18 | D143: K | E143: 000300013 | F143: Geodetické práce - vykonávané pred výstavbou určenie priebehu nadzemného alebo podzemného existujúceho aj plánovaného vedenia | J143: kpl | K143: 1 | N143: =ROUND(L143*K143,2) -> 0 | U143: znížená | V143: 0 | W143: =V143*K143 -> 0 | X143: 0 | Y143: =X143*K143 -> 0 | Z143: 0 | AA143: =Z143*K143 -> 0 | AR143: 1024 | AT143: K | AU143: 2 | AY143: ROZPOCET | BE143: =IF(U143="základná",N143,0) -> 0 | BF143: =IF(U143="znížená",N143,0) -> 0 | BG143: =IF(U143="zákl. prenesená",N143,0) -> 0 | BH143: =IF(U143="zníž. prenesená",N143,0) -> 0 | BI143: =IF(U143="nulová",N143,0) -> 0 | BJ143: 2 | BK143: =ROUND(L143*K143,2) -> 0 | BL143: 1024 | BM143: -1548056381
D144: VRN04 - Projektové práce | N144: =BK144 -> 0 | W144: =W145 -> 0 | Y144: =Y145 -> 0 | AA144: =AA145 -> 0 | AR144: 5 | AT144: D | AU144: 1 | AY144: ROZPOCET | BK144: =BK145 -> 0
C145: 19 | D145: K | E145: 000400022 | F145: Projektové práce - náklady na dokumentáciu skutočného zhotovenia stavby | J145: kpl | K145: 1 | N145: =ROUND(L145*K145,2) -> 0 | U145: znížená | V145: 0 | W145: =V145*K145 -> 0 | X145: 0 | Y145: =X145*K145 -> 0 | Z145: 0 | AA145: =Z145*K145 -> 0 | AR145: 1024 | AT145: K | AU145: 2 | AY145: ROZPOCET | BE145: =IF(U145="základná",N145,0) -> 0 | BF145: =IF(U145="znížená",N145,0) -> 0 | BG145: =IF(U145="zákl. prenesená",N145,0) -> 0 | BH145: =IF(U145="zníž. prenesená",N145,0) -> 0 | BI145: =IF(U145="nulová",N145,0) -> 0 | BJ145: 2 | BK145: =ROUND(L145*K145,2) -> 0 | BL145: 1024 | BM145: -1038011015
D146: VRN06 - Zariadenie staveniska | N146: =BK146 -> 0 | W146: =SUM(W147:W147) -> 0 | Y146: =SUM(Y147:Y147) -> 0 | AA146: =SUM(AA147:AA147) -> 0 | AR146: 5 | AT146: D | AU146: 1 | AY146: ROZPOCET | BK146: =SUM(BK147:BK147) -> 0
C147: 20 | D147: K | E147: 000600024 | F147: Zariadenie staveniska - prevádzkové dopravné značenie po stavenisku | J147: kpl | K147: 1 | N147: =ROUND(L147*K147,2) -> 0 | U147: znížená | V147: 0 | W147: =V147*K147 -> 0 | X147: 0 | Y147: =X147*K147 -> 0 | Z147: 0 | AA147: =Z147*K147 -> 0 | AR147: 1024 | AT147: K | AU147: 2 | AY147: ROZPOCET | BE147: =IF(U147="základná",N147,0) -> 0 | BF147: =IF(U147="znížená",N147,0) -> 0 | BG147: =IF(U147="zákl. prenesená",N147,0) -> 0 | BH147: =IF(U147="zníž. prenesená",N147,0) -> 0 | BI147: =IF(U147="nulová",N147,0) -> 0 | BJ147: 2 | BK147: =ROUND(L147*K147,2) -> 0 | BL147: 1024 | BM147: 1258205811

Sheet 06 - Prechod 
D1: Hárok obsahuje: | F1: 1) Krycí list rozpočtu | H1: 2) Rekapitulácia rozpočtu | L1: 3) Rozpočet | O1: Späť na hárok: | S1: Rekapitulácia stavby
C2: optimalizované pre tlač zostáv vo formáte A4 - na výšku | S2: >> skryté stĺpce << | AT2: {85df8818-560a-4a5e-a84a-5d2801e4224e}
AT3: 0
C4: KRYCÍ LIST | T4: v --- nižšie sa nachádzajú doplnkové a pomocné údaje k zostavám --- v | AT4: False
D6: Stavba: | F6: ='Rekapitulácia stavby'!K6 -> Rekonštrukcia jestvujúcich priechodov a retardérov v meste Trebišov
D7: Objekt: | F7: 06 - Priechod pre chodcov
D8: JKSO: | M8: KS:
D9: Miesto: | F9: Trebišov | M9: Dátum: | O9: ='Rekapitulácia stavby'!AN8 -> 44092
D11: Objednávateľ: | M11: IČO:
E12: Mesto Trebišov | M12: IČO DPH:
D14: Zhotoviteľ: | M14: IČO: | O14: =IF('Rekapitulácia stavby'!AN13="","",'Rekapitulácia stavby'!AN13)
E15: =IF('Rekapitulácia stavby'!E14="","",'Rekapitulácia stavby'!E14) | M15: IČO DPH: | O15: =IF('Rekapitulácia stavby'!AN14="","",'Rekapitulácia stavby'!AN14)
D17: Projektant: | M17: IČO:
M18: IČO DPH:
D20: Spracovateľ: | M20: IČO:
E21: Ing. Z. Béreš | M21: IČO DPH:
D23: Poznámka:
D27: Náklady z rozpočtu | M27: =N88 -> 0
D28: Ostatné náklady | M28: =N99 -> 0
D30: Cena bez DPH | M30: =ROUND(M27+M28,2) -> 0
D32: DPH | E32: základná | F32: 0.2 | G32: z | H32: =ROUND((SUM(BE99:BE100)+SUM(BE118:BE147)), 2) -> 0 | M32: =ROUND(ROUND((SUM(BE99:BE100)+SUM(BE118:BE147)), 2)*F32, 2) -> 0
E33: znížená | F33: 0.2 | G33: z | H33: =M30 -> 0 | M33: =0.2*M30 -> 0
E34: zákl. prenesená | F34: 0.2 | G34: z | H34: =ROUND((SUM(BG99:BG100)+SUM(BG118:BG147)), 2) -> 0 | M34: 0
E35: zníž. prenesená | F35: 0.2 | G35: z | H35: =ROUND((SUM(BH99:BH100)+SUM(BH118:BH147)), 2) -> 0 | M35: 0
E36: nulová | F36: 0 | G36: z | H36: =ROUND((SUM(BI99:BI100)+SUM(BI118:BI147)), 2) -> 0 | M36: 0
D38: Cena s DPH | G38: v | H38: EUR | L38: =SUM(M30:M36) -> 0
D50: Projektant | J50: Spracovateľ
D59: Dátum a podpis: | G59: Pečiatka | J59: Dátum a podpis: | N59: Pečiatka
D61: Objednávateľ | J61: Zhotoviteľ
D70: Dátum a podpis: | G70: Pečiatka | J70: Dátum a podpis: | N70: Pečiatka
C76: REKAPITULÁCIA
C78: Stavba: | F78: =F6 -> Rekonštrukcia jestvujúcich priechodov a retardérov v meste Trebišov
C79: Objekt: | F79: =F7 -> 06 - Priechod pre chodcov
C81: Miesto: | F81: =F9 -> Trebišov | K81: Dátum: | M81: =IF(O9="","",O9) -> 44092
C83: Objednávateľ: | F83: =E12 -> Mesto Trebišov | K83: Projektant: | M83: =E18 -> 0
C84: Zhotoviteľ: | F84: =IF(E15="","",E15) | K84: Spracovateľ: | M84: =E21 -> Ing. Z. Béreš
C86: Kód - Popis | N86: Cena celkom [EUR]
C88: 1) Náklady z rozpočtu | N88: =N118 -> 0 | AU88: -1
D89: HSV - Práce a dodávky HSV | N89: =N119 -> 0
D90: 1 - Zemné práce | N90: =N120 -> 0
D91: 4 - Vodorovné konštrukcie | N91: =N129 -> 0
D92: 5 - Komunikácie | N92: =N131 -> 0
D93: 9 - Ostatné konštrukcie a práce-búranie | N93: =N134 -> 0
D94: VRN - Vedľajšie rozpočtové náklady | N94: =N141 -> 0
D95: VRN03 - Geodetické práce | N95: =N142 -> 0
D96: VRN04 - Projektové práce | N96: =N144 -> 0
D97: VRN06 - Zariadenie staveniska | N97: =N146 -> 0
C99: 2) Ostatné náklady | N99: 0 | U99: DPH
C101: Celkové náklady za stavbu 1) + 2) | L101: =ROUND(SUM(N88+N99),2) -> 0
C107: ZADANIE
C109: Stavba: | F109: =F6 -> Rekonštrukcia jestvujúcich priechodov a retardérov v meste Trebišov
C110: Objekt: | F110: =F7 -> 06 - Priechod pre chodcov
C112: Miesto: | F112: =F9 -> Trebišov | K112: Dátum: | M112: =IF(O9="","",O9) -> 44092
C114: Objednávateľ: | F114: =E12 -> Mesto Trebišov | K114: Projektant: | M114: =E18 -> 0
C115: Zhotoviteľ: | F115: =IF(E15="","",E15) | K115: Spracovateľ:
C117: PČ | D117: Typ | E117: Kód | F117: Popis | J117: MJ | K117: Množstvo | L117: J.cena [EUR] | N117: Cena celkom [EUR] | T117: Poznámka | U117: DPH | V117: J. Nh [h] | W117: Nh celkom [h] | X117: J. hmotnosť_x000D_ [t] | Y117: Hmotnosť_x000D_ celkom [t] | Z117: J. suť [t] | AA117: Suť Celkom [t]
C118: Náklady z rozpočtu | N118: =N119+N141 -> 0 | W118: =W119+W141 -> #REF! | Y118: =Y119+Y141 -> #REF! | AA118: =AA119+AA141 -> #REF! | AT118: D | AU118: -1 | BK118: =BK119+BK141 -> #REF!
D119: HSV - Práce a dodávky HSV | N119: =N120+N129+N131+N134 -> 0 | W119: =W120+#REF!+W131+W134 -> #REF! | Y119: =Y120+#REF!+Y131+Y134 -> #REF! | AA119: =AA120+#REF!+AA131+AA134 -> #REF! | AR119: 1 | AT119: D | AU119: 0 | AY119: ROZPOCET | BK119: =BK120+#REF!+BK131+BK134 -> #REF!
D120: 1 - Zemné práce | N120: =SUM(N121:Q128) -> 0 | W120: =SUM(W121:W128) -> 50.85163 | Y120: =SUM(Y121:Y128) -> 0 | AA120: =SUM(AA121:AA128) -> 39.31 | AR120: 1 | AT120: D | AU120: 1 | AY120: ROZPOCET | BK120: =SUM(BK121:BK128) -> 0
C121: 1 | D121: K | E121: 113307122 | F121: Odstránenie podkladu v ploche do 200 m2 z kameniva hrubého drveného, hr. 200 mm, -0,4700t | J121: m2 | K121: 56 | N121: =ROUND(L121*K121,2) -> 0 | U121: znížená | V121: 0.827 | W121: =V121*K121 -> 46.312 | X121: 0 | Y121: =X121*K121 -> 0 | Z121: 0.48 | AA121: =Z121*K121 -> 26.88 | AR121: 4 | AT121: K | AU121: 2 | AY121: ROZPOCET | BE121: =IF(U121="základná",N121,0) -> 0 | BF121: =IF(U121="znížená",N121,0) -> 0 | BG121: =IF(U121="zákl. prenesená",N121,0) -> 0 | BH121: =IF(U121="zníž. prenesená",N121,0) -> 0 | BI121: =IF(U121="nulová",N121,0) -> 0 | BJ121: 2 | BK121: =ROUND(L121*K121,2) -> 0 | BL121: 4 | BM121: -169691661
C122: 2 | D122: K | E122: 113107232 | F122: Odstránenie pôvodných konštrukcií a vrstiev z betónu prostého, podklad, kryt, dlažba, obrubníky, -2,2000t | J122: m3 | K122: 5.65 | N122: =ROUND(L122*K122,2) -> 0 | U122: znížená | V122: 0.319 | W122: =V122*K122 -> 1.80235 | X122: 0 | Y122: =X122*K122 -> 0 | Z122: 2.2 | AA122: =Z122*K122 -> 12.43 | AR122: 4 | AT122: K | AU122: 2 | AY122: ROZPOCET | BE122: =IF(U122="základná",N122,0) -> 0 | BF122: =IF(U122="znížená",N122,0) -> 0 | BG122: =IF(U122="zákl. prenesená",N122,0) -> 0 | BH122: =IF(U122="zníž. prenesená",N122,0) -> 0 | BI122: =IF(U122="nulová",N122,0) -> 0 | BJ122: 2 | BK122: =ROUND(L122*K122,2) -> 0 | BL122: 4 | BM122: 1383573589
C123: 3 | D123: K | E123: 162501122 | F123: Vodorovné premiestnenie výkopku po spevnenej ceste z horniny tr.1-4, nad 100 do 1000 m3 na vzdialenosť do 3000 m | J123: m3 | K123: 11.2 | N123: =ROUND(L123*K123,2) -> 0 | U123: znížená | V123: 0.0544 | W123: =V123*K123 -> 0.60928 | X123: 0 | Y123: =X123*K123 -> 0 | Z123: 0 | AA123: =Z123*K123 -> 0 | AR123: 4 | AT123: K | AU123: 2 | AY123: ROZPOCET | BE123: =IF(U123="základná",N123,0) -> 0 | BF123: =IF(U123="znížená",N123,0) -> 0 | BG123: =IF(U123="zákl. prenesená",N123,0) -> 0 | BH123: =IF(U123="zníž. prenesená",N123,0) -> 0 | BI123: =IF(U123="nulová",N123,0) -> 0 | BJ123: 2 | BK123: =ROUND(L123*K123,2) -> 0 | BL123: 4 | BM123: 1681925433
C124: 4 | D124: K | E124: 162501123 | F124: Vodorovné premiestnenie výkopku po spevnenej ceste z horniny tr.1-4, nad 100 do 1000 m3, príplatok k cene za každých ďalšich a začatých 1000 m - celkovo 5 km | J124: m3 | K124: =K123*2 -> 22.4 | N124: =ROUND(L124*K124,2) -> 0 | U124: znížená | V124: 0.005 | W124: =V124*K124 -> 0.112 | X124: 0 | Y124: =X124*K124 -> 0 | Z124: 0 | AA124: =Z124*K124 -> 0 | AR124: 4 | AT124: K | AU124: 2 | AY124: ROZPOCET | BE124: =IF(U124="základná",N124,0) -> 0 | BF124: =IF(U124="znížená",N124,0) -> 0 | BG124: =IF(U124="zákl. prenesená",N124,0) -> 0 | BH124: =IF(U124="zníž. prenesená",N124,0) -> 0 | BI124: =IF(U124="nulová",N124,0) -> 0 | BJ124: 2 | BK124: =ROUND(L124*K124,2) -> 0 | BL124: 4 | BM124: 1266939450
C125: 5 | D125: K | E125: 167101102 | F125: Nakladanie neuľahnutého výkopku z hornín tr.1-4 nad 100 do 1000 m3 | J125: m3 | K125: 11.2 | N125: =ROUND(L125*K125,2) -> 0 | U125: znížená | V125: 0.087 | W125: =V125*K125 -> 0.9744 | X125: 0 | Y125: =X125*K125 -> 0 | Z125: 0 | AA125: =Z125*K125 -> 0 | AR125: 4 | AT125: K | AU125: 2 | AY125: ROZPOCET | BE125: =IF(U125="základná",N125,0) -> 0 | BF125: =IF(U125="znížená",N125,0) -> 0 | BG125: =IF(U125="zákl. prenesená",N125,0) -> 0 | BH125: =IF(U125="zníž. prenesená",N125,0) -> 0 | BI125: =IF(U125="nulová",N125,0) -> 0 | BJ125: 2 | BK125: =ROUND(L125*K125,2) -> 0 | BL125: 4 | BM125: -1816157790
C126: 6 | D126: K | E126: 171201202 | F126: Uloženie sypaniny na skládky nad 100 do 1000 m3 | J126: m3 | K126: 11.2 | N126: =ROUND(L126*K126,2) -> 0 | U126: znížená | V126: 0.008 | W126: =V126*K126 -> 0.0896 | X126: 0 | Y126: =X126*K126 -> 0 | Z126: 0 | AA126: =Z126*K126 -> 0 | AR126: 4 | AT126: K | AU126: 2 | AY126: ROZPOCET | BE126: =IF(U126="základná",N126,0) -> 0 | BF126: =IF(U126="znížená",N126,0) -> 0 | BG126: =IF(U126="zákl. prenesená",N126,0) -> 0 | BH126: =IF(U126="zníž. prenesená",N126,0) -> 0 | BI126: =IF(U126="nulová",N126,0) -> 0 | BJ126: 2 | BK126: =ROUND(L126*K126,2) -> 0 | BL126: 4 | BM126: -1660578335
C127: 7 | D127: K | E127: 171209002 | F127: Poplatok za skladovanie - zemina a kamenivo (17 05) ostatné | J127: t | K127: =0.47*K121 -> 26.32 | N127: =ROUND(L127*K127,2) -> 0 | U127: znížená | V127: 0 | W127: =V127*K127 -> 0 | X127: 0 | Y127: =X127*K127 -> 0 | Z127: 0 | AA127: =Z127*K127 -> 0 | AR127: 4 | AT127: K | AU127: 2 | AY127: ROZPOCET | BE127: =IF(U127="základná",N127,0) -> 0 | BF127: =IF(U127="znížená",N127,0) -> 0 | BG127: =IF(U127="zákl. prenesená",N127,0) -> 0 | BH127: =IF(U127="zníž. prenesená",N127,0) -> 0 | BI127: =IF(U127="nulová",N127,0) -> 0 | BJ127: 2 | BK127: =ROUND(L127*K127,2) -> 0 | BL127: 4 | BM127: 1858080667
C128: 8 | D128: K | E128: 181101102 | F128: Úprava pláne v hornine 1-4 so zhutnením | J128: m2 | K128: 56 | N128: =ROUND(L128*K128,2) -> 0 | U128: znížená | V128: 0.017 | W128: =V128*K128 -> 0.952 | X128: 0 | Y128: =X128*K128 -> 0 | Z128: 0 | AA128: =Z128*K128 -> 0 | AR128: 4 | AT128: K | AU128: 2 | AY128: ROZPOCET | BE128: =IF(U128="základná",N128,0) -> 0 | BF128: =IF(U128="znížená",N128,0) -> 0 | BG128: =IF(U128="zákl. prenesená",N128,0) -> 0 | BH128: =IF(U128="zníž. prenesená",N128,0) -> 0 | BI128: =IF(U128="nulová",N128,0) -> 0 | BJ128: 2 | BK128: =ROUND(L128*K128,2) -> 0 | BL128: 4 | BM128: 303010533
D129: 4 - Vodorovné konštrukcie | N129: =SUM(N130) -> 0
C130: 9 | D130: K | E130: 451311411 | F130: Podklad pod dlažbu z betónu prostého tr. C 16/20 hr. do 150 mm | J130: m2 | K130: 56 | N130: =ROUND(L130*K130,2) -> 0
D131: 5 - Komunikácie | N131: =SUM(N132:Q133) -> 0 | W131: =SUM(#REF!) -> #REF! | Y131: =SUM(#REF!) -> #REF! | AA131: =SUM(#REF!) -> #REF! | AR131: 1 | AT131: D | AU131: 1 | AY131: ROZPOCET | BK131: =SUM(#REF!) -> #REF!
C132: 10 | D132: K | E132: 573111112 | F132: Postrek asfaltový infiltračný s posypom kamenivom z asfaltu cestného v množstve 1,00 kg/m2 | J132: m2 | K132: 56 | N132: =ROUND(L132*K132,2) -> 0
C133: 11 | D133: K | E133: 577144231 | F133: Asfaltový betón vrstva obrusná AC 11 O v pruhu š. do 3 m z nemodifik. asfaltu tr. II, po zhutnení hr. 50 mm | J133: m2 | K133: 56 | N133: =ROUND(L133*K133,2) -> 0
D134: 9 - Ostatné konštrukcie a práce-búranie | N134: =SUM(N135:Q140) -> 0 | W134: =SUM(W136:W140) -> 9.41318 | Y134: =SUM(Y136:Y140) -> 1.66048 | AA134: =SUM(AA136:AA140) -> 0 | AR134: 1 | AT134: D | AU134: 1 | AY134: ROZPOCET | BK134: =SUM(BK136:BK140) -> 0
C135: 12 | D135: K | E135: 915721212 | F135: Vodorovné dopravné značenie striekané farbou prechodov pre chodcov, šípky, symboly a pod., biela retroreflexná | J135: m2 | K135: 48 | N135: =ROUND(L135*K135,2) -> 0
C136: 13 | D136: K | E136: 917862111 | F136: Osadenie cestneho obrubníka betónového stojatého do lôžka z betónu prosteho tr. C 12/15 s bočnou oporou | J136: m | K136: 8 | N136: =ROUND(L136*K136,2) -> 0 | U136: znížená | V136: 0.204 | W136: =V136*K136 -> 1.632 | X136: 0.12656 | Y136: =X136*K136 -> 1.01248 | Z136: 0 | AA136: =Z136*K136 -> 0 | AR136: 4 | AT136: K | AU136: 2 | AY136: ROZPOCET | BE136: =IF(U136="základná",N136,0) -> 0 | BF136: =IF(U136="znížená",N136,0) -> 0 | BG136: =IF(U136="zákl. prenesená",N136,0) -> 0 | BH136: =IF(U136="zníž. prenesená",N136,0) -> 0 | BI136: =IF(U136="nulová",N136,0) -> 0 | BJ136: 2 | BK136: =ROUND(L136*K136,2) -> 0 | BL136: 4 | BM136: 1392070118
C137: 14 | D137: M | E137: 5922903060 | F137: Obrubník betónový cestný, skosený, 100/25/15 cm, sivá | J137: ks | K137: 8 | N137: =ROUND(L137*K137,2) -> 0 | U137: znížená | V137: 0 | W137: =V137*K137 -> 0 | X137: 0.081 | Y137: =X137*K137 -> 0.648 | Z137: 0 | AA137: =Z137*K137 -> 0 | AR137: 8 | AT137: M | AU137: 2 | AY137: ROZPOCET | BE137: =IF(U137="základná",N137,0) -> 0 | BF137: =IF(U137="znížená",N137,0) -> 0 | BG137: =IF(U137="zákl. prenesená",N137,0) -> 0 | BH137: =IF(U137="zníž. prenesená",N137,0) -> 0 | BI137: =IF(U137="nulová",N137,0) -> 0 | BJ137: 2 | BK137: =ROUND(L137*K137,2) -> 0 | BL137: 4 | BM137: 1735458656
C138: 15 | D138: K | E138: 979081111 | F138: Odvoz sutiny a vybúraných hmôt na skládku do 1 km | J138: t | K138: =2.2*K122 -> 12.43 | N138: =ROUND(L138*K138,2) -> 0 | U138: znížená | V138: 0.598 | W138: =V138*K138 -> 7.43314 | X138: 0 | Y138: =X138*K138 -> 0 | Z138: 0 | AA138: =Z138*K138 -> 0 | AR138: 4 | AT138: K | AU138: 2 | AY138: ROZPOCET | BE138: =IF(U138="základná",N138,0) -> 0 | BF138: =IF(U138="znížená",N138,0) -> 0 | BG138: =IF(U138="zákl. prenesená",N138,0) -> 0 | BH138: =IF(U138="zníž. prenesená",N138,0) -> 0 | BI138: =IF(U138="nulová",N138,0) -> 0 | BJ138: 2 | BK138: =ROUND(L138*K138,2) -> 0 | BL138: 4 | BM138: -717601006
C139: 16 | D139: K | E139: 979081121 | F139: Odvoz sutiny a vybúraných hmôt na skládku za každý ďalší 1 km - celkovo 5 km | J139: t | K139: =4*K138 -> 49.72 | N139: =ROUND(L139*K139,2) -> 0 | U139: znížená | V139: 0.007 | W139: =V139*K139 -> 0.34804 | X139: 0 | Y139: =X139*K139 -> 0 | Z139: 0 | AA139: =Z139*K139 -> 0 | AR139: 4 | AT139: K | AU139: 2 | AY139: ROZPOCET | BE139: =IF(U139="základná",N139,0) -> 0 | BF139: =IF(U139="znížená",N139,0) -> 0 | BG139: =IF(U139="zákl. prenesená",N139,0) -> 0 | BH139: =IF(U139="zníž. prenesená",N139,0) -> 0 | BI139: =IF(U139="nulová",N139,0) -> 0 | BJ139: 2 | BK139: =ROUND(L139*K139,2) -> 0 | BL139: 4 | BM139: 1364100287
C140: 17 | D140: K | E140: 979089012 | F140: Poplatok za skladovanie - betón, tehly, dlaždice (17 01 ), ostatné | J140: t | K140: =K138 -> 12.43 | N140: =ROUND(L140*K140,2) -> 0 | U140: znížená | V140: 0 | W140: =V140*K140 -> 0 | X140: 0 | Y140: =X140*K140 -> 0 | Z140: 0 | AA140: =Z140*K140 -> 0 | AR140: 4 | AT140: K | AU140: 2 | AY140: ROZPOCET | BE140: =IF(U140="základná",N140,0) -> 0 | BF140: =IF(U140="znížená",N140,0) -> 0 | BG140: =IF(U140="zákl. prenesená",N140,0) -> 0 | BH140: =IF(U140="zníž. prenesená",N140,0) -> 0 | BI140: =IF(U140="nulová",N140,0) -> 0 | BJ140: 2 | BK140: =ROUND(L140*K140,2) -> 0 | BL140: 4 | BM140: -1576511002
D141: VRN - Vedľajšie rozpočtové náklady | N141: =BK141 -> 0 | W141: =W142+W144+W146 -> 0 | Y141: =Y142+Y144+Y146 -> 0 | AA141: =AA142+AA144+AA146 -> 0 | AR141: 5 | AT141: D | AU141: 0 | AY141: ROZPOCET | BK141: =BK142+BK144+BK146 -> 0
D142: VRN03 - Geodetické práce | N142: =BK142 -> 0 | W142: =SUM(W143:W143) -> 0 | Y142: =SUM(Y143:Y143) -> 0 | AA142: =SUM(AA143:AA143) -> 0 | AR142: 5 | AT142: D | AU142: 1 | AY142: ROZPOCET | BK142: =SUM(BK143:BK143) -> 0
C143: 18 | D143: K | E143: 000300013 | F143: Geodetické práce - vykonávané pred výstavbou určenie priebehu nadzemného alebo podzemného existujúceho aj plánovaného vedenia | J143: kpl | K143: 1 | N143: =ROUND(L143*K143,2) -> 0 | U143: znížená | V143: 0 | W143: =V143*K143 -> 0 | X143: 0 | Y143: =X143*K143 -> 0 | Z143: 0 | AA143: =Z143*K143 -> 0 | AR143: 1024 | AT143: K | AU143: 2 | AY143: ROZPOCET | BE143: =IF(U143="základná",N143,0) -> 0 | BF143: =IF(U143="znížená",N143,0) -> 0 | BG143: =IF(U143="zákl. prenesená",N143,0) -> 0 | BH143: =IF(U143="zníž. prenesená",N143,0) -> 0 | BI143: =IF(U143="nulová",N143,0) -> 0 | BJ143: 2 | BK143: =ROUND(L143*K143,2) -> 0 | BL143: 1024 | BM143: -1548056381
D144: VRN04 - Projektové práce | N144: =BK144 -> 0 | W144: =W145 -> 0 | Y144: =Y145 -> 0 | AA144: =AA145 -> 0 | AR144: 5 | AT144: D | AU144: 1 | AY144: ROZPOCET | BK144: =BK145 -> 0
C145: 19 | D145: K | E145: 000400022 | F145: Projektové práce - náklady na dokumentáciu skutočného zhotovenia stavby | J145: kpl | K145: 1 | N145: =ROUND(L145*K145,2) -> 0 | U145: znížená | V145: 0 | W145: =V145*K145 -> 0 | X145: 0 | Y145: =X145*K145 -> 0 | Z145: 0 | AA145: =Z145*K145 -> 0 | AR145: 1024 | AT145: K | AU145: 2 | AY145: ROZPOCET | BE145: =IF(U145="základná",N145,0) -> 0 | BF145: =IF(U145="znížená",N145,0) -> 0 | BG145: =IF(U145="zákl. prenesená",N145,0) -> 0 | BH145: =IF(U145="zníž. prenesená",N145,0) -> 0 | BI145: =IF(U145="nulová",N145,0) -> 0 | BJ145: 2 | BK145: =ROUND(L145*K145,2) -> 0 | BL145: 1024 | BM145: -1038011015
D146: VRN06 - Zariadenie staveniska | N146: =BK146 -> 0 | W146: =SUM(W147:W147) -> 0 | Y146: =SUM(Y147:Y147) -> 0 | AA146: =SUM(AA147:AA147) -> 0 | AR146: 5 | AT146: D | AU146: 1 | AY146: ROZPOCET | BK146: =SUM(BK147:BK147) -> 0
C147: 20 | D147: K | E147: 000600024 | F147: Zariadenie staveniska - prevádzkové dopravné značenie po stavenisku | J147: kpl | K147: 1 | N147: =ROUND(L147*K147,2) -> 0 | U147: znížená | V147: 0 | W147: =V147*K147 -> 0 | X147: 0 | Y147: =X147*K147 -> 0 | Z147: 0 | AA147: =Z147*K147 -> 0 | AR147: 1024 | AT147: K | AU147: 2 | AY147: ROZPOCET | BE147: =IF(U147="základná",N147,0) -> 0 | BF147: =IF(U147="znížená",N147,0) -> 0 | BG147: =IF(U147="zákl. prenesená",N147,0) -> 0 | BH147: =IF(U147="zníž. prenesená",N147,0) -> 0 | BI147: =IF(U147="nulová",N147,0) -> 0 | BJ147: 2 | BK147: =ROUND(L147*K147,2) -> 0 | BL147: 1024 | BM147: 1258205811

Sheet 07 - Prechod 
D1: Hárok obsahuje: | F1: 1) Krycí list rozpočtu | H1: 2) Rekapitulácia rozpočtu | L1: 3) Rozpočet | O1: Späť na hárok: | S1: Rekapitulácia stavby
C2: optimalizované pre tlač zostáv vo formáte A4 - na výšku | S2: >> skryté stĺpce << | AT2: {85df8818-560a-4a5e-a84a-5d2801e4224e}
AT3: 0
C4: KRYCÍ LIST | T4: v --- nižšie sa nachádzajú doplnkové a pomocné údaje k zostavám --- v | AT4: False
D6: Stavba: | F6: ='Rekapitulácia stavby'!K6 -> Rekonštrukcia jestvujúcich priechodov a retardérov v meste Trebišov
D7: Objekt: | F7: 07 - Priechod pre chodcov s nábehom
D8: JKSO: | M8: KS:
D9: Miesto: | F9: Trebišov | M9: Dátum: | O9: ='Rekapitulácia stavby'!AN8 -> 44092
D11: Objednávateľ: | M11: IČO:
E12: Mesto Trebišov | M12: IČO DPH:
D14: Zhotoviteľ: | M14: IČO: | O14: =IF('Rekapitulácia stavby'!AN13="","",'Rekapitulácia stavby'!AN13)
E15: =IF('Rekapitulácia stavby'!E14="","",'Rekapitulácia stavby'!E14) | M15: IČO DPH: | O15: =IF('Rekapitulácia stavby'!AN14="","",'Rekapitulácia stavby'!AN14)
D17: Projektant: | M17: IČO:
M18: IČO DPH:
D20: Spracovateľ: | M20: IČO:
E21: Ing. Z. Béreš | M21: IČO DPH:
D23: Poznámka:
D27: Náklady z rozpočtu | M27: =N88 -> 0
D28: Ostatné náklady | M28: =N99 -> 0
D30: Cena bez DPH | M30: =ROUND(M27+M28,2) -> 0
D32: DPH | E32: základná | F32: 0.2 | G32: z | H32: =ROUND((SUM(BE99:BE100)+SUM(BE118:BE147)), 2) -> 0 | M32: =ROUND(ROUND((SUM(BE99:BE100)+SUM(BE118:BE147)), 2)*F32, 2) -> 0
E33: znížená | F33: 0.2 | G33: z | H33: =M30 -> 0 | M33: =0.2*M30 -> 0
E34: zákl. prenesená | F34: 0.2 | G34: z | H34: =ROUND((SUM(BG99:BG100)+SUM(BG118:BG147)), 2) -> 0 | M34: 0
E35: zníž. prenesená | F35: 0.2 | G35: z | H35: =ROUND((SUM(BH99:BH100)+SUM(BH118:BH147)), 2) -> 0 | M35: 0
E36: nulová | F36: 0 | G36: z | H36: =ROUND((SUM(BI99:BI100)+SUM(BI118:BI147)), 2) -> 0 | M36: 0
D38: Cena s DPH | G38: v | H38: EUR | L38: =SUM(M30:M36) -> 0
D50: Projektant | J50: Spracovateľ
D59: Dátum a podpis: | G59: Pečiatka | J59: Dátum a podpis: | N59: Pečiatka
D61: Objednávateľ | J61: Zhotoviteľ
D70: Dátum a podpis: | G70: Pečiatka | J70: Dátum a podpis: | N70: Pečiatka
C76: REKAPITULÁCIA
C78: Stavba: | F78: =F6 -> Rekonštrukcia jestvujúcich priechodov a retardérov v meste Trebišov
C79: Objekt: | F79: =F7 -> 07 - Priechod pre chodcov s nábehom
C81: Miesto: | F81: =F9 -> Trebišov | K81: Dátum: | M81: =IF(O9="","",O9) -> 44092
C83: Objednávateľ: | F83: =E12 -> Mesto Trebišov | K83: Projektant: | M83: =E18 -> 0
C84: Zhotoviteľ: | F84: =IF(E15="","",E15) | K84: Spracovateľ: | M84: =E21 -> Ing. Z. Béreš
C86: Kód - Popis | N86: Cena celkom [EUR]
C88: 1) Náklady z rozpočtu | N88: =N118 -> 0 | AU88: -1
D89: HSV - Práce a dodávky HSV | N89: =N119 -> 0
D90: 1 - Zemné práce | N90: =N120 -> 0
D91: 4 - Vodorovné konštrukcie | N91: =N129 -> 0
D92: 5 - Komunikácie | N92: =N131 -> 0
D93: 9 - Ostatné konštrukcie a práce-búranie | N93: =N134 -> 0
D94: VRN - Vedľajšie rozpočtové náklady | N94: =N141 -> 0
D95: VRN03 - Geodetické práce | N95: =N142 -> 0
D96: VRN04 - Projektové práce | N96: =N144 -> 0
D97: VRN06 - Zariadenie staveniska | N97: =N146 -> 0
C99: 2) Ostatné náklady | N99: 0 | U99: DPH
C101: Celkové náklady za stavbu 1) + 2) | L101: =ROUND(SUM(N88+N99),2) -> 0
C107: ZADANIE
C109: Stavba: | F109: =F6 -> Rekonštrukcia jestvujúcich priechodov a retardérov v meste Trebišov
C110: Objekt: | F110: =F7 -> 07 - Priechod pre chodcov s nábehom
C112: Miesto: | F112: =F9 -> Trebišov | K112: Dátum: | M112: =IF(O9="","",O9) -> 44092
C114: Objednávateľ: | F114: =E12 -> Mesto Trebišov | K114: Projektant: | M114: =E18 -> 0
C115: Zhotoviteľ: | F115: =IF(E15="","",E15) | K115: Spracovateľ:
C117: PČ | D117: Typ | E117: Kód | F117: Popis | J117: MJ | K117: Množstvo | L117: J.cena [EUR] | N117: Cena celkom [EUR] | T117: Poznámka | U117: DPH | V117: J. Nh [h] | W117: Nh celkom [h] | X117: J. hmotnosť_x000D_ [t] | Y117: Hmotnosť_x000D_ celkom [t] | Z117: J. suť [t] | AA117: Suť Celkom [t]
C118: Náklady z rozpočtu | N118: =N119+N141 -> 0 | W118: =W119+W141 -> #REF! | Y118: =Y119+Y141 -> #REF! | AA118: =AA119+AA141 -> #REF! | AT118: D | AU118: -1 | BK118: =BK119+BK141 -> #REF!
D119: HSV - Práce a dodávky HSV | N119: =N120+N129+N131+N134 -> 0 | W119: =W120+#REF!+W131+W134 -> #REF! | Y119: =Y120+#REF!+Y131+Y134 -> #REF! | AA119: =AA120+#REF!+AA131+AA134 -> #REF! | AR119: 1 | AT119: D | AU119: 0 | AY119: ROZPOCET | BK119: =BK120+#REF!+BK131+BK134 -> #REF!
D120: 1 - Zemné práce | N120: =SUM(N121:Q128) -> 0 | W120: =SUM(W121:W128) -> 46.34463 | Y120: =SUM(Y121:Y128) -> 0 | AA120: =SUM(AA121:AA128) -> 36.03 | AR120: 1 | AT120: D | AU120: 1 | AY120: ROZPOCET | BK120: =SUM(BK121:BK128) -> 0
C121: 1 | D121: K | E121: 113307122 | F121: Odstránenie podkladu v ploche do 200 m2 z kameniva hrubého drveného, hr. 200 mm, -0,4700t | J121: m2 | K121: 51 | N121: =ROUND(L121*K121,2) -> 0 | U121: znížená | V121: 0.827 | W121: =V121*K121 -> 42.177 | X121: 0 | Y121: =X121*K121 -> 0 | Z121: 0.48 | AA121: =Z121*K121 -> 24.48 | AR121: 4 | AT121: K | AU121: 2 | AY121: ROZPOCET | BE121: =IF(U121="základná",N121,0) -> 0 | BF121: =IF(U121="znížená",N121,0) -> 0 | BG121: =IF(U121="zákl. prenesená",N121,0) -> 0 | BH121: =IF(U121="zníž. prenesená",N121,0) -> 0 | BI121: =IF(U121="nulová",N121,0) -> 0 | BJ121: 2 | BK121: =ROUND(L121*K121,2) -> 0 | BL121: 4 | BM121: -169691661
C122: 2 | D122: K | E122: 113107232 | F122: Odstránenie pôvodných konštrukcií a vrstiev z betónu prostého, podklad, kryt, dlažba, obrubníky, -2,2000t | J122: m3 | K122: 5.25 | N122: =ROUND(L122*K122,2) -> 0 | U122: znížená | V122: 0.319 | W122: =V122*K122 -> 1.67475 | X122: 0 | Y122: =X122*K122 -> 0 | Z122: 2.2 | AA122: =Z122*K122 -> 11.55 | AR122: 4 | AT122: K | AU122: 2 | AY122: ROZPOCET | BE122: =IF(U122="základná",N122,0) -> 0 | BF122: =IF(U122="znížená",N122,0) -> 0 | BG122: =IF(U122="zákl. prenesená",N122,0) -> 0 | BH122: =IF(U122="zníž. prenesená",N122,0) -> 0 | BI122: =IF(U122="nulová",N122,0) -> 0 | BJ122: 2 | BK122: =ROUND(L122*K122,2) -> 0 | BL122: 4 | BM122: 1383573589
C123: 3 | D123: K | E123: 162501122 | F123: Vodorovné premiestnenie výkopku po spevnenej ceste z horniny tr.1-4, nad 100 do 1000 m3 na vzdialenosť do 3000 m | J123: m3 | K123: 10.2 | N123: =ROUND(L123*K123,2) -> 0 | U123: znížená | V123: 0.0544 | W123: =V123*K123 -> 0.55488 | X123: 0 | Y123: =X123*K123 -> 0 | Z123: 0 | AA123: =Z123*K123 -> 0 | AR123: 4 | AT123: K | AU123: 2 | AY123: ROZPOCET | BE123: =IF(U123="základná",N123,0) -> 0 | BF123: =IF(U123="znížená",N123,0) -> 0 | BG123: =IF(U123="zákl. prenesená",N123,0) -> 0 | BH123: =IF(U123="zníž. prenesená",N123,0) -> 0 | BI123: =IF(U123="nulová",N123,0) -> 0 | BJ123: 2 | BK123: =ROUND(L123*K123,2) -> 0 | BL123: 4 | BM123: 1681925433
C124: 4 | D124: K | E124: 162501123 | F124: Vodorovné premiestnenie výkopku po spevnenej ceste z horniny tr.1-4, nad 100 do 1000 m3, príplatok k cene za každých ďalšich a začatých 1000 m - celkovo 5 km | J124: m3 | K124: =K123*2 -> 20.4 | N124: =ROUND(L124*K124,2) -> 0 | U124: znížená | V124: 0.005 | W124: =V124*K124 -> 0.102 | X124: 0 | Y124: =X124*K124 -> 0 | Z124: 0 | AA124: =Z124*K124 -> 0 | AR124: 4 | AT124: K | AU124: 2 | AY124: ROZPOCET | BE124: =IF(U124="základná",N124,0) -> 0 | BF124: =IF(U124="znížená",N124,0) -> 0 | BG124: =IF(U124="zákl. prenesená",N124,0) -> 0 | BH124: =IF(U124="zníž. prenesená",N124,0) -> 0 | BI124: =IF(U124="nulová",N124,0) -> 0 | BJ124: 2 | BK124: =ROUND(L124*K124,2) -> 0 | BL124: 4 | BM124: 1266939450
C125: 5 | D125: K | E125: 167101102 | F125: Nakladanie neuľahnutého výkopku z hornín tr.1-4 nad 100 do 1000 m3 | J125: m3 | K125: 10.2 | N125: =ROUND(L125*K125,2) -> 0 | U125: znížená | V125: 0.087 | W125: =V125*K125 -> 0.8874 | X125: 0 | Y125: =X125*K125 -> 0 | Z125: 0 | AA125: =Z125*K125 -> 0 | AR125: 4 | AT125: K | AU125: 2 | AY125: ROZPOCET | BE125: =IF(U125="základná",N125,0) -> 0 | BF125: =IF(U125="znížená",N125,0) -> 0 | BG125: =IF(U125="zákl. prenesená",N125,0) -> 0 | BH125: =IF(U125="zníž. prenesená",N125,0) -> 0 | BI125: =IF(U125="nulová",N125,0) -> 0 | BJ125: 2 | BK125: =ROUND(L125*K125,2) -> 0 | BL125: 4 | BM125: -1816157790
C126: 6 | D126: K | E126: 171201202 | F126: Uloženie sypaniny na skládky nad 100 do 1000 m3 | J126: m3 | K126: 10.2 | N126: =ROUND(L126*K126,2) -> 0 | U126: znížená | V126: 0.008 | W126: =V126*K126 -> 0.0816 | X126: 0 | Y126: =X126*K126 -> 0 | Z126: 0 | AA126: =Z126*K126 -> 0 | AR126: 4 | AT126: K | AU126: 2 | AY126: ROZPOCET | BE126: =IF(U126="základná",N126,0) -> 0 | BF126: =IF(U126="znížená",N126,0) -> 0 | BG126: =IF(U126="zákl. prenesená",N126,0) -> 0 | BH126: =IF(U126="zníž. prenesená",N126,0) -> 0 | BI126: =IF(U126="nulová",N126,0) -> 0 | BJ126: 2 | BK126: =ROUND(L126*K126,2) -> 0 | BL126: 4 | BM126: -1660578335
C127: 7 | D127: K | E127: 171209002 | F127: Poplatok za skladovanie - zemina a kamenivo (17 05) ostatné | J127: t | K127: =0.47*K121 -> 23.97 | N127: =ROUND(L127*K127,2) -> 0 | U127: znížená | V127: 0 | W127: =V127*K127 -> 0 | X127: 0 | Y127: =X127*K127 -> 0 | Z127: 0 | AA127: =Z127*K127 -> 0 | AR127: 4 | AT127: K | AU127: 2 | AY127: ROZPOCET | BE127: =IF(U127="základná",N127,0) -> 0 | BF127: =IF(U127="znížená",N127,0) -> 0 | BG127: =IF(U127="zákl. prenesená",N127,0) -> 0 | BH127: =IF(U127="zníž. prenesená",N127,0) -> 0 | BI127: =IF(U127="nulová",N127,0) -> 0 | BJ127: 2 | BK127: =ROUND(L127*K127,2) -> 0 | BL127: 4 | BM127: 1858080667
C128: 8 | D128: K | E128: 181101102 | F128: Úprava pláne v hornine 1-4 so zhutnením | J128: m2 | K128: 51 | N128: =ROUND(L128*K128,2) -> 0 | U128: znížená | V128: 0.017 | W128: =V128*K128 -> 0.867 | X128: 0 | Y128: =X128*K128 -> 0 | Z128: 0 | AA128: =Z128*K128 -> 0 | AR128: 4 | AT128: K | AU128: 2 | AY128: ROZPOCET | BE128: =IF(U128="základná",N128,0) -> 0 | BF128: =IF(U128="znížená",N128,0) -> 0 | BG128: =IF(U128="zákl. prenesená",N128,0) -> 0 | BH128: =IF(U128="zníž. prenesená",N128,0) -> 0 | BI128: =IF(U128="nulová",N128,0) -> 0 | BJ128: 2 | BK128: =ROUND(L128*K128,2) -> 0 | BL128: 4 | BM128: 303010533
D129: 4 - Vodorovné konštrukcie | N129: =SUM(N130) -> 0
C130: 9 | D130: K | E130: 451311411 | F130: Podklad pod dlažbu z betónu prostého tr. C 16/20 hr. do 150 mm | J130: m2 | K130: 51 | N130: =ROUND(L130*K130,2) -> 0
D131: 5 - Komunikácie | N131: =SUM(N132:Q133) -> 0 | W131: =SUM(#REF!) -> #REF! | Y131: =SUM(#REF!) -> #REF! | AA131: =SUM(#REF!) -> #REF! | AR131: 1 | AT131: D | AU131: 1 | AY131: ROZPOCET | BK131: =SUM(#REF!) -> #REF!
C132: 10 | D132: K | E132: 573111112 | F132: Postrek asfaltový infiltračný s posypom kamenivom z asfaltu cestného v množstve 1,00 kg/m2 | J132: m2 | K132: 51 | N132: =ROUND(L132*K132,2) -> 0
C133: 11 | D133: K | E133: 577144231 | F133: Asfaltový betón vrstva obrusná AC 11 O v pruhu š. do 3 m z nemodifik. asfaltu tr. II, po zhutnení hr. 50 mm | J133: m2 | K133: 51 | N133: =ROUND(L133*K133,2) -> 0
D134: 9 - Ostatné konštrukcie a práce-búranie | N134: =SUM(N135:Q140) -> 0 | W134: =SUM(W136:W140) -> 8.8623 | Y134: =SUM(Y136:Y140) -> 1.66048 | AA134: =SUM(AA136:AA140) -> 0 | AR134: 1 | AT134: D | AU134: 1 | AY134: ROZPOCET | BK134: =SUM(BK136:BK140) -> 0
C135: 12 | D135: K | E135: 915721212 | F135: Vodorovné dopravné značenie striekané farbou prechodov pre chodcov, šípky, symboly a pod., biela retroreflexná | J135: m2 | K135: 38 | N135: =ROUND(L135*K135,2) -> 0
C136: 13 | D136: K | E136: 917862111 | F136: Osadenie cestneho obrubníka betónového stojatého do lôžka z betónu prosteho tr. C 12/15 s bočnou oporou | J136: m | K136: 8 | N136: =ROUND(L136*K136,2) -> 0 | U136: znížená | V136: 0.204 | W136: =V136*K136 -> 1.632 | X136: 0.12656 | Y136: =X136*K136 -> 1.01248 | Z136: 0 | AA136: =Z136*K136 -> 0 | AR136: 4 | AT136: K | AU136: 2 | AY136: ROZPOCET | BE136: =IF(U136="základná",N136,0) -> 0 | BF136: =IF(U136="znížená",N136,0) -> 0 | BG136: =IF(U136="zákl. prenesená",N136,0) -> 0 | BH136: =IF(U136="zníž. prenesená",N136,0) -> 0 | BI136: =IF(U136="nulová",N136,0) -> 0 | BJ136: 2 | BK136: =ROUND(L136*K136,2) -> 0 | BL136: 4 | BM136: 1392070118
C137: 14 | D137: M | E137: 5922903060 | F137: Obrubník betónový cestný, skosený, 100/25/15 cm, sivá | J137: ks | K137: 8 | N137: =ROUND(L137*K137,2) -> 0 | U137: znížená | V137: 0 | W137: =V137*K137 -> 0 | X137: 0.081 | Y137: =X137*K137 -> 0.648 | Z137: 0 | AA137: =Z137*K137 -> 0 | AR137: 8 | AT137: M | AU137: 2 | AY137: ROZPOCET | BE137: =IF(U137="základná",N137,0) -> 0 | BF137: =IF(U137="znížená",N137,0) -> 0 | BG137: =IF(U137="zákl. prenesená",N137,0) -> 0 | BH137: =IF(U137="zníž. prenesená",N137,0) -> 0 | BI137: =IF(U137="nulová",N137,0) -> 0 | BJ137: 2 | BK137: =ROUND(L137*K137,2) -> 0 | BL137: 4 | BM137: 1735458656
C138: 15 | D138: K | E138: 979081111 | F138: Odvoz sutiny a vybúraných hmôt na skládku do 1 km | J138: t | K138: =2.2*K122 -> 11.55 | N138: =ROUND(L138*K138,2) -> 0 | U138: znížená | V138: 0.598 | W138: =V138*K138 -> 6.9069 | X138: 0 | Y138: =X138*K138 -> 0 | Z138: 0 | AA138: =Z138*K138 -> 0 | AR138: 4 | AT138: K | AU138: 2 | AY138: ROZPOCET | BE138: =IF(U138="základná",N138,0) -> 0 | BF138: =IF(U138="znížená",N138,0) -> 0 | BG138: =IF(U138="zákl. prenesená",N138,0) -> 0 | BH138: =IF(U138="zníž. prenesená",N138,0) -> 0 | BI138: =IF(U138="nulová",N138,0) -> 0 | BJ138: 2 | BK138: =ROUND(L138*K138,2) -> 0 | BL138: 4 | BM138: -717601006
C139: 16 | D139: K | E139: 979081121 | F139: Odvoz sutiny a vybúraných hmôt na skládku za každý ďalší 1 km - celkovo 5 km | J139: t | K139: =4*K138 -> 46.2 | N139: =ROUND(L139*K139,2) -> 0 | U139: znížená | V139: 0.007 | W139: =V139*K139 -> 0.3234 | X139: 0 | Y139: =X139*K139 -> 0 | Z139: 0 | AA139: =Z139*K139 -> 0 | AR139: 4 | AT139: K | AU139: 2 | AY139: ROZPOCET | BE139: =IF(U139="základná",N139,0) -> 0 | BF139: =IF(U139="znížená",N139,0) -> 0 | BG139: =IF(U139="zákl. prenesená",N139,0) -> 0 | BH139: =IF(U139="zníž. prenesená",N139,0) -> 0 | BI139: =IF(U139="nulová",N139,0) -> 0 | BJ139: 2 | BK139: =ROUND(L139*K139,2) -> 0 | BL139: 4 | BM139: 1364100287
C140: 17 | D140: K | E140: 979089012 | F140: Poplatok za skladovanie - betón, tehly, dlaždice (17 01 ), ostatné | J140: t | K140: =K138 -> 11.55 | N140: =ROUND(L140*K140,2) -> 0 | U140: znížená | V140: 0 | W140: =V140*K140 -> 0 | X140: 0 | Y140: =X140*K140 -> 0 | Z140: 0 | AA140: =Z140*K140 -> 0 | AR140: 4 | AT140: K | AU140: 2 | AY140: ROZPOCET | BE140: =IF(U140="základná",N140,0) -> 0 | BF140: =IF(U140="znížená",N140,0) -> 0 | BG140: =IF(U140="zákl. prenesená",N140,0) -> 0 | BH140: =IF(U140="zníž. prenesená",N140,0) -> 0 | BI140: =IF(U140="nulová",N140,0) -> 0 | BJ140: 2 | BK140: =ROUND(L140*K140,2) -> 0 | BL140: 4 | BM140: -1576511002
D141: VRN - Vedľajšie rozpočtové náklady | N141: =BK141 -> 0 | W141: =W142+W144+W146 -> 0 | Y141: =Y142+Y144+Y146 -> 0 | AA141: =AA142+AA144+AA146 -> 0 | AR141: 5 | AT141: D | AU141: 0 | AY141: ROZPOCET | BK141: =BK142+BK144+BK146 -> 0
D142: VRN03 - Geodetické práce | N142: =BK142 -> 0 | W142: =SUM(W143:W143) -> 0 | Y142: =SUM(Y143:Y143) -> 0 | AA142: =SUM(AA143:AA143) -> 0 | AR142: 5 | AT142: D | AU142: 1 | AY142: ROZPOCET | BK142: =SUM(BK143:BK143) -> 0
C143: 18 | D143: K | E143: 000300013 | F143: Geodetické práce - vykonávané pred výstavbou určenie priebehu nadzemného alebo podzemného existujúceho aj plánovaného vedenia | J143: kpl | K143: 1 | N143: =ROUND(L143*K143,2) -> 0 | U143: znížená | V143: 0 | W143: =V143*K143 -> 0 | X143: 0 | Y143: =X143*K143 -> 0 | Z143: 0 | AA143: =Z143*K143 -> 0 | AR143: 1024 | AT143: K | AU143: 2 | AY143: ROZPOCET | BE143: =IF(U143="základná",N143,0) -> 0 | BF143: =IF(U143="znížená",N143,0) -> 0 | BG143: =IF(U143="zákl. prenesená",N143,0) -> 0 | BH143: =IF(U143="zníž. prenesená",N143,0) -> 0 | BI143: =IF(U143="nulová",N143,0) -> 0 | BJ143: 2 | BK143: =ROUND(L143*K143,2) -> 0 | BL143: 1024 | BM143: -1548056381
D144: VRN04 - Projektové práce | N144: =BK144 -> 0 | W144: =W145 -> 0 | Y144: =Y145 -> 0 | AA144: =AA145 -> 0 | AR144: 5 | AT144: D | AU144: 1 | AY144: ROZPOCET | BK144: =BK145 -> 0
C145: 19 | D145: K | E145: 000400022 | F145: Projektové práce - náklady na dokumentáciu skutočného zhotovenia stavby | J145: kpl | K145: 1 | N145: =ROUND(L145*K145,2) -> 0 | U145: znížená | V145: 0 | W145: =V145*K145 -> 0 | X145: 0 | Y145: =X145*K145 -> 0 | Z145: 0 | AA145: =Z145*K145 -> 0 | AR145: 1024 | AT145: K | AU145: 2 | AY145: ROZPOCET | BE145: =IF(U145="základná",N145,0) -> 0 | BF145: =IF(U145="znížená",N145,0) -> 0 | BG145: =IF(U145="zákl. prenesená",N145,0) -> 0 | BH145: =IF(U145="zníž. prenesená",N145,0) -> 0 | BI145: =IF(U145="nulová",N145,0) -> 0 | BJ145: 2 | BK145: =ROUND(L145*K145,2) -> 0 | BL145: 1024 | BM145: -1038011015
D146: VRN06 - Zariadenie staveniska | N146: =BK146 -> 0 | W146: =SUM(W147:W147) -> 0 | Y146: =SUM(Y147:Y147) -> 0 | AA146: =SUM(AA147:AA147) -> 0 | AR146: 5 | AT146: D | AU146: 1 | AY146: ROZPOCET | BK146: =SUM(BK147:BK147) -> 0
C147: 20 | D147: K | E147: 000600024 | F147: Zariadenie staveniska - prevádzkové dopravné značenie po stavenisku | J147: kpl | K147: 1 | N147: =ROUND(L147*K147,2) -> 0 | U147: znížená | V147: 0 | W147: =V147*K147 -> 0 | X147: 0 | Y147: =X147*K147 -> 0 | Z147: 0 | AA147: =Z147*K147 -> 0 | AR147: 1024 | AT147: K | AU147: 2 | AY147: ROZPOCET | BE147: =IF(U147="základná",N147,0) -> 0 | BF147: =IF(U147="znížená",N147,0) -> 0 | BG147: =IF(U147="zákl. prenesená",N147,0) -> 0 | BH147: =IF(U147="zníž. prenesená",N147,0) -> 0 | BI147: =IF(U147="nulová",N147,0) -> 0 | BJ147: 2 | BK147: =ROUND(L147*K147,2) -> 0 | BL147: 1024 | BM147: 1258205811
