Workbook

Sheet Rekapitulácia stavby
A1: Export Komplet | BA1: 2.0 | BT1: False | BU1: False | BV1: {19406ecb-8726-4170-8fe5-a54b0917da4d}
AR2: >> skryté stĺpce << | BS2: 0,001 | BT2: 20
BS3: 0,001 | BT3: 20
D4: REKAPITULÁCIA STAVBY | AS4: v --- nižšie sa nachádzajú doplnkové a pomocné údaje k zostavám --- v | BS4: 0,001
D5: Kód: | K5: 14176-1 | BS5: 0,001
D6: Stavba: | K6: Obnova mestskej plávarne v Trebišove | BS6: 0,001
D7: JKSO: | AK7: KS: | BS7: 0,001
D8: Miesto: | K8: Trebišov | AK8: Dátum: | AN8: 24. 4. 2020 | BS8: 0,001
BS9: 0,001
D10: Objednávateľ: | AK10: IČO: | BS10: 0,001
E11: Mesto Trebišov | AK11: IČ DPH: | BS11: 0,001
BS12: 0,001
D13: Zhotoviteľ: | AK13: IČO: | BS13: 0,001
AK14: IČ DPH: | BS14: 0,001
BS15: False
D16: Projektant: | AK16: IČO: | BS16: False
AK17: IČ DPH: | BS17: True
BS18: 0,01
D19: Spracovateľ: | AK19: IČO: | BS19: 0,01
AK20: IČ DPH: | BS20: True
D22: Poznámka:
D26: Cena bez DPH | AK26: =ROUND(AG94,2) -> 0
L28: Sadzba dane | W28: Základ dane | AK28: Výška dane
D29: DPH | F29: základná | L29: 0.2 | W29: =ROUND(AZ94, 2) -> 0 | AK29: =ROUND(AV94, 2) -> 0
F30: znížená | L30: 0.2 | W30: =ROUND(BA94, 2) -> 1 | AK30: =ROUND(AW94, 2) -> 0.2
F31: zákl. prenesená | L31: 0.2 | W31: =ROUND(BB94, 2) -> 0 | AK31: 0
F32: zníž. prenesená | L32: 0.2 | W32: =ROUND(BC94, 2) -> 0 | AK32: 0
F33: nulová | L33: 0 | W33: =ROUND(BD94, 2) -> 0 | AK33: 0
D35: Cena s DPH | T35: v | X35: EUR | AK35: =SUM(AK26:AK33) -> 0.2
D49: Projektant | AH49: Spracovateľ
D60: Dátum a podpis: | V60: Pečiatka | AH60: Dátum a podpis: | AM60: Pečiatka
D64: Objednávateľ | AH64: Zhotoviteľ
D75: Dátum a podpis: | V75: Pečiatka | AH75: Dátum a podpis: | AM75: Pečiatka
C82: REKAPITULÁCIA OBJEKTOV STAVBY
C84: Kód: | L84: =K5 -> 14176-1
C85: Stavba: | L85: =K6 -> Obnova mestskej plávarne v Trebišove
C87: Miesto: | L87: =IF(K8="","",K8) -> Trebišov | AI87: Dátum: | AM87: =IF(AN8= "","",AN8) -> 24. 4. 2020
C89: Objednávateľ: | L89: =IF(E11= "","",E11) -> Mesto Trebišov | AI89: Projektant: | AM89: =IF(E17="","",E17) | AS89: Informatívne údaje z listov zákaziek
C90: Zhotoviteľ: | L90: =IF(E14="","",E14) | AI90: Spracovateľ: | AM90: =IF(E20="","",E20)
C92: Kód | I92: Popis | AG92: Cena bez DPH [EUR] | AN92: Cena s DPH [EUR] | AQ92: Typ | AS92: z toho Ostat._x000D_ náklady [EUR] | AT92: DPH [EUR] | AU92: Normohodiny [h] | AV92: DPH základná [EUR] | AW92: DPH znížená [EUR] | AX92: DPH základná prenesená_x000D_ [EUR] | AY92: DPH znížená prenesená_x000D_ [EUR] | AZ92: Základňa_x000D_ DPH základná | BA92: Základňa_x000D_ DPH znížená | BB92: Základňa_x000D_ DPH zákl. prenesená | BC92: Základňa_x000D_ DPH zníž. prenesená | BD92: Základňa_x000D_ DPH nulová
C94: Náklady z rozpočtov | AG94: =ROUND(AG95,2) -> 0 | AN94: =SUM(AG94,AT94) -> 0.2 | AS94: =ROUND(AS95,2) -> 0 | AT94: =ROUND(SUM(AV94:AW94),2) -> 0.2 | AU94: =ROUND(AU95,5) -> 235.62651 | AV94: =ROUND(AZ94*L29,2) -> 0 | AW94: =ROUND(BA94*L30,2) -> 0.2 | AX94: =ROUND(BB94*L29,2) -> 0 | AY94: =ROUND(BC94*L30,2) -> 0 | AZ94: =ROUND(AZ95,2) -> 0 | BA94: =ROUND(BA95,2) -> 1 | BB94: =ROUND(BB95,2) -> 0 | BC94: =ROUND(BC95,2) -> 0 | BD94: =ROUND(BD95,2) -> 0 | BS94: D | BT94: 0 | BU94: ###NOIMPORT### | BV94: IMPORT | BW94: {19406ecb-8726-4170-8fe5-a54b0917da4d} | BX94: {00000000-0000-0000-0000-000000000000}
A95: / | D95: 17 | J95: Plocha pred vstupom - osvetlenie | AG95: ='17 - Plocha pred vstupom ...'!J32 -> 0 | AN95: =SUM(AG95,AT95) -> 0.2 | AQ95: STA | AS95: 0 | AT95: =ROUND(SUM(AV95:AW95),2) -> 0.2 | AU95: ='17 - Plocha pred vstupom ...'!P124 -> 235.62651 | AV95: ='17 - Plocha pred vstupom ...'!J35 -> 0 | AW95: ='17 - Plocha pred vstupom ...'!J36 -> 0.2 | AX95: ='17 - Plocha pred vstupom ...'!J37 -> 0 | AY95: ='17 - Plocha pred vstupom ...'!J38 -> 0 | AZ95: ='17 - Plocha pred vstupom ...'!F35 -> 0 | BA95: ='17 - Plocha pred vstupom ...'!F36 -> 1 | BB95: ='17 - Plocha pred vstupom ...'!F37 -> 0 | BC95: ='17 - Plocha pred vstupom ...'!F38 -> 0 | BD95: ='17 - Plocha pred vstupom ...'!F39 -> 0 | BT95: 1 | BV95: IMPORT | BW95: {1b6d0ecc-d71e-45ef-8424-0fa7c9ebcd35} | BX95: {19406ecb-8726-4170-8fe5-a54b0917da4d} | CM95: 0

Sheet 17 - Plocha pred vstupom ...
L2: >> skryté stĺpce << | AT2: {1b6d0ecc-d71e-45ef-8424-0fa7c9ebcd35}
AT3: 0
D4: KRYCÍ LIST ROZPOČTU | M4: v --- nižšie sa nachádzajú doplnkové a pomocné údaje k zostavám --- v | AT4: False
D6: Stavba:
E7: ='Rekapitulácia stavby'!K6 -> Obnova mestskej plávarne v Trebišove
D8: Objekt:
E9: 17 - Plocha pred vstupom - osvetlenie
D11: JKSO: | I11: KS:
D12: Miesto: | F12: Trebišov | I12: Dátum: | J12: 44155
D14: Objednávateľ: | I14: IČO:
E15: Mesto Trebišov | I15: IČ DPH:
D17: Zhotoviteľ: | I17: IČO: | J17: ='Rekapitulácia stavby'!AN13
E18: ='Rekapitulácia stavby'!E14 | I18: IČ DPH: | J18: ='Rekapitulácia stavby'!AN14
D20: Projektant: | I20: IČO: | J20: =IF('Rekapitulácia stavby'!AN16="","",'Rekapitulácia stavby'!AN16)
E21: =IF('Rekapitulácia stavby'!E17="","",'Rekapitulácia stavby'!E17) | I21: IČ DPH: | J21: =IF('Rekapitulácia stavby'!AN17="","",'Rekapitulácia stavby'!AN17)
D23: Spracovateľ: | I23: IČO: | J23: =IF('Rekapitulácia stavby'!AN19="","",'Rekapitulácia stavby'!AN19)
E24: =IF('Rekapitulácia stavby'!E20="","",'Rekapitulácia stavby'!E20) | I24: IČ DPH: | J24: =IF('Rekapitulácia stavby'!AN20="","",'Rekapitulácia stavby'!AN20)
D26: Poznámka:
D30: Náklady z rozpočtu | J30: =J96 -> 0
D31: Ostatné náklady | J31: =J103 -> 0
D32: Cena bez DPH | J32: =ROUND(J30 + J31, 2) -> 0
F34: Základ dane | I34: Sadzba dane | J34: Výška dane
D35: DPH | E35: základná | F35: =ROUND((SUM(BE103:BE104) + SUM(BE124:BE162)), 2) -> 0 | I35: 0.2 | J35: =ROUND(((SUM(BE103:BE104) + SUM(BE124:BE162))*I35), 2) -> 0
E36: znížená | F36: =ROUND((SUM(BF103:BF104) + SUM(BF124:BF162)), 2) -> 1 | I36: 0.2 | J36: =ROUND(((SUM(BF103:BF104) + SUM(BF124:BF162))*I36), 2) -> 0.2
E37: zákl. prenesená | F37: =ROUND((SUM(BG103:BG104) + SUM(BG124:BG162)), 2) -> 0 | I37: 0.2 | J37: =0 -> 0
E38: zníž. prenesená | F38: =ROUND((SUM(BH103:BH104) + SUM(BH124:BH162)), 2) -> 0 | I38: 0.2 | J38: =0 -> 0
E39: nulová | F39: =ROUND((SUM(BI103:BI104) + SUM(BI124:BI162)), 2) -> 0 | I39: 0 | J39: =0 -> 0
D41: Cena s DPH | G41: v | H41: EUR | J41: =SUM(J32:J39) -> 0.2
D50: Projektant | G50: Spracovateľ
D61: Dátum a podpis: | F61: Pečiatka | G61: Dátum a podpis: | J61: Pečiatka
D65: Objednávateľ | G65: Zhotoviteľ
D76: Dátum a podpis: | F76: Pečiatka | G76: Dátum a podpis: | J76: Pečiatka
C82: REKAPITULÁCIA ROZPOČTU
C84: Stavba:
E85: =E7 -> Obnova mestskej plávarne v Trebišove
C86: Objekt:
E87: =E9 -> 17 - Plocha pred vstupom - osvetlenie
C89: Miesto: | F89: =F12 -> Trebišov | I89: Dátum: | J89: =IF(J12="","",J12) -> 44155
C91: Objednávateľ: | F91: =E15 -> Mesto Trebišov | I91: Projektant: | J91: =E21
C92: Zhotoviteľ: | F92: =IF(E18="","",E18) | I92: Spracovateľ: | J92: =E24
C94: Kód dielu - Popis | J94: Cena celkom [EUR]
C96: 1) Náklady z rozpočtu | J96: =J124 -> 0 | AU96: -1
D97: M - Práce a dodávky M | J97: =J125 -> 0
D98: 21-M - Elektromontáže | J98: =J126 -> 0
D99: 46-M - Zemné práce pri extr.mont.prácach | J99: =J152 -> 0
D100: HZS - Hodinové zúčtovacie sadzby | J100: =J161 -> 0
C103: 2) Ostatné náklady | J103: 0 | N103: DPH
C105: Celkové náklady za stavbu 1) + 2) | J105: =ROUND(J96+J103,2) -> 0
C111: ROZPOČET
C113: Stavba:
E114: =E7 -> Obnova mestskej plávarne v Trebišove
C115: Objekt:
E116: =E9 -> 17 - Plocha pred vstupom - osvetlenie
C118: Miesto: | F118: =F12 -> Trebišov | I118: Dátum: | J118: =IF(J12="","",J12) -> 44155
C120: Objednávateľ: | F120: =E15 -> Mesto Trebišov | I120: Projektant: | J120: =E21
C121: Zhotoviteľ: | F121: =IF(E18="","",E18) | I121: Spracovateľ: | J121: =E24
C123: PČ | D123: Typ | E123: Kód | F123: Popis | G123: MJ | H123: Množstvo | I123: J.cena [EUR] | J123: Cena celkom [EUR] | K123: Cenová sústava | N123: DPH | O123: J. Nh [h] | P123: Nh celkom [h] | Q123: J. hmotnosť [t] | R123: Hmotnosť celkom [t] | S123: J. suť [t] | T123: Suť Celkom [t]
C124: Náklady z rozpočtu | J124: =BK124 -> 0 | P124: =P125+P161 -> 235.62651 | R124: =R125+R161 -> 6.2112331 | T124: =T125+T161 -> 0 | AT124: D | AU124: -1 | BK124: =BK125+BK161 -> 0
D125: D | E125: M | F125: Práce a dodávky M | J125: =BK125 -> 0 | P125: =P126+P152 -> 220.78651 | R125: =R126+R152 -> 6.2112331 | T125: =T126+T152 -> 0 | AR125: 3 | AT125: D | AU125: 0 | AY125: ROZPOCET | BK125: =BK126+BK152 -> 0
D126: D | E126: 21-M | F126: Elektromontáže | J126: =BK126 -> 0 | P126: =SUM(P127:P151) -> 136.04942 | R126: =SUM(R127:R151) -> 2.0976432 | T126: =SUM(T127:T151) -> 0 | AR126: 3 | AT126: D | AU126: 1 | AY126: ROZPOCET | BK126: =SUM(BK127:BK151) -> 0
C127: 1 | D127: K | E127: 210010024 | F127: Rúrka ohybná elektroinštalačná z PVC typ FXP 16, uložená pevne | G127: m | H127: 78.795 | N127: znížená | O127: 0.076 | P127: =O127*H127 -> 5.98842 | Q127: 0 | R127: =Q127*H127 -> 0 | S127: 0 | T127: =S127*H127 -> 0 | AR127: 64 | AT127: K | AU127: 2 | AY127: ROZPOCET | BE127: =IF(N127="základná",J127,0) -> 0 | BF127: =IF(N127="znížená",J127,0) -> 0 | BG127: =IF(N127="zákl. prenesená",J127,0) -> 0 | BH127: =IF(N127="zníž. prenesená",J127,0) -> 0 | BI127: =IF(N127="nulová",J127,0) -> 0 | BJ127: 2 | BK127: =ROUND(I127*H127,3) -> 0 | BL127: 64 | BM127: -1527889366
C128: 2 | D128: M | E128: 345710009000 | F128: Rúrka ohybná vlnitá pancierová PVC-U, FXP DN 16 | G128: m | H128: 78.795 | N128: znížená | O128: 0 | P128: =O128*H128 -> 0 | Q128: 0.00017 | R128: =Q128*H128 -> 0.01339515 | S128: 0 | T128: =S128*H128 -> 0 | AR128: 128 | AT128: M | AU128: 2 | AY128: ROZPOCET | BE128: =IF(N128="základná",J128,0) -> 0 | BF128: =IF(N128="znížená",J128,0) -> 0 | BG128: =IF(N128="zákl. prenesená",J128,0) -> 0 | BH128: =IF(N128="zníž. prenesená",J128,0) -> 0 | BI128: =IF(N128="nulová",J128,0) -> 0 | BJ128: 2 | BK128: =ROUND(I128*H128,3) -> 0 | BL128: 128 | BM128: 1050364897
C129: 3 | D129: M | E129: 345710017700 | F129: Spojka nasúvacia PVC-U SM 16 | G129: ks | H129: 8 | N129: znížená | O129: 0 | P129: =O129*H129 -> 0 | Q129: 0 | R129: =Q129*H129 -> 0 | S129: 0 | T129: =S129*H129 -> 0 | AR129: 128 | AT129: M | AU129: 2 | AY129: ROZPOCET | BE129: =IF(N129="základná",J129,0) -> 0 | BF129: =IF(N129="znížená",J129,0) -> 0 | BG129: =IF(N129="zákl. prenesená",J129,0) -> 0 | BH129: =IF(N129="zníž. prenesená",J129,0) -> 0 | BI129: =IF(N129="nulová",J129,0) -> 0 | BJ129: 2 | BK129: =ROUND(I129*H129,3) -> 0 | BL129: 128 | BM129: -970255042
C130: 4 | D130: K | E130: 210120410.S | F130: Prúdové chrániče dvojpólové 16 - 80 A | G130: ks | H130: 7 | J130: 1 | N130: znížená | O130: 0.37 | P130: =O130*H130 -> 2.59 | Q130: 0 | R130: =Q130*H130 -> 0 | S130: 0 | T130: =S130*H130 -> 0 | AR130: 64 | AT130: K | AU130: 2 | AY130: ROZPOCET | BE130: =IF(N130="základná",J130,0) -> 0 | BF130: =IF(N130="znížená",J130,0) -> 1 | BG130: =IF(N130="zákl. prenesená",J130,0) -> 0 | BH130: =IF(N130="zníž. prenesená",J130,0) -> 0 | BI130: =IF(N130="nulová",J130,0) -> 0 | BJ130: 2 | BK130: =ROUND(I130*H130,3) -> 0 | BL130: 64 | BM130: 484317543
C131: 5 | D131: M | E131: 358230010000.S | F131: Prúdový chránič 2P, 16 A, 30 mA, typ AC, | G131: ks | H131: 7 | N131: znížená | O131: 0 | P131: =O131*H131 -> 0 | Q131: 0.00032 | R131: =Q131*H131 -> 0.00224 | S131: 0 | T131: =S131*H131 -> 0 | AR131: 128 | AT131: M | AU131: 2 | AY131: ROZPOCET | BE131: =IF(N131="základná",J131,0) -> 0 | BF131: =IF(N131="znížená",J131,0) -> 0 | BG131: =IF(N131="zákl. prenesená",J131,0) -> 0 | BH131: =IF(N131="zníž. prenesená",J131,0) -> 0 | BI131: =IF(N131="nulová",J131,0) -> 0 | BJ131: 2 | BK131: =ROUND(I131*H131,3) -> 0 | BL131: 128 | BM131: 1960548444
C132: 6 | D132: K | E132: 210201810 | F132: Montáž a zapojenie svietidla 1x svetelný zdroj, uličného, LED | G132: ks | H132: 7 | N132: znížená | O132: 0.44 | P132: =O132*H132 -> 3.08 | Q132: 0 | R132: =Q132*H132 -> 0 | S132: 0 | T132: =S132*H132 -> 0 | AR132: 64 | AT132: K | AU132: 2 | AY132: ROZPOCET | BE132: =IF(N132="základná",J132,0) -> 0 | BF132: =IF(N132="znížená",J132,0) -> 0 | BG132: =IF(N132="zákl. prenesená",J132,0) -> 0 | BH132: =IF(N132="zníž. prenesená",J132,0) -> 0 | BI132: =IF(N132="nulová",J132,0) -> 0 | BJ132: 2 | BK132: =ROUND(I132*H132,3) -> 0 | BL132: 64 | BM132: -1451764035
C133: 7 | D133: M | E133: CR0502.582S | F133: Vonkajšie sv. PHILIPS LUMA BGP623 60xLED139-4S/740 PSU II DX10 AL G alebo ekvivalent | G133: Kus | H133: 2 | N133: znížená | O133: 0 | P133: =O133*H133 -> 0 | Q133: 0 | R133: =Q133*H133 -> 0 | S133: 0 | T133: =S133*H133 -> 0 | AR133: 256 | AT133: M | AU133: 2 | AY133: ROZPOCET | BE133: =IF(N133="základná",J133,0) -> 0 | BF133: =IF(N133="znížená",J133,0) -> 0 | BG133: =IF(N133="zákl. prenesená",J133,0) -> 0 | BH133: =IF(N133="zníž. prenesená",J133,0) -> 0 | BI133: =IF(N133="nulová",J133,0) -> 0 | BJ133: 2 | BK133: =ROUND(I133*H133,3) -> 0 | BL133: 64 | BM133: 448278529
C134: 8 | D134: M | E134: CR1261.582S | F134: Vonkajšie sv. SCHRACK PARK Parc II LED 40W 4400lm 4000K rotačne alebo ekvivalent | G134: Kus | H134: 5 | N134: znížená | O134: 0 | P134: =O134*H134 -> 0 | Q134: 0 | R134: =Q134*H134 -> 0 | S134: 0 | T134: =S134*H134 -> 0 | AR134: 256 | AT134: M | AU134: 2 | AY134: ROZPOCET | BE134: =IF(N134="základná",J134,0) -> 0 | BF134: =IF(N134="znížená",J134,0) -> 0 | BG134: =IF(N134="zákl. prenesená",J134,0) -> 0 | BH134: =IF(N134="zníž. prenesená",J134,0) -> 0 | BI134: =IF(N134="nulová",J134,0) -> 0 | BJ134: 2 | BK134: =ROUND(I134*H134,3) -> 0 | BL134: 64 | BM134: 133727675
C135: 9 | D135: K | E135: 210202001 | F135: Osadenie stožiara hliníkového výšky do 6 m so zemným koncom pre uličné svietidlá | G135: ks | H135: 8 | N135: znížená | O135: 3.2 | P135: =O135*H135 -> 25.6 | Q135: 0 | R135: =Q135*H135 -> 0 | S135: 0 | T135: =S135*H135 -> 0 | AR135: 64 | AT135: K | AU135: 2 | AY135: ROZPOCET | BE135: =IF(N135="základná",J135,0) -> 0 | BF135: =IF(N135="znížená",J135,0) -> 0 | BG135: =IF(N135="zákl. prenesená",J135,0) -> 0 | BH135: =IF(N135="zníž. prenesená",J135,0) -> 0 | BI135: =IF(N135="nulová",J135,0) -> 0 | BJ135: 2 | BK135: =ROUND(I135*H135,3) -> 0 | BL135: 64 | BM135: -1099553176
C136: 10 | D136: M | E136: 316740002004 | F136: Hliníkový stožiar so zemným koncom rovný SAL-4/B60 dz, d 114 mm, výška 4 m, anodizovaný inox, PEMA | G136: ks | H136: 5 | N136: znížená | O136: 0 | P136: =O136*H136 -> 0 | Q136: 0.0129 | R136: =Q136*H136 -> 0.0645 | S136: 0 | T136: =S136*H136 -> 0 | AR136: 128 | AT136: M | AU136: 2 | AY136: ROZPOCET | BE136: =IF(N136="základná",J136,0) -> 0 | BF136: =IF(N136="znížená",J136,0) -> 0 | BG136: =IF(N136="zákl. prenesená",J136,0) -> 0 | BH136: =IF(N136="zníž. prenesená",J136,0) -> 0 | BI136: =IF(N136="nulová",J136,0) -> 0 | BJ136: 2 | BK136: =ROUND(I136*H136,3) -> 0 | BL136: 128 | BM136: -522974922
C137: 11 | D137: M | E137: 316740002018 | F137: Hliníkový stožiar so zemným koncom rovný SAL-60 dz, d 146 mm, výška 6 m, anodizovaný inox, PEMA alebo ekvivalent | G137: ks | H137: 3 | N137: znížená | O137: 0 | P137: =O137*H137 -> 0 | Q137: 0.0267 | R137: =Q137*H137 -> 0.0801 | S137: 0 | T137: =S137*H137 -> 0 | AR137: 128 | AT137: M | AU137: 2 | AY137: ROZPOCET | BE137: =IF(N137="základná",J137,0) -> 0 | BF137: =IF(N137="znížená",J137,0) -> 0 | BG137: =IF(N137="zákl. prenesená",J137,0) -> 0 | BH137: =IF(N137="zníž. prenesená",J137,0) -> 0 | BI137: =IF(N137="nulová",J137,0) -> 0 | BJ137: 2 | BK137: =ROUND(I137*H137,3) -> 0 | BL137: 128 | BM137: 1489244461
C138: 12 | D138: K | E138: 210204124 | F138: Stožiarová pätka hliníková | G138: ks | H138: 8 | N138: znížená | O138: 0.792 | P138: =O138*H138 -> 6.336 | Q138: 0 | R138: =Q138*H138 -> 0 | S138: 0 | T138: =S138*H138 -> 0 | AR138: 64 | AT138: K | AU138: 2 | AY138: ROZPOCET | BE138: =IF(N138="základná",J138,0) -> 0 | BF138: =IF(N138="znížená",J138,0) -> 0 | BG138: =IF(N138="zákl. prenesená",J138,0) -> 0 | BH138: =IF(N138="zníž. prenesená",J138,0) -> 0 | BI138: =IF(N138="nulová",J138,0) -> 0 | BJ138: 2 | BK138: =ROUND(I138*H138,3) -> 0 | BL138: 64 | BM138: -989431411
C139: 13 | D139: M | E139: 592620000100 | F139: Pätka stožiarová EZP 11-90, rozmer 900x200x165 mm | G139: ks | H139: 8 | N139: znížená | O139: 0 | P139: =O139*H139 -> 0 | Q139: 0.23 | R139: =Q139*H139 -> 1.84 | S139: 0 | T139: =S139*H139 -> 0 | AR139: 128 | AT139: M | AU139: 2 | AY139: ROZPOCET | BE139: =IF(N139="základná",J139,0) -> 0 | BF139: =IF(N139="znížená",J139,0) -> 0 | BG139: =IF(N139="zákl. prenesená",J139,0) -> 0 | BH139: =IF(N139="zníž. prenesená",J139,0) -> 0 | BI139: =IF(N139="nulová",J139,0) -> 0 | BJ139: 2 | BK139: =ROUND(I139*H139,3) -> 0 | BL139: 128 | BM139: -1934937715
C140: 14 | D140: K | E140: 210204201 | F140: Elektrovýstroj stožiara pre 1 okruh | G140: ks | H140: 8 | N140: znížená | O140: 1.287 | P140: =O140*H140 -> 10.296 | Q140: 0 | R140: =Q140*H140 -> 0 | S140: 0 | T140: =S140*H140 -> 0 | AR140: 64 | AT140: K | AU140: 2 | AY140: ROZPOCET | BE140: =IF(N140="základná",J140,0) -> 0 | BF140: =IF(N140="znížená",J140,0) -> 0 | BG140: =IF(N140="zákl. prenesená",J140,0) -> 0 | BH140: =IF(N140="zníž. prenesená",J140,0) -> 0 | BI140: =IF(N140="nulová",J140,0) -> 0 | BJ140: 2 | BK140: =ROUND(I140*H140,3) -> 0 | BL140: 64 | BM140: 1451808463
C141: 15 | D141: K | E141: 210204207 | F141: Príplatok k elektrovýstroj stožiara - rozvodnice. | G141: ks | H141: 8 | N141: znížená | O141: 0 | P141: =O141*H141 -> 0 | Q141: 0 | R141: =Q141*H141 -> 0 | S141: 0 | T141: =S141*H141 -> 0 | AR141: 64 | AT141: K | AU141: 2 | AY141: ROZPOCET | BE141: =IF(N141="základná",J141,0) -> 0 | BF141: =IF(N141="znížená",J141,0) -> 0 | BG141: =IF(N141="zákl. prenesená",J141,0) -> 0 | BH141: =IF(N141="zníž. prenesená",J141,0) -> 0 | BI141: =IF(N141="nulová",J141,0) -> 0 | BJ141: 2 | BK141: =ROUND(I141*H141,3) -> 0 | BL141: 64 | BM141: 933273316
C142: 16 | D142: K | E142: 210210524 | F142: Nastavenie spektra osvetlenia a uvedenie do prevádzky | G142: ks | H142: 7 | N142: znížená | O142: 10.372 | P142: =O142*H142 -> 72.604 | Q142: 0 | R142: =Q142*H142 -> 0 | S142: 0 | T142: =S142*H142 -> 0 | AR142: 64 | AT142: K | AU142: 2 | AY142: ROZPOCET | BE142: =IF(N142="základná",J142,0) -> 0 | BF142: =IF(N142="znížená",J142,0) -> 0 | BG142: =IF(N142="zákl. prenesená",J142,0) -> 0 | BH142: =IF(N142="zníž. prenesená",J142,0) -> 0 | BI142: =IF(N142="nulová",J142,0) -> 0 | BJ142: 2 | BK142: =ROUND(I142*H142,3) -> 0 | BL142: 64 | BM142: -555219341
... C151: 25 | D151: K | E151: PPV | F151: Podiel pridružených výkonov | G151: % | H151: 71.179 | N151: znížená | O151: 0 | P151: =O151*H151 -> 0 | Q151: 0 | R151: =Q151*H151 -> 0 | S151: 0 | T151: =S151*H151 -> 0 | AR151: 64 | AT151: K | AU151: 2 | AY151: ROZPOCET | BE151: =IF(N151="základná",J151,0) -> 0 | BF151: =IF(N151="znížená",J151,0) -> 0 | BG151: =IF(N151="zákl. prenesená",J151,0) -> 0 | BH151: =IF(N151="zníž. prenesená",J151,0) -> 0 | BI151: =IF(N151="nulová",J151,0) -> 0 | BJ151: 2 | BK151: =ROUND(I151*H151,3) -> 0 | BL151: 64 | BM151: -1344293659
D152: D | E152: 46-M | F152: Zemné práce pri extr.mont.prácach | P152: =SUM(P153:P160) -> 84.737088 | R152: =SUM(R153:R160) -> 4.11359 | T152: =SUM(T153:T160) -> 0 | AR152: 3 | AT152: D | AU152: 1 | AY152: ROZPOCET | BK152: =SUM(BK153:BK160) -> 0
C153: 26 | D153: K | E153: 460050703.S | F153: Výkop jamy pre stožiar verejného osvetlenia do 2 m3 vrátane, ručný výkop v zemina triedy 3 | G153: m3 | H153: 8 | N153: znížená | O153: 3.549 | P153: =O153*H153 -> 28.392 | Q153: 0 | R153: =Q153*H153 -> 0 | S153: 0 | T153: =S153*H153 -> 0 | AR153: 64 | AT153: K | AU153: 2 | AY153: ROZPOCET | BE153: =IF(N153="základná",J153,0) -> 0 | BF153: =IF(N153="znížená",J153,0) -> 0 | BG153: =IF(N153="zákl. prenesená",J153,0) -> 0 | BH153: =IF(N153="zníž. prenesená",J153,0) -> 0 | BI153: =IF(N153="nulová",J153,0) -> 0 | BJ153: 2 | BK153: =ROUND(I153*H153,3) -> 0 | BL153: 64 | BM153: 733243975
C154: 27 | D154: K | E154: 460200163.S | F154: Hĺbenie káblovej ryhy ručne 35 cm širokej a 80 cm hlbokej, v zemine triedy 3 | G154: m | H154: 78.795 | N154: znížená | O154: 0.4316 | P154: =O154*H154 -> 34.007922 | Q154: 0 | R154: =Q154*H154 -> 0 | S154: 0 | T154: =S154*H154 -> 0 | AR154: 64 | AT154: K | AU154: 2 | AY154: ROZPOCET | BE154: =IF(N154="základná",J154,0) -> 0 | BF154: =IF(N154="znížená",J154,0) -> 0 | BG154: =IF(N154="zákl. prenesená",J154,0) -> 0 | BH154: =IF(N154="zníž. prenesená",J154,0) -> 0 | BI154: =IF(N154="nulová",J154,0) -> 0 | BJ154: 2 | BK154: =ROUND(I154*H154,3) -> 0 | BL154: 64 | BM154: -2051900985
C155: 28 | D155: K | E155: 460420021.S | F155: Zriadenie, rekonšt. káblového lôžka z piesku bez zakrytia, v ryhe šír. do 65 cm, hrúbky vrstvy 5 cm | G155: m | H155: 78.795 | N155: znížená | O155: 0.0611 | P155: =O155*H155 -> 4.8143745 | Q155: 0 | R155: =Q155*H155 -> 0 | S155: 0 | T155: =S155*H155 -> 0 | AR155: 64 | AT155: K | AU155: 2 | AY155: ROZPOCET | BE155: =IF(N155="základná",J155,0) -> 0 | BF155: =IF(N155="znížená",J155,0) -> 0 | BG155: =IF(N155="zákl. prenesená",J155,0) -> 0 | BH155: =IF(N155="zníž. prenesená",J155,0) -> 0 | BI155: =IF(N155="nulová",J155,0) -> 0 | BJ155: 2 | BK155: =ROUND(I155*H155,3) -> 0 | BL155: 64 | BM155: 858091935
C156: 29 | D156: M | E156: 583110000300.S | F156: Drvina vápencová frakcia 0-4 mm | G156: t | H156: 4.097 | N156: znížená | O156: 0 | P156: =O156*H156 -> 0 | Q156: 1 | R156: =Q156*H156 -> 4.097 | S156: 0 | T156: =S156*H156 -> 0 | AR156: 128 | AT156: M | AU156: 2 | AY156: ROZPOCET | BE156: =IF(N156="základná",J156,0) -> 0 | BF156: =IF(N156="znížená",J156,0) -> 0 | BG156: =IF(N156="zákl. prenesená",J156,0) -> 0 | BH156: =IF(N156="zníž. prenesená",J156,0) -> 0 | BI156: =IF(N156="nulová",J156,0) -> 0 | BJ156: 2 | BK156: =ROUND(I156*H156,3) -> 0 | BL156: 128 | BM156: 417358448
C157: 30 | D157: K | E157: 460490012.S | F157: Rozvinutie a uloženie výstražnej fólie z PE do ryhy, šírka do 33 cm | G157: m | H157: 79 | N157: znížená | O157: 0.0325 | P157: =O157*H157 -> 2.5675 | Q157: 0 | R157: =Q157*H157 -> 0 | S157: 0 | T157: =S157*H157 -> 0 | AR157: 64 | AT157: K | AU157: 2 | AY157: ROZPOCET | BE157: =IF(N157="základná",J157,0) -> 0 | BF157: =IF(N157="znížená",J157,0) -> 0 | BG157: =IF(N157="zákl. prenesená",J157,0) -> 0 | BH157: =IF(N157="zníž. prenesená",J157,0) -> 0 | BI157: =IF(N157="nulová",J157,0) -> 0 | BJ157: 2 | BK157: =ROUND(I157*H157,3) -> 0 | BL157: 64 | BM157: -129662778
C158: 31 | D158: M | E158: 283230008000 | F158: Výstražná fóla PE, šxhr 300x0,08 mm, dĺ. 250 m, farba červená, HAGARD alebo ekvivalent | G158: m | H158: 79 | N158: znížená | O158: 0 | P158: =O158*H158 -> 0 | Q158: 0.00021 | R158: =Q158*H158 -> 0.01659 | S158: 0 | T158: =S158*H158 -> 0 | AR158: 128 | AT158: M | AU158: 2 | AY158: ROZPOCET | BE158: =IF(N158="základná",J158,0) -> 0 | BF158: =IF(N158="znížená",J158,0) -> 0 | BG158: =IF(N158="zákl. prenesená",J158,0) -> 0 | BH158: =IF(N158="zníž. prenesená",J158,0) -> 0 | BI158: =IF(N158="nulová",J158,0) -> 0 | BJ158: 2 | BK158: =ROUND(I158*H158,3) -> 0 | BL158: 128 | BM158: 767280875
C159: 32 | D159: K | E159: 460560173.S | F159: Ručný zásyp nezap. káblovej ryhy bez zhutn. zeminy, 35 cm širokej, 90 cm hlbokej v zemine tr. 3 | G159: m | H159: 78.795 | N159: znížená | O159: 0.1898 | P159: =O159*H159 -> 14.955291 | Q159: 0 | R159: =Q159*H159 -> 0 | S159: 0 | T159: =S159*H159 -> 0 | AR159: 64 | AT159: K | AU159: 2 | AY159: ROZPOCET | BE159: =IF(N159="základná",J159,0) -> 0 | BF159: =IF(N159="znížená",J159,0) -> 0 | BG159: =IF(N159="zákl. prenesená",J159,0) -> 0 | BH159: =IF(N159="zníž. prenesená",J159,0) -> 0 | BI159: =IF(N159="nulová",J159,0) -> 0 | BJ159: 2 | BK159: =ROUND(I159*H159,3) -> 0 | BL159: 64 | BM159: 1518854868
C160: 33 | D160: K | E160: PPV | F160: Podiel pridružených výkonov | G160: % | H160: 11.65 | N160: znížená | O160: 0 | P160: =O160*H160 -> 0 | Q160: 0 | R160: =Q160*H160 -> 0 | S160: 0 | T160: =S160*H160 -> 0 | AR160: 64 | AT160: K | AU160: 2 | AY160: ROZPOCET | BE160: =IF(N160="základná",J160,0) -> 0 | BF160: =IF(N160="znížená",J160,0) -> 0 | BG160: =IF(N160="zákl. prenesená",J160,0) -> 0 | BH160: =IF(N160="zníž. prenesená",J160,0) -> 0 | BI160: =IF(N160="nulová",J160,0) -> 0 | BJ160: 2 | BK160: =ROUND(I160*H160,3) -> 0 | BL160: 64 | BM160: -1196115799
D161: D | E161: HZS | F161: Hodinové zúčtovacie sadzby | P161: =P162 -> 14.84 | R161: =R162 -> 0 | T161: =T162 -> 0 | AR161: 4 | AT161: D | AU161: 0 | AY161: ROZPOCET | BK161: =BK162 -> 0
C162: 34 | D162: K | E162: HZS000114.S | F162: Stavebno montážne práce najnáročnejšie na odbornosť - prehliadky pracoviska a revízie (Tr. 4) v rozsahu viac ako 8 hodín | G162: hod | H162: 14 | N162: znížená | O162: 1.06 | P162: =O162*H162 -> 14.84 | Q162: 0 | R162: =Q162*H162 -> 0 | S162: 0 | T162: =S162*H162 -> 0 | AR162: 512 | AT162: K | AU162: 1 | AY162: ROZPOCET | BE162: =IF(N162="základná",J162,0) -> 0 | BF162: =IF(N162="znížená",J162,0) -> 0 | BG162: =IF(N162="zákl. prenesená",J162,0) -> 0 | BH162: =IF(N162="zníž. prenesená",J162,0) -> 0 | BI162: =IF(N162="nulová",J162,0) -> 0 | BJ162: 2 | BK162: =ROUND(I162*H162,3) -> 0 | BL162: 512 | BM162: 255457609
