Workbook

Sheet Rekapitulácia stavby
A1: Export Komplet | BA1: 2.0 | BT1: False | BU1: False | BV1: {09a05ae4-7d74-498e-91eb-634df4f2d4f0}
AR2: >> skryté stĺpce << | BS2: 0,001 | BT2: 20
BS3: 0,001 | BT3: 20
D4: REKAPITULÁCIA STAVBY | AS4: v --- nižšie sa nachádzajú doplnkové a pomocné údaje k zostavám --- v | BE4: Návod na vyplnenie | BS4: 0,001
D5: Kód: | K5: 14919 | BE5: Meniť je možné iba bunky so žltým podfarbením!_x000D_ _x000D_ 1) na prvom liste Rekapitulácie stavby vyplňte v zostave_x000D_ _x000D_ a) Rekapitulácia stavby_x000D_ - údaje o Zhotoviteľovi_x000D_ (prenesú sa do ostatných zostáv aj v iných listoch)_x000D_ _x000D_ b) Rekapitulácia objektov stavby_x000D_ - potrebné Ostatné náklady_x000D_ _x000D_ 2) na vybraných listoch vyplňte v zostave_x000D_ _x000D_ a) Krycí list_x000D_ - údaje o Zhotoviteľovi, pokiaľ sa líšia od údajov o Zhotoviteľovi na Rekapitulácii stavby_x000D_ (údaje se prenesú do ostatných zostav v danom liste)_x000D_ _x000D_ b) Rekapitulácia rozpočtu_x000D_ - potrebné Ostatné náklady_x000D_ _x000D_ c) Celkové náklady za stavbu_x000D_ - ceny na položkách_x000D_ - množstvo, pokiaľ má žlté podfarbenie_x000D_ - a v prípade potreby poznámku (tá je v skrytom stĺpci) | BS5: 0,001
D6: Stavba: | K6: Revitalizácia športoveho areálu Slavoj Trebišov - opakovaná | BS6: 0,001
D7: JKSO: | AK7: KS: | BS7: 0,001
D8: Miesto: | K8: Trebišov | AK8: Dátum: | AN8: 10. 2. 2021 | BS8: 0,001
BS9: 0,001
D10: Objednávateľ: | AK10: IČO: | BS10: 0,001
E11: Mesto Trebišov | AK11: IČ DPH: | BS11: 0,001
BS12: 0,001
D13: Zhotoviteľ: | AK13: IČO: | AN13: Vyplň údaj | BS13: 0,001
E14: Vyplň údaj | AK14: IČ DPH: | AN14: Vyplň údaj | BS14: 0,001
BS15: False
D16: Projektant: | AK16: IČO: | BS16: False
AK17: IČ DPH: | BS17: True
BS18: 0,01
D19: Spracovateľ: | AK19: IČO: | BS19: 0,01
AK20: IČ DPH: | BS20: True
D22: Poznámka:
D26: Cena bez DPH | AK26: =ROUND(AG94,2) -> 0
L28: Sadzba dane | W28: Základ dane | AK28: Výška dane
D29: DPH | F29: základná | L29: 0.2 | W29: =ROUND(AZ94, 2) -> 0 | AK29: =ROUND(AV94, 2) -> 0
F30: znížená | L30: 0.2 | W30: =ROUND(BA94, 2) -> 0 | AK30: =ROUND(AW94, 2) -> 0
F31: zákl. prenesená | L31: 0.2 | W31: =ROUND(BB94, 2) -> 0 | AK31: 0
F32: zníž. prenesená | L32: 0.2 | W32: =ROUND(BC94, 2) -> 0 | AK32: 0
F33: nulová | L33: 0 | W33: =ROUND(BD94, 2) -> 0 | AK33: 0
D35: Cena s DPH | T35: v | X35: EUR | AK35: =SUM(AK26:AK33) -> 0
D49: Projektant | AH49: Spracovateľ
D60: Dátum a podpis: | V60: Pečiatka | AH60: Dátum a podpis: | AM60: Pečiatka
D64: Objednávateľ | AH64: Zhotoviteľ
D75: Dátum a podpis: | V75: Pečiatka | AH75: Dátum a podpis: | AM75: Pečiatka
C82: REKAPITULÁCIA OBJEKTOV STAVBY
C84: Kód: | L84: =K5 -> 14919
C85: Stavba: | L85: =K6 -> Revitalizácia športoveho areálu Slavoj Trebišov - opakovaná
C87: Miesto: | L87: =IF(K8="","",K8) -> Trebišov | AI87: Dátum: | AM87: =IF(AN8= "","",AN8) -> 10. 2. 2021
C89: Objednávateľ: | L89: =IF(E11= "","",E11) -> Mesto Trebišov | AI89: Projektant: | AM89: =IF(E17="","",E17) | AS89: Informatívne údaje z listov zákaziek
C90: Zhotoviteľ: | L90: =IF(E14= "Vyplň údaj","",E14) | AI90: Spracovateľ: | AM90: =IF(E20="","",E20)
C92: Kód | I92: Popis | AG92: Cena bez DPH [EUR] | AN92: Cena s DPH [EUR] | AQ92: Typ | AS92: z toho Ostat._x000D_ náklady [EUR] | AT92: DPH [EUR] | AU92: Normohodiny [h] | AV92: DPH základná [EUR] | AW92: DPH znížená [EUR] | AX92: DPH základná prenesená_x000D_ [EUR] | AY92: DPH znížená prenesená_x000D_ [EUR] | AZ92: Základňa_x000D_ DPH základná | BA92: Základňa_x000D_ DPH znížená | BB92: Základňa_x000D_ DPH zákl. prenesená | BC92: Základňa_x000D_ DPH zníž. prenesená | BD92: Základňa_x000D_ DPH nulová
...

Sheet 01 - SO 01 Ihrisko pre ka...
L2: >> skryté stĺpce << | AT2: {781bd69c-a703-4889-9ca2-300c530124ef}
AT3: 0
D4: KRYCÍ LIST ROZPOČTU | M4: v --- nižšie sa nachádzajú doplnkové a pomocné údaje k zostavám --- v | AT4: False
D6: Stavba:
E7: ='Rekapitulácia stavby'!K6 -> Revitalizácia športoveho areálu Slavoj Trebišov - opakovaná
D8: Objekt:
E9: 01 - SO 01 Ihrisko pre kategoriu U10, U11
D11: JKSO: | I11: KS:
D12: Miesto: | F12: Trebišov | I12: Dátum: | J12: ='Rekapitulácia stavby'!AN8 -> 10. 2. 2021
D14: Objednávateľ: | I14: IČO:
E15: Mesto Trebišov | I15: IČ DPH:
D17: Zhotoviteľ: | I17: IČO: | J17: ='Rekapitulácia stavby'!AN13 -> Vyplň údaj
E18: ='Rekapitulácia stavby'!E14 -> Vyplň údaj | I18: IČ DPH: | J18: ='Rekapitulácia stavby'!AN14 -> Vyplň údaj
D20: Projektant: | I20: IČO: | J20: =IF('Rekapitulácia stavby'!AN16="","",'Rekapitulácia stavby'!AN16)
E21: =IF('Rekapitulácia stavby'!E17="","",'Rekapitulácia stavby'!E17) | I21: IČ DPH: | J21: =IF('Rekapitulácia stavby'!AN17="","",'Rekapitulácia stavby'!AN17)
D23: Spracovateľ: | I23: IČO: | J23: =IF('Rekapitulácia stavby'!AN19="","",'Rekapitulácia stavby'!AN19)
E24: =IF('Rekapitulácia stavby'!E20="","",'Rekapitulácia stavby'!E20) | I24: IČ DPH: | J24: =IF('Rekapitulácia stavby'!AN20="","",'Rekapitulácia stavby'!AN20)
D26: Poznámka:
D30: Náklady z rozpočtu | J30: =J96 -> 0
D31: Ostatné náklady | J31: =J107 -> 0
D32: Cena bez DPH | J32: =ROUND(J30 + J31, 2) -> 0
F34: Základ dane | I34: Sadzba dane | J34: Výška dane
D35: DPH | E35: základná | F35: =ROUND((SUM(BE107:BE114) + SUM(BE134:BE168)), 2) -> 0 | I35: 0.2 | J35: =ROUND(((SUM(BE107:BE114) + SUM(BE134:BE168))*I35), 2) -> 0
E36: znížená | F36: =ROUND((SUM(BF107:BF114) + SUM(BF134:BF168)), 2) -> 0 | I36: 0.2 | J36: =ROUND(((SUM(BF107:BF114) + SUM(BF134:BF168))*I36), 2) -> 0
E37: zákl. prenesená | F37: =ROUND((SUM(BG107:BG114) + SUM(BG134:BG168)), 2) -> 0 | I37: 0.2 | J37: =0 -> 0
E38: zníž. prenesená | F38: =ROUND((SUM(BH107:BH114) + SUM(BH134:BH168)), 2) -> 0 | I38: 0.2 | J38: =0 -> 0
E39: nulová | F39: =ROUND((SUM(BI107:BI114) + SUM(BI134:BI168)), 2) -> 0 | I39: 0 | J39: =0 -> 0
D41: Cena s DPH | G41: v | H41: EUR | J41: =SUM(J32:J39) -> 0
D50: Projektant | G50: Spracovateľ
D61: Dátum a podpis: | F61: Pečiatka | G61: Dátum a podpis: | J61: Pečiatka
D65: Objednávateľ | G65: Zhotoviteľ
D76: Dátum a podpis: | F76: Pečiatka | G76: Dátum a podpis: | J76: Pečiatka
C82: REKAPITULÁCIA ROZPOČTU
C84: Stavba:
E85: =E7 -> Revitalizácia športoveho areálu Slavoj Trebišov - opakovaná
C86: Objekt:
E87: =E9 -> 01 - SO 01 Ihrisko pre kategoriu U10, U11
C89: Miesto: | F89: =F12 -> Trebišov | I89: Dátum: | J89: =IF(J12="","",J12) -> 10. 2. 2021
C91: Objednávateľ: | F91: =E15 -> Mesto Trebišov | I91: Projektant: | J91: =E21
C92: Zhotoviteľ: | F92: =IF(E18="","",E18) -> Vyplň údaj | I92: Spracovateľ: | J92: =E24
...

Sheet 02 - SO 02 Ihrisko pre ka...
L2: >> skryté stĺpce << | AT2: {553778c6-0cb3-4784-898b-f661c69533f8}
AT3: 0
D4: KRYCÍ LIST ROZPOČTU | M4: v --- nižšie sa nachádzajú doplnkové a pomocné údaje k zostavám --- v | AT4: False
D6: Stavba:
E7: ='Rekapitulácia stavby'!K6 -> Revitalizácia športoveho areálu Slavoj Trebišov - opakovaná
D8: Objekt:
E9: 02 - SO 02 Ihrisko pre kategoriu U8, U9
D11: JKSO: | I11: KS:
D12: Miesto: | F12: Trebišov | I12: Dátum: | J12: ='Rekapitulácia stavby'!AN8 -> 10. 2. 2021
D14: Objednávateľ: | I14: IČO:
E15: Mesto Trebišov | I15: IČ DPH:
D17: Zhotoviteľ: | I17: IČO: | J17: ='Rekapitulácia stavby'!AN13 -> Vyplň údaj
E18: ='Rekapitulácia stavby'!E14 -> Vyplň údaj | I18: IČ DPH: | J18: ='Rekapitulácia stavby'!AN14 -> Vyplň údaj
D20: Projektant: | I20: IČO: | J20: =IF('Rekapitulácia stavby'!AN16="","",'Rekapitulácia stavby'!AN16)
E21: =IF('Rekapitulácia stavby'!E17="","",'Rekapitulácia stavby'!E17) | I21: IČ DPH: | J21: =IF('Rekapitulácia stavby'!AN17="","",'Rekapitulácia stavby'!AN17)
D23: Spracovateľ: | I23: IČO: | J23: =IF('Rekapitulácia stavby'!AN19="","",'Rekapitulácia stavby'!AN19)
E24: =IF('Rekapitulácia stavby'!E20="","",'Rekapitulácia stavby'!E20) | I24: IČ DPH: | J24: =IF('Rekapitulácia stavby'!AN20="","",'Rekapitulácia stavby'!AN20)
D26: Poznámka:
D30: Náklady z rozpočtu | J30: =J96 -> 0
D31: Ostatné náklady | J31: =J107 -> 0
D32: Cena bez DPH | J32: =ROUND(J30 + J31, 2) -> 0
F34: Základ dane | I34: Sadzba dane | J34: Výška dane
D35: DPH | E35: základná | F35: =ROUND((SUM(BE107:BE114) + SUM(BE134:BE171)), 2) -> 0 | I35: 0.2 | J35: =ROUND(((SUM(BE107:BE114) + SUM(BE134:BE171))*I35), 2) -> 0
E36: znížená | F36: =ROUND((SUM(BF107:BF114) + SUM(BF134:BF171)), 2) -> 0 | I36: 0.2 | J36: =ROUND(((SUM(BF107:BF114) + SUM(BF134:BF171))*I36), 2) -> 0
E37: zákl. prenesená | F37: =ROUND((SUM(BG107:BG114) + SUM(BG134:BG171)), 2) -> 0 | I37: 0.2 | J37: =0 -> 0
E38: zníž. prenesená | F38: =ROUND((SUM(BH107:BH114) + SUM(BH134:BH171)), 2) -> 0 | I38: 0.2 | J38: =0 -> 0
E39: nulová | F39: =ROUND((SUM(BI107:BI114) + SUM(BI134:BI171)), 2) -> 0 | I39: 0 | J39: =0 -> 0
D41: Cena s DPH | G41: v | H41: EUR | J41: =SUM(J32:J39) -> 0
D50: Projektant | G50: Spracovateľ
D61: Dátum a podpis: | F61: Pečiatka | G61: Dátum a podpis: | J61: Pečiatka
D65: Objednávateľ | G65: Zhotoviteľ
D76: Dátum a podpis: | F76: Pečiatka | G76: Dátum a podpis: | J76: Pečiatka
C82: REKAPITULÁCIA ROZPOČTU
C84: Stavba:
E85: =E7 -> Revitalizácia športoveho areálu Slavoj Trebišov - opakovaná
C86: Objekt:
E87: =E9 -> 02 - SO 02 Ihrisko pre kategoriu U8, U9
C89: Miesto: | F89: =F12 -> Trebišov | I89: Dátum: | J89: =IF(J12="","",J12) -> 10. 2. 2021
C91: Objednávateľ: | F91: =E15 -> Mesto Trebišov | I91: Projektant: | J91: =E21
C92: Zhotoviteľ: | F92: =IF(E18="","",E18) -> Vyplň údaj | I92: Spracovateľ: | J92: =E24
...

Sheet 04 - SO 04 Asfaltove ihri...
L2: >> skryté stĺpce << | AT2: {e4222abd-4864-4a7b-8e29-45cfdf1877a1}
AT3: 0
D4: KRYCÍ LIST ROZPOČTU | M4: v --- nižšie sa nachádzajú doplnkové a pomocné údaje k zostavám --- v | AT4: False
D6: Stavba:
E7: ='Rekapitulácia stavby'!K6 -> Revitalizácia športoveho areálu Slavoj Trebišov - opakovaná
D8: Objekt:
E9: 04 - SO 04 Asfaltove ihrisko pre skaterov
D11: JKSO: | I11: KS:
D12: Miesto: | F12: Trebišov | I12: Dátum: | J12: ='Rekapitulácia stavby'!AN8 -> 10. 2. 2021
D14: Objednávateľ: | I14: IČO:
E15: Mesto Trebišov | I15: IČ DPH:
D17: Zhotoviteľ: | I17: IČO: | J17: ='Rekapitulácia stavby'!AN13 -> Vyplň údaj
E18: ='Rekapitulácia stavby'!E14 -> Vyplň údaj | I18: IČ DPH: | J18: ='Rekapitulácia stavby'!AN14 -> Vyplň údaj
D20: Projektant: | I20: IČO: | J20: =IF('Rekapitulácia stavby'!AN16="","",'Rekapitulácia stavby'!AN16)
E21: =IF('Rekapitulácia stavby'!E17="","",'Rekapitulácia stavby'!E17) | I21: IČ DPH: | J21: =IF('Rekapitulácia stavby'!AN17="","",'Rekapitulácia stavby'!AN17)
D23: Spracovateľ: | I23: IČO: | J23: =IF('Rekapitulácia stavby'!AN19="","",'Rekapitulácia stavby'!AN19)
E24: =IF('Rekapitulácia stavby'!E20="","",'Rekapitulácia stavby'!E20) | I24: IČ DPH: | J24: =IF('Rekapitulácia stavby'!AN20="","",'Rekapitulácia stavby'!AN20)
D26: Poznámka:
D30: Náklady z rozpočtu | J30: =J96 -> 0
D31: Ostatné náklady | J31: =J104 -> 0
D32: Cena bez DPH | J32: =ROUND(J30 + J31, 2) -> 0
F34: Základ dane | I34: Sadzba dane | J34: Výška dane
D35: DPH | E35: základná | F35: =ROUND((SUM(BE104:BE111) + SUM(BE131:BE142)), 2) -> 0 | I35: 0.2 | J35: =ROUND(((SUM(BE104:BE111) + SUM(BE131:BE142))*I35), 2) -> 0
E36: znížená | F36: =ROUND((SUM(BF104:BF111) + SUM(BF131:BF142)), 2) -> 0 | I36: 0.2 | J36: =ROUND(((SUM(BF104:BF111) + SUM(BF131:BF142))*I36), 2) -> 0
E37: zákl. prenesená | F37: =ROUND((SUM(BG104:BG111) + SUM(BG131:BG142)), 2) -> 0 | I37: 0.2 | J37: =0 -> 0
E38: zníž. prenesená | F38: =ROUND((SUM(BH104:BH111) + SUM(BH131:BH142)), 2) -> 0 | I38: 0.2 | J38: =0 -> 0
E39: nulová | F39: =ROUND((SUM(BI104:BI111) + SUM(BI131:BI142)), 2) -> 0 | I39: 0 | J39: =0 -> 0
D41: Cena s DPH | G41: v | H41: EUR | J41: =SUM(J32:J39) -> 0
D50: Projektant | G50: Spracovateľ
D61: Dátum a podpis: | F61: Pečiatka | G61: Dátum a podpis: | J61: Pečiatka
D65: Objednávateľ | G65: Zhotoviteľ
D76: Dátum a podpis: | F76: Pečiatka | G76: Dátum a podpis: | J76: Pečiatka
C82: REKAPITULÁCIA ROZPOČTU
C84: Stavba:
E85: =E7 -> Revitalizácia športoveho areálu Slavoj Trebišov - opakovaná
C86: Objekt:
E87: =E9 -> 04 - SO 04 Asfaltove ihrisko pre skaterov
C89: Miesto: | F89: =F12 -> Trebišov | I89: Dátum: | J89: =IF(J12="","",J12) -> 10. 2. 2021
C91: Objednávateľ: | F91: =E15 -> Mesto Trebišov | I91: Projektant: | J91: =E21
C92: Zhotoviteľ: | F92: =IF(E18="","",E18) -> Vyplň údaj | I92: Spracovateľ: | J92: =E24
...

Sheet 05 - SO 05 Príjazdová kom...
L2: >> skryté stĺpce << | AT2: {6a93dfc6-05a9-445d-b687-ae50931a41ec}
AT3: 0
D4: KRYCÍ LIST ROZPOČTU | M4: v --- nižšie sa nachádzajú doplnkové a pomocné údaje k zostavám --- v | AT4: False
D6: Stavba:
E7: ='Rekapitulácia stavby'!K6 -> Revitalizácia športoveho areálu Slavoj Trebišov - opakovaná
D8: Objekt:
E9: 05 - SO 05 Príjazdová komunikácia
D11: JKSO: | I11: KS:
D12: Miesto: | F12: Trebišov | I12: Dátum: | J12: ='Rekapitulácia stavby'!AN8 -> 10. 2. 2021
D14: Objednávateľ: | I14: IČO:
E15: Mesto Trebišov | I15: IČ DPH:
D17: Zhotoviteľ: | I17: IČO: | J17: ='Rekapitulácia stavby'!AN13 -> Vyplň údaj
E18: ='Rekapitulácia stavby'!E14 -> Vyplň údaj | I18: IČ DPH: | J18: ='Rekapitulácia stavby'!AN14 -> Vyplň údaj
D20: Projektant: | I20: IČO: | J20: =IF('Rekapitulácia stavby'!AN16="","",'Rekapitulácia stavby'!AN16)
E21: =IF('Rekapitulácia stavby'!E17="","",'Rekapitulácia stavby'!E17) | I21: IČ DPH: | J21: =IF('Rekapitulácia stavby'!AN17="","",'Rekapitulácia stavby'!AN17)
D23: Spracovateľ: | I23: IČO: | J23: =IF('Rekapitulácia stavby'!AN19="","",'Rekapitulácia stavby'!AN19)
E24: =IF('Rekapitulácia stavby'!E20="","",'Rekapitulácia stavby'!E20) | I24: IČ DPH: | J24: =IF('Rekapitulácia stavby'!AN20="","",'Rekapitulácia stavby'!AN20)
D26: Poznámka:
D30: Náklady z rozpočtu | J30: =J96 -> 0
D31: Ostatné náklady | J31: =J104 -> 0
D32: Cena bez DPH | J32: =ROUND(J30 + J31, 2) -> 0
F34: Základ dane | I34: Sadzba dane | J34: Výška dane
D35: DPH | E35: základná | F35: =ROUND((SUM(BE104:BE111) + SUM(BE131:BE149)), 2) -> 0 | I35: 0.2 | J35: =ROUND(((SUM(BE104:BE111) + SUM(BE131:BE149))*I35), 2) -> 0
E36: znížená | F36: =ROUND((SUM(BF104:BF111) + SUM(BF131:BF149)), 2) -> 0 | I36: 0.2 | J36: =ROUND(((SUM(BF104:BF111) + SUM(BF131:BF149))*I36), 2) -> 0
E37: zákl. prenesená | F37: =ROUND((SUM(BG104:BG111) + SUM(BG131:BG149)), 2) -> 0 | I37: 0.2 | J37: =0 -> 0
E38: zníž. prenesená | F38: =ROUND((SUM(BH104:BH111) + SUM(BH131:BH149)), 2) -> 0 | I38: 0.2 | J38: =0 -> 0
E39: nulová | F39: =ROUND((SUM(BI104:BI111) + SUM(BI131:BI149)), 2) -> 0 | I39: 0 | J39: =0 -> 0
D41: Cena s DPH | G41: v | H41: EUR | J41: =SUM(J32:J39) -> 0
D50: Projektant | G50: Spracovateľ
D61: Dátum a podpis: | F61: Pečiatka | G61: Dátum a podpis: | J61: Pečiatka
D65: Objednávateľ | G65: Zhotoviteľ
D76: Dátum a podpis: | F76: Pečiatka | G76: Dátum a podpis: | J76: Pečiatka
C82: REKAPITULÁCIA ROZPOČTU
C84: Stavba:
E85: =E7 -> Revitalizácia športoveho areálu Slavoj Trebišov - opakovaná
C86: Objekt:
E87: =E9 -> 05 - SO 05 Príjazdová komunikácia
C89: Miesto: | F89: =F12 -> Trebišov | I89: Dátum: | J89: =IF(J12="","",J12) -> 10. 2. 2021
C91: Objednávateľ: | F91: =E15 -> Mesto Trebišov | I91: Projektant: | J91: =E21
C92: Zhotoviteľ: | F92: =IF(E18="","",E18) -> Vyplň údaj | I92: Spracovateľ: | J92: =E24
...

Sheet 08 - SO 08 Oporný murik, ...
L2: >> skryté stĺpce << | AT2: {d5481240-6719-43e1-99ed-054d03f68b68}
AT3: 0
D4: KRYCÍ LIST ROZPOČTU | M4: v --- nižšie sa nachádzajú doplnkové a pomocné údaje k zostavám --- v | AT4: False
D6: Stavba:
E7: ='Rekapitulácia stavby'!K6 -> Revitalizácia športoveho areálu Slavoj Trebišov - opakovaná
D8: Objekt:
E9: 08 - SO 08 Oporný murik, múrik na sedenie a schody
D11: JKSO: | I11: KS:
D12: Miesto: | F12: Trebišov | I12: Dátum: | J12: ='Rekapitulácia stavby'!AN8 -> 10. 2. 2021
D14: Objednávateľ: | I14: IČO:
E15: Mesto Trebišov | I15: IČ DPH:
D17: Zhotoviteľ: | I17: IČO: | J17: ='Rekapitulácia stavby'!AN13 -> Vyplň údaj
E18: ='Rekapitulácia stavby'!E14 -> Vyplň údaj | I18: IČ DPH: | J18: ='Rekapitulácia stavby'!AN14 -> Vyplň údaj
D20: Projektant: | I20: IČO: | J20: =IF('Rekapitulácia stavby'!AN16="","",'Rekapitulácia stavby'!AN16)
E21: =IF('Rekapitulácia stavby'!E17="","",'Rekapitulácia stavby'!E17) | I21: IČ DPH: | J21: =IF('Rekapitulácia stavby'!AN17="","",'Rekapitulácia stavby'!AN17)
D23: Spracovateľ: | I23: IČO: | J23: =IF('Rekapitulácia stavby'!AN19="","",'Rekapitulácia stavby'!AN19)
E24: =IF('Rekapitulácia stavby'!E20="","",'Rekapitulácia stavby'!E20) | I24: IČ DPH: | J24: =IF('Rekapitulácia stavby'!AN20="","",'Rekapitulácia stavby'!AN20)
D26: Poznámka:
D30: Náklady z rozpočtu | J30: =J96 -> 0
D31: Ostatné náklady | J31: =J108 -> 0
D32: Cena bez DPH | J32: =ROUND(J30 + J31, 2) -> 0
F34: Základ dane | I34: Sadzba dane | J34: Výška dane
D35: DPH | E35: základná | F35: =ROUND((SUM(BE108:BE115) + SUM(BE135:BE161)), 2) -> 0 | I35: 0.2 | J35: =ROUND(((SUM(BE108:BE115) + SUM(BE135:BE161))*I35), 2) -> 0
E36: znížená | F36: =ROUND((SUM(BF108:BF115) + SUM(BF135:BF161)), 2) -> 0 | I36: 0.2 | J36: =ROUND(((SUM(BF108:BF115) + SUM(BF135:BF161))*I36), 2) -> 0
E37: zákl. prenesená | F37: =ROUND((SUM(BG108:BG115) + SUM(BG135:BG161)), 2) -> 0 | I37: 0.2 | J37: =0 -> 0
E38: zníž. prenesená | F38: =ROUND((SUM(BH108:BH115) + SUM(BH135:BH161)), 2) -> 0 | I38: 0.2 | J38: =0 -> 0
E39: nulová | F39: =ROUND((SUM(BI108:BI115) + SUM(BI135:BI161)), 2) -> 0 | I39: 0 | J39: =0 -> 0
D41: Cena s DPH | G41: v | H41: EUR | J41: =SUM(J32:J39) -> 0
D50: Projektant | G50: Spracovateľ
D61: Dátum a podpis: | F61: Pečiatka | G61: Dátum a podpis: | J61: Pečiatka
D65: Objednávateľ | G65: Zhotoviteľ
D76: Dátum a podpis: | F76: Pečiatka | G76: Dátum a podpis: | J76: Pečiatka
C82: REKAPITULÁCIA ROZPOČTU
C84: Stavba:
E85: =E7 -> Revitalizácia športoveho areálu Slavoj Trebišov - opakovaná
C86: Objekt:
E87: =E9 -> 08 - SO 08 Oporný murik, múrik na sedenie a schody
C89: Miesto: | F89: =F12 -> Trebišov | I89: Dátum: | J89: =IF(J12="","",J12) -> 10. 2. 2021
C91: Objednávateľ: | F91: =E15 -> Mesto Trebišov | I91: Projektant: | J91: =E21
C92: Zhotoviteľ: | F92: =IF(E18="","",E18) -> Vyplň údaj | I92: Spracovateľ: | J92: =E24
...
