Workbook

Sheet Rekapitulácia stavby
A1: Export Komplet | BA1: 2.0 | BT1: False | BU1: False | BV1: {09a05ae4-7d74-498e-91eb-634df4f2d4f0}
AR2: >> skryté stĺpce << | BS2: 0,001 | BT2: 20
BS3: 0,001 | BT3: 20
D4: REKAPITULÁCIA STAVBY | AS4: v --- nižšie sa nachádzajú doplnkové a pomocné údaje k zostavám --- v | BE4: Návod na vyplnenie | BS4: 0,001
D5: Kód: | K5: 14919 | BE5: Meniť je možné iba bunky so žltým podfarbením!_x000D_ _x000D_ 1) na prvom liste Rekapitulácie stavby vyplňte v zostave_x000D_ _x000D_ a) Rekapitulácia stavby_x000D_ - údaje o Zhotoviteľovi_x000D_ (prenesú sa do ostatných zostáv aj v iných listoch)_x000D_ _x000D_ b) Rekapitulácia objektov stavby_x000D_ - potrebné Ostatné náklady_x000D_ _x000D_ 2) na vybraných listoch vyplňte v zostave_x000D_ _x000D_ a) Krycí list_x000D_ - údaje o Zhotoviteľovi, pokiaľ sa líšia od údajov o Zhotoviteľovi na Rekapitulácii stavby_x000D_ (údaje se prenesú do ostatných zostav v danom liste)_x000D_ _x000D_ b) Rekapitulácia rozpočtu_x000D_ - potrebné Ostatné náklady_x000D_ _x000D_ c) Celkové náklady za stavbu_x000D_ - ceny na položkách_x000D_ - množstvo, pokiaľ má žlté podfarbenie_x000D_ - a v prípade potreby poznámku (tá je v skrytom stĺpci) | BS5: 0,001
D6: Stavba: | K6: Revitalizácia športoveho areálu Slavoj Trebišov - opakovaná | BS6: 0,001
D7: JKSO: | AK7: KS: | BS7: 0,001
D8: Miesto: | K8: Trebišov | AK8: Dátum: | AN8: 10. 2. 2021 | BS8: 0,001
BS9: 0,001
D10: Objednávateľ: | AK10: IČO: | BS10: 0,001
E11: Mesto Trebišov | AK11: IČ DPH: | BS11: 0,001
BS12: 0,001
D13: Zhotoviteľ: | AK13: IČO: | AN13: Vyplň údaj | BS13: 0,001
E14: Vyplň údaj | AK14: IČ DPH: | AN14: Vyplň údaj | BS14: 0,001
BS15: False
D16: Projektant: | AK16: IČO: | BS16: False
AK17: IČ DPH: | BS17: True
BS18: 0,01
D19: Spracovateľ: | AK19: IČO: | BS19: 0,01
AK20: IČ DPH: | BS20: True
D22: Poznámka:
D26: Cena bez DPH | AK26: =ROUND(AG94,2) -> 0
L28: Sadzba dane | W28: Základ dane | AK28: Výška dane
D29: DPH | F29: základná | L29: 0.2 | W29: =ROUND(AZ94, 2) -> 0 | AK29: =ROUND(AV94, 2) -> 0
F30: znížená | L30: 0.2 | W30: =ROUND(BA94, 2) -> 0 | AK30: =ROUND(AW94, 2) -> 0
F31: zákl. prenesená | L31: 0.2 | W31: =ROUND(BB94, 2) -> 0 | AK31: 0
F32: zníž. prenesená | L32: 0.2 | W32: =ROUND(BC94, 2) -> 0 | AK32: 0
F33: nulová | L33: 0 | W33: =ROUND(BD94, 2) -> 0 | AK33: 0
D35: Cena s DPH | T35: v | X35: EUR | AK35: =SUM(AK26:AK33) -> 0
D49: Projektant | AH49: Spracovateľ
D60: Dátum a podpis: | V60: Pečiatka | AH60: Dátum a podpis: | AM60: Pečiatka
D64: Objednávateľ | AH64: Zhotoviteľ
D75: Dátum a podpis: | V75: Pečiatka | AH75: Dátum a podpis: | AM75: Pečiatka
C82: REKAPITULÁCIA OBJEKTOV STAVBY
C84: Kód: | L84: =K5 -> 14919
C85: Stavba: | L85: =K6 -> Revitalizácia športoveho areálu Slavoj Trebišov - opakovaná
C87: Miesto: | L87: =IF(K8="","",K8) -> Trebišov | AI87: Dátum: | AM87: =IF(AN8= "","",AN8) -> 10. 2. 2021
C89: Objednávateľ: | L89: =IF(E11= "","",E11) -> Mesto Trebišov | AI89: Projektant: | AM89: =IF(E17="","",E17) | AS89: Informatívne údaje z listov zákaziek
C90: Zhotoviteľ: | L90: =IF(E14= "Vyplň údaj","",E14) | AI90: Spracovateľ: | AM90: =IF(E20="","",E20)
C92: Kód | I92: Popis | AG92: Cena bez DPH [EUR] | AN92: Cena s DPH [EUR] | AQ92: Typ | AS92: z toho Ostat._x000D_ náklady [EUR] | AT92: DPH [EUR] | AU92: Normohodiny [h] | AV92: DPH základná [EUR] | AW92: DPH znížená [EUR] | AX92: DPH základná prenesená_x000D_ [EUR] | AY92: DPH znížená prenesená_x000D_ [EUR] | AZ92: Základňa_x000D_ DPH základná | BA92: Základňa_x000D_ DPH znížená | BB92: Základňa_x000D_ DPH zákl. prenesená | BC92: Základňa_x000D_ DPH zníž. prenesená | BD92: Základňa_x000D_ DPH nulová
C94: Náklady z rozpočtov | AG94: =ROUND(SUM(AG95:AG99),2) -> 0 | AN94: =SUM(AG94,AT94) -> 0 | AS94: =ROUND(SUM(AS95:AS99),2) -> 0 | AT94: =ROUND(SUM(AV94:AW94),2) -> 0 | AU94: =ROUND(SUM(AU95:AU99),5) -> 0 | AV94: =ROUND(AZ94*L29,2) -> 0 | AW94: =ROUND(BA94*L30,2) -> 0 | AX94: =ROUND(BB94*L29,2) -> 0 | AY94: =ROUND(BC94*L30,2) -> 0 | AZ94: =ROUND(SUM(AZ95:AZ99),2) -> 0 | BA94: =ROUND(SUM(BA95:BA99),2) -> 0 | BB94: =ROUND(SUM(BB95:BB99),2) -> 0 | BC94: =ROUND(SUM(BC95:BC99),2) -> 0 | BD94: =ROUND(SUM(BD95:BD99),2) -> 0 | BS94: D | BT94: 0 | BU94: ###NOIMPORT### | BV94: IMPORT | BW94: {09a05ae4-7d74-498e-91eb-634df4f2d4f0} | BX94: {00000000-0000-0000-0000-000000000000}
A95: / | D95: 01 | J95: SO 01 Ihrisko pre kategoriu U10, U11 | AG95: ='01 - SO 01 Ihrisko pre ka...'!J32 -> 0 | AN95: =SUM(AG95,AT95) -> 0 | AQ95: STA | AS95: 0 | AT95: =ROUND(SUM(AV95:AW95),2) -> 0 | AU95: ='01 - SO 01 Ihrisko pre ka...'!P134 -> 0 | AV95: ='01 - SO 01 Ihrisko pre ka...'!J35 -> 0 | AW95: ='01 - SO 01 Ihrisko pre ka...'!J36 -> 0 | AX95: ='01 - SO 01 Ihrisko pre ka...'!J37 -> 0 | AY95: ='01 - SO 01 Ihrisko pre ka...'!J38 -> 0 | AZ95: ='01 - SO 01 Ihrisko pre ka...'!F35 -> 0 | BA95: ='01 - SO 01 Ihrisko pre ka...'!F36 -> 0 | BB95: ='01 - SO 01 Ihrisko pre ka...'!F37 -> 0 | BC95: ='01 - SO 01 Ihrisko pre ka...'!F38 -> 0 | BD95: ='01 - SO 01 Ihrisko pre ka...'!F39 -> 0 | BT95: 1 | BV95: IMPORT | BW95: {781bd69c-a703-4889-9ca2-300c530124ef} | BX95: {09a05ae4-7d74-498e-91eb-634df4f2d4f0} | CM95: 0
A96: / | D96: 02 | J96: SO 02 Ihrisko pre kategoriu U8, U9 | AG96: ='02 - SO 02 Ihrisko pre ka...'!J32 -> 0 | AN96: =SUM(AG96,AT96) -> 0 | AQ96: STA | AS96: 0 | AT96: =ROUND(SUM(AV96:AW96),2) -> 0 | AU96: ='02 - SO 02 Ihrisko pre ka...'!P134 -> 0 | AV96: ='02 - SO 02 Ihrisko pre ka...'!J35 -> 0 | AW96: ='02 - SO 02 Ihrisko pre ka...'!J36 -> 0 | AX96: ='02 - SO 02 Ihrisko pre ka...'!J37 -> 0 | AY96: ='02 - SO 02 Ihrisko pre ka...'!J38 -> 0 | AZ96: ='02 - SO 02 Ihrisko pre ka...'!F35 -> 0 | BA96: ='02 - SO 02 Ihrisko pre ka...'!F36 -> 0 | BB96: ='02 - SO 02 Ihrisko pre ka...'!F37 -> 0 | BC96: ='02 - SO 02 Ihrisko pre ka...'!F38 -> 0 | BD96: ='02 - SO 02 Ihrisko pre ka...'!F39 -> 0 | BT96: 1 | BV96: IMPORT | BW96: {553778c6-0cb3-4784-898b-f661c69533f8} | BX96: {09a05ae4-7d74-498e-91eb-634df4f2d4f0} | CM96: 0
A97: / | D97: 04 | J97: SO 04 Asfaltove ihrisko pre skaterov | AG97: ='04 - SO 04 Asfaltove ihri...'!J32 -> 0 | AN97: =SUM(AG97,AT97) -> 0 | AQ97: STA | AS97: 0 | AT97: =ROUND(SUM(AV97:AW97),2) -> 0 | AU97: ='04 - SO 04 Asfaltove ihri...'!P131 -> 0 | AV97: ='04 - SO 04 Asfaltove ihri...'!J35 -> 0 | AW97: ='04 - SO 04 Asfaltove ihri...'!J36 -> 0 | AX97: ='04 - SO 04 Asfaltove ihri...'!J37 -> 0 | AY97: ='04 - SO 04 Asfaltove ihri...'!J38 -> 0 | AZ97: ='04 - SO 04 Asfaltove ihri...'!F35 -> 0 | BA97: ='04 - SO 04 Asfaltove ihri...'!F36 -> 0 | BB97: ='04 - SO 04 Asfaltove ihri...'!F37 -> 0 | BC97: ='04 - SO 04 Asfaltove ihri...'!F38 -> 0 | BD97: ='04 - SO 04 Asfaltove ihri...'!F39 -> 0 | BT97: 1 | BV97: IMPORT | BW97: {e4222abd-4864-4a7b-8e29-45cfdf1877a1} | BX97: {09a05ae4-7d74-498e-91eb-634df4f2d4f0} | CM97: 0
A98: / | D98: 05 | J98: SO 05 Príjazdová komunikácia | AG98: ='05 - SO 05 Príjazdová kom...'!J32 -> 0 | AN98: =SUM(AG98,AT98) -> 0 | AQ98: STA | AS98: 0 | AT98: =ROUND(SUM(AV98:AW98),2) -> 0 | AU98: ='05 - SO 05 Príjazdová kom...'!P131 -> 0 | AV98: ='05 - SO 05 Príjazdová kom...'!J35 -> 0 | AW98: ='05 - SO 05 Príjazdová kom...'!J36 -> 0 | AX98: ='05 - SO 05 Príjazdová kom...'!J37 -> 0 | AY98: ='05 - SO 05 Príjazdová kom...'!J38 -> 0 | AZ98: ='05 - SO 05 Príjazdová kom...'!F35 -> 0 | BA98: ='05 - SO 05 Príjazdová kom...'!F36 -> 0 | BB98: ='05 - SO 05 Príjazdová kom...'!F37 -> 0 | BC98: ='05 - SO 05 Príjazdová kom...'!F38 -> 0 | BD98: ='05 - SO 05 Príjazdová kom...'!F39 -> 0 | BT98: 1 | BV98: IMPORT | BW98: {6a93dfc6-05a9-445d-b687-ae50931a41ec} | BX98: {09a05ae4-7d74-498e-91eb-634df4f2d4f0} | CM98: 0
A99: / | D99: 08 | J99: SO 08 Oporný murik, múrik na sedenie a schody | AG99: ='08 - SO 08 Oporný murik, ...'!J32 -> 0 | AN99: =SUM(AG99,AT99) -> 0 | AQ99: STA | AS99: 0 | AT99: =ROUND(SUM(AV99:AW99),2) -> 0 | AU99: ='08 - SO 08 Oporný murik, ...'!P135 -> 0 | AV99: ='08 - SO 08 Oporný murik, ...'!J35 -> 0 | AW99: ='08 - SO 08 Oporný murik, ...'!J36 -> 0 | AX99: ='08 - SO 08 Oporný murik, ...'!J37 -> 0 | AY99: ='08 - SO 08 Oporný murik, ...'!J38 -> 0 | AZ99: ='08 - SO 08 Oporný murik, ...'!F35 -> 0 | BA99: ='08 - SO 08 Oporný murik, ...'!F36 -> 0 | BB99: ='08 - SO 08 Oporný murik, ...'!F37 -> 0 | BC99: ='08 - SO 08 Oporný murik, ...'!F38 -> 0 | BD99: ='08 - SO 08 Oporný murik, ...'!F39 -> 0 | BT99: 1 | BV99: IMPORT | BW99: {d5481240-6719-43e1-99ed-054d03f68b68} | BX99: {09a05ae4-7d74-498e-91eb-634df4f2d4f0} | CM99: 0

Sheet 01 - SO 01 Ihrisko pre ka...
L2: >> skryté stĺpce << | AT2: {781bd69c-a703-4889-9ca2-300c530124ef}
AT3: 0
D4: KRYCÍ LIST ROZPOČTU | M4: v --- nižšie sa nachádzajú doplnkové a pomocné údaje k zostavám --- v | AT4: False
D6: Stavba:
E7: ='Rekapitulácia stavby'!K6 -> Revitalizácia športoveho areálu Slavoj Trebišov - opakovaná
D8: Objekt:
E9: 01 - SO 01 Ihrisko pre kategoriu U10, U11
D11: JKSO: | I11: KS:
D12: Miesto: | F12: Trebišov | I12: Dátum: | J12: ='Rekapitulácia stavby'!AN8 -> 10. 2. 2021
D14: Objednávateľ: | I14: IČO:
E15: Mesto Trebišov | I15: IČ DPH:
D17: Zhotoviteľ: | I17: IČO: | J17: ='Rekapitulácia stavby'!AN13 -> Vyplň údaj
E18: ='Rekapitulácia stavby'!E14 -> Vyplň údaj | I18: IČ DPH: | J18: ='Rekapitulácia stavby'!AN14 -> Vyplň údaj
D20: Projektant: | I20: IČO: | J20: =IF('Rekapitulácia stavby'!AN16="","",'Rekapitulácia stavby'!AN16)
E21: =IF('Rekapitulácia stavby'!E17="","",'Rekapitulácia stavby'!E17) | I21: IČ DPH: | J21: =IF('Rekapitulácia stavby'!AN17="","",'Rekapitulácia stavby'!AN17)
D23: Spracovateľ: | I23: IČO: | J23: =IF('Rekapitulácia stavby'!AN19="","",'Rekapitulácia stavby'!AN19)
E24: =IF('Rekapitulácia stavby'!E20="","",'Rekapitulácia stavby'!E20) | I24: IČ DPH: | J24: =IF('Rekapitulácia stavby'!AN20="","",'Rekapitulácia stavby'!AN20)
D26: Poznámka:
D30: Náklady z rozpočtu | J30: =J96 -> 0
D31: Ostatné náklady | J31: =J107 -> 0
D32: Cena bez DPH | J32: =ROUND(J30 + J31, 2) -> 0
F34: Základ dane | I34: Sadzba dane | J34: Výška dane
D35: DPH | E35: základná | F35: =ROUND((SUM(BE107:BE114) + SUM(BE134:BE168)), 2) -> 0 | I35: 0.2 | J35: =ROUND(((SUM(BE107:BE114) + SUM(BE134:BE168))*I35), 2) -> 0
E36: znížená | F36: =ROUND((SUM(BF107:BF114) + SUM(BF134:BF168)), 2) -> 0 | I36: 0.2 | J36: =ROUND(((SUM(BF107:BF114) + SUM(BF134:BF168))*I36), 2) -> 0
E37: zákl. prenesená | F37: =ROUND((SUM(BG107:BG114) + SUM(BG134:BG168)), 2) -> 0 | I37: 0.2 | J37: =0 -> 0
E38: zníž. prenesená | F38: =ROUND((SUM(BH107:BH114) + SUM(BH134:BH168)), 2) -> 0 | I38: 0.2 | J38: =0 -> 0
E39: nulová | F39: =ROUND((SUM(BI107:BI114) + SUM(BI134:BI168)), 2) -> 0 | I39: 0 | J39: =0 -> 0
D41: Cena s DPH | G41: v | H41: EUR | J41: =SUM(J32:J39) -> 0
D50: Projektant | G50: Spracovateľ
D61: Dátum a podpis: | F61: Pečiatka | G61: Dátum a podpis: | J61: Pečiatka
D65: Objednávateľ | G65: Zhotoviteľ
D76: Dátum a podpis: | F76: Pečiatka | G76: Dátum a podpis: | J76: Pečiatka
C82: REKAPITULÁCIA ROZPOČTU
C84: Stavba:
E85: =E7 -> Revitalizácia športoveho areálu Slavoj Trebišov - opakovaná
C86: Objekt:
E87: =E9 -> 01 - SO 01 Ihrisko pre kategoriu U10, U11
C89: Miesto: | F89: =F12 -> Trebišov | I89: Dátum: | J89: =IF(J12="","",J12) -> 10. 2. 2021
C91: Objednávateľ: | F91: =E15 -> Mesto Trebišov | I91: Projektant: | J91: =E21
C92: Zhotoviteľ: | F92: =IF(E18="","",E18) -> Vyplň údaj | I92: Spracovateľ: | J92: =E24
C94: Kód dielu - Popis | J94: Cena celkom [EUR]
C96: 1) Náklady z rozpočtu | J96: =J134 -> 0 | AU96: -1
D97: HSV - Práce a dodávky HSV | J97: =J135 -> 0
D98: 1 - Zemné práce | J98: =J136 -> 0
D99: 2 - Zakladanie | J99: =J144 -> 0
D100: 4 - Vodorovné konštrukcie | J100: =J147 -> 0
D101: 5 - Komunikácie | J101: =J149 -> 0
D102: 8 - Rúrové vedenie | J102: =J154 -> 0
D103: 9 - Ostatné konštrukcie a práce-búranie | J103: =J163 -> 0
D104: 99 - Presun hmôt HSV | J104: =J167 -> 0
C107: 2) Ostatné náklady | J107: =ROUND(J108 + J109 + J110 + J111 + J112 + J113,2) -> 0 | N107: DPH
D108: Zariad. staveniska | J108: 0 | N108: znížená | AY108: VRN | BE108: =IF(N108="základná",J108,0) -> 0 | BF108: =IF(N108="znížená",J108,0) -> 0 | BG108: =IF(N108="zákl. prenesená",J108,0) -> 0 | BH108: =IF(N108="zníž. prenesená",J108,0) -> 0 | BI108: =IF(N108="nulová",J108,0) -> 0 | BJ108: 2
D109: Mimostav. doprava | J109: 0 | N109: znížená | AY109: VRN | BE109: =IF(N109="základná",J109,0) -> 0 | BF109: =IF(N109="znížená",J109,0) -> 0 | BG109: =IF(N109="zákl. prenesená",J109,0) -> 0 | BH109: =IF(N109="zníž. prenesená",J109,0) -> 0 | BI109: =IF(N109="nulová",J109,0) -> 0 | BJ109: 2
D110: Územné vplyvy | J110: 0 | N110: znížená | AY110: VRN | BE110: =IF(N110="základná",J110,0) -> 0 | BF110: =IF(N110="znížená",J110,0) -> 0 | BG110: =IF(N110="zákl. prenesená",J110,0) -> 0 | BH110: =IF(N110="zníž. prenesená",J110,0) -> 0 | BI110: =IF(N110="nulová",J110,0) -> 0 | BJ110: 2
D111: Prevádzkové vplyvy | J111: 0 | N111: znížená | AY111: VRN | BE111: =IF(N111="základná",J111,0) -> 0 | BF111: =IF(N111="znížená",J111,0) -> 0 | BG111: =IF(N111="zákl. prenesená",J111,0) -> 0 | BH111: =IF(N111="zníž. prenesená",J111,0) -> 0 | BI111: =IF(N111="nulová",J111,0) -> 0 | BJ111: 2
D112: Ostatné | J112: 0 | N112: znížená | AY112: VRN | BE112: =IF(N112="základná",J112,0) -> 0 | BF112: =IF(N112="znížená",J112,0) -> 0 | BG112: =IF(N112="zákl. prenesená",J112,0) -> 0 | BH112: =IF(N112="zníž. prenesená",J112,0) -> 0 | BI112: =IF(N112="nulová",J112,0) -> 0 | BJ112: 2
D113: Kompletačná činnosť | J113: =ROUND(J30*T113,2) -> 0 | N113: znížená | AY113: KOMPLETACNA | BE113: =IF(N113="základná",J113,0) -> 0 | BF113: =IF(N113="znížená",J113,0) -> 0 | BG113: =IF(N113="zákl. prenesená",J113,0) -> 0 | BH113: =IF(N113="zníž. prenesená",J113,0) -> 0 | BI113: =IF(N113="nulová",J113,0) -> 0 | BJ113: 2
C115: Celkové náklady za stavbu 1) + 2) | J115: =ROUND(J96+J107,2) -> 0
C121: ROZPOČET
C123: Stavba:
E124: =E7 -> Revitalizácia športoveho areálu Slavoj Trebišov - opakovaná
C125: Objekt:
E126: =E9 -> 01 - SO 01 Ihrisko pre kategoriu U10, U11
C128: Miesto: | F128: =F12 -> Trebišov | I128: Dátum: | J128: =IF(J12="","",J12) -> 10. 2. 2021
C130: Objednávateľ: | F130: =E15 -> Mesto Trebišov | I130: Projektant: | J130: =E21
C131: Zhotoviteľ: | F131: =IF(E18="","",E18) -> Vyplň údaj | I131: Spracovateľ: | J131: =E24
C133: PČ | D133: Typ | E133: Kód | F133: Popis | G133: MJ | H133: Množstvo | I133: J.cena [EUR] | J133: Cena celkom [EUR] | K133: Cenová sústava | N133: DPH | O133: J. Nh [h] | P133: Nh celkom [h] | Q133: J. hmotnosť [t] | R133: Hmotnosť celkom [t] | S133: J. suť [t] | T133: Suť Celkom [t]
C134: Náklady z rozpočtu | J134: =BK134 -> 0 | P134: =P135 -> 0 | R134: =R135 -> 454.68455 | T134: =T135 -> 0 | AT134: D | AU134: -1 | BK134: =BK135 -> 0
D135: D | E135: HSV | F135: Práce a dodávky HSV | J135: =BK135 -> 0 | P135: =P136+P144+P147+P149+P154+P163+P167 -> 0 | R135: =R136+R144+R147+R149+R154+R163+R167 -> 454.68455 | T135: =T136+T144+T147+T149+T154+T163+T167 -> 0 | AR135: 1 | AT135: D | AU135: 0 | AY135: ROZPOCET | BK135: =BK136+BK144+BK147+BK149+BK154+BK163+BK167 -> 0
D136: D | E136: 1 | F136: Zemné práce | J136: =BK136 -> 0 | P136: =SUM(P137:P143) -> 0 | R136: =SUM(R137:R143) -> 0 | T136: =SUM(T137:T143) -> 0 | AR136: 1 | AT136: D | AU136: 1 | AY136: ROZPOCET | BK136: =SUM(BK137:BK143) -> 0
C137: 1 | D137: K | E137: 122201102.S | F137: Odkopávka a prekopávka nezapažená v hornine 3, nad 100 do 1000 m3 | G137: m3 | H137: 350 | J137: =ROUND(I137*H137,3) -> 0 | N137: znížená | P137: =O137*H137 -> 0 | Q137: 0 | R137: =Q137*H137 -> 0 | S137: 0 | T137: =S137*H137 -> 0 | AR137: 4 | AT137: K | AU137: 2 | AY137: ROZPOCET | BE137: =IF(N137="základná",J137,0) -> 0 | BF137: =IF(N137="znížená",J137,0) -> 0 | BG137: =IF(N137="zákl. prenesená",J137,0) -> 0 | BH137: =IF(N137="zníž. prenesená",J137,0) -> 0 | BI137: =IF(N137="nulová",J137,0) -> 0 | BJ137: 2 | BK137: =ROUND(I137*H137,3) -> 0 | BL137: 4 | BM137: 1984580692
C138: 2 | D138: K | E138: 122201109.S | F138: Odkopávky a prekopávky nezapažené. Príplatok k cenám za lepivosť horniny 3 | G138: m3 | H138: 350 | J138: =ROUND(I138*H138,3) -> 0 | N138: znížená | P138: =O138*H138 -> 0 | Q138: 0 | R138: =Q138*H138 -> 0 | S138: 0 | T138: =S138*H138 -> 0 | AR138: 4 | AT138: K | AU138: 2 | AY138: ROZPOCET | BE138: =IF(N138="základná",J138,0) -> 0 | BF138: =IF(N138="znížená",J138,0) -> 0 | BG138: =IF(N138="zákl. prenesená",J138,0) -> 0 | BH138: =IF(N138="zníž. prenesená",J138,0) -> 0 | BI138: =IF(N138="nulová",J138,0) -> 0 | BJ138: 2 | BK138: =ROUND(I138*H138,3) -> 0 | BL138: 4 | BM138: 110378857
C139: 3 | D139: K | E139: 132203302.S | F139: Výkop ryhy pre dreny zberné aj zvodné hĺbky do 1, 3m horn.3 | G139: m | H139: 207.755 | J139: =ROUND(I139*H139,3) -> 0 | N139: znížená | P139: =O139*H139 -> 0 | Q139: 0 | R139: =Q139*H139 -> 0 | S139: 0 | T139: =S139*H139 -> 0 | AR139: 4 | AT139: K | AU139: 2 | AY139: ROZPOCET | BE139: =IF(N139="základná",J139,0) -> 0 | BF139: =IF(N139="znížená",J139,0) -> 0 | BG139: =IF(N139="zákl. prenesená",J139,0) -> 0 | BH139: =IF(N139="zníž. prenesená",J139,0) -> 0 | BI139: =IF(N139="nulová",J139,0) -> 0 | BJ139: 2 | BK139: =ROUND(I139*H139,3) -> 0 | BL139: 4 | BM139: -960865757
C140: 4 | D140: K | E140: 162501102.S | F140: Vodorovné premiestnenie výkopku po spevnenej ceste z horniny tr.1-4, do 100 m3 na vzdialenosť do 3000 m | G140: m3 | H140: 350 | J140: =ROUND(I140*H140,3) -> 0 | N140: znížená | P140: =O140*H140 -> 0 | Q140: 0 | R140: =Q140*H140 -> 0 | S140: 0 | T140: =S140*H140 -> 0 | AR140: 4 | AT140: K | AU140: 2 | AY140: ROZPOCET | BE140: =IF(N140="základná",J140,0) -> 0 | BF140: =IF(N140="znížená",J140,0) -> 0 | BG140: =IF(N140="zákl. prenesená",J140,0) -> 0 | BH140: =IF(N140="zníž. prenesená",J140,0) -> 0 | BI140: =IF(N140="nulová",J140,0) -> 0 | BJ140: 2 | BK140: =ROUND(I140*H140,3) -> 0 | BL140: 4 | BM140: -810408578
C141: 5 | D141: K | E141: 174203301.S | F141: Zásyp pre drény zberné a zvodné hĺbky do 1, 30 m | G141: m | H141: 207.755 | J141: =ROUND(I141*H141,3) -> 0 | N141: znížená | P141: =O141*H141 -> 0 | Q141: 0 | R141: =Q141*H141 -> 0 | S141: 0 | T141: =S141*H141 -> 0 | AR141: 4 | AT141: K | AU141: 2 | AY141: ROZPOCET | BE141: =IF(N141="základná",J141,0) -> 0 | BF141: =IF(N141="znížená",J141,0) -> 0 | BG141: =IF(N141="zákl. prenesená",J141,0) -> 0 | BH141: =IF(N141="zníž. prenesená",J141,0) -> 0 | BI141: =IF(N141="nulová",J141,0) -> 0 | BJ141: 2 | BK141: =ROUND(I141*H141,3) -> 0 | BL141: 4 | BM141: -1662626717
C142: 6 | D142: K | E142: 181101102.S | F142: Úprava pláne v zárezoch v hornine 1-4 so zhutnením | G142: m2 | H142: 1000 | J142: =ROUND(I142*H142,3) -> 0 | N142: znížená | P142: =O142*H142 -> 0 | Q142: 0 | R142: =Q142*H142 -> 0 | S142: 0 | T142: =S142*H142 -> 0 | AR142: 4 | AT142: K | AU142: 2 | AY142: ROZPOCET | BE142: =IF(N142="základná",J142,0) -> 0 | BF142: =IF(N142="znížená",J142,0) -> 0 | BG142: =IF(N142="zákl. prenesená",J142,0) -> 0 | BH142: =IF(N142="zníž. prenesená",J142,0) -> 0 | BI142: =IF(N142="nulová",J142,0) -> 0 | BJ142: 2 | BK142: =ROUND(I142*H142,3) -> 0 | BL142: 4 | BM142: 744521960
C143: 7 | D143: K | E143: 182301131.S | F143: Rozprestretie ornice na svahu so sklonom nad 1:5, plocha nad 500 m2, hr.do 100 mm | G143: m2 | H143: 1000 | J143: =ROUND(I143*H143,3) -> 0 | N143: znížená | P143: =O143*H143 -> 0 | Q143: 0 | R143: =Q143*H143 -> 0 | S143: 0 | T143: =S143*H143 -> 0 | AR143: 4 | AT143: K | AU143: 2 | AY143: ROZPOCET | BE143: =IF(N143="základná",J143,0) -> 0 | BF143: =IF(N143="znížená",J143,0) -> 0 | BG143: =IF(N143="zákl. prenesená",J143,0) -> 0 | BH143: =IF(N143="zníž. prenesená",J143,0) -> 0 | BI143: =IF(N143="nulová",J143,0) -> 0 | BJ143: 2 | BK143: =ROUND(I143*H143,3) -> 0 | BL143: 4 | BM143: -1390637714
D144: D | E144: 2 | F144: Zakladanie | J144: =BK144 -> 0 | P144: =SUM(P145:P146) -> 0 | R144: =SUM(R145:R146) -> 0.0138567 | T144: =SUM(T145:T146) -> 0 | AR144: 1 | AT144: D | AU144: 1 | AY144: ROZPOCET | BK144: =SUM(BK145:BK146) -> 0
C145: 8 | D145: K | E145: 212971111.S | F145: Opláštenie drenážnych rúr filtračnou textíliou DN 65 | G145: m | H145: 172.97 | J145: =ROUND(I145*H145,3) -> 0 | N145: znížená | P145: =O145*H145 -> 0 | Q145: 6e-05 | R145: =Q145*H145 -> 0.0103782 | S145: 0 | T145: =S145*H145 -> 0 | AR145: 4 | AT145: K | AU145: 2 | AY145: ROZPOCET | BE145: =IF(N145="základná",J145,0) -> 0 | BF145: =IF(N145="znížená",J145,0) -> 0 | BG145: =IF(N145="zákl. prenesená",J145,0) -> 0 | BH145: =IF(N145="zníž. prenesená",J145,0) -> 0 | BI145: =IF(N145="nulová",J145,0) -> 0 | BJ145: 2 | BK145: =ROUND(I145*H145,3) -> 0 | BL145: 4 | BM145: -442252797
C146: 9 | D146: K | E146: 212971112.S | F146: Opláštenie drenážnych rúr filtračnou textíliou DN 100 | G146: m | H146: 34.785 | J146: =ROUND(I146*H146,3) -> 0 | N146: znížená | P146: =O146*H146 -> 0 | Q146: 0.0001 | R146: =Q146*H146 -> 0.0034785 | S146: 0 | T146: =S146*H146 -> 0 | AR146: 4 | AT146: K | AU146: 2 | AY146: ROZPOCET | BE146: =IF(N146="základná",J146,0) -> 0 | BF146: =IF(N146="znížená",J146,0) -> 0 | BG146: =IF(N146="zákl. prenesená",J146,0) -> 0 | BH146: =IF(N146="zníž. prenesená",J146,0) -> 0 | BI146: =IF(N146="nulová",J146,0) -> 0 | BJ146: 2 | BK146: =ROUND(I146*H146,3) -> 0 | BL146: 4 | BM146: -574002394
D147: D | E147: 4 | F147: Vodorovné konštrukcie | J147: =BK147 -> 0 | P147: =P148 -> 0 | R147: =R148 -> 17.669563 | T147: =T148 -> 0 | AR147: 1 | AT147: D | AU147: 1 | AY147: ROZPOCET | BK147: =BK148 -> 0
C148: 10 | D148: K | E148: 451538111.S | F148: Dno ryhy pod drenážne potrubie spevnené štrkom drveným hr. do 150 mm | G148: m | H148: 207.755 | J148: =ROUND(I148*H148,3) -> 0 | N148: znížená | P148: =O148*H148 -> 0 | Q148: 0.08505 | R148: =Q148*H148 -> 17.669563 | S148: 0 | T148: =S148*H148 -> 0 | AR148: 4 | AT148: K | AU148: 2 | AY148: ROZPOCET | BE148: =IF(N148="základná",J148,0) -> 0 | BF148: =IF(N148="znížená",J148,0) -> 0 | BG148: =IF(N148="zákl. prenesená",J148,0) -> 0 | BH148: =IF(N148="zníž. prenesená",J148,0) -> 0 | BI148: =IF(N148="nulová",J148,0) -> 0 | BJ148: 2 | BK148: =ROUND(I148*H148,3) -> 0 | BL148: 4 | BM148: 664873262
D149: D | E149: 5 | F149: Komunikácie | J149: =BK149 -> 0 | P149: =SUM(P150:P153) -> 0 | R149: =SUM(R150:R153) -> 402.2 | T149: =SUM(T150:T153) -> 0 | AR149: 1 | AT149: D | AU149: 1 | AY149: ROZPOCET | BK149: =SUM(BK150:BK153) -> 0
C150: 11 | D150: K | E150: 564521111.S | F150: Zhotovenie podsypu alebo podkladu zo sypaniny, po zhutnení hr. 50 mm | G150: m2 | H150: 1000 | J150: =ROUND(I150*H150,3) -> 0 | N150: znížená | P150: =O150*H150 -> 0 | Q150: 0 | R150: =Q150*H150 -> 0 | S150: 0 | T150: =S150*H150 -> 0 | AR150: 4 | AT150: K | AU150: 2 | AY150: ROZPOCET | BE150: =IF(N150="základná",J150,0) -> 0 | BF150: =IF(N150="znížená",J150,0) -> 0 | BG150: =IF(N150="zákl. prenesená",J150,0) -> 0 | BH150: =IF(N150="zníž. prenesená",J150,0) -> 0 | BI150: =IF(N150="nulová",J150,0) -> 0 | BJ150: 2 | BK150: =ROUND(I150*H150,3) -> 0 | BL150: 4 | BM150: 1675932660
C151: 12 | D151: M | E151: 581530000900.S | F151: Piesok kremičitý podiel kremeňa 98%, frakcia 0,1-0,2 mm, balenie 25kg | G151: bal | H151: 200 | J151: =ROUND(I151*H151,3) -> 0 | N151: znížená | P151: =O151*H151 -> 0 | Q151: 0.025 | R151: =Q151*H151 -> 5 | S151: 0 | T151: =S151*H151 -> 0 | AR151: 8 | AT151: M | AU151: 2 | AY151: ROZPOCET | BE151: =IF(N151="základná",J151,0) -> 0 | BF151: =IF(N151="znížená",J151,0) -> 0 | BG151: =IF(N151="zákl. prenesená",J151,0) -> 0 | BH151: =IF(N151="zníž. prenesená",J151,0) -> 0 | BI151: =IF(N151="nulová",J151,0) -> 0 | BJ151: 2 | BK151: =ROUND(I151*H151,3) -> 0 | BL151: 4 | BM151: -857830156
C152: 13 | D152: K | E152: 564750111.S | F152: Podklad alebo kryt z kameniva hrubého drveného veľ. 8-16 mm s rozprestretím a zhutnením hr. 150 mm | G152: m2 | H152: 1000 | J152: =ROUND(I152*H152,3) -> 0 | N152: znížená | P152: =O152*H152 -> 0 | Q152: 0.299 | R152: =Q152*H152 -> 299 | S152: 0 | T152: =S152*H152 -> 0 | AR152: 4 | AT152: K | AU152: 2 | AY152: ROZPOCET | BE152: =IF(N152="základná",J152,0) -> 0 | BF152: =IF(N152="znížená",J152,0) -> 0 | BG152: =IF(N152="zákl. prenesená",J152,0) -> 0 | BH152: =IF(N152="zníž. prenesená",J152,0) -> 0 | BI152: =IF(N152="nulová",J152,0) -> 0 | BJ152: 2 | BK152: =ROUND(I152*H152,3) -> 0 | BL152: 4 | BM152: 292209721
C153: 14 | D153: K | E153: 564811111.S | F153: Podklad zo štrkodrviny s rozprestretím a zhutnením, po zhutnení hr. 50 mm | G153: m2 | H153: 1000 | J153: =ROUND(I153*H153,3) -> 0 | N153: znížená | P153: =O153*H153 -> 0 | Q153: 0.0982 | R153: =Q153*H153 -> 98.2 | S153: 0 | T153: =S153*H153 -> 0 | AR153: 4 | AT153: K | AU153: 2 | AY153: ROZPOCET | BE153: =IF(N153="základná",J153,0) -> 0 | BF153: =IF(N153="znížená",J153,0) -> 0 | BG153: =IF(N153="zákl. prenesená",J153,0) -> 0 | BH153: =IF(N153="zníž. prenesená",J153,0) -> 0 | BI153: =IF(N153="nulová",J153,0) -> 0 | BJ153: 2 | BK153: =ROUND(I153*H153,3) -> 0 | BL153: 4 | BM153: -1097514564
D154: D | E154: 8 | F154: Rúrové vedenie | J154: =BK154 -> 0 | P154: =SUM(P155:P162) -> 0 | R154: =SUM(R155:R162) -> 0.0511037 | T154: =SUM(T155:T162) -> 0 | AR154: 1 | AT154: D | AU154: 1 | AY154: ROZPOCET | BK154: =SUM(BK155:BK162) -> 0
C155: 15 | D155: K | E155: 871218113.S | F155: Ukladanie drenážneho potrubia do pripravenej ryhy z flexibilného PVC priemeru do 65 mm | G155: m | H155: 172.97 | J155: =ROUND(I155*H155,3) -> 0 | N155: znížená | P155: =O155*H155 -> 0 | Q155: 0 | R155: =Q155*H155 -> 0 | S155: 0 | T155: =S155*H155 -> 0 | AR155: 4 | AT155: K | AU155: 2 | AY155: ROZPOCET | BE155: =IF(N155="základná",J155,0) -> 0 | BF155: =IF(N155="znížená",J155,0) -> 0 | BG155: =IF(N155="zákl. prenesená",J155,0) -> 0 | BH155: =IF(N155="zníž. prenesená",J155,0) -> 0 | BI155: =IF(N155="nulová",J155,0) -> 0 | BJ155: 2 | BK155: =ROUND(I155*H155,3) -> 0 | BL155: 4 | BM155: 1915726469
C156: 16 | D156: M | E156: 286110014800.S | F156: Flexibilná drenážna PVC-U rúra DN 65, perforovaná | G156: m | H156: 172.97 | J156: =ROUND(I156*H156,3) -> 0 | N156: znížená | P156: =O156*H156 -> 0 | Q156: 0.0002 | R156: =Q156*H156 -> 0.034594 | S156: 0 | T156: =S156*H156 -> 0 | AR156: 8 | AT156: M | AU156: 2 | AY156: ROZPOCET | BE156: =IF(N156="základná",J156,0) -> 0 | BF156: =IF(N156="znížená",J156,0) -> 0 | BG156: =IF(N156="zákl. prenesená",J156,0) -> 0 | BH156: =IF(N156="zníž. prenesená",J156,0) -> 0 | BI156: =IF(N156="nulová",J156,0) -> 0 | BJ156: 2 | BK156: =ROUND(I156*H156,3) -> 0 | BL156: 4 | BM156: -434979462
C157: 17 | D157: M | E157: 286520033900.S | F157: Odbočka PVC pre drenážne rúry DN 65/65/45° | G157: ks | H157: 1 | J157: =ROUND(I157*H157,3) -> 0 | N157: znížená | P157: =O157*H157 -> 0 | Q157: 0.00014 | R157: =Q157*H157 -> 0.00014 | S157: 0 | T157: =S157*H157 -> 0 | AR157: 8 | AT157: M | AU157: 2 | AY157: ROZPOCET | BE157: =IF(N157="základná",J157,0) -> 0 | BF157: =IF(N157="znížená",J157,0) -> 0 | BG157: =IF(N157="zákl. prenesená",J157,0) -> 0 | BH157: =IF(N157="zníž. prenesená",J157,0) -> 0 | BI157: =IF(N157="nulová",J157,0) -> 0 | BJ157: 2 | BK157: =ROUND(I157*H157,3) -> 0 | BL157: 4 | BM157: -652091693
C158: 18 | D158: M | E158: 286520001000.S | F158: Drenážny PVC oblúk DN 65/90° | G158: ks | H158: 1 | J158: =ROUND(I158*H158,3) -> 0 | N158: znížená | P158: =O158*H158 -> 0 | Q158: 0.00015 | R158: =Q158*H158 -> 0.00015 | S158: 0 | T158: =S158*H158 -> 0 | AR158: 8 | AT158: M | AU158: 2 | AY158: ROZPOCET | BE158: =IF(N158="základná",J158,0) -> 0 | BF158: =IF(N158="znížená",J158,0) -> 0 | BG158: =IF(N158="zákl. prenesená",J158,0) -> 0 | BH158: =IF(N158="zníž. prenesená",J158,0) -> 0 | BI158: =IF(N158="nulová",J158,0) -> 0 | BJ158: 2 | BK158: =ROUND(I158*H158,3) -> 0 | BL158: 4 | BM158: 871394365
C159: 19 | D159: M | E159: 286520017300.S | F159: Zátka PVC pre drenážne rúry DN 65 | G159: ks | H159: 7 | J159: =ROUND(I159*H159,3) -> 0 | N159: znížená | P159: =O159*H159 -> 0 | Q159: 5e-05 | R159: =Q159*H159 -> 0.00035 | S159: 0 | T159: =S159*H159 -> 0 | AR159: 8 | AT159: M | AU159: 2 | AY159: ROZPOCET | BE159: =IF(N159="základná",J159,0) -> 0 | BF159: =IF(N159="znížená",J159,0) -> 0 | BG159: =IF(N159="zákl. prenesená",J159,0) -> 0 | BH159: =IF(N159="zníž. prenesená",J159,0) -> 0 | BI159: =IF(N159="nulová",J159,0) -> 0 | BJ159: 2 | BK159: =ROUND(I159*H159,3) -> 0 | BL159: 4 | BM159: -1055408831
C160: 20 | D160: K | E160: 871228111.S | F160: Ukladanie drenážneho potrubia do pripravenej ryhy z tvrdého PVC priemeru nad 90 do 150 mm | G160: m | H160: 34.785 | J160: =ROUND(I160*H160,3) -> 0 | N160: znížená | P160: =O160*H160 -> 0 | Q160: 0 | R160: =Q160*H160 -> 0 | S160: 0 | T160: =S160*H160 -> 0 | AR160: 4 | AT160: K | AU160: 2 | AY160: ROZPOCET | BE160: =IF(N160="základná",J160,0) -> 0 | BF160: =IF(N160="znížená",J160,0) -> 0 | BG160: =IF(N160="zákl. prenesená",J160,0) -> 0 | BH160: =IF(N160="zníž. prenesená",J160,0) -> 0 | BI160: =IF(N160="nulová",J160,0) -> 0 | BJ160: 2 | BK160: =ROUND(I160*H160,3) -> 0 | BL160: 4 | BM160: 787875661
C161: 21 | D161: M | E161: 286110015000.S | F161: Flexibilná drenážna PVC-U rúra DN 100, perforovaná | G161: m | H161: 34.785 | J161: =ROUND(I161*H161,3) -> 0 | N161: znížená | P161: =O161*H161 -> 0 | Q161: 0.00042 | R161: =Q161*H161 -> 0.0146097 | S161: 0 | T161: =S161*H161 -> 0 | AR161: 8 | AT161: M | AU161: 2 | AY161: ROZPOCET | BE161: =IF(N161="základná",J161,0) -> 0 | BF161: =IF(N161="znížená",J161,0) -> 0 | BG161: =IF(N161="zákl. prenesená",J161,0) -> 0 | BH161: =IF(N161="zníž. prenesená",J161,0) -> 0 | BI161: =IF(N161="nulová",J161,0) -> 0 | BJ161: 2 | BK161: =ROUND(I161*H161,3) -> 0 | BL161: 4 | BM161: -9106718
C162: 22 | D162: M | E162: 286520034100.S | F162: Odbočka PVC pre drenážne rúry DN 100/65/45° | G162: ks | H162: 6 | J162: =ROUND(I162*H162,3) -> 0 | N162: znížená | P162: =O162*H162 -> 0 | Q162: 0.00021 | R162: =Q162*H162 -> 0.00126 | S162: 0 | T162: =S162*H162 -> 0 | AR162: 8 | AT162: M | AU162: 2 | AY162: ROZPOCET | BE162: =IF(N162="základná",J162,0) -> 0 | BF162: =IF(N162="znížená",J162,0) -> 0 | BG162: =IF(N162="zákl. prenesená",J162,0) -> 0 | BH162: =IF(N162="zníž. prenesená",J162,0) -> 0 | BI162: =IF(N162="nulová",J162,0) -> 0 | BJ162: 2 | BK162: =ROUND(I162*H162,3) -> 0 | BL162: 4 | BM162: 821097288
D163: D | E163: 9 | F163: Ostatné konštrukcie a práce-búranie | J163: =BK163 -> 0 | P163: =SUM(P164:P166) -> 0 | R163: =SUM(R164:R166) -> 34.750025 | T163: =SUM(T164:T166) -> 0 | AR163: 1 | AT163: D | AU163: 1 | AY163: ROZPOCET | BK163: =SUM(BK164:BK166) -> 0
C164: 23 | D164: K | E164: 916561112.S | F164: Osadenie záhonového alebo parkového obrubníka betón., do lôžka z bet. pros. tr. C 16/20 s bočnou oporou | G164: m | H164: 146 | J164: =ROUND(I164*H164,3) -> 0 | N164: znížená | P164: =O164*H164 -> 0 | Q164: 0.09853 | R164: =Q164*H164 -> 14.38538 | S164: 0 | T164: =S164*H164 -> 0 | AR164: 4 | AT164: K | AU164: 2 | AY164: ROZPOCET | BE164: =IF(N164="základná",J164,0) -> 0 | BF164: =IF(N164="znížená",J164,0) -> 0 | BG164: =IF(N164="zákl. prenesená",J164,0) -> 0 | BH164: =IF(N164="zníž. prenesená",J164,0) -> 0 | BI164: =IF(N164="nulová",J164,0) -> 0 | BJ164: 2 | BK164: =ROUND(I164*H164,3) -> 0 | BL164: 4 | BM164: 1367188486
C165: 24 | D165: M | E165: 592170002000.S | F165: Obrubník záhradný, lxšxv 500x50x150 mm, prírodný | G165: ks | H165: 292 | J165: =ROUND(I165*H165,3) -> 0 | N165: znížená | P165: =O165*H165 -> 0 | Q165: 0.00875 | R165: =Q165*H165 -> 2.555 | S165: 0 | T165: =S165*H165 -> 0 | AR165: 8 | AT165: M | AU165: 2 | AY165: ROZPOCET | BE165: =IF(N165="základná",J165,0) -> 0 | BF165: =IF(N165="znížená",J165,0) -> 0 | BG165: =IF(N165="zákl. prenesená",J165,0) -> 0 | BH165: =IF(N165="zníž. prenesená",J165,0) -> 0 | BI165: =IF(N165="nulová",J165,0) -> 0 | BJ165: 2 | BK165: =ROUND(I165*H165,3) -> 0 | BL165: 4 | BM165: -94335313
C166: 25 | D166: K | E166: 918101112.S | F166: Lôžko pod obrubníky, krajníky alebo obruby z dlažobných kociek z betónu prostého tr. C 16/20 | G166: m3 | H166: 8.04 | J166: =ROUND(I166*H166,3) -> 0 | N166: znížená | P166: =O166*H166 -> 0 | Q166: 2.21513 | R166: =Q166*H166 -> 17.809645 | S166: 0 | T166: =S166*H166 -> 0 | AR166: 4 | AT166: K | AU166: 2 | AY166: ROZPOCET | BE166: =IF(N166="základná",J166,0) -> 0 | BF166: =IF(N166="znížená",J166,0) -> 0 | BG166: =IF(N166="zákl. prenesená",J166,0) -> 0 | BH166: =IF(N166="zníž. prenesená",J166,0) -> 0 | BI166: =IF(N166="nulová",J166,0) -> 0 | BJ166: 2 | BK166: =ROUND(I166*H166,3) -> 0 | BL166: 4 | BM166: -1049333417
...

Sheet 02 - SO 02 Ihrisko pre ka...
L2: >> skryté stĺpce << | AT2: {553778c6-0cb3-4784-898b-f661c69533f8}
AT3: 0
D4: KRYCÍ LIST ROZPOČTU | M4: v --- nižšie sa nachádzajú doplnkové a pomocné údaje k zostavám --- v | AT4: False
D6: Stavba:
E7: ='Rekapitulácia stavby'!K6 -> Revitalizácia športoveho areálu Slavoj Trebišov - opakovaná
D8: Objekt:
E9: 02 - SO 02 Ihrisko pre kategoriu U8, U9
D11: JKSO: | I11: KS:
D12: Miesto: | F12: Trebišov | I12: Dátum: | J12: ='Rekapitulácia stavby'!AN8 -> 10. 2. 2021
D14: Objednávateľ: | I14: IČO:
E15: Mesto Trebišov | I15: IČ DPH:
D17: Zhotoviteľ: | I17: IČO: | J17: ='Rekapitulácia stavby'!AN13 -> Vyplň údaj
E18: ='Rekapitulácia stavby'!E14 -> Vyplň údaj | I18: IČ DPH: | J18: ='Rekapitulácia stavby'!AN14 -> Vyplň údaj
D20: Projektant: | I20: IČO: | J20: =IF('Rekapitulácia stavby'!AN16="","",'Rekapitulácia stavby'!AN16)
E21: =IF('Rekapitulácia stavby'!E17="","",'Rekapitulácia stavby'!E17) | I21: IČ DPH: | J21: =IF('Rekapitulácia stavby'!AN17="","",'Rekapitulácia stavby'!AN17)
D23: Spracovateľ: | I23: IČO: | J23: =IF('Rekapitulácia stavby'!AN19="","",'Rekapitulácia stavby'!AN19)
E24: =IF('Rekapitulácia stavby'!E20="","",'Rekapitulácia stavby'!E20) | I24: IČ DPH: | J24: =IF('Rekapitulácia stavby'!AN20="","",'Rekapitulácia stavby'!AN20)
D26: Poznámka:
D30: Náklady z rozpočtu | J30: =J96 -> 0
D31: Ostatné náklady | J31: =J107 -> 0
D32: Cena bez DPH | J32: =ROUND(J30 + J31, 2) -> 0
F34: Základ dane | I34: Sadzba dane | J34: Výška dane
D35: DPH | E35: základná | F35: =ROUND((SUM(BE107:BE114) + SUM(BE134:BE171)), 2) -> 0 | I35: 0.2 | J35: =ROUND(((SUM(BE107:BE114) + SUM(BE134:BE171))*I35), 2) -> 0
E36: znížená | F36: =ROUND((SUM(BF107:BF114) + SUM(BF134:BF171)), 2) -> 0 | I36: 0.2 | J36: =ROUND(((SUM(BF107:BF114) + SUM(BF134:BF171))*I36), 2) -> 0
E37: zákl. prenesená | F37: =ROUND((SUM(BG107:BG114) + SUM(BG134:BG171)), 2) -> 0 | I37: 0.2 | J37: =0 -> 0
E38: zníž. prenesená | F38: =ROUND((SUM(BH107:BH114) + SUM(BH134:BH171)), 2) -> 0 | I38: 0.2 | J38: =0 -> 0
E39: nulová | F39: =ROUND((SUM(BI107:BI114) + SUM(BI134:BI171)), 2) -> 0 | I39: 0 | J39: =0 -> 0
D41: Cena s DPH | G41: v | H41: EUR | J41: =SUM(J32:J39) -> 0
D50: Projektant | G50: Spracovateľ
D61: Dátum a podpis: | F61: Pečiatka | G61: Dátum a podpis: | J61: Pečiatka
D65: Objednávateľ | G65: Zhotoviteľ
D76: Dátum a podpis: | F76: Pečiatka | G76: Dátum a podpis: | J76: Pečiatka
C82: REKAPITULÁCIA ROZPOČTU
C84: Stavba:
E85: =E7 -> Revitalizácia športoveho areálu Slavoj Trebišov - opakovaná
C86: Objekt:
E87: =E9 -> 02 - SO 02 Ihrisko pre kategoriu U8, U9
C89: Miesto: | F89: =F12 -> Trebišov | I89: Dátum: | J89: =IF(J12="","",J12) -> 10. 2. 2021
C91: Objednávateľ: | F91: =E15 -> Mesto Trebišov | I91: Projektant: | J91: =E21
C92: Zhotoviteľ: | F92: =IF(E18="","",E18) -> Vyplň údaj | I92: Spracovateľ: | J92: =E24
C94: Kód dielu - Popis | J94: Cena celkom [EUR]
C96: 1) Náklady z rozpočtu | J96: =J134 -> 0 | AU96: -1
D97: HSV - Práce a dodávky HSV | J97: =J135 -> 0
D98: 1 - Zemné práce | J98: =J136 -> 0
D99: 2 - Zakladanie | J99: =J146 -> 0
D100: 4 - Vodorovné konštrukcie | J100: =J149 -> 0
D101: 5 - Komunikácie | J101: =J151 -> 0
D102: 8 - Rúrové vedenie | J102: =J156 -> 0
D103: 9 - Ostatné konštrukcie a práce-búranie | J103: =J166 -> 0
D104: 99 - Presun hmôt HSV | J104: =J170 -> 0
C107: 2) Ostatné náklady | J107: =ROUND(J108 + J109 + J110 + J111 + J112 + J113,2) -> 0 | N107: DPH
D108: Zariad. staveniska | J108: 0 | N108: znížená | AY108: VRN | BE108: =IF(N108="základná",J108,0) -> 0 | BF108: =IF(N108="znížená",J108,0) -> 0 | BG108: =IF(N108="zákl. prenesená",J108,0) -> 0 | BH108: =IF(N108="zníž. prenesená",J108,0) -> 0 | BI108: =IF(N108="nulová",J108,0) -> 0 | BJ108: 2
D109: Mimostav. doprava | J109: 0 | N109: znížená | AY109: VRN | BE109: =IF(N109="základná",J109,0) -> 0 | BF109: =IF(N109="znížená",J109,0) -> 0 | BG109: =IF(N109="zákl. prenesená",J109,0) -> 0 | BH109: =IF(N109="zníž. prenesená",J109,0) -> 0 | BI109: =IF(N109="nulová",J109,0) -> 0 | BJ109: 2
D110: Územné vplyvy | J110: 0 | N110: znížená | AY110: VRN | BE110: =IF(N110="základná",J110,0) -> 0 | BF110: =IF(N110="znížená",J110,0) -> 0 | BG110: =IF(N110="zákl. prenesená",J110,0) -> 0 | BH110: =IF(N110="zníž. prenesená",J110,0) -> 0 | BI110: =IF(N110="nulová",J110,0) -> 0 | BJ110: 2
D111: Prevádzkové vplyvy | J111: 0 | N111: znížená | AY111: VRN | BE111: =IF(N111="základná",J111,0) -> 0 | BF111: =IF(N111="znížená",J111,0) -> 0 | BG111: =IF(N111="zákl. prenesená",J111,0) -> 0 | BH111: =IF(N111="zníž. prenesená",J111,0) -> 0 | BI111: =IF(N111="nulová",J111,0) -> 0 | BJ111: 2
D112: Ostatné | J112: 0 | N112: znížená | AY112: VRN | BE112: =IF(N112="základná",J112,0) -> 0 | BF112: =IF(N112="znížená",J112,0) -> 0 | BG112: =IF(N112="zákl. prenesená",J112,0) -> 0 | BH112: =IF(N112="zníž. prenesená",J112,0) -> 0 | BI112: =IF(N112="nulová",J112,0) -> 0 | BJ112: 2
D113: Kompletačná činnosť | J113: =ROUND(J30*T113,2) -> 0 | N113: znížená | AY113: KOMPLETACNA | BE113: =IF(N113="základná",J113,0) -> 0 | BF113: =IF(N113="znížená",J113,0) -> 0 | BG113: =IF(N113="zákl. prenesená",J113,0) -> 0 | BH113: =IF(N113="zníž. prenesená",J113,0) -> 0 | BI113: =IF(N113="nulová",J113,0) -> 0 | BJ113: 2
C115: Celkové náklady za stavbu 1) + 2) | J115: =ROUND(J96+J107,2) -> 0
C121: ROZPOČET
C123: Stavba:
E124: =E7 -> Revitalizácia športoveho areálu Slavoj Trebišov - opakovaná
C125: Objekt:
E126: =E9 -> 02 - SO 02 Ihrisko pre kategoriu U8, U9
C128: Miesto: | F128: =F12 -> Trebišov | I128: Dátum: | J128: =IF(J12="","",J12) -> 10. 2. 2021
C130: Objednávateľ: | F130: =E15 -> Mesto Trebišov | I130: Projektant: | J130: =E21
C131: Zhotoviteľ: | F131: =IF(E18="","",E18) -> Vyplň údaj | I131: Spracovateľ: | J131: =E24
C133: PČ | D133: Typ | E133: Kód | F133: Popis | G133: MJ | H133: Množstvo | I133: J.cena [EUR] | J133: Cena celkom [EUR] | K133: Cenová sústava | N133: DPH | O133: J. Nh [h] | P133: Nh celkom [h] | Q133: J. hmotnosť [t] | R133: Hmotnosť celkom [t] | S133: J. suť [t] | T133: Suť Celkom [t]
C134: Náklady z rozpočtu | J134: =BK134 -> 0 | P134: =P135 -> 0 | R134: =R135 -> 284.68018 | T134: =T135 -> 0 | AT134: D | AU134: -1 | BK134: =BK135 -> 0
D135: D | E135: HSV | F135: Práce a dodávky HSV | J135: =BK135 -> 0 | P135: =P136+P146+P149+P151+P156+P166+P170 -> 0 | R135: =R136+R146+R149+R151+R156+R166+R170 -> 284.68018 | T135: =T136+T146+T149+T151+T156+T166+T170 -> 0 | AR135: 1 | AT135: D | AU135: 0 | AY135: ROZPOCET | BK135: =BK136+BK146+BK149+BK151+BK156+BK166+BK170 -> 0
D136: D | E136: 1 | F136: Zemné práce | J136: =BK136 -> 0 | P136: =SUM(P137:P145) -> 0 | R136: =SUM(R137:R145) -> 0 | T136: =SUM(T137:T145) -> 0 | AR136: 1 | AT136: D | AU136: 1 | AY136: ROZPOCET | BK136: =SUM(BK137:BK145) -> 0
C137: 1 | D137: K | E137: 122201102.S | F137: Odkopávka a prekopávka nezapažená v hornine 3, nad 100 do 1000 m3 | G137: m3 | H137: 210 | J137: =ROUND(I137*H137,3) -> 0 | N137: znížená | P137: =O137*H137 -> 0 | Q137: 0 | R137: =Q137*H137 -> 0 | S137: 0 | T137: =S137*H137 -> 0 | AR137: 4 | AT137: K | AU137: 2 | AY137: ROZPOCET | BE137: =IF(N137="základná",J137,0) -> 0 | BF137: =IF(N137="znížená",J137,0) -> 0 | BG137: =IF(N137="zákl. prenesená",J137,0) -> 0 | BH137: =IF(N137="zníž. prenesená",J137,0) -> 0 | BI137: =IF(N137="nulová",J137,0) -> 0 | BJ137: 2 | BK137: =ROUND(I137*H137,3) -> 0 | BL137: 4 | BM137: 1984580692
C138: 2 | D138: K | E138: 122201109.S | F138: Odkopávky a prekopávky nezapažené. Príplatok k cenám za lepivosť horniny 3 | G138: m3 | H138: 210 | J138: =ROUND(I138*H138,3) -> 0 | N138: znížená | P138: =O138*H138 -> 0 | Q138: 0 | R138: =Q138*H138 -> 0 | S138: 0 | T138: =S138*H138 -> 0 | AR138: 4 | AT138: K | AU138: 2 | AY138: ROZPOCET | BE138: =IF(N138="základná",J138,0) -> 0 | BF138: =IF(N138="znížená",J138,0) -> 0 | BG138: =IF(N138="zákl. prenesená",J138,0) -> 0 | BH138: =IF(N138="zníž. prenesená",J138,0) -> 0 | BI138: =IF(N138="nulová",J138,0) -> 0 | BJ138: 2 | BK138: =ROUND(I138*H138,3) -> 0 | BL138: 4 | BM138: 110378857
C139: 3 | D139: K | E139: 132203302.S | F139: Výkop ryhy pre dreny zberné aj zvodné hĺbky do 1, 3m horn.3 | G139: m | H139: 145.91 | J139: =ROUND(I139*H139,3) -> 0 | N139: znížená | P139: =O139*H139 -> 0 | Q139: 0 | R139: =Q139*H139 -> 0 | S139: 0 | T139: =S139*H139 -> 0 | AR139: 4 | AT139: K | AU139: 2 | AY139: ROZPOCET | BE139: =IF(N139="základná",J139,0) -> 0 | BF139: =IF(N139="znížená",J139,0) -> 0 | BG139: =IF(N139="zákl. prenesená",J139,0) -> 0 | BH139: =IF(N139="zníž. prenesená",J139,0) -> 0 | BI139: =IF(N139="nulová",J139,0) -> 0 | BJ139: 2 | BK139: =ROUND(I139*H139,3) -> 0 | BL139: 4 | BM139: -960865757
C140: 4 | D140: K | E140: 133201101.S | F140: Výkop šachty zapaženej, hornina 3 do 100 m3 | G140: m3 | H140: 6 | J140: =ROUND(I140*H140,3) -> 0 | N140: znížená | P140: =O140*H140 -> 0 | Q140: 0 | R140: =Q140*H140 -> 0 | S140: 0 | T140: =S140*H140 -> 0 | AR140: 4 | AT140: K | AU140: 2 | AY140: ROZPOCET | BE140: =IF(N140="základná",J140,0) -> 0 | BF140: =IF(N140="znížená",J140,0) -> 0 | BG140: =IF(N140="zákl. prenesená",J140,0) -> 0 | BH140: =IF(N140="zníž. prenesená",J140,0) -> 0 | BI140: =IF(N140="nulová",J140,0) -> 0 | BJ140: 2 | BK140: =ROUND(I140*H140,3) -> 0 | BL140: 4 | BM140: 1721575971
C141: 5 | D141: K | E141: 133201109.S | F141: Príplatok k cenám za lepivosť pri hĺbení šachiet zapažených i nezapažených v hornine 3 | G141: m3 | H141: 6 | J141: =ROUND(I141*H141,3) -> 0 | N141: znížená | P141: =O141*H141 -> 0 | Q141: 0 | R141: =Q141*H141 -> 0 | S141: 0 | T141: =S141*H141 -> 0 | AR141: 4 | AT141: K | AU141: 2 | AY141: ROZPOCET | BE141: =IF(N141="základná",J141,0) -> 0 | BF141: =IF(N141="znížená",J141,0) -> 0 | BG141: =IF(N141="zákl. prenesená",J141,0) -> 0 | BH141: =IF(N141="zníž. prenesená",J141,0) -> 0 | BI141: =IF(N141="nulová",J141,0) -> 0 | BJ141: 2 | BK141: =ROUND(I141*H141,3) -> 0 | BL141: 4 | BM141: 644847812
C142: 6 | D142: K | E142: 162501102.S | F142: Vodorovné premiestnenie výkopku po spevnenej ceste z horniny tr.1-4, do 100 m3 na vzdialenosť do 3000 m | G142: m3 | H142: 210 | J142: =ROUND(I142*H142,3) -> 0 | N142: znížená | P142: =O142*H142 -> 0 | Q142: 0 | R142: =Q142*H142 -> 0 | S142: 0 | T142: =S142*H142 -> 0 | AR142: 4 | AT142: K | AU142: 2 | AY142: ROZPOCET | BE142: =IF(N142="základná",J142,0) -> 0 | BF142: =IF(N142="znížená",J142,0) -> 0 | BG142: =IF(N142="zákl. prenesená",J142,0) -> 0 | BH142: =IF(N142="zníž. prenesená",J142,0) -> 0 | BI142: =IF(N142="nulová",J142,0) -> 0 | BJ142: 2 | BK142: =ROUND(I142*H142,3) -> 0 | BL142: 4 | BM142: -2097411641
C143: 7 | D143: K | E143: 174203301.S | F143: Zásyp pre drény zberné a zvodné hĺbky do 1, 30 m | G143: m | H143: 145.91 | J143: =ROUND(I143*H143,3) -> 0 | N143: znížená | P143: =O143*H143 -> 0 | Q143: 0 | R143: =Q143*H143 -> 0 | S143: 0 | T143: =S143*H143 -> 0 | AR143: 4 | AT143: K | AU143: 2 | AY143: ROZPOCET | BE143: =IF(N143="základná",J143,0) -> 0 | BF143: =IF(N143="znížená",J143,0) -> 0 | BG143: =IF(N143="zákl. prenesená",J143,0) -> 0 | BH143: =IF(N143="zníž. prenesená",J143,0) -> 0 | BI143: =IF(N143="nulová",J143,0) -> 0 | BJ143: 2 | BK143: =ROUND(I143*H143,3) -> 0 | BL143: 4 | BM143: -1662626717
C144: 8 | D144: K | E144: 181101102.S | F144: Úprava pláne v zárezoch v hornine 1-4 so zhutnením | G144: m2 | H144: 600 | J144: =ROUND(I144*H144,3) -> 0 | N144: znížená | P144: =O144*H144 -> 0 | Q144: 0 | R144: =Q144*H144 -> 0 | S144: 0 | T144: =S144*H144 -> 0 | AR144: 4 | AT144: K | AU144: 2 | AY144: ROZPOCET | BE144: =IF(N144="základná",J144,0) -> 0 | BF144: =IF(N144="znížená",J144,0) -> 0 | BG144: =IF(N144="zákl. prenesená",J144,0) -> 0 | BH144: =IF(N144="zníž. prenesená",J144,0) -> 0 | BI144: =IF(N144="nulová",J144,0) -> 0 | BJ144: 2 | BK144: =ROUND(I144*H144,3) -> 0 | BL144: 4 | BM144: 744521960
C145: 9 | D145: K | E145: 182301131.S | F145: Rozprestretie ornice na svahu so sklonom nad 1:5, plocha nad 500 m2, hr.do 100 mm | G145: m2 | H145: 600 | J145: =ROUND(I145*H145,3) -> 0 | N145: znížená | P145: =O145*H145 -> 0 | Q145: 0 | R145: =Q145*H145 -> 0 | S145: 0 | T145: =S145*H145 -> 0 | AR145: 4 | AT145: K | AU145: 2 | AY145: ROZPOCET | BE145: =IF(N145="základná",J145,0) -> 0 | BF145: =IF(N145="znížená",J145,0) -> 0 | BG145: =IF(N145="zákl. prenesená",J145,0) -> 0 | BH145: =IF(N145="zníž. prenesená",J145,0) -> 0 | BI145: =IF(N145="nulová",J145,0) -> 0 | BJ145: 2 | BK145: =ROUND(I145*H145,3) -> 0 | BL145: 4 | BM145: -1390637714
D146: D | E146: 2 | F146: Zakladanie | J146: =BK146 -> 0 | P146: =SUM(P147:P148) -> 0 | R146: =SUM(R147:R148) -> 0.0098746 | T146: =SUM(T147:T148) -> 0 | AR146: 1 | AT146: D | AU146: 1 | AY146: ROZPOCET | BK146: =SUM(BK147:BK148) -> 0
C147: 10 | D147: K | E147: 212971111.S | F147: Opláštenie drenážnych rúr filtračnou textíliou DN 65 | G147: m | H147: 117.91 | J147: =ROUND(I147*H147,3) -> 0 | N147: znížená | P147: =O147*H147 -> 0 | Q147: 6e-05 | R147: =Q147*H147 -> 0.0070746 | S147: 0 | T147: =S147*H147 -> 0 | AR147: 4 | AT147: K | AU147: 2 | AY147: ROZPOCET | BE147: =IF(N147="základná",J147,0) -> 0 | BF147: =IF(N147="znížená",J147,0) -> 0 | BG147: =IF(N147="zákl. prenesená",J147,0) -> 0 | BH147: =IF(N147="zníž. prenesená",J147,0) -> 0 | BI147: =IF(N147="nulová",J147,0) -> 0 | BJ147: 2 | BK147: =ROUND(I147*H147,3) -> 0 | BL147: 4 | BM147: -442252797
C148: 11 | D148: K | E148: 212971112.S | F148: Opláštenie drenážnych rúr filtračnou textíliou DN 100 | G148: m | H148: 28 | J148: =ROUND(I148*H148,3) -> 0 | N148: znížená | P148: =O148*H148 -> 0 | Q148: 0.0001 | R148: =Q148*H148 -> 0.0028 | S148: 0 | T148: =S148*H148 -> 0 | AR148: 4 | AT148: K | AU148: 2 | AY148: ROZPOCET | BE148: =IF(N148="základná",J148,0) -> 0 | BF148: =IF(N148="znížená",J148,0) -> 0 | BG148: =IF(N148="zákl. prenesená",J148,0) -> 0 | BH148: =IF(N148="zníž. prenesená",J148,0) -> 0 | BI148: =IF(N148="nulová",J148,0) -> 0 | BJ148: 2 | BK148: =ROUND(I148*H148,3) -> 0 | BL148: 4 | BM148: -574002394
D149: D | E149: 4 | F149: Vodorovné konštrukcie | J149: =BK149 -> 0 | P149: =P150 -> 0 | R149: =R150 -> 12.409645 | T149: =T150 -> 0 | AR149: 1 | AT149: D | AU149: 1 | AY149: ROZPOCET | BK149: =BK150 -> 0
C150: 12 | D150: K | E150: 451538111.S | F150: Dno ryhy pod drenážne potrubie spevnené štrkom drveným hr. do 150 mm | G150: m | H150: 145.91 | J150: =ROUND(I150*H150,3) -> 0 | N150: znížená | P150: =O150*H150 -> 0 | Q150: 0.08505 | R150: =Q150*H150 -> 12.409645 | S150: 0 | T150: =S150*H150 -> 0 | AR150: 4 | AT150: K | AU150: 2 | AY150: ROZPOCET | BE150: =IF(N150="základná",J150,0) -> 0 | BF150: =IF(N150="znížená",J150,0) -> 0 | BG150: =IF(N150="zákl. prenesená",J150,0) -> 0 | BH150: =IF(N150="zníž. prenesená",J150,0) -> 0 | BI150: =IF(N150="nulová",J150,0) -> 0 | BJ150: 2 | BK150: =ROUND(I150*H150,3) -> 0 | BL150: 4 | BM150: 664873262
D151: D | E151: 5 | F151: Komunikácie | J151: =BK151 -> 0 | P151: =SUM(P152:P155) -> 0 | R151: =SUM(R152:R155) -> 241.32 | T151: =SUM(T152:T155) -> 0 | AR151: 1 | AT151: D | AU151: 1 | AY151: ROZPOCET | BK151: =SUM(BK152:BK155) -> 0
C152: 13 | D152: K | E152: 564521111.S | F152: Zhotovenie podsypu alebo podkladu zo sypaniny, po zhutnení hr. 50 mm | G152: m2 | H152: 600 | J152: =ROUND(I152*H152,3) -> 0 | N152: znížená | P152: =O152*H152 -> 0 | Q152: 0 | R152: =Q152*H152 -> 0 | S152: 0 | T152: =S152*H152 -> 0 | AR152: 4 | AT152: K | AU152: 2 | AY152: ROZPOCET | BE152: =IF(N152="základná",J152,0) -> 0 | BF152: =IF(N152="znížená",J152,0) -> 0 | BG152: =IF(N152="zákl. prenesená",J152,0) -> 0 | BH152: =IF(N152="zníž. prenesená",J152,0) -> 0 | BI152: =IF(N152="nulová",J152,0) -> 0 | BJ152: 2 | BK152: =ROUND(I152*H152,3) -> 0 | BL152: 4 | BM152: 1675932660
C153: 14 | D153: M | E153: 581530000900.S | F153: Piesok kremičitý podiel kremeňa 98%, frakcia 0,1-0,2 mm, balenie 25kg | G153: bal | H153: 120 | J153: =ROUND(I153*H153,3) -> 0 | N153: znížená | P153: =O153*H153 -> 0 | Q153: 0.025 | R153: =Q153*H153 -> 3 | S153: 0 | T153: =S153*H153 -> 0 | AR153: 8 | AT153: M | AU153: 2 | AY153: ROZPOCET | BE153: =IF(N153="základná",J153,0) -> 0 | BF153: =IF(N153="znížená",J153,0) -> 0 | BG153: =IF(N153="zákl. prenesená",J153,0) -> 0 | BH153: =IF(N153="zníž. prenesená",J153,0) -> 0 | BI153: =IF(N153="nulová",J153,0) -> 0 | BJ153: 2 | BK153: =ROUND(I153*H153,3) -> 0 | BL153: 4 | BM153: -857830156
C154: 15 | D154: K | E154: 564750111.S | F154: Podklad alebo kryt z kameniva hrubého drveného veľ. 8-16 mm s rozprestretím a zhutnením hr. 150 mm | G154: m2 | H154: 600 | J154: =ROUND(I154*H154,3) -> 0 | N154: znížená | P154: =O154*H154 -> 0 | Q154: 0.299 | R154: =Q154*H154 -> 179.4 | S154: 0 | T154: =S154*H154 -> 0 | AR154: 4 | AT154: K | AU154: 2 | AY154: ROZPOCET | BE154: =IF(N154="základná",J154,0) -> 0 | BF154: =IF(N154="znížená",J154,0) -> 0 | BG154: =IF(N154="zákl. prenesená",J154,0) -> 0 | BH154: =IF(N154="zníž. prenesená",J154,0) -> 0 | BI154: =IF(N154="nulová",J154,0) -> 0 | BJ154: 2 | BK154: =ROUND(I154*H154,3) -> 0 | BL154: 4 | BM154: 292209721
C155: 16 | D155: K | E155: 564811111.S | F155: Podklad zo štrkodrviny s rozprestretím a zhutnením, po zhutnení hr. 50 mm | G155: m2 | H155: 600 | J155: =ROUND(I155*H155,3) -> 0 | N155: znížená | P155: =O155*H155 -> 0 | Q155: 0.0982 | R155: =Q155*H155 -> 58.92 | S155: 0 | T155: =S155*H155 -> 0 | AR155: 4 | AT155: K | AU155: 2 | AY155: ROZPOCET | BE155: =IF(N155="základná",J155,0) -> 0 | BF155: =IF(N155="znížená",J155,0) -> 0 | BG155: =IF(N155="zákl. prenesená",J155,0) -> 0 | BH155: =IF(N155="zníž. prenesená",J155,0) -> 0 | BI155: =IF(N155="nulová",J155,0) -> 0 | BJ155: 2 | BK155: =ROUND(I155*H155,3) -> 0 | BL155: 4 | BM155: -1097514564
D156: D | E156: 8 | F156: Rúrové vedenie | J156: =BK156 -> 0 | P156: =SUM(P157:P165) -> 0 | R156: =SUM(R157:R165) -> 3.059672 | T156: =SUM(T157:T165) -> 0 | AR156: 1 | AT156: D | AU156: 1 | AY156: ROZPOCET | BK156: =SUM(BK157:BK165) -> 0
C157: 17 | D157: K | E157: 871218113.S | F157: Ukladanie drenážneho potrubia do pripravenej ryhy z flexibilného PVC priemeru do 65 mm | G157: m | H157: 117.91 | J157: =ROUND(I157*H157,3) -> 0 | N157: znížená | P157: =O157*H157 -> 0 | Q157: 0 | R157: =Q157*H157 -> 0 | S157: 0 | T157: =S157*H157 -> 0 | AR157: 4 | AT157: K | AU157: 2 | AY157: ROZPOCET | BE157: =IF(N157="základná",J157,0) -> 0 | BF157: =IF(N157="znížená",J157,0) -> 0 | BG157: =IF(N157="zákl. prenesená",J157,0) -> 0 | BH157: =IF(N157="zníž. prenesená",J157,0) -> 0 | BI157: =IF(N157="nulová",J157,0) -> 0 | BJ157: 2 | BK157: =ROUND(I157*H157,3) -> 0 | BL157: 4 | BM157: 1915726469
C158: 18 | D158: M | E158: 286110014800.S | F158: Flexibilná drenážna PVC-U rúra DN 65, perforovaná | G158: m | H158: 117.91 | J158: =ROUND(I158*H158,3) -> 0 | N158: znížená | P158: =O158*H158 -> 0 | Q158: 0.0002 | R158: =Q158*H158 -> 0.023582 | S158: 0 | T158: =S158*H158 -> 0 | AR158: 8 | AT158: M | AU158: 2 | AY158: ROZPOCET | BE158: =IF(N158="základná",J158,0) -> 0 | BF158: =IF(N158="znížená",J158,0) -> 0 | BG158: =IF(N158="zákl. prenesená",J158,0) -> 0 | BH158: =IF(N158="zníž. prenesená",J158,0) -> 0 | BI158: =IF(N158="nulová",J158,0) -> 0 | BJ158: 2 | BK158: =ROUND(I158*H158,3) -> 0 | BL158: 4 | BM158: -434979462
C159: 19 | D159: M | E159: 286520033900.S | F159: Odbočka PVC pre drenážne rúry DN 65/65/45° | G159: ks | H159: 1 | J159: =ROUND(I159*H159,3) -> 0 | N159: znížená | P159: =O159*H159 -> 0 | Q159: 0.00014 | R159: =Q159*H159 -> 0.00014 | S159: 0 | T159: =S159*H159 -> 0 | AR159: 8 | AT159: M | AU159: 2 | AY159: ROZPOCET | BE159: =IF(N159="základná",J159,0) -> 0 | BF159: =IF(N159="znížená",J159,0) -> 0 | BG159: =IF(N159="zákl. prenesená",J159,0) -> 0 | BH159: =IF(N159="zníž. prenesená",J159,0) -> 0 | BI159: =IF(N159="nulová",J159,0) -> 0 | BJ159: 2 | BK159: =ROUND(I159*H159,3) -> 0 | BL159: 4 | BM159: -652091693
C160: 20 | D160: M | E160: 286520001000.S | F160: Drenážny PVC oblúk DN 65/90° | G160: ks | H160: 1 | J160: =ROUND(I160*H160,3) -> 0 | N160: znížená | P160: =O160*H160 -> 0 | Q160: 0.00015 | R160: =Q160*H160 -> 0.00015 | S160: 0 | T160: =S160*H160 -> 0 | AR160: 8 | AT160: M | AU160: 2 | AY160: ROZPOCET | BE160: =IF(N160="základná",J160,0) -> 0 | BF160: =IF(N160="znížená",J160,0) -> 0 | BG160: =IF(N160="zákl. prenesená",J160,0) -> 0 | BH160: =IF(N160="zníž. prenesená",J160,0) -> 0 | BI160: =IF(N160="nulová",J160,0) -> 0 | BJ160: 2 | BK160: =ROUND(I160*H160,3) -> 0 | BL160: 4 | BM160: 871394365
C161: 21 | D161: M | E161: 286520017300.S | F161: Zátka PVC pre drenážne rúry DN 65 | G161: ks | H161: 6 | J161: =ROUND(I161*H161,3) -> 0 | N161: znížená | P161: =O161*H161 -> 0 | Q161: 5e-05 | R161: =Q161*H161 -> 0.0003 | S161: 0 | T161: =S161*H161 -> 0 | AR161: 8 | AT161: M | AU161: 2 | AY161: ROZPOCET | BE161: =IF(N161="základná",J161,0) -> 0 | BF161: =IF(N161="znížená",J161,0) -> 0 | BG161: =IF(N161="zákl. prenesená",J161,0) -> 0 | BH161: =IF(N161="zníž. prenesená",J161,0) -> 0 | BI161: =IF(N161="nulová",J161,0) -> 0 | BJ161: 2 | BK161: =ROUND(I161*H161,3) -> 0 | BL161: 4 | BM161: -1055408831
C162: 22 | D162: K | E162: 871228111.S | F162: Ukladanie drenážneho potrubia do pripravenej ryhy z tvrdého PVC priemeru nad 90 do 150 mm | G162: m | H162: 28 | J162: =ROUND(I162*H162,3) -> 0 | N162: znížená | P162: =O162*H162 -> 0 | Q162: 0 | R162: =Q162*H162 -> 0 | S162: 0 | T162: =S162*H162 -> 0 | AR162: 4 | AT162: K | AU162: 2 | AY162: ROZPOCET | BE162: =IF(N162="základná",J162,0) -> 0 | BF162: =IF(N162="znížená",J162,0) -> 0 | BG162: =IF(N162="zákl. prenesená",J162,0) -> 0 | BH162: =IF(N162="zníž. prenesená",J162,0) -> 0 | BI162: =IF(N162="nulová",J162,0) -> 0 | BJ162: 2 | BK162: =ROUND(I162*H162,3) -> 0 | BL162: 4 | BM162: 787875661
C163: 23 | D163: M | E163: 286110015000.S | F163: Flexibilná drenážna PVC-U rúra DN 100, perforovaná | G163: m | H163: 28 | J163: =ROUND(I163*H163,3) -> 0 | N163: znížená | P163: =O163*H163 -> 0 | Q163: 0.00042 | R163: =Q163*H163 -> 0.01176 | S163: 0 | T163: =S163*H163 -> 0 | AR163: 8 | AT163: M | AU163: 2 | AY163: ROZPOCET | BE163: =IF(N163="základná",J163,0) -> 0 | BF163: =IF(N163="znížená",J163,0) -> 0 | BG163: =IF(N163="zákl. prenesená",J163,0) -> 0 | BH163: =IF(N163="zníž. prenesená",J163,0) -> 0 | BI163: =IF(N163="nulová",J163,0) -> 0 | BJ163: 2 | BK163: =ROUND(I163*H163,3) -> 0 | BL163: 4 | BM163: -9106718
C164: 24 | D164: M | E164: 286520034100.S | F164: Odbočka PVC pre drenážne rúry DN 100/65/45° | G164: ks | H164: 5 | J164: =ROUND(I164*H164,3) -> 0 | N164: znížená | P164: =O164*H164 -> 0 | Q164: 0.00021 | R164: =Q164*H164 -> 0.00105 | S164: 0 | T164: =S164*H164 -> 0 | AR164: 8 | AT164: M | AU164: 2 | AY164: ROZPOCET | BE164: =IF(N164="základná",J164,0) -> 0 | BF164: =IF(N164="znížená",J164,0) -> 0 | BG164: =IF(N164="zákl. prenesená",J164,0) -> 0 | BH164: =IF(N164="zníž. prenesená",J164,0) -> 0 | BI164: =IF(N164="nulová",J164,0) -> 0 | BJ164: 2 | BK164: =ROUND(I164*H164,3) -> 0 | BL164: 4 | BM164: 821097288
C165: 25 | D165: K | E165: 895211141.S | F165: Drenážna šachta typová kontrolná z betónových dielcov, 2000/2000/1200 | G165: ks | H165: 1 | J165: =ROUND(I165*H165,3) -> 0 | N165: znížená | P165: =O165*H165 -> 0 | Q165: 3.02269 | R165: =Q165*H165 -> 3.02269 | S165: 0 | T165: =S165*H165 -> 0 | AR165: 4 | AT165: K | AU165: 2 | AY165: ROZPOCET | BE165: =IF(N165="základná",J165,0) -> 0 | BF165: =IF(N165="znížená",J165,0) -> 0 | BG165: =IF(N165="zákl. prenesená",J165,0) -> 0 | BH165: =IF(N165="zníž. prenesená",J165,0) -> 0 | BI165: =IF(N165="nulová",J165,0) -> 0 | BJ165: 2 | BK165: =ROUND(I165*H165,3) -> 0 | BL165: 4 | BM165: -222808511
D166: D | E166: 9 | F166: Ostatné konštrukcie a práce-búranie | J166: =BK166 -> 0 | P166: =SUM(P167:P169) -> 0 | R166: =SUM(R167:R169) -> 27.880989 | T166: =SUM(T167:T169) -> 0 | AR166: 1 | AT166: D | AU166: 1 | AY166: ROZPOCET | BK166: =SUM(BK167:BK169) -> 0
...

Sheet 04 - SO 04 Asfaltove ihri...
L2: >> skryté stĺpce << | AT2: {e4222abd-4864-4a7b-8e29-45cfdf1877a1}
AT3: 0
D4: KRYCÍ LIST ROZPOČTU | M4: v --- nižšie sa nachádzajú doplnkové a pomocné údaje k zostavám --- v | AT4: False
D6: Stavba:
E7: ='Rekapitulácia stavby'!K6 -> Revitalizácia športoveho areálu Slavoj Trebišov - opakovaná
D8: Objekt:
E9: 04 - SO 04 Asfaltove ihrisko pre skaterov
D11: JKSO: | I11: KS:
D12: Miesto: | F12: Trebišov | I12: Dátum: | J12: ='Rekapitulácia stavby'!AN8 -> 10. 2. 2021
D14: Objednávateľ: | I14: IČO:
E15: Mesto Trebišov | I15: IČ DPH:
D17: Zhotoviteľ: | I17: IČO: | J17: ='Rekapitulácia stavby'!AN13 -> Vyplň údaj
E18: ='Rekapitulácia stavby'!E14 -> Vyplň údaj | I18: IČ DPH: | J18: ='Rekapitulácia stavby'!AN14 -> Vyplň údaj
D20: Projektant: | I20: IČO: | J20: =IF('Rekapitulácia stavby'!AN16="","",'Rekapitulácia stavby'!AN16)
E21: =IF('Rekapitulácia stavby'!E17="","",'Rekapitulácia stavby'!E17) | I21: IČ DPH: | J21: =IF('Rekapitulácia stavby'!AN17="","",'Rekapitulácia stavby'!AN17)
D23: Spracovateľ: | I23: IČO: | J23: =IF('Rekapitulácia stavby'!AN19="","",'Rekapitulácia stavby'!AN19)
E24: =IF('Rekapitulácia stavby'!E20="","",'Rekapitulácia stavby'!E20) | I24: IČ DPH: | J24: =IF('Rekapitulácia stavby'!AN20="","",'Rekapitulácia stavby'!AN20)
D26: Poznámka:
D30: Náklady z rozpočtu | J30: =J96 -> 0
D31: Ostatné náklady | J31: =J104 -> 0
D32: Cena bez DPH | J32: =ROUND(J30 + J31, 2) -> 0
F34: Základ dane | I34: Sadzba dane | J34: Výška dane
D35: DPH | E35: základná | F35: =ROUND((SUM(BE104:BE111) + SUM(BE131:BE142)), 2) -> 0 | I35: 0.2 | J35: =ROUND(((SUM(BE104:BE111) + SUM(BE131:BE142))*I35), 2) -> 0
E36: znížená | F36: =ROUND((SUM(BF104:BF111) + SUM(BF131:BF142)), 2) -> 0 | I36: 0.2 | J36: =ROUND(((SUM(BF104:BF111) + SUM(BF131:BF142))*I36), 2) -> 0
E37: zákl. prenesená | F37: =ROUND((SUM(BG104:BG111) + SUM(BG131:BG142)), 2) -> 0 | I37: 0.2 | J37: =0 -> 0
E38: zníž. prenesená | F38: =ROUND((SUM(BH104:BH111) + SUM(BH131:BH142)), 2) -> 0 | I38: 0.2 | J38: =0 -> 0
E39: nulová | F39: =ROUND((SUM(BI104:BI111) + SUM(BI131:BI142)), 2) -> 0 | I39: 0 | J39: =0 -> 0
D41: Cena s DPH | G41: v | H41: EUR | J41: =SUM(J32:J39) -> 0
D50: Projektant | G50: Spracovateľ
D61: Dátum a podpis: | F61: Pečiatka | G61: Dátum a podpis: | J61: Pečiatka
D65: Objednávateľ | G65: Zhotoviteľ
D76: Dátum a podpis: | F76: Pečiatka | G76: Dátum a podpis: | J76: Pečiatka
C82: REKAPITULÁCIA ROZPOČTU
C84: Stavba:
E85: =E7 -> Revitalizácia športoveho areálu Slavoj Trebišov - opakovaná
C86: Objekt:
E87: =E9 -> 04 - SO 04 Asfaltove ihrisko pre skaterov
C89: Miesto: | F89: =F12 -> Trebišov | I89: Dátum: | J89: =IF(J12="","",J12) -> 10. 2. 2021
C91: Objednávateľ: | F91: =E15 -> Mesto Trebišov | I91: Projektant: | J91: =E21
C92: Zhotoviteľ: | F92: =IF(E18="","",E18) -> Vyplň údaj | I92: Spracovateľ: | J92: =E24
C94: Kód dielu - Popis | J94: Cena celkom [EUR]
C96: 1) Náklady z rozpočtu | J96: =J131 -> 0 | AU96: -1
D97: HSV - Práce a dodávky HSV | J97: =J132 -> 0
D98: 1 - Zemné práce | J98: =J133 -> 0
D99: 5 - Komunikácie | J99: =J135 -> 0
D100: 9 - Ostatné konštrukcie a práce-búranie | J100: =J138 -> 0
D101: 99 - Presun hmôt HSV | J101: =J141 -> 0
C104: 2) Ostatné náklady | J104: =ROUND(J105 + J106 + J107 + J108 + J109 + J110,2) -> 0 | N104: DPH
D105: Zariad. staveniska | J105: 0 | N105: znížená | AY105: VRN | BE105: =IF(N105="základná",J105,0) -> 0 | BF105: =IF(N105="znížená",J105,0) -> 0 | BG105: =IF(N105="zákl. prenesená",J105,0) -> 0 | BH105: =IF(N105="zníž. prenesená",J105,0) -> 0 | BI105: =IF(N105="nulová",J105,0) -> 0 | BJ105: 2
D106: Mimostav. doprava | J106: 0 | N106: znížená | AY106: VRN | BE106: =IF(N106="základná",J106,0) -> 0 | BF106: =IF(N106="znížená",J106,0) -> 0 | BG106: =IF(N106="zákl. prenesená",J106,0) -> 0 | BH106: =IF(N106="zníž. prenesená",J106,0) -> 0 | BI106: =IF(N106="nulová",J106,0) -> 0 | BJ106: 2
D107: Územné vplyvy | J107: 0 | N107: znížená | AY107: VRN | BE107: =IF(N107="základná",J107,0) -> 0 | BF107: =IF(N107="znížená",J107,0) -> 0 | BG107: =IF(N107="zákl. prenesená",J107,0) -> 0 | BH107: =IF(N107="zníž. prenesená",J107,0) -> 0 | BI107: =IF(N107="nulová",J107,0) -> 0 | BJ107: 2
D108: Prevádzkové vplyvy | J108: 0 | N108: znížená | AY108: VRN | BE108: =IF(N108="základná",J108,0) -> 0 | BF108: =IF(N108="znížená",J108,0) -> 0 | BG108: =IF(N108="zákl. prenesená",J108,0) -> 0 | BH108: =IF(N108="zníž. prenesená",J108,0) -> 0 | BI108: =IF(N108="nulová",J108,0) -> 0 | BJ108: 2
D109: Ostatné | J109: 0 | N109: znížená | AY109: VRN | BE109: =IF(N109="základná",J109,0) -> 0 | BF109: =IF(N109="znížená",J109,0) -> 0 | BG109: =IF(N109="zákl. prenesená",J109,0) -> 0 | BH109: =IF(N109="zníž. prenesená",J109,0) -> 0 | BI109: =IF(N109="nulová",J109,0) -> 0 | BJ109: 2
D110: Kompletačná činnosť | J110: =ROUND(J30*T110,2) -> 0 | N110: znížená | AY110: KOMPLETACNA | BE110: =IF(N110="základná",J110,0) -> 0 | BF110: =IF(N110="znížená",J110,0) -> 0 | BG110: =IF(N110="zákl. prenesená",J110,0) -> 0 | BH110: =IF(N110="zníž. prenesená",J110,0) -> 0 | BI110: =IF(N110="nulová",J110,0) -> 0 | BJ110: 2
C112: Celkové náklady za stavbu 1) + 2) | J112: =ROUND(J96+J104,2) -> 0
C118: ROZPOČET
C120: Stavba:
E121: =E7 -> Revitalizácia športoveho areálu Slavoj Trebišov - opakovaná
C122: Objekt:
E123: =E9 -> 04 - SO 04 Asfaltove ihrisko pre skaterov
C125: Miesto: | F125: =F12 -> Trebišov | I125: Dátum: | J125: =IF(J12="","",J12) -> 10. 2. 2021
C127: Objednávateľ: | F127: =E15 -> Mesto Trebišov | I127: Projektant: | J127: =E21
C128: Zhotoviteľ: | F128: =IF(E18="","",E18) -> Vyplň údaj | I128: Spracovateľ: | J128: =E24
C130: PČ | D130: Typ | E130: Kód | F130: Popis | G130: MJ | H130: Množstvo | I130: J.cena [EUR] | J130: Cena celkom [EUR] | K130: Cenová sústava | N130: DPH | O130: J. Nh [h] | P130: Nh celkom [h] | Q130: J. hmotnosť [t] | R130: Hmotnosť celkom [t] | S130: J. suť [t] | T130: Suť Celkom [t]
C131: Náklady z rozpočtu | J131: =BK131 -> 0 | P131: =P132 -> 0 | R131: =R132 -> 109.50978 | T131: =T132 -> 157.226 | AT131: D | AU131: -1 | BK131: =BK132 -> 0
D132: D | E132: HSV | F132: Práce a dodávky HSV | J132: =BK132 -> 0 | P132: =P133+P135+P138+P141 -> 0 | R132: =R133+R135+R138+R141 -> 109.50978 | T132: =T133+T135+T138+T141 -> 157.226 | AR132: 1 | AT132: D | AU132: 0 | AY132: ROZPOCET | BK132: =BK133+BK135+BK138+BK141 -> 0
D133: D | E133: 1 | F133: Zemné práce | J133: =BK133 -> 0 | P133: =P134 -> 0 | R133: =R134 -> 0.16094 | T133: =T134 -> 157.226 | AR133: 1 | AT133: D | AU133: 1 | AY133: ROZPOCET | BK133: =BK134 -> 0
C134: 1 | D134: K | E134: 113153310.S | F134: Frézovanie asf. podkladu alebo krytu s prek., plochy cez 1000 do 10000 m2, pruh š. do 1 m, hr. 50 mm 0,127 t | G134: m2 | H134: 1238 | J134: =ROUND(I134*H134,3) -> 0 | N134: znížená | P134: =O134*H134 -> 0 | Q134: 0.00013 | R134: =Q134*H134 -> 0.16094 | S134: 0.127 | T134: =S134*H134 -> 157.226 | AR134: 4 | AT134: K | AU134: 2 | AY134: ROZPOCET | BE134: =IF(N134="základná",J134,0) -> 0 | BF134: =IF(N134="znížená",J134,0) -> 0 | BG134: =IF(N134="zákl. prenesená",J134,0) -> 0 | BH134: =IF(N134="zníž. prenesená",J134,0) -> 0 | BI134: =IF(N134="nulová",J134,0) -> 0 | BJ134: 2 | BK134: =ROUND(I134*H134,3) -> 0 | BL134: 4 | BM134: -858754245
D135: D | E135: 5 | F135: Komunikácie | J135: =BK135 -> 0 | P135: =SUM(P136:P137) -> 0 | R135: =SUM(R136:R137) -> 109.34884 | T135: =SUM(T136:T137) -> 0 | AR135: 1 | AT135: D | AU135: 1 | AY135: ROZPOCET | BK135: =SUM(BK136:BK137) -> 0
C136: 7 | D136: K | E136: 573231111.S | F136: Postrek asfaltový spojovací bez posypu kamenivom z cestnej emulzie v množstve 0,80 kg/m2 | G136: m2 | H136: 1046 | J136: =ROUND(I136*H136,3) -> 0 | N136: znížená | P136: =O136*H136 -> 0 | Q136: 0.00081 | R136: =Q136*H136 -> 0.84726 | S136: 0 | T136: =S136*H136 -> 0 | AR136: 4 | AT136: K | AU136: 2 | AY136: ROZPOCET | BE136: =IF(N136="základná",J136,0) -> 0 | BF136: =IF(N136="znížená",J136,0) -> 0 | BG136: =IF(N136="zákl. prenesená",J136,0) -> 0 | BH136: =IF(N136="zníž. prenesená",J136,0) -> 0 | BI136: =IF(N136="nulová",J136,0) -> 0 | BJ136: 2 | BK136: =ROUND(I136*H136,3) -> 0 | BL136: 4 | BM136: 1231336257
C137: 3 | D137: K | E137: 577134241.S | F137: Asfaltový betón vrstva obrusná AC 11 O v pruhu š. nad 3 m z nemodifik. asfaltu tr. II, po zhutnení hr. 40 mm | G137: m2 | H137: 1046 | J137: =ROUND(I137*H137,3) -> 0 | N137: znížená | P137: =O137*H137 -> 0 | Q137: 0.10373 | R137: =Q137*H137 -> 108.50158 | S137: 0 | T137: =S137*H137 -> 0 | AR137: 4 | AT137: K | AU137: 2 | AY137: ROZPOCET | BE137: =IF(N137="základná",J137,0) -> 0 | BF137: =IF(N137="znížená",J137,0) -> 0 | BG137: =IF(N137="zákl. prenesená",J137,0) -> 0 | BH137: =IF(N137="zníž. prenesená",J137,0) -> 0 | BI137: =IF(N137="nulová",J137,0) -> 0 | BJ137: 2 | BK137: =ROUND(I137*H137,3) -> 0 | BL137: 4 | BM137: 1866110032
D138: D | E138: 9 | F138: Ostatné konštrukcie a práce-búranie | J138: =BK138 -> 0 | P138: =SUM(P139:P140) -> 0 | R138: =SUM(R139:R140) -> 0 | T138: =SUM(T139:T140) -> 0 | AR138: 1 | AT138: D | AU138: 1 | AY138: ROZPOCET | BK138: =SUM(BK139:BK140) -> 0
C139: 4 | D139: K | E139: 979084216.S | F139: Vodorovná doprava vybúraných hmôt po suchu bez naloženia, ale so zložením na vzdialenosť do 5 km | G139: t | H139: 157.226 | J139: =ROUND(I139*H139,3) -> 0 | N139: znížená | P139: =O139*H139 -> 0 | Q139: 0 | R139: =Q139*H139 -> 0 | S139: 0 | T139: =S139*H139 -> 0 | AR139: 4 | AT139: K | AU139: 2 | AY139: ROZPOCET | BE139: =IF(N139="základná",J139,0) -> 0 | BF139: =IF(N139="znížená",J139,0) -> 0 | BG139: =IF(N139="zákl. prenesená",J139,0) -> 0 | BH139: =IF(N139="zníž. prenesená",J139,0) -> 0 | BI139: =IF(N139="nulová",J139,0) -> 0 | BJ139: 2 | BK139: =ROUND(I139*H139,3) -> 0 | BL139: 4 | BM139: 658112935
C140: 5 | D140: K | E140: 979089212.S | F140: Poplatok za skladovanie - bitúmenové zmesi, uholný decht, dechtové výrobky (17 03 ), ostatné | G140: t | H140: 157.226 | J140: =ROUND(I140*H140,3) -> 0 | N140: znížená | P140: =O140*H140 -> 0 | Q140: 0 | R140: =Q140*H140 -> 0 | S140: 0 | T140: =S140*H140 -> 0 | AR140: 4 | AT140: K | AU140: 2 | AY140: ROZPOCET | BE140: =IF(N140="základná",J140,0) -> 0 | BF140: =IF(N140="znížená",J140,0) -> 0 | BG140: =IF(N140="zákl. prenesená",J140,0) -> 0 | BH140: =IF(N140="zníž. prenesená",J140,0) -> 0 | BI140: =IF(N140="nulová",J140,0) -> 0 | BJ140: 2 | BK140: =ROUND(I140*H140,3) -> 0 | BL140: 4 | BM140: 986124510
D141: D | E141: 99 | F141: Presun hmôt HSV | J141: =BK141 -> 0 | P141: =P142 -> 0 | R141: =R142 -> 0 | T141: =T142 -> 0 | AR141: 1 | AT141: D | AU141: 1 | AY141: ROZPOCET | BK141: =BK142 -> 0
C142: 6 | D142: K | E142: 998225111.S | F142: Presun hmôt pre pozemnú komunikáciu a letisko s krytom asfaltovým akejkoľvek dĺžky objektu | G142: t | H142: 109.51 | J142: =ROUND(I142*H142,3) -> 0 | N142: znížená | P142: =O142*H142 -> 0 | Q142: 0 | R142: =Q142*H142 -> 0 | S142: 0 | T142: =S142*H142 -> 0 | AR142: 4 | AT142: K | AU142: 2 | AY142: ROZPOCET | BE142: =IF(N142="základná",J142,0) -> 0 | BF142: =IF(N142="znížená",J142,0) -> 0 | BG142: =IF(N142="zákl. prenesená",J142,0) -> 0 | BH142: =IF(N142="zníž. prenesená",J142,0) -> 0 | BI142: =IF(N142="nulová",J142,0) -> 0 | BJ142: 2 | BK142: =ROUND(I142*H142,3) -> 0 | BL142: 4 | BM142: 533425565

Sheet 05 - SO 05 Príjazdová kom...
L2: >> skryté stĺpce << | AT2: {6a93dfc6-05a9-445d-b687-ae50931a41ec}
AT3: 0
D4: KRYCÍ LIST ROZPOČTU | M4: v --- nižšie sa nachádzajú doplnkové a pomocné údaje k zostavám --- v | AT4: False
D6: Stavba:
E7: ='Rekapitulácia stavby'!K6 -> Revitalizácia športoveho areálu Slavoj Trebišov - opakovaná
D8: Objekt:
E9: 05 - SO 05 Príjazdová komunikácia
D11: JKSO: | I11: KS:
D12: Miesto: | F12: Trebišov | I12: Dátum: | J12: ='Rekapitulácia stavby'!AN8 -> 10. 2. 2021
D14: Objednávateľ: | I14: IČO:
E15: Mesto Trebišov | I15: IČ DPH:
D17: Zhotoviteľ: | I17: IČO: | J17: ='Rekapitulácia stavby'!AN13 -> Vyplň údaj
E18: ='Rekapitulácia stavby'!E14 -> Vyplň údaj | I18: IČ DPH: | J18: ='Rekapitulácia stavby'!AN14 -> Vyplň údaj
D20: Projektant: | I20: IČO: | J20: =IF('Rekapitulácia stavby'!AN16="","",'Rekapitulácia stavby'!AN16)
E21: =IF('Rekapitulácia stavby'!E17="","",'Rekapitulácia stavby'!E17) | I21: IČ DPH: | J21: =IF('Rekapitulácia stavby'!AN17="","",'Rekapitulácia stavby'!AN17)
D23: Spracovateľ: | I23: IČO: | J23: =IF('Rekapitulácia stavby'!AN19="","",'Rekapitulácia stavby'!AN19)
E24: =IF('Rekapitulácia stavby'!E20="","",'Rekapitulácia stavby'!E20) | I24: IČ DPH: | J24: =IF('Rekapitulácia stavby'!AN20="","",'Rekapitulácia stavby'!AN20)
D26: Poznámka:
D30: Náklady z rozpočtu | J30: =J96 -> 0
D31: Ostatné náklady | J31: =J104 -> 0
D32: Cena bez DPH | J32: =ROUND(J30 + J31, 2) -> 0
F34: Základ dane | I34: Sadzba dane | J34: Výška dane
D35: DPH | E35: základná | F35: =ROUND((SUM(BE104:BE111) + SUM(BE131:BE149)), 2) -> 0 | I35: 0.2 | J35: =ROUND(((SUM(BE104:BE111) + SUM(BE131:BE149))*I35), 2) -> 0
E36: znížená | F36: =ROUND((SUM(BF104:BF111) + SUM(BF131:BF149)), 2) -> 0 | I36: 0.2 | J36: =ROUND(((SUM(BF104:BF111) + SUM(BF131:BF149))*I36), 2) -> 0
E37: zákl. prenesená | F37: =ROUND((SUM(BG104:BG111) + SUM(BG131:BG149)), 2) -> 0 | I37: 0.2 | J37: =0 -> 0
E38: zníž. prenesená | F38: =ROUND((SUM(BH104:BH111) + SUM(BH131:BH149)), 2) -> 0 | I38: 0.2 | J38: =0 -> 0
E39: nulová | F39: =ROUND((SUM(BI104:BI111) + SUM(BI131:BI149)), 2) -> 0 | I39: 0 | J39: =0 -> 0
D41: Cena s DPH | G41: v | H41: EUR | J41: =SUM(J32:J39) -> 0
D50: Projektant | G50: Spracovateľ
D61: Dátum a podpis: | F61: Pečiatka | G61: Dátum a podpis: | J61: Pečiatka
D65: Objednávateľ | G65: Zhotoviteľ
D76: Dátum a podpis: | F76: Pečiatka | G76: Dátum a podpis: | J76: Pečiatka
C82: REKAPITULÁCIA ROZPOČTU
C84: Stavba:
E85: =E7 -> Revitalizácia športoveho areálu Slavoj Trebišov - opakovaná
C86: Objekt:
E87: =E9 -> 05 - SO 05 Príjazdová komunikácia
C89: Miesto: | F89: =F12 -> Trebišov | I89: Dátum: | J89: =IF(J12="","",J12) -> 10. 2. 2021
C91: Objednávateľ: | F91: =E15 -> Mesto Trebišov | I91: Projektant: | J91: =E21
C92: Zhotoviteľ: | F92: =IF(E18="","",E18) -> Vyplň údaj | I92: Spracovateľ: | J92: =E24
C94: Kód dielu - Popis | J94: Cena celkom [EUR]
C96: 1) Náklady z rozpočtu | J96: =J131 -> 0 | AU96: -1
D97: HSV - Práce a dodávky HSV | J97: =J132 -> 0
D98: 1 - Zemné práce | J98: =J133 -> 0
D99: 5 - Komunikácie | J99: =J138 -> 0
D100: 9 - Ostatné konštrukcie a práce-búranie | J100: =J144 -> 0
D101: 99 - Presun hmôt HSV | J101: =J148 -> 0
C104: 2) Ostatné náklady | J104: =ROUND(J105 + J106 + J107 + J108 + J109 + J110,2) -> 0 | N104: DPH
D105: Zariad. staveniska | J105: 0 | N105: znížená | AY105: VRN | BE105: =IF(N105="základná",J105,0) -> 0 | BF105: =IF(N105="znížená",J105,0) -> 0 | BG105: =IF(N105="zákl. prenesená",J105,0) -> 0 | BH105: =IF(N105="zníž. prenesená",J105,0) -> 0 | BI105: =IF(N105="nulová",J105,0) -> 0 | BJ105: 2
D106: Mimostav. doprava | J106: 0 | N106: znížená | AY106: VRN | BE106: =IF(N106="základná",J106,0) -> 0 | BF106: =IF(N106="znížená",J106,0) -> 0 | BG106: =IF(N106="zákl. prenesená",J106,0) -> 0 | BH106: =IF(N106="zníž. prenesená",J106,0) -> 0 | BI106: =IF(N106="nulová",J106,0) -> 0 | BJ106: 2
D107: Územné vplyvy | J107: 0 | N107: znížená | AY107: VRN | BE107: =IF(N107="základná",J107,0) -> 0 | BF107: =IF(N107="znížená",J107,0) -> 0 | BG107: =IF(N107="zákl. prenesená",J107,0) -> 0 | BH107: =IF(N107="zníž. prenesená",J107,0) -> 0 | BI107: =IF(N107="nulová",J107,0) -> 0 | BJ107: 2
D108: Prevádzkové vplyvy | J108: 0 | N108: znížená | AY108: VRN | BE108: =IF(N108="základná",J108,0) -> 0 | BF108: =IF(N108="znížená",J108,0) -> 0 | BG108: =IF(N108="zákl. prenesená",J108,0) -> 0 | BH108: =IF(N108="zníž. prenesená",J108,0) -> 0 | BI108: =IF(N108="nulová",J108,0) -> 0 | BJ108: 2
D109: Ostatné | J109: 0 | N109: znížená | AY109: VRN | BE109: =IF(N109="základná",J109,0) -> 0 | BF109: =IF(N109="znížená",J109,0) -> 0 | BG109: =IF(N109="zákl. prenesená",J109,0) -> 0 | BH109: =IF(N109="zníž. prenesená",J109,0) -> 0 | BI109: =IF(N109="nulová",J109,0) -> 0 | BJ109: 2
D110: Kompletačná činnosť | J110: =ROUND(J30*T110,2) -> 0 | N110: znížená | AY110: KOMPLETACNA | BE110: =IF(N110="základná",J110,0) -> 0 | BF110: =IF(N110="znížená",J110,0) -> 0 | BG110: =IF(N110="zákl. prenesená",J110,0) -> 0 | BH110: =IF(N110="zníž. prenesená",J110,0) -> 0 | BI110: =IF(N110="nulová",J110,0) -> 0 | BJ110: 2
C112: Celkové náklady za stavbu 1) + 2) | J112: =ROUND(J96+J104,2) -> 0
C118: ROZPOČET
C120: Stavba:
E121: =E7 -> Revitalizácia športoveho areálu Slavoj Trebišov - opakovaná
C122: Objekt:
E123: =E9 -> 05 - SO 05 Príjazdová komunikácia
C125: Miesto: | F125: =F12 -> Trebišov | I125: Dátum: | J125: =IF(J12="","",J12) -> 10. 2. 2021
C127: Objednávateľ: | F127: =E15 -> Mesto Trebišov | I127: Projektant: | J127: =E21
C128: Zhotoviteľ: | F128: =IF(E18="","",E18) -> Vyplň údaj | I128: Spracovateľ: | J128: =E24
C130: PČ | D130: Typ | E130: Kód | F130: Popis | G130: MJ | H130: Množstvo | I130: J.cena [EUR] | J130: Cena celkom [EUR] | K130: Cenová sústava | N130: DPH | O130: J. Nh [h] | P130: Nh celkom [h] | Q130: J. hmotnosť [t] | R130: Hmotnosť celkom [t] | S130: J. suť [t] | T130: Suť Celkom [t]
C131: Náklady z rozpočtu | J131: =BK131 -> 0 | P131: =P132 -> 0 | R131: =R132 -> 398.83709 | T131: =T132 -> 0 | AT131: D | AU131: -1 | BK131: =BK132 -> 0
D132: D | E132: HSV | F132: Práce a dodávky HSV | J132: =BK132 -> 0 | P132: =P133+P138+P144+P148 -> 0 | R132: =R133+R138+R144+R148 -> 398.83709 | T132: =T133+T138+T144+T148 -> 0 | AR132: 1 | AT132: D | AU132: 0 | AY132: ROZPOCET | BK132: =BK133+BK138+BK144+BK148 -> 0
D133: D | E133: 1 | F133: Zemné práce | J133: =BK133 -> 0 | P133: =SUM(P134:P137) -> 0 | R133: =SUM(R134:R137) -> 0 | T133: =SUM(T134:T137) -> 0 | AR133: 1 | AT133: D | AU133: 1 | AY133: ROZPOCET | BK133: =SUM(BK134:BK137) -> 0
C134: 1 | D134: K | E134: 122201101.S | F134: Odkopávka a prekopávka nezapažená v hornine 3, do 100 m3 | G134: m3 | H134: 132 | J134: =ROUND(I134*H134,3) -> 0 | N134: znížená | P134: =O134*H134 -> 0 | Q134: 0 | R134: =Q134*H134 -> 0 | S134: 0 | T134: =S134*H134 -> 0 | AR134: 4 | AT134: K | AU134: 2 | AY134: ROZPOCET | BE134: =IF(N134="základná",J134,0) -> 0 | BF134: =IF(N134="znížená",J134,0) -> 0 | BG134: =IF(N134="zákl. prenesená",J134,0) -> 0 | BH134: =IF(N134="zníž. prenesená",J134,0) -> 0 | BI134: =IF(N134="nulová",J134,0) -> 0 | BJ134: 2 | BK134: =ROUND(I134*H134,3) -> 0 | BL134: 4 | BM134: -1660526820
C135: 2 | D135: K | E135: 122201109.S | F135: Odkopávky a prekopávky nezapažené. Príplatok k cenám za lepivosť horniny 3 | G135: m3 | H135: 132 | J135: =ROUND(I135*H135,3) -> 0 | N135: znížená | P135: =O135*H135 -> 0 | Q135: 0 | R135: =Q135*H135 -> 0 | S135: 0 | T135: =S135*H135 -> 0 | AR135: 4 | AT135: K | AU135: 2 | AY135: ROZPOCET | BE135: =IF(N135="základná",J135,0) -> 0 | BF135: =IF(N135="znížená",J135,0) -> 0 | BG135: =IF(N135="zákl. prenesená",J135,0) -> 0 | BH135: =IF(N135="zníž. prenesená",J135,0) -> 0 | BI135: =IF(N135="nulová",J135,0) -> 0 | BJ135: 2 | BK135: =ROUND(I135*H135,3) -> 0 | BL135: 4 | BM135: -834608612
C136: 3 | D136: K | E136: 162501102.S | F136: Vodorovné premiestnenie výkopku po spevnenej ceste z horniny tr.1-4, do 100 m3 na vzdialenosť do 3000 m | G136: m3 | H136: 132 | J136: =ROUND(I136*H136,3) -> 0 | N136: znížená | P136: =O136*H136 -> 0 | Q136: 0 | R136: =Q136*H136 -> 0 | S136: 0 | T136: =S136*H136 -> 0 | AR136: 4 | AT136: K | AU136: 2 | AY136: ROZPOCET | BE136: =IF(N136="základná",J136,0) -> 0 | BF136: =IF(N136="znížená",J136,0) -> 0 | BG136: =IF(N136="zákl. prenesená",J136,0) -> 0 | BH136: =IF(N136="zníž. prenesená",J136,0) -> 0 | BI136: =IF(N136="nulová",J136,0) -> 0 | BJ136: 2 | BK136: =ROUND(I136*H136,3) -> 0 | BL136: 4 | BM136: 1192698973
C137: 4 | D137: K | E137: 181101102.S | F137: Úprava pláne v zárezoch v hornine 1-4 so zhutnením | G137: m2 | H137: 324 | J137: =ROUND(I137*H137,3) -> 0 | N137: znížená | P137: =O137*H137 -> 0 | Q137: 0 | R137: =Q137*H137 -> 0 | S137: 0 | T137: =S137*H137 -> 0 | AR137: 4 | AT137: K | AU137: 2 | AY137: ROZPOCET | BE137: =IF(N137="základná",J137,0) -> 0 | BF137: =IF(N137="znížená",J137,0) -> 0 | BG137: =IF(N137="zákl. prenesená",J137,0) -> 0 | BH137: =IF(N137="zníž. prenesená",J137,0) -> 0 | BI137: =IF(N137="nulová",J137,0) -> 0 | BJ137: 2 | BK137: =ROUND(I137*H137,3) -> 0 | BL137: 4 | BM137: 114355166
D138: D | E138: 5 | F138: Komunikácie | J138: =BK138 -> 0 | P138: =SUM(P139:P143) -> 0 | R138: =SUM(R139:R143) -> 315.37188 | T138: =SUM(T139:T143) -> 0 | AR138: 1 | AT138: D | AU138: 1 | AY138: ROZPOCET | BK138: =SUM(BK139:BK143) -> 0
C139: 5 | D139: K | E139: 564730111.S | F139: Podklad alebo kryt z kameniva hrubého drveného veľ. 8-16 mm s rozprestretím a zhutnením hr. 100 mm | G139: m2 | H139: 324 | J139: =ROUND(I139*H139,3) -> 0 | N139: znížená | P139: =O139*H139 -> 0 | Q139: 0.199 | R139: =Q139*H139 -> 64.476 | S139: 0 | T139: =S139*H139 -> 0 | AR139: 4 | AT139: K | AU139: 2 | AY139: ROZPOCET | BE139: =IF(N139="základná",J139,0) -> 0 | BF139: =IF(N139="znížená",J139,0) -> 0 | BG139: =IF(N139="zákl. prenesená",J139,0) -> 0 | BH139: =IF(N139="zníž. prenesená",J139,0) -> 0 | BI139: =IF(N139="nulová",J139,0) -> 0 | BJ139: 2 | BK139: =ROUND(I139*H139,3) -> 0 | BL139: 4 | BM139: 1567469432
C140: 6 | D140: K | E140: 564762111.S | F140: Podklad alebo kryt z kameniva hrubého drveného veľ. 32-63 mm (vibr.štrk) po zhut.hr. 200 mm | G140: m2 | H140: 324 | J140: =ROUND(I140*H140,3) -> 0 | N140: znížená | P140: =O140*H140 -> 0 | Q140: 0.48574 | R140: =Q140*H140 -> 157.37976 | S140: 0 | T140: =S140*H140 -> 0 | AR140: 4 | AT140: K | AU140: 2 | AY140: ROZPOCET | BE140: =IF(N140="základná",J140,0) -> 0 | BF140: =IF(N140="znížená",J140,0) -> 0 | BG140: =IF(N140="zákl. prenesená",J140,0) -> 0 | BH140: =IF(N140="zníž. prenesená",J140,0) -> 0 | BI140: =IF(N140="nulová",J140,0) -> 0 | BJ140: 2 | BK140: =ROUND(I140*H140,3) -> 0 | BL140: 4 | BM140: 516231884
C141: 7 | D141: K | E141: 565142111.S | F141: Vyrovnanie povrchu doterajšieho podkladu obaľovaným kamenivom ACP hr. 60 mm | G141: m2 | H141: 324 | J141: =ROUND(I141*H141,3) -> 0 | N141: znížená | P141: =O141*H141 -> 0 | Q141: 0.15826 | R141: =Q141*H141 -> 51.27624 | S141: 0 | T141: =S141*H141 -> 0 | AR141: 4 | AT141: K | AU141: 2 | AY141: ROZPOCET | BE141: =IF(N141="základná",J141,0) -> 0 | BF141: =IF(N141="znížená",J141,0) -> 0 | BG141: =IF(N141="zákl. prenesená",J141,0) -> 0 | BH141: =IF(N141="zníž. prenesená",J141,0) -> 0 | BI141: =IF(N141="nulová",J141,0) -> 0 | BJ141: 2 | BK141: =ROUND(I141*H141,3) -> 0 | BL141: 4 | BM141: -1393316966
C142: 8 | D142: K | E142: 573211111.S | F142: Postrek asfaltový spojovací bez posypu kamenivom z asfaltu cestného v množstve 0,70 kg/m2 | G142: m2 | H142: 324 | J142: =ROUND(I142*H142,3) -> 0 | N142: znížená | P142: =O142*H142 -> 0 | Q142: 0.00071 | R142: =Q142*H142 -> 0.23004 | S142: 0 | T142: =S142*H142 -> 0 | AR142: 4 | AT142: K | AU142: 2 | AY142: ROZPOCET | BE142: =IF(N142="základná",J142,0) -> 0 | BF142: =IF(N142="znížená",J142,0) -> 0 | BG142: =IF(N142="zákl. prenesená",J142,0) -> 0 | BH142: =IF(N142="zníž. prenesená",J142,0) -> 0 | BI142: =IF(N142="nulová",J142,0) -> 0 | BJ142: 2 | BK142: =ROUND(I142*H142,3) -> 0 | BL142: 4 | BM142: -1285378061
C143: 9 | D143: K | E143: 577144241.S | F143: Asfaltový betón vrstva obrusná AC 11 O v pruhu š. nad 3 m z nemodifik. asfaltu tr. II, po zhutnení hr. 50 mm | G143: m2 | H143: 324 | J143: =ROUND(I143*H143,3) -> 0 | N143: znížená | P143: =O143*H143 -> 0 | Q143: 0.12966 | R143: =Q143*H143 -> 42.00984 | S143: 0 | T143: =S143*H143 -> 0 | AR143: 4 | AT143: K | AU143: 2 | AY143: ROZPOCET | BE143: =IF(N143="základná",J143,0) -> 0 | BF143: =IF(N143="znížená",J143,0) -> 0 | BG143: =IF(N143="zákl. prenesená",J143,0) -> 0 | BH143: =IF(N143="zníž. prenesená",J143,0) -> 0 | BI143: =IF(N143="nulová",J143,0) -> 0 | BJ143: 2 | BK143: =ROUND(I143*H143,3) -> 0 | BL143: 4 | BM143: 977116509
D144: D | E144: 9 | F144: Ostatné konštrukcie a práce-búranie | J144: =BK144 -> 0 | P144: =SUM(P145:P147) -> 0 | R144: =SUM(R145:R147) -> 83.465209 | T144: =SUM(T145:T147) -> 0 | AR144: 1 | AT144: D | AU144: 1 | AY144: ROZPOCET | BK144: =SUM(BK145:BK147) -> 0
C145: 10 | D145: K | E145: 916361112.S | F145: Osadenie cestného obrubníka betónového ležatého do lôžka z betónu prostého tr. C 16/20 s bočnou oporou | G145: m | H145: 246 | J145: =ROUND(I145*H145,3) -> 0 | N145: znížená | P145: =O145*H145 -> 0 | Q145: 0.19697573 | R145: =Q145*H145 -> 48.456029 | S145: 0 | T145: =S145*H145 -> 0 | AR145: 4 | AT145: K | AU145: 2 | AY145: ROZPOCET | BE145: =IF(N145="základná",J145,0) -> 0 | BF145: =IF(N145="znížená",J145,0) -> 0 | BG145: =IF(N145="zákl. prenesená",J145,0) -> 0 | BH145: =IF(N145="zníž. prenesená",J145,0) -> 0 | BI145: =IF(N145="nulová",J145,0) -> 0 | BJ145: 2 | BK145: =ROUND(I145*H145,3) -> 0 | BL145: 4 | BM145: 1519352356
C146: 11 | D146: M | E146: 592170002100.S | F146: Obrubník cestný, lxšxv 1000x100x200 mm, skosenie 15/15 mm | G146: ks | H146: 248.46 | J146: =ROUND(I146*H146,3) -> 0 | N146: znížená | P146: =O146*H146 -> 0 | Q146: 0.048 | R146: =Q146*H146 -> 11.92608 | S146: 0 | T146: =S146*H146 -> 0 | AR146: 8 | AT146: M | AU146: 2 | AY146: ROZPOCET | BE146: =IF(N146="základná",J146,0) -> 0 | BF146: =IF(N146="znížená",J146,0) -> 0 | BG146: =IF(N146="zákl. prenesená",J146,0) -> 0 | BH146: =IF(N146="zníž. prenesená",J146,0) -> 0 | BI146: =IF(N146="nulová",J146,0) -> 0 | BJ146: 2 | BK146: =ROUND(I146*H146,3) -> 0 | BL146: 4 | BM146: 2105711722
C147: 12 | D147: K | E147: 918101113.S | F147: Lôžko pod obrubníky, krajníky alebo obruby z dlažobných kociek z betónu prostého tr. C 20/25 | G147: m3 | H147: 10 | J147: =ROUND(I147*H147,3) -> 0 | N147: znížená | P147: =O147*H147 -> 0 | Q147: 2.30831 | R147: =Q147*H147 -> 23.0831 | S147: 0 | T147: =S147*H147 -> 0 | AR147: 4 | AT147: K | AU147: 2 | AY147: ROZPOCET | BE147: =IF(N147="základná",J147,0) -> 0 | BF147: =IF(N147="znížená",J147,0) -> 0 | BG147: =IF(N147="zákl. prenesená",J147,0) -> 0 | BH147: =IF(N147="zníž. prenesená",J147,0) -> 0 | BI147: =IF(N147="nulová",J147,0) -> 0 | BJ147: 2 | BK147: =ROUND(I147*H147,3) -> 0 | BL147: 4 | BM147: -1868305969
D148: D | E148: 99 | F148: Presun hmôt HSV | J148: =BK148 -> 0 | P148: =P149 -> 0 | R148: =R149 -> 0 | T148: =T149 -> 0 | AR148: 1 | AT148: D | AU148: 1 | AY148: ROZPOCET | BK148: =BK149 -> 0
C149: 13 | D149: K | E149: 998225111.S | F149: Presun hmôt pre pozemnú komunikáciu a letisko s krytom asfaltovým akejkoľvek dĺžky objektu | G149: t | H149: 398.837 | J149: =ROUND(I149*H149,3) -> 0 | N149: znížená | P149: =O149*H149 -> 0 | Q149: 0 | R149: =Q149*H149 -> 0 | S149: 0 | T149: =S149*H149 -> 0 | AR149: 4 | AT149: K | AU149: 2 | AY149: ROZPOCET | BE149: =IF(N149="základná",J149,0) -> 0 | BF149: =IF(N149="znížená",J149,0) -> 0 | BG149: =IF(N149="zákl. prenesená",J149,0) -> 0 | BH149: =IF(N149="zníž. prenesená",J149,0) -> 0 | BI149: =IF(N149="nulová",J149,0) -> 0 | BJ149: 2 | BK149: =ROUND(I149*H149,3) -> 0 | BL149: 4 | BM149: 780484174

Sheet 08 - SO 08 Oporný murik, ...
L2: >> skryté stĺpce << | AT2: {d5481240-6719-43e1-99ed-054d03f68b68}
AT3: 0
D4: KRYCÍ LIST ROZPOČTU | M4: v --- nižšie sa nachádzajú doplnkové a pomocné údaje k zostavám --- v | AT4: False
D6: Stavba:
E7: ='Rekapitulácia stavby'!K6 -> Revitalizácia športoveho areálu Slavoj Trebišov - opakovaná
D8: Objekt:
E9: 08 - SO 08 Oporný murik, múrik na sedenie a schody
D11: JKSO: | I11: KS:
D12: Miesto: | F12: Trebišov | I12: Dátum: | J12: ='Rekapitulácia stavby'!AN8 -> 10. 2. 2021
D14: Objednávateľ: | I14: IČO:
E15: Mesto Trebišov | I15: IČ DPH:
D17: Zhotoviteľ: | I17: IČO: | J17: ='Rekapitulácia stavby'!AN13 -> Vyplň údaj
E18: ='Rekapitulácia stavby'!E14 -> Vyplň údaj | I18: IČ DPH: | J18: ='Rekapitulácia stavby'!AN14 -> Vyplň údaj
D20: Projektant: | I20: IČO: | J20: =IF('Rekapitulácia stavby'!AN16="","",'Rekapitulácia stavby'!AN16)
E21: =IF('Rekapitulácia stavby'!E17="","",'Rekapitulácia stavby'!E17) | I21: IČ DPH: | J21: =IF('Rekapitulácia stavby'!AN17="","",'Rekapitulácia stavby'!AN17)
D23: Spracovateľ: | I23: IČO: | J23: =IF('Rekapitulácia stavby'!AN19="","",'Rekapitulácia stavby'!AN19)
E24: =IF('Rekapitulácia stavby'!E20="","",'Rekapitulácia stavby'!E20) | I24: IČ DPH: | J24: =IF('Rekapitulácia stavby'!AN20="","",'Rekapitulácia stavby'!AN20)
D26: Poznámka:
D30: Náklady z rozpočtu | J30: =J96 -> 0
D31: Ostatné náklady | J31: =J108 -> 0
D32: Cena bez DPH | J32: =ROUND(J30 + J31, 2) -> 0
F34: Základ dane | I34: Sadzba dane | J34: Výška dane
D35: DPH | E35: základná | F35: =ROUND((SUM(BE108:BE115) + SUM(BE135:BE161)), 2) -> 0 | I35: 0.2 | J35: =ROUND(((SUM(BE108:BE115) + SUM(BE135:BE161))*I35), 2) -> 0
E36: znížená | F36: =ROUND((SUM(BF108:BF115) + SUM(BF135:BF161)), 2) -> 0 | I36: 0.2 | J36: =ROUND(((SUM(BF108:BF115) + SUM(BF135:BF161))*I36), 2) -> 0
E37: zákl. prenesená | F37: =ROUND((SUM(BG108:BG115) + SUM(BG135:BG161)), 2) -> 0 | I37: 0.2 | J37: =0 -> 0
E38: zníž. prenesená | F38: =ROUND((SUM(BH108:BH115) + SUM(BH135:BH161)), 2) -> 0 | I38: 0.2 | J38: =0 -> 0
E39: nulová | F39: =ROUND((SUM(BI108:BI115) + SUM(BI135:BI161)), 2) -> 0 | I39: 0 | J39: =0 -> 0
D41: Cena s DPH | G41: v | H41: EUR | J41: =SUM(J32:J39) -> 0
D50: Projektant | G50: Spracovateľ
D61: Dátum a podpis: | F61: Pečiatka | G61: Dátum a podpis: | J61: Pečiatka
D65: Objednávateľ | G65: Zhotoviteľ
D76: Dátum a podpis: | F76: Pečiatka | G76: Dátum a podpis: | J76: Pečiatka
C82: REKAPITULÁCIA ROZPOČTU
C84: Stavba:
E85: =E7 -> Revitalizácia športoveho areálu Slavoj Trebišov - opakovaná
C86: Objekt:
E87: =E9 -> 08 - SO 08 Oporný murik, múrik na sedenie a schody
C89: Miesto: | F89: =F12 -> Trebišov | I89: Dátum: | J89: =IF(J12="","",J12) -> 10. 2. 2021
C91: Objednávateľ: | F91: =E15 -> Mesto Trebišov | I91: Projektant: | J91: =E21
C92: Zhotoviteľ: | F92: =IF(E18="","",E18) -> Vyplň údaj | I92: Spracovateľ: | J92: =E24
C94: Kód dielu - Popis | J94: Cena celkom [EUR]
C96: 1) Náklady z rozpočtu | J96: =J135 -> 0 | AU96: -1
D97: HSV - Práce a dodávky HSV | J97: =J136 -> 0
D98: 3 - Zvislé a kompletné konštrukcie | J98: =J137 -> 0
D99: 6 - Úpravy povrchov, podlahy, osadenie | J99: =J141 -> 0
D100: 9 - Ostatné konštrukcie a práce-búranie | J100: =J143 -> 0
D101: 99 - Presun hmôt HSV | J101: =J147 -> 0
D102: PSV - Práce a dodávky PSV | J102: =J149 -> 0
D103: 766 - Konštrukcie stolárske | J103: =J150 -> 0
D104: 767 - Konštrukcie doplnkové kovové | J104: =J154 -> 0
D105: 783 - Nátery | J105: =J158 -> 0
C108: 2) Ostatné náklady | J108: =ROUND(J109 + J110 + J111 + J112 + J113 + J114,2) -> 0 | N108: DPH
D109: Zariad. staveniska | J109: 0 | N109: znížená | AY109: VRN | BE109: =IF(N109="základná",J109,0) -> 0 | BF109: =IF(N109="znížená",J109,0) -> 0 | BG109: =IF(N109="zákl. prenesená",J109,0) -> 0 | BH109: =IF(N109="zníž. prenesená",J109,0) -> 0 | BI109: =IF(N109="nulová",J109,0) -> 0 | BJ109: 2
D110: Mimostav. doprava | J110: 0 | N110: znížená | AY110: VRN | BE110: =IF(N110="základná",J110,0) -> 0 | BF110: =IF(N110="znížená",J110,0) -> 0 | BG110: =IF(N110="zákl. prenesená",J110,0) -> 0 | BH110: =IF(N110="zníž. prenesená",J110,0) -> 0 | BI110: =IF(N110="nulová",J110,0) -> 0 | BJ110: 2
D111: Územné vplyvy | J111: 0 | N111: znížená | AY111: VRN | BE111: =IF(N111="základná",J111,0) -> 0 | BF111: =IF(N111="znížená",J111,0) -> 0 | BG111: =IF(N111="zákl. prenesená",J111,0) -> 0 | BH111: =IF(N111="zníž. prenesená",J111,0) -> 0 | BI111: =IF(N111="nulová",J111,0) -> 0 | BJ111: 2
D112: Prevádzkové vplyvy | J112: 0 | N112: znížená | AY112: VRN | BE112: =IF(N112="základná",J112,0) -> 0 | BF112: =IF(N112="znížená",J112,0) -> 0 | BG112: =IF(N112="zákl. prenesená",J112,0) -> 0 | BH112: =IF(N112="zníž. prenesená",J112,0) -> 0 | BI112: =IF(N112="nulová",J112,0) -> 0 | BJ112: 2
D113: Ostatné | J113: 0 | N113: znížená | AY113: VRN | BE113: =IF(N113="základná",J113,0) -> 0 | BF113: =IF(N113="znížená",J113,0) -> 0 | BG113: =IF(N113="zákl. prenesená",J113,0) -> 0 | BH113: =IF(N113="zníž. prenesená",J113,0) -> 0 | BI113: =IF(N113="nulová",J113,0) -> 0 | BJ113: 2
D114: Kompletačná činnosť | J114: =ROUND(J30*T114,2) -> 0 | N114: znížená | AY114: KOMPLETACNA | BE114: =IF(N114="základná",J114,0) -> 0 | BF114: =IF(N114="znížená",J114,0) -> 0 | BG114: =IF(N114="zákl. prenesená",J114,0) -> 0 | BH114: =IF(N114="zníž. prenesená",J114,0) -> 0 | BI114: =IF(N114="nulová",J114,0) -> 0 | BJ114: 2
C116: Celkové náklady za stavbu 1) + 2) | J116: =ROUND(J96+J108,2) -> 0
C122: ROZPOČET
C124: Stavba:
E125: =E7 -> Revitalizácia športoveho areálu Slavoj Trebišov - opakovaná
C126: Objekt:
E127: =E9 -> 08 - SO 08 Oporný murik, múrik na sedenie a schody
C129: Miesto: | F129: =F12 -> Trebišov | I129: Dátum: | J129: =IF(J12="","",J12) -> 10. 2. 2021
C131: Objednávateľ: | F131: =E15 -> Mesto Trebišov | I131: Projektant: | J131: =E21
C132: Zhotoviteľ: | F132: =IF(E18="","",E18) -> Vyplň údaj | I132: Spracovateľ: | J132: =E24
C134: PČ | D134: Typ | E134: Kód | F134: Popis | G134: MJ | H134: Množstvo | I134: J.cena [EUR] | J134: Cena celkom [EUR] | K134: Cenová sústava | N134: DPH | O134: J. Nh [h] | P134: Nh celkom [h] | Q134: J. hmotnosť [t] | R134: Hmotnosť celkom [t] | S134: J. suť [t] | T134: Suť Celkom [t]
C135: Náklady z rozpočtu | J135: =BK135 -> 0 | P135: =P136+P149 -> 0 | R135: =R136+R149 -> 68.06195 | T135: =T136+T149 -> 1.92 | AT135: D | AU135: -1 | BK135: =BK136+BK149 -> 0
D136: D | E136: HSV | F136: Práce a dodávky HSV | J136: =BK136 -> 0 | P136: =P137+P141+P143+P147 -> 0 | R136: =R137+R141+R143+R147 -> 66.96083 | T136: =T137+T141+T143+T147 -> 1.92 | AR136: 1 | AT136: D | AU136: 0 | AY136: ROZPOCET | BK136: =BK137+BK141+BK143+BK147 -> 0
D137: D | E137: 3 | F137: Zvislé a kompletné konštrukcie | J137: =BK137 -> 0 | P137: =SUM(P138:P140) -> 0 | R137: =SUM(R138:R140) -> 66.44318 | T137: =SUM(T138:T140) -> 0 | AR137: 1 | AT137: D | AU137: 1 | AY137: ROZPOCET | BK137: =SUM(BK138:BK140) -> 0
C138: 1 | D138: K | E138: 345321414.S | F138: Betón múrikov parapetných, atikových, schodiskových, zábradelných, železový (bez výstuže) tr. C 20/25 | G138: m3 | H138: 26 | J138: =ROUND(I138*H138,3) -> 0 | N138: znížená | P138: =O138*H138 -> 0 | Q138: 2.2969 | R138: =Q138*H138 -> 59.7194 | S138: 0 | T138: =S138*H138 -> 0 | AR138: 4 | AT138: K | AU138: 2 | AY138: ROZPOCET | BE138: =IF(N138="základná",J138,0) -> 0 | BF138: =IF(N138="znížená",J138,0) -> 0 | BG138: =IF(N138="zákl. prenesená",J138,0) -> 0 | BH138: =IF(N138="zníž. prenesená",J138,0) -> 0 | BI138: =IF(N138="nulová",J138,0) -> 0 | BJ138: 2 | BK138: =ROUND(I138*H138,3) -> 0 | BL138: 4 | BM138: -1587243722
C139: 2 | D139: K | E139: 345351221.S | F139: Montáž rámového systémového debnenia ručne pre múriky parapetné, atikové a zábradlia | G139: m2 | H139: 98 | J139: =ROUND(I139*H139,3) -> 0 | N139: znížená | P139: =O139*H139 -> 0 | Q139: 0.06861 | R139: =Q139*H139 -> 6.72378 | S139: 0 | T139: =S139*H139 -> 0 | AR139: 4 | AT139: K | AU139: 2 | AY139: ROZPOCET | BE139: =IF(N139="základná",J139,0) -> 0 | BF139: =IF(N139="znížená",J139,0) -> 0 | BG139: =IF(N139="zákl. prenesená",J139,0) -> 0 | BH139: =IF(N139="zníž. prenesená",J139,0) -> 0 | BI139: =IF(N139="nulová",J139,0) -> 0 | BJ139: 2 | BK139: =ROUND(I139*H139,3) -> 0 | BL139: 4 | BM139: 592270980
C140: 3 | D140: K | E140: 345351231.S | F140: Demontáž rámového systémového debnenia ručne pre múriky parapetné, atikové a zábradlia | G140: m2 | H140: 98 | J140: =ROUND(I140*H140,3) -> 0 | N140: znížená | P140: =O140*H140 -> 0 | Q140: 0 | R140: =Q140*H140 -> 0 | S140: 0 | T140: =S140*H140 -> 0 | AR140: 4 | AT140: K | AU140: 2 | AY140: ROZPOCET | BE140: =IF(N140="základná",J140,0) -> 0 | BF140: =IF(N140="znížená",J140,0) -> 0 | BG140: =IF(N140="zákl. prenesená",J140,0) -> 0 | BH140: =IF(N140="zníž. prenesená",J140,0) -> 0 | BI140: =IF(N140="nulová",J140,0) -> 0 | BJ140: 2 | BK140: =ROUND(I140*H140,3) -> 0 | BL140: 4 | BM140: -2051957405
D141: D | E141: 6 | F141: Úpravy povrchov, podlahy, osadenie | J141: =BK141 -> 0 | P141: =P142 -> 0 | R141: =R142 -> 0.51765 | T141: =T142 -> 0 | AR141: 1 | AT141: D | AU141: 1 | AY141: ROZPOCET | BK141: =BK142 -> 0
C142: 4 | D142: K | E142: 622460151.S | F142: Príprava vonkajšieho podkladu stien cementovým prednástrekom, hr. 3 mm | G142: m2 | H142: 105 | J142: =ROUND(I142*H142,3) -> 0 | N142: znížená | P142: =O142*H142 -> 0 | Q142: 0.00493 | R142: =Q142*H142 -> 0.51765 | S142: 0 | T142: =S142*H142 -> 0 | AR142: 4 | AT142: K | AU142: 2 | AY142: ROZPOCET | BE142: =IF(N142="základná",J142,0) -> 0 | BF142: =IF(N142="znížená",J142,0) -> 0 | BG142: =IF(N142="zákl. prenesená",J142,0) -> 0 | BH142: =IF(N142="zníž. prenesená",J142,0) -> 0 | BI142: =IF(N142="nulová",J142,0) -> 0 | BJ142: 2 | BK142: =ROUND(I142*H142,3) -> 0 | BL142: 4 | BM142: 1397179162
D143: D | E143: 9 | F143: Ostatné konštrukcie a práce-búranie | J143: =BK143 -> 0 | P143: =SUM(P144:P146) -> 0 | R143: =SUM(R144:R146) -> 0 | T143: =SUM(T144:T146) -> 1.92 | AR143: 1 | AT143: D | AU143: 1 | AY143: ROZPOCET | BK143: =SUM(BK144:BK146) -> 0
C144: 5 | D144: K | E144: 962052211.S | F144: Búranie muriva alebo vybúranie otvorov plochy nad 4 m2 železobetonového nadzákladného, -2,40000t | G144: m3 | H144: 0.8 | J144: =ROUND(I144*H144,3) -> 0 | N144: znížená | P144: =O144*H144 -> 0 | Q144: 0 | R144: =Q144*H144 -> 0 | S144: 2.4 | T144: =S144*H144 -> 1.92 | AR144: 4 | AT144: K | AU144: 2 | AY144: ROZPOCET | BE144: =IF(N144="základná",J144,0) -> 0 | BF144: =IF(N144="znížená",J144,0) -> 0 | BG144: =IF(N144="zákl. prenesená",J144,0) -> 0 | BH144: =IF(N144="zníž. prenesená",J144,0) -> 0 | BI144: =IF(N144="nulová",J144,0) -> 0 | BJ144: 2 | BK144: =ROUND(I144*H144,3) -> 0 | BL144: 4 | BM144: 272787680
C145: 16 | D145: K | E145: 979081111.S | F145: Odvoz sutiny a vybúraných hmôt na skládku do 1 km | G145: t | H145: 1.92 | J145: =ROUND(I145*H145,3) -> 0 | N145: znížená | P145: =O145*H145 -> 0 | Q145: 0 | R145: =Q145*H145 -> 0 | S145: 0 | T145: =S145*H145 -> 0 | AR145: 4 | AT145: K | AU145: 2 | AY145: ROZPOCET | BE145: =IF(N145="základná",J145,0) -> 0 | BF145: =IF(N145="znížená",J145,0) -> 0 | BG145: =IF(N145="zákl. prenesená",J145,0) -> 0 | BH145: =IF(N145="zníž. prenesená",J145,0) -> 0 | BI145: =IF(N145="nulová",J145,0) -> 0 | BJ145: 2 | BK145: =ROUND(I145*H145,3) -> 0 | BL145: 4 | BM145: 255636684
C146: 17 | D146: K | E146: 979081121.S | F146: Odvoz sutiny a vybúraných hmôt na skládku za každý ďalší 1 km | G146: t | H146: 9.6 | J146: =ROUND(I146*H146,3) -> 0 | N146: znížená | P146: =O146*H146 -> 0 | Q146: 0 | R146: =Q146*H146 -> 0 | S146: 0 | T146: =S146*H146 -> 0 | AR146: 4 | AT146: K | AU146: 2 | AY146: ROZPOCET | BE146: =IF(N146="základná",J146,0) -> 0 | BF146: =IF(N146="znížená",J146,0) -> 0 | BG146: =IF(N146="zákl. prenesená",J146,0) -> 0 | BH146: =IF(N146="zníž. prenesená",J146,0) -> 0 | BI146: =IF(N146="nulová",J146,0) -> 0 | BJ146: 2 | BK146: =ROUND(I146*H146,3) -> 0 | BL146: 4 | BM146: 40898426
D147: D | E147: 99 | F147: Presun hmôt HSV | J147: =BK147 -> 0 | P147: =P148 -> 0 | R147: =R148 -> 0 | T147: =T148 -> 0 | AR147: 1 | AT147: D | AU147: 1 | AY147: ROZPOCET | BK147: =BK148 -> 0
C148: 18 | D148: K | E148: 998011001.S | F148: Presun hmôt pre budovy (801, 803, 812), zvislá konštr. z tehál, tvárnic, z kovu výšky do 6 m | G148: t | H148: 66.961 | J148: =ROUND(I148*H148,3) -> 0 | N148: znížená | P148: =O148*H148 -> 0 | Q148: 0 | R148: =Q148*H148 -> 0 | S148: 0 | T148: =S148*H148 -> 0 | AR148: 4 | AT148: K | AU148: 2 | AY148: ROZPOCET | BE148: =IF(N148="základná",J148,0) -> 0 | BF148: =IF(N148="znížená",J148,0) -> 0 | BG148: =IF(N148="zákl. prenesená",J148,0) -> 0 | BH148: =IF(N148="zníž. prenesená",J148,0) -> 0 | BI148: =IF(N148="nulová",J148,0) -> 0 | BJ148: 2 | BK148: =ROUND(I148*H148,3) -> 0 | BL148: 4 | BM148: 299613855
D149: D | E149: PSV | F149: Práce a dodávky PSV | J149: =BK149 -> 0 | P149: =P150+P154+P158 -> 0 | R149: =R150+R154+R158 -> 1.10112 | T149: =T150+T154+T158 -> 0 | AR149: 2 | AT149: D | AU149: 0 | AY149: ROZPOCET | BK149: =BK150+BK154+BK158 -> 0
D150: D | E150: 766 | F150: Konštrukcie stolárske | J150: =BK150 -> 0 | P150: =SUM(P151:P153) -> 0 | R150: =SUM(R151:R153) -> 1.03544 | T150: =SUM(T151:T153) -> 0 | AR150: 2 | AT150: D | AU150: 1 | AY150: ROZPOCET | BK150: =SUM(BK151:BK153) -> 0
C151: 7 | D151: K | E151: 766411133.S | F151: Montáž obloženia stien, stĺpov a pilierov murikov z tvrdého dreva, š. nad 80 do 100 mm | G151: m2 | H151: 28 | J151: =ROUND(I151*H151,3) -> 0 | N151: znížená | P151: =O151*H151 -> 0 | Q151: 2e-05 | R151: =Q151*H151 -> 0.00056 | S151: 0 | T151: =S151*H151 -> 0 | AR151: 16 | AT151: K | AU151: 2 | AY151: ROZPOCET | BE151: =IF(N151="základná",J151,0) -> 0 | BF151: =IF(N151="znížená",J151,0) -> 0 | BG151: =IF(N151="zákl. prenesená",J151,0) -> 0 | BH151: =IF(N151="zníž. prenesená",J151,0) -> 0 | BI151: =IF(N151="nulová",J151,0) -> 0 | BJ151: 2 | BK151: =ROUND(I151*H151,3) -> 0 | BL151: 16 | BM151: -1456159567
C152: 8 | D152: M | E152: 605510001100.S | F152: Dosky a fošne dubové omietané akosť I hr. 40-60 mm, š. 100-200 mm dĺ. 1000-2400 mm | G152: m3 | H152: 1.344 | J152: =ROUND(I152*H152,3) -> 0 | N152: znížená | P152: =O152*H152 -> 0 | Q152: 0.77 | R152: =Q152*H152 -> 1.03488 | S152: 0 | T152: =S152*H152 -> 0 | AR152: 32 | AT152: M | AU152: 2 | AY152: ROZPOCET | BE152: =IF(N152="základná",J152,0) -> 0 | BF152: =IF(N152="znížená",J152,0) -> 0 | BG152: =IF(N152="zákl. prenesená",J152,0) -> 0 | BH152: =IF(N152="zníž. prenesená",J152,0) -> 0 | BI152: =IF(N152="nulová",J152,0) -> 0 | BJ152: 2 | BK152: =ROUND(I152*H152,3) -> 0 | BL152: 16 | BM152: 1353589991
C153: 9 | D153: K | E153: 998766201.S | F153: Presun hmot pre konštrukcie stolárske v objektoch výšky do 6 m | G153: % | J153: =ROUND(I153*H153,3) -> 0 | N153: znížená | P153: =O153*H153 -> 0 | Q153: 0 | R153: =Q153*H153 -> 0 | S153: 0 | T153: =S153*H153 -> 0 | AR153: 16 | AT153: K | AU153: 2 | AY153: ROZPOCET | BE153: =IF(N153="základná",J153,0) -> 0 | BF153: =IF(N153="znížená",J153,0) -> 0 | BG153: =IF(N153="zákl. prenesená",J153,0) -> 0 | BH153: =IF(N153="zníž. prenesená",J153,0) -> 0 | BI153: =IF(N153="nulová",J153,0) -> 0 | BJ153: 2 | BK153: =ROUND(I153*H153,3) -> 0 | BL153: 16 | BM153: 2075747001
D154: D | E154: 767 | F154: Konštrukcie doplnkové kovové | J154: =BK154 -> 0 | P154: =SUM(P155:P157) -> 0 | R154: =SUM(R155:R157) -> 0.0486 | T154: =SUM(T155:T157) -> 0 | AR154: 2 | AT154: D | AU154: 1 | AY154: ROZPOCET | BK154: =SUM(BK155:BK157) -> 0
C155: 10 | D155: K | E155: 767162250.S | F155: Montáž zábradlia rovného z profilovej ocele na oceľovú konštrukciu, s hmotnosťou 1m nad 60 kg | G155: m | H155: 60 | J155: =ROUND(I155*H155,3) -> 0 | N155: znížená | P155: =O155*H155 -> 0 | Q155: 5e-05 | R155: =Q155*H155 -> 0.003 | S155: 0 | T155: =S155*H155 -> 0 | AR155: 16 | AT155: K | AU155: 2 | AY155: ROZPOCET | BE155: =IF(N155="základná",J155,0) -> 0 | BF155: =IF(N155="znížená",J155,0) -> 0 | BG155: =IF(N155="zákl. prenesená",J155,0) -> 0 | BH155: =IF(N155="zníž. prenesená",J155,0) -> 0 | BI155: =IF(N155="nulová",J155,0) -> 0 | BJ155: 2 | BK155: =ROUND(I155*H155,3) -> 0 | BL155: 16 | BM155: 2118619395
C156: 11 | D156: M | E156: 553560007600 | F156: Zábradlie s rúrkami dlžka pola 2500 mm stĺpik pre zábradlie SL730-2 z profilu d 80 mm, pravý koncový, oceľová konštrukcia, pripojenie pre tri rúrky, výška 1100 mm, | G156: ks | H156: 24 | J156: =ROUND(I156*H156,3) -> 0 | N156: znížená | P156: =O156*H156 -> 0 | Q156: 0.0019 | R156: =Q156*H156 -> 0.0456 | S156: 0 | T156: =S156*H156 -> 0 | AR156: 32 | AT156: M | AU156: 2 | AY156: ROZPOCET | BE156: =IF(N156="základná",J156,0) -> 0 | BF156: =IF(N156="znížená",J156,0) -> 0 | BG156: =IF(N156="zákl. prenesená",J156,0) -> 0 | BH156: =IF(N156="zníž. prenesená",J156,0) -> 0 | BI156: =IF(N156="nulová",J156,0) -> 0 | BJ156: 2 | BK156: =ROUND(I156*H156,3) -> 0 | BL156: 16 | BM156: 244693925
C157: 12 | D157: K | E157: 998767201.S | F157: Presun hmôt pre kovové stavebné doplnkové konštrukcie v objektoch výšky do 6 m | G157: % | J157: =ROUND(I157*H157,3) -> 0 | N157: znížená | P157: =O157*H157 -> 0 | Q157: 0 | R157: =Q157*H157 -> 0 | S157: 0 | T157: =S157*H157 -> 0 | AR157: 16 | AT157: K | AU157: 2 | AY157: ROZPOCET | BE157: =IF(N157="základná",J157,0) -> 0 | BF157: =IF(N157="znížená",J157,0) -> 0 | BG157: =IF(N157="zákl. prenesená",J157,0) -> 0 | BH157: =IF(N157="zníž. prenesená",J157,0) -> 0 | BI157: =IF(N157="nulová",J157,0) -> 0 | BJ157: 2 | BK157: =ROUND(I157*H157,3) -> 0 | BL157: 16 | BM157: -134308111
D158: D | E158: 783 | F158: Nátery | J158: =BK158 -> 0 | P158: =SUM(P159:P161) -> 0 | R158: =SUM(R159:R161) -> 0.01708 | T158: =SUM(T159:T161) -> 0 | AR158: 2 | AT158: D | AU158: 1 | AY158: ROZPOCET | BK158: =SUM(BK159:BK161) -> 0
C159: 13 | D159: K | E159: 783726000.S | F159: Nátery tesárskych konštrukcií syntetické lazurovacím lakom napustením | G159: m2 | H159: 28 | J159: =ROUND(I159*H159,3) -> 0 | N159: znížená | P159: =O159*H159 -> 0 | Q159: 0.00011 | R159: =Q159*H159 -> 0.00308 | S159: 0 | T159: =S159*H159 -> 0 | AR159: 16 | AT159: K | AU159: 2 | AY159: ROZPOCET | BE159: =IF(N159="základná",J159,0) -> 0 | BF159: =IF(N159="znížená",J159,0) -> 0 | BG159: =IF(N159="zákl. prenesená",J159,0) -> 0 | BH159: =IF(N159="zníž. prenesená",J159,0) -> 0 | BI159: =IF(N159="nulová",J159,0) -> 0 | BJ159: 2 | BK159: =ROUND(I159*H159,3) -> 0 | BL159: 16 | BM159: -706706074
C160: 14 | D160: K | E160: 783726300.S | F160: Nátery tesárskych konštrukcií syntetické na vzduchu schnúce lazurovacím lakom 3x lakovaním | G160: m2 | H160: 28 | J160: =ROUND(I160*H160,3) -> 0 | N160: znížená | P160: =O160*H160 -> 0 | Q160: 0.00032 | R160: =Q160*H160 -> 0.00896 | S160: 0 | T160: =S160*H160 -> 0 | AR160: 16 | AT160: K | AU160: 2 | AY160: ROZPOCET | BE160: =IF(N160="základná",J160,0) -> 0 | BF160: =IF(N160="znížená",J160,0) -> 0 | BG160: =IF(N160="zákl. prenesená",J160,0) -> 0 | BH160: =IF(N160="zníž. prenesená",J160,0) -> 0 | BI160: =IF(N160="nulová",J160,0) -> 0 | BJ160: 2 | BK160: =ROUND(I160*H160,3) -> 0 | BL160: 16 | BM160: -2060959289
C161: 19 | D161: K | E161: 783782406.S | F161: Nátery tesárskych konštrukcií, hĺbková impregnácia 3 v 1 s biocídom, jednonásobná | G161: m2 | H161: 56 | J161: =ROUND(I161*H161,3) -> 0 | N161: znížená | P161: =O161*H161 -> 0 | Q161: 9e-05 | R161: =Q161*H161 -> 0.00504 | S161: 0 | T161: =S161*H161 -> 0 | AR161: 16 | AT161: K | AU161: 2 | AY161: ROZPOCET | BE161: =IF(N161="základná",J161,0) -> 0 | BF161: =IF(N161="znížená",J161,0) -> 0 | BG161: =IF(N161="zákl. prenesená",J161,0) -> 0 | BH161: =IF(N161="zníž. prenesená",J161,0) -> 0 | BI161: =IF(N161="nulová",J161,0) -> 0 | BJ161: 2 | BK161: =ROUND(I161*H161,3) -> 0 | BL161: 16 | BM161: 871451755
