Workbook

Sheet Rekapitulácia stavby
A1: Export Komplet | BA1: 2.0 | BT1: False | BU1: False | BV1: {280d7436-5743-4fd9-b856-c783e19ecfe7}
AR2: >> skryté stĺpce << | BS2: 0,001 | BT2: 20
BS3: 0,001 | BT3: 20
D4: REKAPITULÁCIA STAVBY | AS4: v --- nižšie sa nachádzajú doplnkové a pomocné údaje k zostavám --- v | BE4: Návod na vyplnenie | BS4: 0,001
D5: Kód: | K5: 15773 | BE5: Meniť je možné iba bunky so žltým podfarbením!_x000D_ _x000D_ 1) na prvom liste Rekapitulácie stavby vyplňte v zostave_x000D_ _x000D_ a) Rekapitulácia stavby_x000D_ - údaje o Zhotoviteľovi_x000D_ (prenesú sa do ostatných zostáv aj v iných listoch)_x000D_ _x000D_ b) Rekapitulácia objektov stavby_x000D_ - potrebné Ostatné náklady_x000D_ _x000D_ 2) na vybraných listoch vyplňte v zostave_x000D_ _x000D_ a) Krycí list_x000D_ - údaje o Zhotoviteľovi, pokiaľ sa líšia od údajov o Zhotoviteľovi na Rekapitulácii stavby_x000D_ (údaje se prenesú do ostatných zostav v danom liste)_x000D_ _x000D_ b) Rekapitulácia rozpočtu_x000D_ - potrebné Ostatné náklady_x000D_ _x000D_ c) Celkové náklady za stavbu_x000D_ - ceny na položkách_x000D_ - množstvo, pokiaľ má žlté podfarbenie_x000D_ - a v prípade potreby poznámku (tá je v skrytom stĺpci) | BS5: 0,001
D6: Stavba: | K6: Rekonštrukcia MŠ 29.augusta, Trebišov | BS6: 0,001
D7: JKSO: | AK7: KS: | BS7: 0,001
D8: Miesto: | K8: Trebišov | AK8: Dátum: | AN8: 10. 6. 2022 | BS8: 0,001
BS9: 0,001
D10: Objednávateľ: | AK10: IČO: | BS10: 0,001
E11: Mesto Trebišov | AK11: IČ DPH: | BS11: 0,001
BS12: 0,001
D13: Zhotoviteľ: | AK13: IČO: | AN13: Vyplň údaj | BS13: 0,001
E14: Vyplň údaj | AK14: IČ DPH: | AN14: Vyplň údaj | BS14: 0,001
BS15: False
D16: Projektant: | AK16: IČO: | BS16: False
AK17: IČ DPH: | BS17: True
BS18: 0,01
D19: Spracovateľ: | AK19: IČO: | BS19: 0,01
AK20: IČ DPH: | BS20: True
D22: Poznámka:
D26: Cena bez DPH | AK26: =ROUND(AG94,2) -> 0
L28: Sadzba dane | W28: Základ dane | AK28: Výška dane
D29: DPH | F29: základná | L29: 0.2 | W29: =ROUND(AZ94, 2) -> 0 | AK29: =ROUND(AV94, 2) -> 0
F30: znížená | L30: 0.2 | W30: =ROUND(BA94, 2) -> 0 | AK30: =ROUND(AW94, 2) -> 0
F31: zákl. prenesená | L31: 0.2 | W31: =ROUND(BB94, 2) -> 0 | AK31: 0
F32: zníž. prenesená | L32: 0.2 | W32: =ROUND(BC94, 2) -> 0 | AK32: 0
F33: nulová | L33: 0 | W33: =ROUND(BD94, 2) -> 0 | AK33: 0
D35: Cena s DPH | T35: v | X35: EUR | AK35: =SUM(AK26:AK33) -> 0
D49: Projektant | AH49: Spracovateľ
D60: Dátum a podpis: | V60: Pečiatka | AH60: Dátum a podpis: | AM60: Pečiatka
D64: Objednávateľ | AH64: Zhotoviteľ
D75: Dátum a podpis: | V75: Pečiatka | AH75: Dátum a podpis: | AM75: Pečiatka
C82: REKAPITULÁCIA OBJEKTOV STAVBY
C84: Kód: | L84: =K5 -> 15773
C85: Stavba: | L85: =K6 -> Rekonštrukcia MŠ 29.augusta, Trebišov
C87: Miesto: | L87: =IF(K8="","",K8) -> Trebišov | AI87: Dátum: | AM87: =IF(AN8= "","",AN8) -> 10. 6. 2022
C89: Objednávateľ: | L89: =IF(E11= "","",E11) -> Mesto Trebišov | AI89: Projektant: | AM89: =IF(E17="","",E17) | AS89: Informatívne údaje z listov zákaziek
C90: Zhotoviteľ: | L90: =IF(E14= "Vyplň údaj","",E14) | AI90: Spracovateľ: | AM90: =IF(E20="","",E20)
C92: Kód | I92: Popis | AG92: Cena bez DPH [EUR] | AN92: Cena s DPH [EUR] | AQ92: Typ | AS92: z toho Ostat._x000D_ náklady [EUR] | AT92: DPH [EUR] | AU92: Normohodiny [h] | AV92: DPH základná [EUR] | AW92: DPH znížená [EUR] | AX92: DPH základná prenesená_x000D_ [EUR] | AY92: DPH znížená prenesená_x000D_ [EUR] | AZ92: Základňa_x000D_ DPH základná | BA92: Základňa_x000D_ DPH znížená | BB92: Základňa_x000D_ DPH zákl. prenesená | BC92: Základňa_x000D_ DPH zníž. prenesená | BD92: Základňa_x000D_ DPH nulová
C94: Náklady z rozpočtov | AG94: =ROUND(SUM(AG95:AG96),2) -> 0 | AN94: =SUM(AG94,AT94) -> 0 | AS94: =ROUND(SUM(AS95:AS96),2) -> 0 | AT94: =ROUND(SUM(AV94:AW94),2) -> 0 | AU94: =ROUND(SUM(AU95:AU96),5) -> 0 | AV94: =ROUND(AZ94*L29,2) -> 0 | AW94: =ROUND(BA94*L30,2) -> 0 | AX94: =ROUND(BB94*L29,2) -> 0 | AY94: =ROUND(BC94*L30,2) -> 0 | AZ94: =ROUND(SUM(AZ95:AZ96),2) -> 0 | BA94: =ROUND(SUM(BA95:BA96),2) -> 0 | BB94: =ROUND(SUM(BB95:BB96),2) -> 0 | BC94: =ROUND(SUM(BC95:BC96),2) -> 0 | BD94: =ROUND(SUM(BD95:BD96),2) -> 0 | BS94: D | BT94: 0 | BU94: ###NOIMPORT### | BV94: IMPORT | BW94: {280d7436-5743-4fd9-b856-c783e19ecfe7} | BX94: {00000000-0000-0000-0000-000000000000}
A95: / | D95: 01 | J95: Oprávnené náklady | AG95: ='01 - Oprávnené náklady '!J30 -> 0 | AN95: =SUM(AG95,AT95) -> 0 | AQ95: STA | AS95: 0 | AT95: =ROUND(SUM(AV95:AW95),2) -> 0 | AU95: ='01 - Oprávnené náklady '!P133 -> 0 | AV95: ='01 - Oprávnené náklady '!J33 -> 0 | AW95: ='01 - Oprávnené náklady '!J34 -> 0 | AX95: ='01 - Oprávnené náklady '!J35 -> 0 | AY95: ='01 - Oprávnené náklady '!J36 -> 0 | AZ95: ='01 - Oprávnené náklady '!F33 -> 0 | BA95: ='01 - Oprávnené náklady '!F34 -> 0 | BB95: ='01 - Oprávnené náklady '!F35 -> 0 | BC95: ='01 - Oprávnené náklady '!F36 -> 0 | BD95: ='01 - Oprávnené náklady '!F37 -> 0 | BT95: 1 | BV95: IMPORT | BW95: {8cf672dc-9fcb-429b-b676-bacc0db91dfe} | BX95: {280d7436-5743-4fd9-b856-c783e19ecfe7} | CM95: 0
A96: / | D96: 02 | J96: Neoprávnené náklady | AG96: ='02 - Neoprávnené náklady '!J30 -> 0 | AN96: =SUM(AG96,AT96) -> 0 | AQ96: STA | AS96: 0 | AT96: =ROUND(SUM(AV96:AW96),2) -> 0 | AU96: ='02 - Neoprávnené náklady '!P118 -> 0 | AV96: ='02 - Neoprávnené náklady '!J33 -> 0 | AW96: ='02 - Neoprávnené náklady '!J34 -> 0 | AX96: ='02 - Neoprávnené náklady '!J35 -> 0 | AY96: ='02 - Neoprávnené náklady '!J36 -> 0 | AZ96: ='02 - Neoprávnené náklady '!F33 -> 0 | BA96: ='02 - Neoprávnené náklady '!F34 -> 0 | BB96: ='02 - Neoprávnené náklady '!F35 -> 0 | BC96: ='02 - Neoprávnené náklady '!F36 -> 0 | BD96: ='02 - Neoprávnené náklady '!F37 -> 0 | BT96: 1 | BV96: IMPORT | BW96: {db4fe69f-f887-41be-9718-52c7408ee977} | BX96: {280d7436-5743-4fd9-b856-c783e19ecfe7} | CM96: 0

Sheet 01 - Oprávnené náklady 
L2: >> skryté stĺpce << | AT2: {8cf672dc-9fcb-429b-b676-bacc0db91dfe}
AT3: 0
D4: KRYCÍ LIST ROZPOČTU | M4: v --- nižšie sa nachádzajú doplnkové a pomocné údaje k zostavám --- v | AT4: False
D6: Stavba:
E7: ='Rekapitulácia stavby'!K6 -> Rekonštrukcia MŠ 29.augusta, Trebišov
D8: Objekt:
E9: 01 - Oprávnené náklady
D11: JKSO: | I11: KS:
D12: Miesto: | F12: Trebišov | I12: Dátum: | J12: ='Rekapitulácia stavby'!AN8 -> 10. 6. 2022
D14: Objednávateľ: | I14: IČO:
E15: Mesto Trebišov | I15: IČ DPH:
D17: Zhotoviteľ: | I17: IČO: | J17: ='Rekapitulácia stavby'!AN13 -> Vyplň údaj
E18: ='Rekapitulácia stavby'!E14 -> Vyplň údaj | I18: IČ DPH: | J18: ='Rekapitulácia stavby'!AN14 -> Vyplň údaj
D20: Projektant: | I20: IČO: | J20: =IF('Rekapitulácia stavby'!AN16="","",'Rekapitulácia stavby'!AN16)
E21: =IF('Rekapitulácia stavby'!E17="","",'Rekapitulácia stavby'!E17) | I21: IČ DPH: | J21: =IF('Rekapitulácia stavby'!AN17="","",'Rekapitulácia stavby'!AN17)
D23: Spracovateľ: | I23: IČO: | J23: =IF('Rekapitulácia stavby'!AN19="","",'Rekapitulácia stavby'!AN19)
E24: =IF('Rekapitulácia stavby'!E20="","",'Rekapitulácia stavby'!E20) | I24: IČ DPH: | J24: =IF('Rekapitulácia stavby'!AN20="","",'Rekapitulácia stavby'!AN20)
D26: Poznámka:
D30: Cena bez DPH | J30: =ROUND(J133, 2) -> 0
F32: Základ dane | I32: Sadzba dane | J32: Výška dane
D33: DPH | E33: základná | F33: =ROUND((SUM(BE133:BE286)), 2) -> 0 | I33: 0.2 | J33: =ROUND(((SUM(BE133:BE286))*I33), 2) -> 0
E34: znížená | F34: =ROUND((SUM(BF133:BF286)), 2) -> 0 | I34: 0.2 | J34: =ROUND(((SUM(BF133:BF286))*I34), 2) -> 0
E35: zákl. prenesená | F35: =ROUND((SUM(BG133:BG286)), 2) -> 0 | I35: 0.2 | J35: =0 -> 0
E36: zníž. prenesená | F36: =ROUND((SUM(BH133:BH286)), 2) -> 0 | I36: 0.2 | J36: =0 -> 0
E37: nulová | F37: =ROUND((SUM(BI133:BI286)), 2) -> 0 | I37: 0 | J37: =0 -> 0
D39: Cena s DPH | G39: v | H39: EUR | J39: =SUM(J30:J37) -> 0
D50: Projektant | G50: Spracovateľ
D61: Dátum a podpis: | F61: Pečiatka | G61: Dátum a podpis: | J61: Pečiatka
D65: Objednávateľ | G65: Zhotoviteľ
D76: Dátum a podpis: | F76: Pečiatka | G76: Dátum a podpis: | J76: Pečiatka
C82: REKAPITULÁCIA ROZPOČTU
C84: Stavba:
E85: =E7 -> Rekonštrukcia MŠ 29.augusta, Trebišov
C86: Objekt:
E87: =E9 -> 01 - Oprávnené náklady
C89: Miesto: | F89: =F12 -> Trebišov | I89: Dátum: | J89: =IF(J12="","",J12) -> 10. 6. 2022
C91: Objednávateľ: | F91: =E15 -> Mesto Trebišov | I91: Projektant: | J91: =E21
C92: Zhotoviteľ: | F92: =IF(E18="","",E18) -> Vyplň údaj | I92: Spracovateľ: | J92: =E24
C94: Kód dielu - Popis | J94: Cena celkom [EUR]
C96: Náklady z rozpočtu | J96: =J133 -> 0 | AU96: -1
D97: HSV - Práce a dodávky HSV | J97: =J134 -> 0
D98: 6 - Úpravy povrchov, podlahy, osadenie | J98: =J135 -> 0
D99: 9 - Ostatné konštrukcie a práce-búranie | J99: =J142 -> 0
D100: 99 - Presun hmôt HSV | J100: =J160 -> 0
D101: PSV - Práce a dodávky PSV | J101: =J162 -> 0
D102: 735 - Ústredné kúrenie | J102: =J163 -> 0
D103: 713 - Izolácie tepelné | J103: =J181 -> 0
D104: 731 - Ústredné kúrenie - kotolne | J104: =J185 -> 0
D105: 732 - Podlahove vykurovanie | J105: =J192 -> 0
D106: 762 - Konštrukcie tesárske | J106: =J203 -> 0
D107: 764 - Konštrukcie klampiarske | J107: =J213 -> 0
D108: 765 - Konštrukcie - krytiny tvrdé | J108: =J226 -> 0
D109: 783 - Nátery | J109: =J228 -> 0
D110: M - Práce a dodávky M | J110: =J231 -> 0
D111: 21-M - Elektromontáže | J111: =J232 -> 0
D112: D2 - Elektro materiál | J112: =J234 -> 0
D113: D3 - Bleskozvodná sústava, uzemnenie + montáž | J113: =J267 -> 0
C120: ROZPOČET
C122: Stavba:
E123: =E7 -> Rekonštrukcia MŠ 29.augusta, Trebišov
C124: Objekt:
E125: =E9 -> 01 - Oprávnené náklady
C127: Miesto: | F127: =F12 -> Trebišov | I127: Dátum: | J127: =IF(J12="","",J12) -> 10. 6. 2022
C129: Objednávateľ: | F129: =E15 -> Mesto Trebišov | I129: Projektant: | J129: =E21
C130: Zhotoviteľ: | F130: =IF(E18="","",E18) -> Vyplň údaj | I130: Spracovateľ: | J130: =E24
C132: PČ | D132: Typ | E132: Kód | F132: Popis | G132: MJ | H132: Množstvo | I132: J.cena [EUR] | J132: Cena celkom [EUR] | K132: Cenová sústava | N132: DPH | O132: J. Nh [h] | P132: Nh celkom [h] | Q132: J. hmotnosť [t] | R132: Hmotnosť celkom [t] | S132: J. suť [t] | T132: Suť Celkom [t]
C133: Náklady z rozpočtu | J133: =BK133 -> 0 | P133: =P134+P162+P231 -> 0 | R133: =R134+R162+R231 -> 60.277361 | T133: =T134+T162+T231 -> 138.09516 | AT133: D | AU133: -1 | BK133: =BK134+BK162+BK231 -> 0
D134: D | E134: HSV | F134: Práce a dodávky HSV | J134: =BK134 -> 0 | P134: =P135+P142+P160 -> 0 | R134: =R135+R142+R160 -> 32.927639 | T134: =T135+T142+T160 -> 126.61035 | AR134: 1 | AT134: D | AU134: 0 | AY134: ROZPOCET | BK134: =BK135+BK142+BK160 -> 0
D135: D | E135: 6 | F135: Úpravy povrchov, podlahy, osadenie | J135: =BK135 -> 0 | P135: =SUM(P136:P141) -> 0 | R135: =SUM(R136:R141) -> 12.114707 | T135: =SUM(T136:T141) -> 0 | AR135: 1 | AT135: D | AU135: 1 | AY135: ROZPOCET | BK135: =SUM(BK136:BK141) -> 0
C136: 1 | D136: K | E136: 622461052.S | F136: Vonkajšia omietka stien pastovitá silikónová roztieraná, hr. 1,5 mm | G136: m2 | H136: 335.879 | J136: =ROUND(I136*H136,3) -> 0 | N136: znížená | P136: =O136*H136 -> 0 | Q136: 0.00232 | R136: =Q136*H136 -> 0.77923928 | S136: 0 | T136: =S136*H136 -> 0 | AR136: 4 | AT136: K | AU136: 2 | AY136: ROZPOCET | BE136: =IF(N136="základná",J136,0) -> 0 | BF136: =IF(N136="znížená",J136,0) -> 0 | BG136: =IF(N136="zákl. prenesená",J136,0) -> 0 | BH136: =IF(N136="zníž. prenesená",J136,0) -> 0 | BI136: =IF(N136="nulová",J136,0) -> 0 | BJ136: 2 | BK136: =ROUND(I136*H136,3) -> 0 | BL136: 4 | BM136: -571350835
C137: 2 | D137: K | E137: 622461281.S | F137: Vonkajšia omietka stien pastovitá dekoratívna mozaiková | G137: m2 | H137: 30.547 | J137: =ROUND(I137*H137,3) -> 0 | N137: znížená | P137: =O137*H137 -> 0 | Q137: 0.00618 | R137: =Q137*H137 -> 0.18878046 | S137: 0 | T137: =S137*H137 -> 0 | AR137: 4 | AT137: K | AU137: 2 | AY137: ROZPOCET | BE137: =IF(N137="základná",J137,0) -> 0 | BF137: =IF(N137="znížená",J137,0) -> 0 | BG137: =IF(N137="zákl. prenesená",J137,0) -> 0 | BH137: =IF(N137="zníž. prenesená",J137,0) -> 0 | BI137: =IF(N137="nulová",J137,0) -> 0 | BJ137: 2 | BK137: =ROUND(I137*H137,3) -> 0 | BL137: 4 | BM137: -1191958900
C138: 3 | D138: K | E138: 625250383.S | F138: Kontaktný zatepľovací systém z grafitového EPS hr. 160 mm, zatĺkacie kotvy - rimsa | G138: m2 | H138: 24.768 | J138: =ROUND(I138*H138,3) -> 0 | N138: znížená | P138: =O138*H138 -> 0 | Q138: 0.01271 | R138: =Q138*H138 -> 0.31480128 | S138: 0 | T138: =S138*H138 -> 0 | AR138: 4 | AT138: K | AU138: 2 | AY138: ROZPOCET | BE138: =IF(N138="základná",J138,0) -> 0 | BF138: =IF(N138="znížená",J138,0) -> 0 | BG138: =IF(N138="zákl. prenesená",J138,0) -> 0 | BH138: =IF(N138="zníž. prenesená",J138,0) -> 0 | BI138: =IF(N138="nulová",J138,0) -> 0 | BJ138: 2 | BK138: =ROUND(I138*H138,3) -> 0 | BL138: 4 | BM138: 1786083800
C139: 4 | D139: K | E139: 625250592.S | F139: Kontaktný zatepľovací systém soklovej alebo vodou namáhanej časti hr. 140 mm, zatĺkacie kotvy | G139: m2 | H139: 30.547 | J139: =ROUND(I139*H139,3) -> 0 | N139: znížená | P139: =O139*H139 -> 0 | Q139: 0.01431 | R139: =Q139*H139 -> 0.43712757 | S139: 0 | T139: =S139*H139 -> 0 | AR139: 4 | AT139: K | AU139: 2 | AY139: ROZPOCET | BE139: =IF(N139="základná",J139,0) -> 0 | BF139: =IF(N139="znížená",J139,0) -> 0 | BG139: =IF(N139="zákl. prenesená",J139,0) -> 0 | BH139: =IF(N139="zníž. prenesená",J139,0) -> 0 | BI139: =IF(N139="nulová",J139,0) -> 0 | BJ139: 2 | BK139: =ROUND(I139*H139,3) -> 0 | BL139: 4 | BM139: -1419809308
C140: 5 | D140: K | E140: 625250741.S | F140: Kontaktný zatepľovací systém z minerálnej vlny hr. 160 mm, zatĺkacie kotvy | G140: m2 | H140: 283.67 | J140: =ROUND(I140*H140,3) -> 0 | N140: znížená | P140: =O140*H140 -> 0 | Q140: 0.03495 | R140: =Q140*H140 -> 9.9142665 | S140: 0 | T140: =S140*H140 -> 0 | AR140: 4 | AT140: K | AU140: 2 | AY140: ROZPOCET | BE140: =IF(N140="základná",J140,0) -> 0 | BF140: =IF(N140="znížená",J140,0) -> 0 | BG140: =IF(N140="zákl. prenesená",J140,0) -> 0 | BH140: =IF(N140="zníž. prenesená",J140,0) -> 0 | BI140: =IF(N140="nulová",J140,0) -> 0 | BJ140: 2 | BK140: =ROUND(I140*H140,3) -> 0 | BL140: 4 | BM140: -1579465401
C141: 6 | D141: K | E141: 625250761.S | F141: Kontaktný zatepľovací systém ostenia z minerálnej vlny hr. 20 mm | G141: m2 | H141: 27.441 | J141: =ROUND(I141*H141,3) -> 0 | N141: znížená | P141: =O141*H141 -> 0 | Q141: 0.01751 | R141: =Q141*H141 -> 0.48049191 | S141: 0 | T141: =S141*H141 -> 0 | AR141: 4 | AT141: K | AU141: 2 | AY141: ROZPOCET | BE141: =IF(N141="základná",J141,0) -> 0 | BF141: =IF(N141="znížená",J141,0) -> 0 | BG141: =IF(N141="zákl. prenesená",J141,0) -> 0 | BH141: =IF(N141="zníž. prenesená",J141,0) -> 0 | BI141: =IF(N141="nulová",J141,0) -> 0 | BJ141: 2 | BK141: =ROUND(I141*H141,3) -> 0 | BL141: 4 | BM141: -227077453
D142: D | E142: 9 | F142: Ostatné konštrukcie a práce-búranie | J142: =BK142 -> 0 | P142: =SUM(P143:P159) -> 0 | R142: =SUM(R143:R159) -> 20.812932 | T142: =SUM(T143:T159) -> 126.61035 | AR142: 1 | AT142: D | AU142: 1 | AY142: ROZPOCET | BK142: =SUM(BK143:BK159) -> 0
C143: 7 | D143: K | E143: 941941031.S | F143: Montáž lešenia ľahkého pracovného radového s podlahami šírky od 0,80 do 1,00 m, výšky do 10 m | G143: m2 | H143: 403.032 | J143: =ROUND(I143*H143,3) -> 0 | N143: znížená | P143: =O143*H143 -> 0 | Q143: 0.02572 | R143: =Q143*H143 -> 10.365983 | S143: 0 | T143: =S143*H143 -> 0 | AR143: 4 | AT143: K | AU143: 2 | AY143: ROZPOCET | BE143: =IF(N143="základná",J143,0) -> 0 | BF143: =IF(N143="znížená",J143,0) -> 0 | BG143: =IF(N143="zákl. prenesená",J143,0) -> 0 | BH143: =IF(N143="zníž. prenesená",J143,0) -> 0 | BI143: =IF(N143="nulová",J143,0) -> 0 | BJ143: 2 | BK143: =ROUND(I143*H143,3) -> 0 | BL143: 4 | BM143: -1432717829
C144: 8 | D144: K | E144: 941941191.S | F144: Príplatok za prvý a každý ďalší i začatý mesiac použitia lešenia ľahkého pracovného radového s podlahami šírky od 0,80 do 1,00 m, výšky do 10 m | G144: m2 | H144: 403.032 | J144: =ROUND(I144*H144,3) -> 0 | N144: znížená | P144: =O144*H144 -> 0 | Q144: 0 | R144: =Q144*H144 -> 0 | S144: 0 | T144: =S144*H144 -> 0 | AR144: 4 | AT144: K | AU144: 2 | AY144: ROZPOCET | BE144: =IF(N144="základná",J144,0) -> 0 | BF144: =IF(N144="znížená",J144,0) -> 0 | BG144: =IF(N144="zákl. prenesená",J144,0) -> 0 | BH144: =IF(N144="zníž. prenesená",J144,0) -> 0 | BI144: =IF(N144="nulová",J144,0) -> 0 | BJ144: 2 | BK144: =ROUND(I144*H144,3) -> 0 | BL144: 4 | BM144: 730358177
C145: 9 | D145: K | E145: 941941841.S | F145: Demontáž lešenia ľahkého pracovného radového s podlahami šírky nad 1,00 do 1,20 m, výšky do 10 m | G145: m2 | H145: 403.032 | J145: =ROUND(I145*H145,3) -> 0 | N145: znížená | P145: =O145*H145 -> 0 | Q145: 0.02572 | R145: =Q145*H145 -> 10.365983 | S145: 0 | T145: =S145*H145 -> 0 | AR145: 4 | AT145: K | AU145: 2 | AY145: ROZPOCET | BE145: =IF(N145="základná",J145,0) -> 0 | BF145: =IF(N145="znížená",J145,0) -> 0 | BG145: =IF(N145="zákl. prenesená",J145,0) -> 0 | BH145: =IF(N145="zníž. prenesená",J145,0) -> 0 | BI145: =IF(N145="nulová",J145,0) -> 0 | BJ145: 2 | BK145: =ROUND(I145*H145,3) -> 0 | BL145: 4 | BM145: 627681227
C146: 10 | D146: K | E146: 952901111.S | F146: Vyčistenie pôjdneho priestoru budov pri výške podlaží do 4 m | G146: m2 | H146: 331.602 | J146: =ROUND(I146*H146,3) -> 0 | N146: znížená | P146: =O146*H146 -> 0 | Q146: 5e-05 | R146: =Q146*H146 -> 0.0165801 | S146: 0 | T146: =S146*H146 -> 0 | AR146: 4 | AT146: K | AU146: 2 | AY146: ROZPOCET | BE146: =IF(N146="základná",J146,0) -> 0 | BF146: =IF(N146="znížená",J146,0) -> 0 | BG146: =IF(N146="zákl. prenesená",J146,0) -> 0 | BH146: =IF(N146="zníž. prenesená",J146,0) -> 0 | BI146: =IF(N146="nulová",J146,0) -> 0 | BJ146: 2 | BK146: =ROUND(I146*H146,3) -> 0 | BL146: 4 | BM146: -2096076935
C147: 11 | D147: K | E147: 953945315.S | F147: Hliníkový soklový profil šírky 163 mm | G147: m | H147: 82.56 | J147: =ROUND(I147*H147,3) -> 0 | N147: znížená | P147: =O147*H147 -> 0 | Q147: 0.00042 | R147: =Q147*H147 -> 0.0346752 | S147: 0 | T147: =S147*H147 -> 0 | AR147: 4 | AT147: K | AU147: 2 | AY147: ROZPOCET | BE147: =IF(N147="základná",J147,0) -> 0 | BF147: =IF(N147="znížená",J147,0) -> 0 | BG147: =IF(N147="zákl. prenesená",J147,0) -> 0 | BH147: =IF(N147="zníž. prenesená",J147,0) -> 0 | BI147: =IF(N147="nulová",J147,0) -> 0 | BJ147: 2 | BK147: =ROUND(I147*H147,3) -> 0 | BL147: 4 | BM147: 837660857
C148: 12 | D148: K | E148: 953945351.S | F148: Hliníkový rohový ochranný profil s integrovanou mriežkou | G148: m | H148: 134.31 | J148: =ROUND(I148*H148,3) -> 0 | N148: znížená | P148: =O148*H148 -> 0 | Q148: 3e-05 | R148: =Q148*H148 -> 0.0040293 | S148: 0 | T148: =S148*H148 -> 0 | AR148: 4 | AT148: K | AU148: 2 | AY148: ROZPOCET | BE148: =IF(N148="základná",J148,0) -> 0 | BF148: =IF(N148="znížená",J148,0) -> 0 | BG148: =IF(N148="zákl. prenesená",J148,0) -> 0 | BH148: =IF(N148="zníž. prenesená",J148,0) -> 0 | BI148: =IF(N148="nulová",J148,0) -> 0 | BJ148: 2 | BK148: =ROUND(I148*H148,3) -> 0 | BL148: 4 | BM148: -1934034474
C149: 13 | D149: K | E149: 953995223 | F149: Rimsovy profil pri podhľade XPS obly | G149: m | H149: 82.56 | J149: =ROUND(I149*H149,3) -> 0 | N149: znížená | P149: =O149*H149 -> 0 | Q149: 5e-05 | R149: =Q149*H149 -> 0.004128 | S149: 0 | T149: =S149*H149 -> 0 | AR149: 4 | AT149: K | AU149: 2 | AY149: ROZPOCET | BE149: =IF(N149="základná",J149,0) -> 0 | BF149: =IF(N149="znížená",J149,0) -> 0 | BG149: =IF(N149="zákl. prenesená",J149,0) -> 0 | BH149: =IF(N149="zníž. prenesená",J149,0) -> 0 | BI149: =IF(N149="nulová",J149,0) -> 0 | BJ149: 2 | BK149: =ROUND(I149*H149,3) -> 0 | BL149: 4 | BM149: -436058346
C150: 14 | D150: K | E150: 953996121 | F150: PCI okenný APU profil s integrovanou tkaninou | G150: m | H150: 91.47 | J150: =ROUND(I150*H150,3) -> 0 | N150: znížená | P150: =O150*H150 -> 0 | Q150: 7e-05 | R150: =Q150*H150 -> 0.0064029 | S150: 0 | T150: =S150*H150 -> 0 | AR150: 4 | AT150: K | AU150: 2 | AY150: ROZPOCET | BE150: =IF(N150="základná",J150,0) -> 0 | BF150: =IF(N150="znížená",J150,0) -> 0 | BG150: =IF(N150="zákl. prenesená",J150,0) -> 0 | BH150: =IF(N150="zníž. prenesená",J150,0) -> 0 | BI150: =IF(N150="nulová",J150,0) -> 0 | BJ150: 2 | BK150: =ROUND(I150*H150,3) -> 0 | BL150: 4 | BM150: -1903096154
C151: 15 | D151: K | E151: 953998639.S | F151: Ozdobny fasadny prvok nad oknami (presný tvar a rozmer upresní projektant) | G151: ks | H151: 101 | J151: =ROUND(I151*H151,3) -> 0 | N151: znížená | P151: =O151*H151 -> 0 | Q151: 0.00015 | R151: =Q151*H151 -> 0.01515 | S151: 0 | T151: =S151*H151 -> 0 | AR151: 4 | AT151: K | AU151: 2 | AY151: ROZPOCET | BE151: =IF(N151="základná",J151,0) -> 0 | BF151: =IF(N151="znížená",J151,0) -> 0 | BG151: =IF(N151="zákl. prenesená",J151,0) -> 0 | BH151: =IF(N151="zníž. prenesená",J151,0) -> 0 | BI151: =IF(N151="nulová",J151,0) -> 0 | BJ151: 2 | BK151: =ROUND(I151*H151,3) -> 0 | BL151: 4 | BM151: -582696182
C152: 16 | D152: K | E152: 965082920.S | F152: Odstránenie násypu pod podlahami alebo na strechách, hr.do 100 mm, -1,40000t | G152: m3 | H152: 82.901 | J152: =ROUND(I152*H152,3) -> 0 | N152: znížená | P152: =O152*H152 -> 0 | Q152: 0 | R152: =Q152*H152 -> 0 | S152: 1.4 | T152: =S152*H152 -> 116.0614 | AR152: 4 | AT152: K | AU152: 2 | AY152: ROZPOCET | BE152: =IF(N152="základná",J152,0) -> 0 | BF152: =IF(N152="znížená",J152,0) -> 0 | BG152: =IF(N152="zákl. prenesená",J152,0) -> 0 | BH152: =IF(N152="zníž. prenesená",J152,0) -> 0 | BI152: =IF(N152="nulová",J152,0) -> 0 | BJ152: 2 | BK152: =ROUND(I152*H152,3) -> 0 | BL152: 4 | BM152: 449533080
C153: 17 | D153: K | E153: 978015361.S | F153: Otlčenie omietok vonkajších priečelí zložitejších, s vyškriabaním škár, očistením muriva, v rozsahu do 50 %, -0,02900t | G153: m2 | H153: 312.838 | J153: =ROUND(I153*H153,3) -> 0 | N153: znížená | P153: =O153*H153 -> 0 | Q153: 0 | R153: =Q153*H153 -> 0 | S153: 0.029 | T153: =S153*H153 -> 9.072302 | AR153: 4 | AT153: K | AU153: 2 | AY153: ROZPOCET | BE153: =IF(N153="základná",J153,0) -> 0 | BF153: =IF(N153="znížená",J153,0) -> 0 | BG153: =IF(N153="zákl. prenesená",J153,0) -> 0 | BH153: =IF(N153="zníž. prenesená",J153,0) -> 0 | BI153: =IF(N153="nulová",J153,0) -> 0 | BJ153: 2 | BK153: =ROUND(I153*H153,3) -> 0 | BL153: 4 | BM153: 165232823
C154: 18 | D154: K | E154: 978065011.S | F154: Odstránenie kontaktného zateplenia vrátane povrchovej úpravy z polystyrénových dosiek hrúbky nad 80-120 mm, -0,01841t | G154: m2 | H154: 80.209 | J154: =ROUND(I154*H154,3) -> 0 | N154: znížená | P154: =O154*H154 -> 0 | Q154: 0 | R154: =Q154*H154 -> 0 | S154: 0.01841 | T154: =S154*H154 -> 1.4766477 | AR154: 16 | AT154: K | AU154: 2 | AY154: ROZPOCET | BE154: =IF(N154="základná",J154,0) -> 0 | BF154: =IF(N154="znížená",J154,0) -> 0 | BG154: =IF(N154="zákl. prenesená",J154,0) -> 0 | BH154: =IF(N154="zníž. prenesená",J154,0) -> 0 | BI154: =IF(N154="nulová",J154,0) -> 0 | BJ154: 2 | BK154: =ROUND(I154*H154,3) -> 0 | BL154: 16 | BM154: 52990954
... C159: 23 | D159: K | E159: 979089412.S | F159: Poplatok za skladovanie - izolačné materiály a materiály obsahujúce azbest (17 06), ostatné | G159: t | H159: 6.226 | J159: =ROUND(I159*H159,3) -> 0 | N159: znížená | P159: =O159*H159 -> 0 | Q159: 0 | R159: =Q159*H159 -> 0 | S159: 0 | T159: =S159*H159 -> 0 | AR159: 4 | AT159: K | AU159: 2 | AY159: ROZPOCET | BE159: =IF(N159="základná",J159,0) -> 0 | BF159: =IF(N159="znížená",J159,0) -> 0 | BG159: =IF(N159="zákl. prenesená",J159,0) -> 0 | BH159: =IF(N159="zníž. prenesená",J159,0) -> 0 | BI159: =IF(N159="nulová",J159,0) -> 0 | BJ159: 2 | BK159: =ROUND(I159*H159,3) -> 0 | BL159: 4 | BM159: -1988380898
D160: D | E160: 99 | F160: Presun hmôt HSV | J160: =BK160 -> 0 | P160: =P161 -> 0 | R160: =R161 -> 0 | T160: =T161 -> 0 | AR160: 1 | AT160: D | AU160: 1 | AY160: ROZPOCET | BK160: =BK161 -> 0
C161: 24 | D161: K | E161: 999281111.S | F161: Presun hmôt pre opravy a údržbu objektov vrátane vonkajších plášťov výšky do 25 m | G161: t | H161: 34.675 | J161: =ROUND(I161*H161,3) -> 0 | N161: znížená | P161: =O161*H161 -> 0 | Q161: 0 | R161: =Q161*H161 -> 0 | S161: 0 | T161: =S161*H161 -> 0 | AR161: 4 | AT161: K | AU161: 2 | AY161: ROZPOCET | BE161: =IF(N161="základná",J161,0) -> 0 | BF161: =IF(N161="znížená",J161,0) -> 0 | BG161: =IF(N161="zákl. prenesená",J161,0) -> 0 | BH161: =IF(N161="zníž. prenesená",J161,0) -> 0 | BI161: =IF(N161="nulová",J161,0) -> 0 | BJ161: 2 | BK161: =ROUND(I161*H161,3) -> 0 | BL161: 4 | BM161: 284899717
D162: D | E162: PSV | F162: Práce a dodávky PSV | J162: =BK162 -> 0 | P162: =P163+P181+P185+P192+P203+P213+P226+P228 -> 0 | R162: =R163+R181+R185+R192+R203+R213+R226+R228 -> 27.349723 | T162: =T163+T181+T185+T192+T203+T213+T226+T228 -> 11.484811 | AR162: 2 | AT162: D | AU162: 0 | AY162: ROZPOCET | BK162: =BK163+BK181+BK185+BK192+BK203+BK213+BK226+BK228 -> 0
D163: D | E163: 735 | F163: Ústredné kúrenie | J163: =BK163 -> 0 | P163: =SUM(P164:P180) -> 0 | R163: =SUM(R164:R180) -> 1.74735 | T163: =SUM(T164:T180) -> 0 | AR163: 1 | AT163: D | AU163: 1 | AY163: ROZPOCET | BK163: =SUM(BK164:BK180) -> 0
C164: 25 | D164: K | E164: 735154142.S | F164: Montáž vykurovacieho telesa panelového dvojradového výšky 600 mm/ dĺžky 1000-1200 mm | G164: ks | H164: 12 | J164: =ROUND(I164*H164,3) -> 0 | N164: znížená | P164: =O164*H164 -> 0 | Q164: 2e-05 | R164: =Q164*H164 -> 0.00024 | S164: 0 | T164: =S164*H164 -> 0 | AR164: 4 | AT164: K | AU164: 2 | AY164: ROZPOCET | BE164: =IF(N164="základná",J164,0) -> 0 | BF164: =IF(N164="znížená",J164,0) -> 0 | BG164: =IF(N164="zákl. prenesená",J164,0) -> 0 | BH164: =IF(N164="zníž. prenesená",J164,0) -> 0 | BI164: =IF(N164="nulová",J164,0) -> 0 | BJ164: 2 | BK164: =ROUND(I164*H164,3) -> 0 | BL164: 4 | BM164: -1141946158
C165: 26 | D165: M | E165: V00226015009016011 | F165: Oceľové panelové radiátory KORAD 22VK 600x1500, s pripojením vpravo/vľavo, s 2 panelmi a 2 konvektormi | G165: ks | H165: 3 | J165: =ROUND(I165*H165,3) -> 0 | N165: znížená | P165: =O165*H165 -> 0 | Q165: 0.0473 | R165: =Q165*H165 -> 0.1419 | S165: 0 | T165: =S165*H165 -> 0 | AR165: 8 | AT165: M | AU165: 2 | AY165: ROZPOCET | BE165: =IF(N165="základná",J165,0) -> 0 | BF165: =IF(N165="znížená",J165,0) -> 0 | BG165: =IF(N165="zákl. prenesená",J165,0) -> 0 | BH165: =IF(N165="zníž. prenesená",J165,0) -> 0 | BI165: =IF(N165="nulová",J165,0) -> 0 | BJ165: 2 | BK165: =ROUND(I165*H165,3) -> 0 | BL165: 4 | BM165: 565702247
C166: 27 | D166: M | E166: V00226012009016011 | F166: Oceľové panelové radiátory KORAD 22VK 600x1200, s pripojením vpravo/vľavo, s 2 panelmi a 2 konvektormi | G166: ks | H166: 9 | J166: =ROUND(I166*H166,3) -> 0 | N166: znížená | P166: =O166*H166 -> 0 | Q166: 0.03784 | R166: =Q166*H166 -> 0.34056 | S166: 0 | T166: =S166*H166 -> 0 | AR166: 8 | AT166: M | AU166: 2 | AY166: ROZPOCET | BE166: =IF(N166="základná",J166,0) -> 0 | BF166: =IF(N166="znížená",J166,0) -> 0 | BG166: =IF(N166="zákl. prenesená",J166,0) -> 0 | BH166: =IF(N166="zníž. prenesená",J166,0) -> 0 | BI166: =IF(N166="nulová",J166,0) -> 0 | BJ166: 2 | BK166: =ROUND(I166*H166,3) -> 0 | BL166: 4 | BM166: -935155904
C167: 28 | D167: K | E167: 735154152.S | F167: Montáž vykurovacieho telesa panelového dvojradového výšky 900 mm/ dĺžky 1000-1200 mm | G167: ks | H167: 4 | J167: =ROUND(I167*H167,3) -> 0 | N167: znížená | P167: =O167*H167 -> 0 | Q167: 2e-05 | R167: =Q167*H167 -> 8e-05 | S167: 0 | T167: =S167*H167 -> 0 | AR167: 4 | AT167: K | AU167: 2 | AY167: ROZPOCET | BE167: =IF(N167="základná",J167,0) -> 0 | BF167: =IF(N167="znížená",J167,0) -> 0 | BG167: =IF(N167="zákl. prenesená",J167,0) -> 0 | BH167: =IF(N167="zníž. prenesená",J167,0) -> 0 | BI167: =IF(N167="nulová",J167,0) -> 0 | BJ167: 2 | BK167: =ROUND(I167*H167,3) -> 0 | BL167: 4 | BM167: -343585181
C168: 29 | D168: M | E168: V00229012009016011 | F168: Oceľové panelové radiátory KORAD 22VK 900x1200, s pripojením vpravo/vľavo, s 2 panelmi a 2 konvektormi | G168: ks | H168: 9 | J168: =ROUND(I168*H168,3) -> 0 | N168: znížená | P168: =O168*H168 -> 0 | Q168: 0.05913 | R168: =Q168*H168 -> 0.53217 | S168: 0 | T168: =S168*H168 -> 0 | AR168: 8 | AT168: M | AU168: 2 | AY168: ROZPOCET | BE168: =IF(N168="základná",J168,0) -> 0 | BF168: =IF(N168="znížená",J168,0) -> 0 | BG168: =IF(N168="zákl. prenesená",J168,0) -> 0 | BH168: =IF(N168="zníž. prenesená",J168,0) -> 0 | BI168: =IF(N168="nulová",J168,0) -> 0 | BJ168: 2 | BK168: =ROUND(I168*H168,3) -> 0 | BL168: 4 | BM168: -469414147
C169: 30 | D169: M | E169: V00229014009016011 | F169: Oceľové panelové radiátory KORAD 22VK 900x1400, s pripojením vpravo/vľavo, s 2 panelmi a 2 konvektormi | G169: ks | H169: 9 | J169: =ROUND(I169*H169,3) -> 0 | N169: znížená | P169: =O169*H169 -> 0 | Q169: 0.06898 | R169: =Q169*H169 -> 0.62082 | S169: 0 | T169: =S169*H169 -> 0 | AR169: 8 | AT169: M | AU169: 2 | AY169: ROZPOCET | BE169: =IF(N169="základná",J169,0) -> 0 | BF169: =IF(N169="znížená",J169,0) -> 0 | BG169: =IF(N169="zákl. prenesená",J169,0) -> 0 | BH169: =IF(N169="zníž. prenesená",J169,0) -> 0 | BI169: =IF(N169="nulová",J169,0) -> 0 | BJ169: 2 | BK169: =ROUND(I169*H169,3) -> 0 | BL169: 4 | BM169: 810483719
C170: 31 | D170: K | E170: 735154242.S | F170: Montáž vykurovacieho telesa panelového trojradového výšky 600 mm/ dĺžky 1000-1200 mm | G170: ks | H170: 3 | J170: =ROUND(I170*H170,3) -> 0 | N170: znížená | P170: =O170*H170 -> 0 | Q170: 2e-05 | R170: =Q170*H170 -> 6e-05 | S170: 0 | T170: =S170*H170 -> 0 | AR170: 4 | AT170: K | AU170: 2 | AY170: ROZPOCET | BE170: =IF(N170="základná",J170,0) -> 0 | BF170: =IF(N170="znížená",J170,0) -> 0 | BG170: =IF(N170="zákl. prenesená",J170,0) -> 0 | BH170: =IF(N170="zníž. prenesená",J170,0) -> 0 | BI170: =IF(N170="nulová",J170,0) -> 0 | BJ170: 2 | BK170: =ROUND(I170*H170,3) -> 0 | BL170: 4 | BM170: -454606755
...

Sheet 02 - Neoprávnené náklady 
L2: >> skryté stĺpce << | AT2: {db4fe69f-f887-41be-9718-52c7408ee977}
AT3: 0
D4: KRYCÍ LIST ROZPOČTU | M4: v --- nižšie sa nachádzajú doplnkové a pomocné údaje k zostavám --- v | AT4: False
D6: Stavba:
E7: ='Rekapitulácia stavby'!K6 -> Rekonštrukcia MŠ 29.augusta, Trebišov
D8: Objekt:
E9: 02 - Neoprávnené náklady
D11: JKSO: | I11: KS:
D12: Miesto: | F12: Trebišov | I12: Dátum: | J12: ='Rekapitulácia stavby'!AN8 -> 10. 6. 2022
D14: Objednávateľ: | I14: IČO:
E15: Mesto Trebišov | I15: IČ DPH:
D17: Zhotoviteľ: | I17: IČO: | J17: ='Rekapitulácia stavby'!AN13 -> Vyplň údaj
E18: ='Rekapitulácia stavby'!E14 -> Vyplň údaj | I18: IČ DPH: | J18: ='Rekapitulácia stavby'!AN14 -> Vyplň údaj
D20: Projektant: | I20: IČO: | J20: =IF('Rekapitulácia stavby'!AN16="","",'Rekapitulácia stavby'!AN16)
E21: =IF('Rekapitulácia stavby'!E17="","",'Rekapitulácia stavby'!E17) | I21: IČ DPH: | J21: =IF('Rekapitulácia stavby'!AN17="","",'Rekapitulácia stavby'!AN17)
D23: Spracovateľ: | I23: IČO: | J23: =IF('Rekapitulácia stavby'!AN19="","",'Rekapitulácia stavby'!AN19)
E24: =IF('Rekapitulácia stavby'!E20="","",'Rekapitulácia stavby'!E20) | I24: IČ DPH: | J24: =IF('Rekapitulácia stavby'!AN20="","",'Rekapitulácia stavby'!AN20)
D26: Poznámka:
D30: Cena bez DPH | J30: =ROUND(J118, 2) -> 0
F32: Základ dane | I32: Sadzba dane | J32: Výška dane
D33: DPH | E33: základná | F33: =ROUND((SUM(BE118:BE126)), 2) -> 0 | I33: 0.2 | J33: =ROUND(((SUM(BE118:BE126))*I33), 2) -> 0
E34: znížená | F34: =ROUND((SUM(BF118:BF126)), 2) -> 0 | I34: 0.2 | J34: =ROUND(((SUM(BF118:BF126))*I34), 2) -> 0
E35: zákl. prenesená | F35: =ROUND((SUM(BG118:BG126)), 2) -> 0 | I35: 0.2 | J35: =0 -> 0
E36: zníž. prenesená | F36: =ROUND((SUM(BH118:BH126)), 2) -> 0 | I36: 0.2 | J36: =0 -> 0
E37: nulová | F37: =ROUND((SUM(BI118:BI126)), 2) -> 0 | I37: 0 | J37: =0 -> 0
D39: Cena s DPH | G39: v | H39: EUR | J39: =SUM(J30:J37) -> 0
D50: Projektant | G50: Spracovateľ
D61: Dátum a podpis: | F61: Pečiatka | G61: Dátum a podpis: | J61: Pečiatka
D65: Objednávateľ | G65: Zhotoviteľ
D76: Dátum a podpis: | F76: Pečiatka | G76: Dátum a podpis: | J76: Pečiatka
C82: REKAPITULÁCIA ROZPOČTU
C84: Stavba:
E85: =E7 -> Rekonštrukcia MŠ 29.augusta, Trebišov
C86: Objekt:
E87: =E9 -> 02 - Neoprávnené náklady
C89: Miesto: | F89: =F12 -> Trebišov | I89: Dátum: | J89: =IF(J12="","",J12) -> 10. 6. 2022
C91: Objednávateľ: | F91: =E15 -> Mesto Trebišov | I91: Projektant: | J91: =E21
C92: Zhotoviteľ: | F92: =IF(E18="","",E18) -> Vyplň údaj | I92: Spracovateľ: | J92: =E24
C94: Kód dielu - Popis | J94: Cena celkom [EUR]
C96: Náklady z rozpočtu | J96: =J118 -> 0 | AU96: -1
D97: PSV - Práce a dodávky PSV | J97: =J119 -> 0
D98: 723 - Zdravotechnika - vnútorný plynovod | J98: =J120 -> 0
C105: ROZPOČET
C107: Stavba:
E108: =E7 -> Rekonštrukcia MŠ 29.augusta, Trebišov
C109: Objekt:
E110: =E9 -> 02 - Neoprávnené náklady
C112: Miesto: | F112: =F12 -> Trebišov | I112: Dátum: | J112: =IF(J12="","",J12) -> 10. 6. 2022
C114: Objednávateľ: | F114: =E15 -> Mesto Trebišov | I114: Projektant: | J114: =E21
C115: Zhotoviteľ: | F115: =IF(E18="","",E18) -> Vyplň údaj | I115: Spracovateľ: | J115: =E24
C117: PČ | D117: Typ | E117: Kód | F117: Popis | G117: MJ | H117: Množstvo | I117: J.cena [EUR] | J117: Cena celkom [EUR] | K117: Cenová sústava | N117: DPH | O117: J. Nh [h] | P117: Nh celkom [h] | Q117: J. hmotnosť [t] | R117: Hmotnosť celkom [t] | S117: J. suť [t] | T117: Suť Celkom [t]
C118: Náklady z rozpočtu | J118: =BK118 -> 0 | P118: =P119 -> 0 | R118: =R119 -> 0.02072 | T118: =T119 -> 0 | AT118: D | AU118: -1 | BK118: =BK119 -> 0
D119: D | E119: PSV | F119: Práce a dodávky PSV | J119: =BK119 -> 0 | P119: =P120 -> 0 | R119: =R120 -> 0.02072 | T119: =T120 -> 0 | AR119: 2 | AT119: D | AU119: 0 | AY119: ROZPOCET | BK119: =BK120 -> 0
D120: D | E120: 723 | F120: Zdravotechnika - vnútorný plynovod | J120: =BK120 -> 0 | P120: =SUM(P121:P126) -> 0 | R120: =SUM(R121:R126) -> 0.02072 | T120: =SUM(T121:T126) -> 0 | AR120: 2 | AT120: D | AU120: 1 | AY120: ROZPOCET | BK120: =SUM(BK121:BK126) -> 0
C121: 1 | D121: K | E121: 723120202.S | F121: Potrubie z oceľových rúrok závitových čiernych spájaných zvarovaním - akosť 11 353.0 DN 15 | G121: m | H121: 12 | J121: =ROUND(I121*H121,3) -> 0 | N121: znížená | P121: =O121*H121 -> 0 | Q121: 0.00148 | R121: =Q121*H121 -> 0.01776 | S121: 0 | T121: =S121*H121 -> 0 | AR121: 16 | AT121: K | AU121: 2 | AY121: ROZPOCET | BE121: =IF(N121="základná",J121,0) -> 0 | BF121: =IF(N121="znížená",J121,0) -> 0 | BG121: =IF(N121="zákl. prenesená",J121,0) -> 0 | BH121: =IF(N121="zníž. prenesená",J121,0) -> 0 | BI121: =IF(N121="nulová",J121,0) -> 0 | BJ121: 2 | BK121: =ROUND(I121*H121,3) -> 0 | BL121: 16 | BM121: -420984233
C122: 2 | D122: K | E122: 723170130.S | F122: Montáž nástenky pre plynové nerezové vlnovcové rúry DN 20 | G122: ks | H122: 1 | J122: =ROUND(I122*H122,3) -> 0 | N122: znížená | P122: =O122*H122 -> 0 | Q122: 1e-05 | R122: =Q122*H122 -> 1e-05 | S122: 0 | T122: =S122*H122 -> 0 | AR122: 16 | AT122: K | AU122: 2 | AY122: ROZPOCET | BE122: =IF(N122="základná",J122,0) -> 0 | BF122: =IF(N122="znížená",J122,0) -> 0 | BG122: =IF(N122="zákl. prenesená",J122,0) -> 0 | BH122: =IF(N122="zníž. prenesená",J122,0) -> 0 | BI122: =IF(N122="nulová",J122,0) -> 0 | BJ122: 2 | BK122: =ROUND(I122*H122,3) -> 0 | BL122: 16 | BM122: 86957811
C123: 3 | D123: M | E123: 197730079810.S | F123: Nástenka PLT DN 20xR 1/2", mosadz, pre rúry ohybné vlnovcové z ušľachtilej ocele | G123: ks | H123: 1 | J123: =ROUND(I123*H123,3) -> 0 | N123: znížená | P123: =O123*H123 -> 0 | Q123: 0.00034 | R123: =Q123*H123 -> 0.00034 | S123: 0 | T123: =S123*H123 -> 0 | AR123: 32 | AT123: M | AU123: 2 | AY123: ROZPOCET | BE123: =IF(N123="základná",J123,0) -> 0 | BF123: =IF(N123="znížená",J123,0) -> 0 | BG123: =IF(N123="zákl. prenesená",J123,0) -> 0 | BH123: =IF(N123="zníž. prenesená",J123,0) -> 0 | BI123: =IF(N123="nulová",J123,0) -> 0 | BJ123: 2 | BK123: =ROUND(I123*H123,3) -> 0 | BL123: 16 | BM123: -1720658849
C124: 4 | D124: K | E124: 723230020.S | F124: Montáž guľového uzáveru rohového PN 5 G 1/2 MF s protipožiarnou armatúrou vnútorný a vonkajší závit | G124: ks | H124: 1 | J124: =ROUND(I124*H124,3) -> 0 | N124: znížená | P124: =O124*H124 -> 0 | Q124: 0 | R124: =Q124*H124 -> 0 | S124: 0 | T124: =S124*H124 -> 0 | AR124: 16 | AT124: K | AU124: 2 | AY124: ROZPOCET | BE124: =IF(N124="základná",J124,0) -> 0 | BF124: =IF(N124="znížená",J124,0) -> 0 | BG124: =IF(N124="zákl. prenesená",J124,0) -> 0 | BH124: =IF(N124="zníž. prenesená",J124,0) -> 0 | BI124: =IF(N124="nulová",J124,0) -> 0 | BJ124: 2 | BK124: =ROUND(I124*H124,3) -> 0 | BL124: 16 | BM124: -1928349879
C125: 5 | D125: M | E125: 551340009000.S | F125: Guľový uzáver na plyn rohový 1/2"x1/2" MF, s protipožiarnou armatúrou, prevádzková poistka, niklovaná mosadz | G125: ks | H125: 1 | J125: =ROUND(I125*H125,3) -> 0 | N125: znížená | P125: =O125*H125 -> 0 | Q125: 0.00261 | R125: =Q125*H125 -> 0.00261 | S125: 0 | T125: =S125*H125 -> 0 | AR125: 32 | AT125: M | AU125: 2 | AY125: ROZPOCET | BE125: =IF(N125="základná",J125,0) -> 0 | BF125: =IF(N125="znížená",J125,0) -> 0 | BG125: =IF(N125="zákl. prenesená",J125,0) -> 0 | BH125: =IF(N125="zníž. prenesená",J125,0) -> 0 | BI125: =IF(N125="nulová",J125,0) -> 0 | BJ125: 2 | BK125: =ROUND(I125*H125,3) -> 0 | BL125: 16 | BM125: 1151129285
C126: 6 | D126: K | E126: 998723201.S | F126: Presun hmôt pre vnútorný plynovod v objektoch výšky do 6 m | G126: % | J126: =ROUND(I126*H126,3) -> 0 | N126: znížená | P126: =O126*H126 -> 0 | Q126: 0 | R126: =Q126*H126 -> 0 | S126: 0 | T126: =S126*H126 -> 0 | AR126: 16 | AT126: K | AU126: 2 | AY126: ROZPOCET | BE126: =IF(N126="základná",J126,0) -> 0 | BF126: =IF(N126="znížená",J126,0) -> 0 | BG126: =IF(N126="zákl. prenesená",J126,0) -> 0 | BH126: =IF(N126="zníž. prenesená",J126,0) -> 0 | BI126: =IF(N126="nulová",J126,0) -> 0 | BJ126: 2 | BK126: =ROUND(I126*H126,3) -> 0 | BL126: 16 | BM126: 1662562924
