Workbook

Sheet Rekapitulácia stavby
A1: Export Komplet | BA1: 2.0 | BT1: False | BU1: False | BV1: {280d7436-5743-4fd9-b856-c783e19ecfe7}
AR2: >> skryté stĺpce << | BS2: 0,001 | BT2: 20
BS3: 0,001 | BT3: 20
D4: REKAPITULÁCIA STAVBY | AS4: v --- nižšie sa nachádzajú doplnkové a pomocné údaje k zostavám --- v | BS4: 0,001
D5: Kód: | K5: 15773 | BS5: 0,001
D6: Stavba: | K6: Rekonštrukcia MŠ 29.augusta, Trebišov | BS6: 0,001
D7: JKSO: | AK7: KS: | BS7: 0,001
D8: Miesto: | K8: Trebišov | AK8: Dátum: | AN8: 44951 | BS8: 0,001
BS9: 0,001
D10: Objednávateľ: | AK10: IČO: | BS10: 0,001
E11: Mesto Trebišov | AK11: IČ DPH: | BS11: 0,001
BS12: 0,001
D13: Zhotoviteľ: | AK13: IČO: | BS13: 0,001
AK14: IČ DPH: | BS14: 0,001
BS15: False
D16: Projektant: | AK16: IČO: | BS16: False
AK17: IČ DPH: | BS17: True
BS18: 0,01
D19: Spracovateľ: | AK19: IČO: | BS19: 0,01
AK20: IČ DPH: | BS20: True
D22: Poznámka:
D26: Cena bez DPH | AK26: =ROUND(AG94,2) -> 0
L28: Sadzba dane | W28: Základ dane | AK28: Výška dane
D29: DPH | F29: základná | L29: 0.2 | W29: =ROUND(AZ94, 2) -> 0 | AK29: =ROUND(AV94, 2) -> 0
F30: znížená | L30: 0.2 | W30: =ROUND(BA94, 2) -> 0 | AK30: =ROUND(AW94, 2) -> 0
F31: zákl. prenesená | L31: 0.2 | W31: =ROUND(BB94, 2) -> 0 | AK31: 0
F32: zníž. prenesená | L32: 0.2 | W32: =ROUND(BC94, 2) -> 0 | AK32: 0
F33: nulová | L33: 0 | W33: =ROUND(BD94, 2) -> 0 | AK33: 0
D35: Cena s DPH | T35: v | X35: EUR | AK35: =SUM(AK26:AK33) -> 0
D49: Projektant | AH49: Spracovateľ
D60: Dátum a podpis: | V60: Pečiatka | AH60: Dátum a podpis: | AM60: Pečiatka
D64: Objednávateľ | AH64: Zhotoviteľ
D75: Dátum a podpis: | V75: Pečiatka | AH75: Dátum a podpis: | AM75: Pečiatka
C82: REKAPITULÁCIA OBJEKTOV STAVBY
C84: Kód: | L84: =K5 -> 15773
C85: Stavba: | L85: =K6 -> Rekonštrukcia MŠ 29.augusta, Trebišov
C87: Miesto: | L87: =IF(K8="","",K8) -> Trebišov | AI87: Dátum: | AM87: =IF(AN8= "","",AN8) -> 44951
C89: Objednávateľ: | L89: =IF(E11= "","",E11) -> Mesto Trebišov | AI89: Projektant: | AM89: =IF(E17="","",E17) | AS89: Informatívne údaje z listov zákaziek
C90: Zhotoviteľ: | L90: =IF(E14="","",E14) | AI90: Spracovateľ: | AM90: =IF(E20="","",E20)
C92: Kód | I92: Popis | AG92: Cena bez DPH [EUR] | AN92: Cena s DPH [EUR] | AQ92: Typ | AS92: z toho Ostat._x000D_ náklady [EUR] | AT92: DPH [EUR] | AU92: Normohodiny [h] | AV92: DPH základná [EUR] | AW92: DPH znížená [EUR] | AX92: DPH základná prenesená_x000D_ [EUR] | AY92: DPH znížená prenesená_x000D_ [EUR] | AZ92: Základňa_x000D_ DPH základná | BA92: Základňa_x000D_ DPH znížená | BB92: Základňa_x000D_ DPH zákl. prenesená | BC92: Základňa_x000D_ DPH zníž. prenesená | BD92: Základňa_x000D_ DPH nulová
C94: Náklady z rozpočtov | AG94: =ROUND(AG95,2) -> 0 | AN94: =SUM(AG94,AT94) -> 0 | AS94: =ROUND(AS95,2) -> 0 | AT94: =ROUND(SUM(AV94:AW94),2) -> 0 | AU94: =ROUND(AU95,5) -> 2838.4117 | AV94: =ROUND(AZ94*L29,2) -> 0 | AW94: =ROUND(BA94*L30,2) -> 0 | AX94: =ROUND(BB94*L29,2) -> 0 | AY94: =ROUND(BC94*L30,2) -> 0 | AZ94: =ROUND(AZ95,2) -> 0 | BA94: =ROUND(BA95,2) -> 0 | BB94: =ROUND(BB95,2) -> 0 | BC94: =ROUND(BC95,2) -> 0 | BD94: =ROUND(BD95,2) -> 0 | BS94: D | BT94: 0 | BU94: ###NOIMPORT### | BV94: IMPORT | BW94: {280d7436-5743-4fd9-b856-c783e19ecfe7} | BX94: {00000000-0000-0000-0000-000000000000}
A95: / | D95: 01 | J95: Oprávnené náklady | AG95: ='01 - Oprávnené náklady '!J30 -> 0 | AN95: =SUM(AG95,AT95) -> 0 | AQ95: STA | AS95: 0 | AT95: =ROUND(SUM(AV95:AW95),2) -> 0 | AU95: ='01 - Oprávnené náklady '!P129 -> 2838.4117 | AV95: ='01 - Oprávnené náklady '!J33 -> 0 | AW95: ='01 - Oprávnené náklady '!J34 -> 0 | AX95: ='01 - Oprávnené náklady '!J35 -> 0 | AY95: ='01 - Oprávnené náklady '!J36 -> 0 | AZ95: ='01 - Oprávnené náklady '!F33 -> 0 | BA95: ='01 - Oprávnené náklady '!F34 -> 0 | BB95: ='01 - Oprávnené náklady '!F35 -> 0 | BC95: ='01 - Oprávnené náklady '!F36 -> 0 | BD95: ='01 - Oprávnené náklady '!F37 -> 0 | BT95: 1 | BV95: IMPORT | BW95: {8cf672dc-9fcb-429b-b676-bacc0db91dfe} | BX95: {280d7436-5743-4fd9-b856-c783e19ecfe7} | CM95: 0

Sheet 01 - Oprávnené náklady 
L2: >> skryté stĺpce << | AT2: {8cf672dc-9fcb-429b-b676-bacc0db91dfe}
AT3: 0
D4: KRYCÍ LIST ROZPOČTU | M4: v --- nižšie sa nachádzajú doplnkové a pomocné údaje k zostavám --- v | AT4: False
D6: Stavba:
E7: ='Rekapitulácia stavby'!K6 -> Rekonštrukcia MŠ 29.augusta, Trebišov
D8: Objekt:
E9: 01 - Oprávnené náklady
D11: JKSO: | I11: KS:
D12: Miesto: | F12: Trebišov | I12: Dátum: | J12: 44951
D14: Objednávateľ: | I14: IČO:
E15: Mesto Trebišov | I15: IČ DPH:
D17: Zhotoviteľ: | I17: IČO: | J17: ='Rekapitulácia stavby'!AN13
E18: ='Rekapitulácia stavby'!E14 | I18: IČ DPH: | J18: ='Rekapitulácia stavby'!AN14
D20: Projektant: | I20: IČO: | J20: =IF('Rekapitulácia stavby'!AN16="","",'Rekapitulácia stavby'!AN16)
E21: =IF('Rekapitulácia stavby'!E17="","",'Rekapitulácia stavby'!E17) | I21: IČ DPH: | J21: =IF('Rekapitulácia stavby'!AN17="","",'Rekapitulácia stavby'!AN17)
D23: Spracovateľ: | I23: IČO: | J23: =IF('Rekapitulácia stavby'!AN19="","",'Rekapitulácia stavby'!AN19)
E24: =IF('Rekapitulácia stavby'!E20="","",'Rekapitulácia stavby'!E20) | I24: IČ DPH: | J24: =IF('Rekapitulácia stavby'!AN20="","",'Rekapitulácia stavby'!AN20)
D26: Poznámka:
D30: Cena bez DPH | J30: =ROUND(J129, 2) -> 0
F32: Základ dane | I32: Sadzba dane | J32: Výška dane
D33: DPH | E33: základná | F33: =ROUND((SUM(BE129:BE225)), 2) -> 0 | I33: 0.2 | J33: =ROUND(((SUM(BE129:BE225))*I33), 2) -> 0
E34: znížená | F34: =ROUND((SUM(BF129:BF225)), 2) -> 0 | I34: 0.2 | J34: =ROUND(((SUM(BF129:BF225))*I34), 2) -> 0
E35: zákl. prenesená | F35: =ROUND((SUM(BG129:BG225)), 2) -> 0 | I35: 0.2 | J35: =0 -> 0
E36: zníž. prenesená | F36: =ROUND((SUM(BH129:BH225)), 2) -> 0 | I36: 0.2 | J36: =0 -> 0
E37: nulová | F37: =ROUND((SUM(BI129:BI225)), 2) -> 0 | I37: 0 | J37: =0 -> 0
D39: Cena s DPH | G39: v | H39: EUR | J39: =SUM(J30:J37) -> 0
D50: Projektant | G50: Spracovateľ
D61: Dátum a podpis: | F61: Pečiatka | G61: Dátum a podpis: | J61: Pečiatka
D65: Objednávateľ | G65: Zhotoviteľ
D76: Dátum a podpis: | F76: Pečiatka | G76: Dátum a podpis: | J76: Pečiatka
C82: REKAPITULÁCIA ROZPOČTU
C84: Stavba:
E85: =E7 -> Rekonštrukcia MŠ 29.augusta, Trebišov
C86: Objekt:
E87: =E9 -> 01 - Oprávnené náklady
C89: Miesto: | F89: =F12 -> Trebišov | I89: Dátum: | J89: =IF(J12="","",J12) -> 44951
C91: Objednávateľ: | F91: =E15 -> Mesto Trebišov | I91: Projektant: | J91: =E21
C92: Zhotoviteľ: | F92: =IF(E18="","",E18) | I92: Spracovateľ: | J92: =E24
C94: Kód dielu - Popis | J94: Cena celkom [EUR]
C96: Náklady z rozpočtu | J96: =J129 -> 0 | AU96: -1
D97: HSV - Práce a dodávky HSV | J97: =J130 -> 0
D98: 6 - Úpravy povrchov, podlahy, osadenie | J98: =J131 -> 0
D99: 9 - Ostatné konštrukcie a práce-búranie | J99: =J138 -> 0
D100: 99 - Presun hmôt HSV | J100: =J156 -> 0
D101: PSV - Práce a dodávky PSV | J101: =J158 -> 0
D102: 735 - Ústredné kúrenie | J102: =J159 -> 0
D103: 713 - Izolácie tepelné | J103: =J177 -> 0
D104: 731 - Ústredné kúrenie - kotolne | J104: =J181 -> 0
D105: 732 - Podlahove vykurovanie | J105: =J188 -> 0
D106: 762 - Konštrukcie tesárske | J106: =J199 -> 0
D107: 764 - Konštrukcie klampiarske | J107: =J209 -> 0
D108: 765 - Konštrukcie - krytiny tvrdé | J108: =J222 -> 0
D109: 783 - Nátery | J109: =J224 -> 0
C116: ROZPOČET
C118: Stavba:
E119: =E7 -> Rekonštrukcia MŠ 29.augusta, Trebišov
C120: Objekt:
E121: =E9 -> 01 - Oprávnené náklady
C123: Miesto: | F123: =F12 -> Trebišov | I123: Dátum: | J123: 44951
C125: Objednávateľ: | F125: =E15 -> Mesto Trebišov | I125: Projektant: | J125: =E21
C126: Zhotoviteľ: | F126: =IF(E18="","",E18) | I126: Spracovateľ: | J126: =E24
C128: PČ | D128: Typ | E128: Kód | F128: Popis | G128: MJ | H128: Množstvo | I128: J.cena [EUR] | J128: Cena celkom [EUR] | K128: Cenová sústava | N128: DPH | O128: J. Nh [h] | P128: Nh celkom [h] | Q128: J. hmotnosť [t] | R128: Hmotnosť celkom [t] | S128: J. suť [t] | T128: Suť Celkom [t]
C129: Náklady z rozpočtu | J129: =BK129 -> 0 | P129: =P130+P158 -> 2838.4117 | R129: =R130+R158 -> 59.379611 | T129: =T130+T158 -> 138.09516 | AT129: D | AU129: -1 | BK129: =BK130+BK158 -> 0
D130: D | E130: HSV | F130: Práce a dodávky HSV | J130: =BK130 -> 0 | P130: =P131+P138+P156 -> 1039.8751 | R130: =R131+R138+R156 -> 32.927639 | T130: =T131+T138+T156 -> 126.61035 | AR130: 1 | AT130: D | AU130: 0 | AY130: ROZPOCET | BK130: =BK131+BK138+BK156 -> 0
D131: D | E131: 6 | F131: Úpravy povrchov, podlahy, osadenie | J131: =BK131 -> 0 | P131: =SUM(P132:P137) -> 453.05096 | R131: =SUM(R132:R137) -> 12.114707 | T131: =SUM(T132:T137) -> 0 | AR131: 1 | AT131: D | AU131: 1 | AY131: ROZPOCET | BK131: =SUM(BK132:BK137) -> 0
C132: 1 | D132: K | E132: 622461052.S | F132: Vonkajšia omietka stien pastovitá silikónová roztieraná, hr. 1,5 mm | G132: m2 | H132: 335.879 | J132: =ROUND(I132*H132,3) -> 0 | N132: znížená | O132: 0.34848 | P132: =O132*H132 -> 117.04711 | Q132: 0.00232 | R132: =Q132*H132 -> 0.77923928 | S132: 0 | T132: =S132*H132 -> 0 | AR132: 4 | AT132: K | AU132: 2 | AY132: ROZPOCET | BE132: =IF(N132="základná",J132,0) -> 0 | BF132: =IF(N132="znížená",J132,0) -> 0 | BG132: =IF(N132="zákl. prenesená",J132,0) -> 0 | BH132: =IF(N132="zníž. prenesená",J132,0) -> 0 | BI132: =IF(N132="nulová",J132,0) -> 0 | BJ132: 2 | BK132: =ROUND(I132*H132,3) -> 0 | BL132: 4 | BM132: -571350835
C133: 2 | D133: K | E133: 622461281.S | F133: Vonkajšia omietka stien pastovitá dekoratívna mozaiková | G133: m2 | H133: 30.547 | J133: =ROUND(I133*H133,3) -> 0 | N133: znížená | O133: 0.41727 | P133: =O133*H133 -> 12.746347 | Q133: 0.00618 | R133: =Q133*H133 -> 0.18878046 | S133: 0 | T133: =S133*H133 -> 0 | AR133: 4 | AT133: K | AU133: 2 | AY133: ROZPOCET | BE133: =IF(N133="základná",J133,0) -> 0 | BF133: =IF(N133="znížená",J133,0) -> 0 | BG133: =IF(N133="zákl. prenesená",J133,0) -> 0 | BH133: =IF(N133="zníž. prenesená",J133,0) -> 0 | BI133: =IF(N133="nulová",J133,0) -> 0 | BJ133: 2 | BK133: =ROUND(I133*H133,3) -> 0 | BL133: 4 | BM133: -1191958900
C134: 3 | D134: K | E134: 625250383.S | F134: Kontaktný zatepľovací systém z grafitového EPS hr. 160 mm, zatĺkacie kotvy - rimsa | G134: m2 | H134: 24.768 | J134: =ROUND(I134*H134,3) -> 0 | N134: znížená | O134: 0.744 | P134: =O134*H134 -> 18.427392 | Q134: 0.01271 | R134: =Q134*H134 -> 0.31480128 | S134: 0 | T134: =S134*H134 -> 0 | AR134: 4 | AT134: K | AU134: 2 | AY134: ROZPOCET | BE134: =IF(N134="základná",J134,0) -> 0 | BF134: =IF(N134="znížená",J134,0) -> 0 | BG134: =IF(N134="zákl. prenesená",J134,0) -> 0 | BH134: =IF(N134="zníž. prenesená",J134,0) -> 0 | BI134: =IF(N134="nulová",J134,0) -> 0 | BJ134: 2 | BK134: =ROUND(I134*H134,3) -> 0 | BL134: 4 | BM134: 1786083800
C135: 4 | D135: K | E135: 625250592.S | F135: Kontaktný zatepľovací systém soklovej alebo vodou namáhanej časti hr. 140 mm, zatĺkacie kotvy | G135: m2 | H135: 30.547 | J135: =ROUND(I135*H135,3) -> 0 | N135: znížená | O135: 0.74491 | P135: =O135*H135 -> 22.754766 | Q135: 0.01431 | R135: =Q135*H135 -> 0.43712757 | S135: 0 | T135: =S135*H135 -> 0 | AR135: 4 | AT135: K | AU135: 2 | AY135: ROZPOCET | BE135: =IF(N135="základná",J135,0) -> 0 | BF135: =IF(N135="znížená",J135,0) -> 0 | BG135: =IF(N135="zákl. prenesená",J135,0) -> 0 | BH135: =IF(N135="zníž. prenesená",J135,0) -> 0 | BI135: =IF(N135="nulová",J135,0) -> 0 | BJ135: 2 | BK135: =ROUND(I135*H135,3) -> 0 | BL135: 4 | BM135: -1419809308
C136: 5 | D136: K | E136: 625250741.S | F136: Kontaktný zatepľovací systém z minerálnej vlny hr. 160 mm, zatĺkacie kotvy | G136: m2 | H136: 283.67 | J136: =ROUND(I136*H136,3) -> 0 | N136: znížená | O136: 0.86587 | P136: =O136*H136 -> 245.62134 | Q136: 0.03495 | R136: =Q136*H136 -> 9.9142665 | S136: 0 | T136: =S136*H136 -> 0 | AR136: 4 | AT136: K | AU136: 2 | AY136: ROZPOCET | BE136: =IF(N136="základná",J136,0) -> 0 | BF136: =IF(N136="znížená",J136,0) -> 0 | BG136: =IF(N136="zákl. prenesená",J136,0) -> 0 | BH136: =IF(N136="zníž. prenesená",J136,0) -> 0 | BI136: =IF(N136="nulová",J136,0) -> 0 | BJ136: 2 | BK136: =ROUND(I136*H136,3) -> 0 | BL136: 4 | BM136: -1579465401
C137: 6 | D137: K | E137: 625250761.S | F137: Kontaktný zatepľovací systém ostenia z minerálnej vlny hr. 20 mm | G137: m2 | H137: 27.441 | J137: =ROUND(I137*H137,3) -> 0 | N137: znížená | O137: 1.32845 | P137: =O137*H137 -> 36.453996 | Q137: 0.01751 | R137: =Q137*H137 -> 0.48049191 | S137: 0 | T137: =S137*H137 -> 0 | AR137: 4 | AT137: K | AU137: 2 | AY137: ROZPOCET | BE137: =IF(N137="základná",J137,0) -> 0 | BF137: =IF(N137="znížená",J137,0) -> 0 | BG137: =IF(N137="zákl. prenesená",J137,0) -> 0 | BH137: =IF(N137="zníž. prenesená",J137,0) -> 0 | BI137: =IF(N137="nulová",J137,0) -> 0 | BJ137: 2 | BK137: =ROUND(I137*H137,3) -> 0 | BL137: 4 | BM137: -227077453
D138: D | E138: 9 | F138: Ostatné konštrukcie a práce-búranie | J138: =BK138 -> 0 | P138: =SUM(P139:P155) -> 501.41966 | R138: =SUM(R139:R155) -> 20.812932 | T138: =SUM(T139:T155) -> 126.61035 | AR138: 1 | AT138: D | AU138: 1 | AY138: ROZPOCET | BK138: =SUM(BK139:BK155) -> 0
C139: 7 | D139: K | E139: 941941031.S | F139: Montáž lešenia ľahkého pracovného radového s podlahami šírky od 0,80 do 1,00 m, výšky do 10 m | G139: m2 | H139: 403.032 | J139: =ROUND(I139*H139,3) -> 0 | N139: znížená | O139: 0.132 | P139: =O139*H139 -> 53.200224 | Q139: 0.02572 | R139: =Q139*H139 -> 10.365983 | S139: 0 | T139: =S139*H139 -> 0 | AR139: 4 | AT139: K | AU139: 2 | AY139: ROZPOCET | BE139: =IF(N139="základná",J139,0) -> 0 | BF139: =IF(N139="znížená",J139,0) -> 0 | BG139: =IF(N139="zákl. prenesená",J139,0) -> 0 | BH139: =IF(N139="zníž. prenesená",J139,0) -> 0 | BI139: =IF(N139="nulová",J139,0) -> 0 | BJ139: 2 | BK139: =ROUND(I139*H139,3) -> 0 | BL139: 4 | BM139: -1432717829
C140: 8 | D140: K | E140: 941941191.S | F140: Príplatok za prvý a každý ďalší i začatý mesiac použitia lešenia ľahkého pracovného radového s podlahami šírky od 0,80 do 1,00 m, výšky do 10 m | G140: m2 | H140: 403.032 | J140: =ROUND(I140*H140,3) -> 0 | N140: znížená | O140: 0.006 | P140: =O140*H140 -> 2.418192 | Q140: 0 | R140: =Q140*H140 -> 0 | S140: 0 | T140: =S140*H140 -> 0 | AR140: 4 | AT140: K | AU140: 2 | AY140: ROZPOCET | BE140: =IF(N140="základná",J140,0) -> 0 | BF140: =IF(N140="znížená",J140,0) -> 0 | BG140: =IF(N140="zákl. prenesená",J140,0) -> 0 | BH140: =IF(N140="zníž. prenesená",J140,0) -> 0 | BI140: =IF(N140="nulová",J140,0) -> 0 | BJ140: 2 | BK140: =ROUND(I140*H140,3) -> 0 | BL140: 4 | BM140: 730358177
C141: 9 | D141: K | E141: 941941841.S | F141: Demontáž lešenia ľahkého pracovného radového s podlahami šírky nad 1,00 do 1,20 m, výšky do 10 m | G141: m2 | H141: 403.032 | J141: =ROUND(I141*H141,3) -> 0 | N141: znížená | O141: 0.104 | P141: =O141*H141 -> 41.915328 | Q141: 0.02572 | R141: =Q141*H141 -> 10.365983 | S141: 0 | T141: =S141*H141 -> 0 | AR141: 4 | AT141: K | AU141: 2 | AY141: ROZPOCET | BE141: =IF(N141="základná",J141,0) -> 0 | BF141: =IF(N141="znížená",J141,0) -> 0 | BG141: =IF(N141="zákl. prenesená",J141,0) -> 0 | BH141: =IF(N141="zníž. prenesená",J141,0) -> 0 | BI141: =IF(N141="nulová",J141,0) -> 0 | BJ141: 2 | BK141: =ROUND(I141*H141,3) -> 0 | BL141: 4 | BM141: 627681227
C142: 10 | D142: K | E142: 952901111.S | F142: Vyčistenie pôjdneho priestoru budov pri výške podlaží do 4 m | G142: m2 | H142: 331.602 | J142: =ROUND(I142*H142,3) -> 0 | N142: znížená | O142: 0.32401 | P142: =O142*H142 -> 107.44236 | Q142: 5e-05 | R142: =Q142*H142 -> 0.0165801 | S142: 0 | T142: =S142*H142 -> 0 | AR142: 4 | AT142: K | AU142: 2 | AY142: ROZPOCET | BE142: =IF(N142="základná",J142,0) -> 0 | BF142: =IF(N142="znížená",J142,0) -> 0 | BG142: =IF(N142="zákl. prenesená",J142,0) -> 0 | BH142: =IF(N142="zníž. prenesená",J142,0) -> 0 | BI142: =IF(N142="nulová",J142,0) -> 0 | BJ142: 2 | BK142: =ROUND(I142*H142,3) -> 0 | BL142: 4 | BM142: -2096076935
C143: 11 | D143: K | E143: 953945315.S | F143: Hliníkový soklový profil šírky 163 mm | G143: m | H143: 82.56 | J143: =ROUND(I143*H143,3) -> 0 | N143: znížená | O143: 0.1882 | P143: =O143*H143 -> 15.537792 | Q143: 0.00042 | R143: =Q143*H143 -> 0.0346752 | S143: 0 | T143: =S143*H143 -> 0 | AR143: 4 | AT143: K | AU143: 2 | AY143: ROZPOCET | BE143: =IF(N143="základná",J143,0) -> 0 | BF143: =IF(N143="znížená",J143,0) -> 0 | BG143: =IF(N143="zákl. prenesená",J143,0) -> 0 | BH143: =IF(N143="zníž. prenesená",J143,0) -> 0 | BI143: =IF(N143="nulová",J143,0) -> 0 | BJ143: 2 | BK143: =ROUND(I143*H143,3) -> 0 | BL143: 4 | BM143: 837660857
C144: 12 | D144: K | E144: 953945351.S | F144: Hliníkový rohový ochranný profil s integrovanou mriežkou | G144: m | H144: 134.31 | J144: =ROUND(I144*H144,3) -> 0 | N144: znížená | O144: 0.09401 | P144: =O144*H144 -> 12.626483 | Q144: 3e-05 | R144: =Q144*H144 -> 0.0040293 | S144: 0 | T144: =S144*H144 -> 0 | AR144: 4 | AT144: K | AU144: 2 | AY144: ROZPOCET | BE144: =IF(N144="základná",J144,0) -> 0 | BF144: =IF(N144="znížená",J144,0) -> 0 | BG144: =IF(N144="zákl. prenesená",J144,0) -> 0 | BH144: =IF(N144="zníž. prenesená",J144,0) -> 0 | BI144: =IF(N144="nulová",J144,0) -> 0 | BJ144: 2 | BK144: =ROUND(I144*H144,3) -> 0 | BL144: 4 | BM144: -1934034474
C145: 13 | D145: K | E145: 953995223 | F145: Rimsovy profil pri podhľade XPS obly | G145: m | H145: 82.56 | J145: =ROUND(I145*H145,3) -> 0 | N145: znížená | O145: 0.09402 | P145: =O145*H145 -> 7.7622912 | Q145: 5e-05 | R145: =Q145*H145 -> 0.004128 | S145: 0 | T145: =S145*H145 -> 0 | AR145: 4 | AT145: K | AU145: 2 | AY145: ROZPOCET | BE145: =IF(N145="základná",J145,0) -> 0 | BF145: =IF(N145="znížená",J145,0) -> 0 | BG145: =IF(N145="zákl. prenesená",J145,0) -> 0 | BH145: =IF(N145="zníž. prenesená",J145,0) -> 0 | BI145: =IF(N145="nulová",J145,0) -> 0 | BJ145: 2 | BK145: =ROUND(I145*H145,3) -> 0 | BL145: 4 | BM145: -436058346
C146: 14 | D146: K | E146: 953996121 | F146: PCI okenný APU profil s integrovanou tkaninou | G146: m | H146: 91.47 | J146: =ROUND(I146*H146,3) -> 0 | N146: znížená | O146: 0.09403 | P146: =O146*H146 -> 8.6009241 | Q146: 7e-05 | R146: =Q146*H146 -> 0.0064029 | S146: 0 | T146: =S146*H146 -> 0 | AR146: 4 | AT146: K | AU146: 2 | AY146: ROZPOCET | BE146: =IF(N146="základná",J146,0) -> 0 | BF146: =IF(N146="znížená",J146,0) -> 0 | BG146: =IF(N146="zákl. prenesená",J146,0) -> 0 | BH146: =IF(N146="zníž. prenesená",J146,0) -> 0 | BI146: =IF(N146="nulová",J146,0) -> 0 | BJ146: 2 | BK146: =ROUND(I146*H146,3) -> 0 | BL146: 4 | BM146: -1903096154
C147: 15 | D147: K | E147: 953998639.S | F147: Ozdobny fasadny prvok nad oknami (presný tvar a rozmer upresní projektant) | G147: ks | H147: 101 | J147: =ROUND(I147*H147,3) -> 0 | N147: znížená | O147: 0.094 | P147: =O147*H147 -> 9.494 | Q147: 0.00015 | R147: =Q147*H147 -> 0.01515 | S147: 0 | T147: =S147*H147 -> 0 | AR147: 4 | AT147: K | AU147: 2 | AY147: ROZPOCET | BE147: =IF(N147="základná",J147,0) -> 0 | BF147: =IF(N147="znížená",J147,0) -> 0 | BG147: =IF(N147="zákl. prenesená",J147,0) -> 0 | BH147: =IF(N147="zníž. prenesená",J147,0) -> 0 | BI147: =IF(N147="nulová",J147,0) -> 0 | BJ147: 2 | BK147: =ROUND(I147*H147,3) -> 0 | BL147: 4 | BM147: -582696182
C148: 16 | D148: K | E148: 965082920.S | F148: Odstránenie násypu pod podlahami alebo na strechách, hr.do 100 mm, -1,40000t | G148: m3 | H148: 82.901 | J148: =ROUND(I148*H148,3) -> 0 | N148: znížená | O148: 1.245 | P148: =O148*H148 -> 103.21175 | Q148: 0 | R148: =Q148*H148 -> 0 | S148: 1.4 | T148: =S148*H148 -> 116.0614 | AR148: 4 | AT148: K | AU148: 2 | AY148: ROZPOCET | BE148: =IF(N148="základná",J148,0) -> 0 | BF148: =IF(N148="znížená",J148,0) -> 0 | BG148: =IF(N148="zákl. prenesená",J148,0) -> 0 | BH148: =IF(N148="zníž. prenesená",J148,0) -> 0 | BI148: =IF(N148="nulová",J148,0) -> 0 | BJ148: 2 | BK148: =ROUND(I148*H148,3) -> 0 | BL148: 4 | BM148: 449533080
C149: 17 | D149: K | E149: 978015361.S | F149: Otlčenie omietok vonkajších priečelí zložitejších, s vyškriabaním škár, očistením muriva, v rozsahu do 50 %, -0,02900t | G149: m2 | H149: 312.838 | J149: =ROUND(I149*H149,3) -> 0 | N149: znížená | O149: 0.12691 | P149: =O149*H149 -> 39.702271 | Q149: 0 | R149: =Q149*H149 -> 0 | S149: 0.029 | T149: =S149*H149 -> 9.072302 | AR149: 4 | AT149: K | AU149: 2 | AY149: ROZPOCET | BE149: =IF(N149="základná",J149,0) -> 0 | BF149: =IF(N149="znížená",J149,0) -> 0 | BG149: =IF(N149="zákl. prenesená",J149,0) -> 0 | BH149: =IF(N149="zníž. prenesená",J149,0) -> 0 | BI149: =IF(N149="nulová",J149,0) -> 0 | BJ149: 2 | BK149: =ROUND(I149*H149,3) -> 0 | BL149: 4 | BM149: 165232823
C150: 18 | D150: K | E150: 978065011.S | F150: Odstránenie kontaktného zateplenia vrátane povrchovej úpravy z polystyrénových dosiek hrúbky nad 80-120 mm, -0,01841t | G150: m2 | H150: 80.209 | J150: =ROUND(I150*H150,3) -> 0 | N150: znížená | O150: 0.15078 | P150: =O150*H150 -> 12.093913 | Q150: 0 | R150: =Q150*H150 -> 0 | S150: 0.01841 | T150: =S150*H150 -> 1.4766477 | AR150: 16 | AT150: K | AU150: 2 | AY150: ROZPOCET | BE150: =IF(N150="základná",J150,0) -> 0 | BF150: =IF(N150="znížená",J150,0) -> 0 | BG150: =IF(N150="zákl. prenesená",J150,0) -> 0 | BH150: =IF(N150="zníž. prenesená",J150,0) -> 0 | BI150: =IF(N150="nulová",J150,0) -> 0 | BJ150: 2 | BK150: =ROUND(I150*H150,3) -> 0 | BL150: 16 | BM150: 52990954
... C155: 23 | D155: K | E155: 979089412.S | F155: Poplatok za skladovanie - izolačné materiály a materiály obsahujúce azbest (17 06), ostatné | G155: t | H155: 6.226 | J155: =ROUND(I155*H155,3) -> 0 | N155: znížená | O155: 0 | P155: =O155*H155 -> 0 | Q155: 0 | R155: =Q155*H155 -> 0 | S155: 0 | T155: =S155*H155 -> 0 | AR155: 4 | AT155: K | AU155: 2 | AY155: ROZPOCET | BE155: =IF(N155="základná",J155,0) -> 0 | BF155: =IF(N155="znížená",J155,0) -> 0 | BG155: =IF(N155="zákl. prenesená",J155,0) -> 0 | BH155: =IF(N155="zníž. prenesená",J155,0) -> 0 | BI155: =IF(N155="nulová",J155,0) -> 0 | BJ155: 2 | BK155: =ROUND(I155*H155,3) -> 0 | BL155: 4 | BM155: -1988380898
D156: D | E156: 99 | F156: Presun hmôt HSV | J156: =BK156 -> 0 | P156: =P157 -> 85.404525 | R156: =R157 -> 0 | T156: =T157 -> 0 | AR156: 1 | AT156: D | AU156: 1 | AY156: ROZPOCET | BK156: =BK157 -> 0
C157: 24 | D157: K | E157: 999281111.S | F157: Presun hmôt pre opravy a údržbu objektov vrátane vonkajších plášťov výšky do 25 m | G157: t | H157: 34.675 | J157: =ROUND(I157*H157,3) -> 0 | N157: znížená | O157: 2.463 | P157: =O157*H157 -> 85.404525 | Q157: 0 | R157: =Q157*H157 -> 0 | S157: 0 | T157: =S157*H157 -> 0 | AR157: 4 | AT157: K | AU157: 2 | AY157: ROZPOCET | BE157: =IF(N157="základná",J157,0) -> 0 | BF157: =IF(N157="znížená",J157,0) -> 0 | BG157: =IF(N157="zákl. prenesená",J157,0) -> 0 | BH157: =IF(N157="zníž. prenesená",J157,0) -> 0 | BI157: =IF(N157="nulová",J157,0) -> 0 | BJ157: 2 | BK157: =ROUND(I157*H157,3) -> 0 | BL157: 4 | BM157: 284899717
D158: D | E158: PSV | F158: Práce a dodávky PSV | J158: =BK158 -> 0 | P158: =P159+P177+P181+P188+P199+P209+P222+P224 -> 1798.5366 | R158: =R159+R177+R181+R188+R199+R209+R222+R224 -> 26.451973 | T158: =T159+T177+T181+T188+T199+T209+T222+T224 -> 11.484811 | AR158: 2 | AT158: D | AU158: 0 | AY158: ROZPOCET | BK158: =BK159+BK177+BK181+BK188+BK199+BK209+BK222+BK224 -> 0
D159: D | E159: 735 | F159: Ústredné kúrenie | J159: =BK159 -> 0 | P159: =SUM(P160:P176) -> 11.082488 | R159: =SUM(R160:R176) -> 0.85056 | T159: =SUM(T160:T176) -> 0 | AR159: 1 | AT159: D | AU159: 1 | AY159: ROZPOCET | BK159: =SUM(BK160:BK176) -> 0
C160: 25 | D160: K | E160: 735154142.S | F160: Montáž vykurovacieho telesa panelového dvojradového výšky 600 mm/ dĺžky 1000-1200 mm | G160: ks | H160: 12 | J160: =ROUND(I160*H160,3) -> 0 | N160: znížená | O160: 0.582672 | P160: =O160*H160 -> 6.992064 | Q160: 2e-05 | R160: =Q160*H160 -> 0.00024 | S160: 0 | T160: =S160*H160 -> 0 | AR160: 4 | AT160: K | AU160: 2 | AY160: ROZPOCET | BE160: =IF(N160="základná",J160,0) -> 0 | BF160: =IF(N160="znížená",J160,0) -> 0 | BG160: =IF(N160="zákl. prenesená",J160,0) -> 0 | BH160: =IF(N160="zníž. prenesená",J160,0) -> 0 | BI160: =IF(N160="nulová",J160,0) -> 0 | BJ160: 2 | BK160: =ROUND(I160*H160,3) -> 0 | BL160: 4 | BM160: -1141946158
C161: 26 | D161: M | E161: V00226015009016011 | F161: Oceľové panelové radiátory KORAD 22VK 600x1500, s pripojením vpravo/vľavo, s 2 panelmi a 2 konvektormi | G161: ks | H161: 3 | J161: =ROUND(I161*H161,3) -> 0 | N161: znížená | O161: 0 | P161: =O161*H161 -> 0 | Q161: 0.0473 | R161: =Q161*H161 -> 0.1419 | S161: 0 | T161: =S161*H161 -> 0 | AR161: 8 | AT161: M | AU161: 2 | AY161: ROZPOCET | BE161: =IF(N161="základná",J161,0) -> 0 | BF161: =IF(N161="znížená",J161,0) -> 0 | BG161: =IF(N161="zákl. prenesená",J161,0) -> 0 | BH161: =IF(N161="zníž. prenesená",J161,0) -> 0 | BI161: =IF(N161="nulová",J161,0) -> 0 | BJ161: 2 | BK161: =ROUND(I161*H161,3) -> 0 | BL161: 4 | BM161: 565702247
C162: 27 | D162: M | E162: V00226012009016011 | F162: Oceľové panelové radiátory KORAD 22VK 600x1200, s pripojením vpravo/vľavo, s 2 panelmi a 2 konvektormi | G162: ks | H162: 9 | J162: =ROUND(I162*H162,3) -> 0 | N162: znížená | O162: 0 | P162: =O162*H162 -> 0 | Q162: 0.03784 | R162: =Q162*H162 -> 0.34056 | S162: 0 | T162: =S162*H162 -> 0 | AR162: 8 | AT162: M | AU162: 2 | AY162: ROZPOCET | BE162: =IF(N162="základná",J162,0) -> 0 | BF162: =IF(N162="znížená",J162,0) -> 0 | BG162: =IF(N162="zákl. prenesená",J162,0) -> 0 | BH162: =IF(N162="zníž. prenesená",J162,0) -> 0 | BI162: =IF(N162="nulová",J162,0) -> 0 | BJ162: 2 | BK162: =ROUND(I162*H162,3) -> 0 | BL162: 4 | BM162: -935155904
C163: 28 | D163: K | E163: 735154152.S | F163: Montáž vykurovacieho telesa panelového dvojradového výšky 900 mm/ dĺžky 1000-1200 mm | G163: ks | H163: 4 | J163: =ROUND(I163*H163,3) -> 0 | N163: znížená | O163: 0.67797 | P163: =O163*H163 -> 2.71188 | Q163: 2e-05 | R163: =Q163*H163 -> 8e-05 | S163: 0 | T163: =S163*H163 -> 0 | AR163: 4 | AT163: K | AU163: 2 | AY163: ROZPOCET | BE163: =IF(N163="základná",J163,0) -> 0 | BF163: =IF(N163="znížená",J163,0) -> 0 | BG163: =IF(N163="zákl. prenesená",J163,0) -> 0 | BH163: =IF(N163="zníž. prenesená",J163,0) -> 0 | BI163: =IF(N163="nulová",J163,0) -> 0 | BJ163: 2 | BK163: =ROUND(I163*H163,3) -> 0 | BL163: 4 | BM163: -343585181
C164: 29 | D164: M | E164: V00229012009016011 | F164: Oceľové panelové radiátory KORAD 22VK 900x1200, s pripojením vpravo/vľavo, s 2 panelmi a 2 konvektormi | G164: ks | H164: 2 | J164: =ROUND(I164*H164,3) -> 0 | N164: znížená | O164: 0 | P164: =O164*H164 -> 0 | Q164: 0.05913 | R164: =Q164*H164 -> 0.11826 | S164: 0 | T164: =S164*H164 -> 0 | AR164: 8 | AT164: M | AU164: 2 | AY164: ROZPOCET | BE164: =IF(N164="základná",J164,0) -> 0 | BF164: =IF(N164="znížená",J164,0) -> 0 | BG164: =IF(N164="zákl. prenesená",J164,0) -> 0 | BH164: =IF(N164="zníž. prenesená",J164,0) -> 0 | BI164: =IF(N164="nulová",J164,0) -> 0 | BJ164: 2 | BK164: =ROUND(I164*H164,3) -> 0 | BL164: 4 | BM164: -469414147
C165: 30 | D165: M | E165: V00229014009016011 | F165: Oceľové panelové radiátory KORAD 22VK 900x1400, s pripojením vpravo/vľavo, s 2 panelmi a 2 konvektormi | G165: ks | H165: 2 | J165: =ROUND(I165*H165,3) -> 0 | N165: znížená | O165: 0 | P165: =O165*H165 -> 0 | Q165: 0.06898 | R165: =Q165*H165 -> 0.13796 | S165: 0 | T165: =S165*H165 -> 0 | AR165: 8 | AT165: M | AU165: 2 | AY165: ROZPOCET | BE165: =IF(N165="základná",J165,0) -> 0 | BF165: =IF(N165="znížená",J165,0) -> 0 | BG165: =IF(N165="zákl. prenesená",J165,0) -> 0 | BH165: =IF(N165="zníž. prenesená",J165,0) -> 0 | BI165: =IF(N165="nulová",J165,0) -> 0 | BJ165: 2 | BK165: =ROUND(I165*H165,3) -> 0 | BL165: 4 | BM165: 810483719
C166: 31 | D166: K | E166: 735154242.S | F166: Montáž vykurovacieho telesa panelového trojradového výšky 600 mm/ dĺžky 1000-1200 mm | G166: ks | H166: 2 | J166: =ROUND(I166*H166,3) -> 0 | N166: znížená | O166: 0.689272 | P166: =O166*H166 -> 1.378544 | Q166: 2e-05 | R166: =Q166*H166 -> 4e-05 | S166: 0 | T166: =S166*H166 -> 0 | AR166: 4 | AT166: K | AU166: 2 | AY166: ROZPOCET | BE166: =IF(N166="základná",J166,0) -> 0 | BF166: =IF(N166="znížená",J166,0) -> 0 | BG166: =IF(N166="zákl. prenesená",J166,0) -> 0 | BH166: =IF(N166="zníž. prenesená",J166,0) -> 0 | BI166: =IF(N166="nulová",J166,0) -> 0 | BJ166: 2 | BK166: =ROUND(I166*H166,3) -> 0 | BL166: 4 | BM166: -454606755
C167: 32 | D167: M | E167: V00336012009016011 | F167: Oceľové panelové radiátory KORAD 33VK 600x1200, s pripojením vpravo/vľavo, s 3 panelmi a 3 konvektormi | G167: ks | H167: 2 | J167: =ROUND(I167*H167,3) -> 0 | N167: znížená | O167: 0 | P167: =O167*H167 -> 0 | Q167: 0.05576 | R167: =Q167*H167 -> 0.11152 | S167: 0 | T167: =S167*H167 -> 0 | AR167: 8 | AT167: M | AU167: 2 | AY167: ROZPOCET | BE167: =IF(N167="základná",J167,0) -> 0 | BF167: =IF(N167="znížená",J167,0) -> 0 | BG167: =IF(N167="zákl. prenesená",J167,0) -> 0 | BH167: =IF(N167="zníž. prenesená",J167,0) -> 0 | BI167: =IF(N167="nulová",J167,0) -> 0 | BJ167: 2 | BK167: =ROUND(I167*H167,3) -> 0 | BL167: 4 | BM167: 1458730249
C168: 33 | D168: K | E168: Pol67 | F168: Príslušenstvo | G168: kpl | H168: 1 | J168: =ROUND(I168*H168,3) -> 0 | N168: znížená | O168: 0 | P168: =O168*H168 -> 0 | Q168: 0 | R168: =Q168*H168 -> 0 | S168: 0 | T168: =S168*H168 -> 0 | AR168: 4 | AT168: K | AU168: 2 | AY168: ROZPOCET | BE168: =IF(N168="základná",J168,0) -> 0 | BF168: =IF(N168="znížená",J168,0) -> 0 | BG168: =IF(N168="zákl. prenesená",J168,0) -> 0 | BH168: =IF(N168="zníž. prenesená",J168,0) -> 0 | BI168: =IF(N168="nulová",J168,0) -> 0 | BJ168: 2 | BK168: =ROUND(I168*H168,3) -> 0 | BL168: 4 | BM168: -2061639031
C169: 34 | D169: K | E169: Pol68 | F169: Demontáz gamatiek | G169: ks | H169: 11 | J169: =ROUND(I169*H169,3) -> 0 | N169: znížená | O169: 0 | P169: =O169*H169 -> 0 | Q169: 0 | R169: =Q169*H169 -> 0 | S169: 0 | T169: =S169*H169 -> 0 | AR169: 4 | AT169: K | AU169: 2 | AY169: ROZPOCET | BE169: =IF(N169="základná",J169,0) -> 0 | BF169: =IF(N169="znížená",J169,0) -> 0 | BG169: =IF(N169="zákl. prenesená",J169,0) -> 0 | BH169: =IF(N169="zníž. prenesená",J169,0) -> 0 | BI169: =IF(N169="nulová",J169,0) -> 0 | BJ169: 2 | BK169: =ROUND(I169*H169,3) -> 0 | BL169: 4 | BM169: -1712147691
C170: 35 | D170: K | E170: Pol69 | F170: Likvidácia gamatiek | G170: ks | H170: 11 | J170: =ROUND(I170*H170,3) -> 0 | N170: znížená | O170: 0 | P170: =O170*H170 -> 0 | Q170: 0 | R170: =Q170*H170 -> 0 | S170: 0 | T170: =S170*H170 -> 0 | AR170: 4 | AT170: K | AU170: 2 | AY170: ROZPOCET | BE170: =IF(N170="základná",J170,0) -> 0 | BF170: =IF(N170="znížená",J170,0) -> 0 | BG170: =IF(N170="zákl. prenesená",J170,0) -> 0 | BH170: =IF(N170="zníž. prenesená",J170,0) -> 0 | BI170: =IF(N170="nulová",J170,0) -> 0 | BJ170: 2 | BK170: =ROUND(I170*H170,3) -> 0 | BL170: 4 | BM170: 862939711
...
